{"text_format":"1","workbook":"xlsx","n_sheets":1,"sheets":["Trabajo"],"not_rendered":{"charts":0,"images":1,"macros":0,"external_links":2,"defined_names":15,"comments":0,"pivot_tables":0},"unopened":[],"bounds":{"document_bytes":16777216,"sheet_cells":100000,"rows_first":2000,"rows_last":500,"rows_between":2000,"halvings":0,"cell_chars":16384,"cell_head_chars":4096},"cells_cut":0,"cells_raw":0,"read":"whole","date_system":"1900"}

{"sheet":"Trabajo","index":0,"n_rows":583,"n_cols":43,"rows_kept":583,"cut":false,"hidden":false,"merged":[[11,7,11,10],[11,12,11,13],[11,26,11,30],[9,20,9,21],[9,22,9,31],[10,0,10,13],[10,14,10,20],[10,21,10,25],[10,26,10,30],[7,0,7,13],[7,20,7,21],[7,22,7,31],[8,0,8,2],[8,4,8,6],[8,8,9,13],[8,20,8,21],[8,22,8,31],[9,0,9,2],[9,4,9,6],[5,0,5,2],[5,8,5,9],[5,20,5,21],[5,22,5,31],[6,0,6,2],[6,8,6,9],[6,20,6,21],[6,22,6,31],[1,0,1,31],[2,0,2,31],[4,0,4,2],[4,8,4,9],[4,12,4,13],[4,20,4,31]]}
[]
["VEEDURIA DISTRITAL - RENDICION DE CUENTAS DE LA GESTION CONTRACTUAL EN EL DISTRITO CAPITAL (Acuerdo 380 de 2009)"]
["INFORMACION GENERAL DE CONTRATACION ENTIDADES DISTRITALES  -  ENERO 1 A 31 DICIEMBRE DE 2019"]
[]
["1. Entidad:",null,null,"ALCALDÍA LOCAL DE SUBA",null,null,"2. Sector","Publico"]
["3. Presupuesto Disponible Inversión Directa PREDIS",null,null,75762275000,null,null,"5. Presupuesto Disponible Funcionamiento PREDIS",3515287000,null,null,null,null,null,null,null,null,null,null,null,null,"9. Nombre de quien diligencia el formato",null,"ANDRES SANTOS PETREL "]
["4. Presupuesto Comprometido de Inversión Directa según PREDIS ",null,null,73912731141,null,null,"6. Presupuesto Comprometido Funcionamiento según PREDIS",3081025229,null,null,null,null,null,null,null,null,null,null,null,null,"Cargo",null,"CONTRATISTA PLANEACIÓN"]
[null,null,null,null,null,null,null,null,null,null,null,null,null,null,null,null,null,null,null,null,"Dependencia",null,"PLANEACIÓN"]
["7. Presupuesto Disponible Operación (Regimen Privado)",null,null,null,null,null,null,null,null,null,null,null,null,null,null,null,null,null,null,null,"Teléfono",null,3173752110]
["8. Presupuesto Comprometido Operación mediante contratos",null,null,null,null,null,null,null,null,null,null,null,null,null,null,null,null,null,null,null,"Correo Electrónico"]
["1- INFORMACION GENERAL",null,null,null,null,null,null,null,null,null,null,null,null,null,"2- INFORMACION FINANCIERA",null,null,null,null,null,null,"3 - PLAZOS ",null,null,null,null,"4 - ESTADO ",null,null,null,null,"5. %  Avance y/o cumplimiento"]
[1,2,3,4,5,6,7,8,null,null,null,9,10,null,11,12,13,14,15,16,17,18,19,43851,21,22,23,null,null,null,null,24]
["Número Contrato","Año","Número de proceso contractual","Tipo de contrato ","Modalidad de Selección","Procedimiento o causal","Objeto","Afectación","Número Programa","Equivalencia número de programa","Eje / Pilar","Número Proyecto","Número  de Identificación del contratista\n(NIT con digito de verificación)","Nombre del contratista","Valor Inicial del contrato","Número de reducciones","Valor total reducciones (En valor negativo)","Número de adiciones","Valor total de adiciones ","Valor Final ","Giros\n(Valor en pesos)","Fecha de suscripción (DD/MM/AAAA)","Fecha de inicio (DD/MM/AAAA)","Fecha de terminación (DD/MM/AAAA)","Plazo en días","Prorroga en días","Anulado","Celebrado o por iniciar","En Ejecución","Terminado","Liquidado","% Avance y/o Cumplimiento","Total Contratos","Anulado1","Celebrado 1","En Ejecución 1","Terminado 1","Liquidado 1","Validación Tipo","Validación Modalidad","Validación procedimiento","Validación afectación","Validación programa"]
[null,2019,null,"Otros gastos",null,null,"PAGO HONORARIOS EDILES LOCALIDAD DE SUBA, VIGENCIA 2019.","Funcionamiento","No aplica",{"$f":"IF(ISERROR(VLOOKUP(I14,[1]Eje_Pilar!$C$2:$E$47,2,FALSE)),\" \",VLOOKUP(I14,[1]Eje_Pilar!$C$2:$E$47,2,FALSE))","v":" "},{"$f":"IF(ISERROR(VLOOKUP(I14,[1]Eje_Pilar!$C$2:$E$47,3,FALSE)),\" \",VLOOKUP(I14,[1]Eje_Pilar!$C$2:$E$47,3,FALSE))","v":" "},"3-1-1-04-01-02-0000-000",null,"HUGO  BARAJAS GARCIA",85116732,null,0,null,null,{"$f":"+O14+Q14+S14","v":85116732},84793628,"2019-01-17","2019-01-17","2019-12-31",null,null,null,null,null,null,null,{"$f":"(IF(ISERROR(U14/T14),\"-\",(U14/T14)))*100","v":99.62039895986608},{"$f":"IF(SUMPRODUCT((A$14:A14=A14)*(B$14:B14=B14)*(C$14:C14=C14))>1,0,1)","v":1},{"$f":"IF(AND(AA14=\"X\",AG14=1 ),1,0)","v":0},{"$f":"IF(AND(AB14=\"X\",AG14=1 ),1,0)","v":0},{"$f":"IF(AND(AC14=\"X\",AG14=1 ),1,0)","v":0},{"$f":"IF(AND(AD14=\"X\",AG14=1 ),1,0)","v":0},{"$f":"IF(AND(AE14=\"X\",AG14=1 ),1,0)","v":0},{"$f":"IFERROR(VLOOKUP(D14,tipo,1,FALSE),\"NO\")","v":"Otros gastos"},{"$f":"IFERROR(VLOOKUP(E14,modal,1,FALSE),\"NO\")","v":"NO"},{"$f":"IFERROR(VLOOKUP(F14,[1]Tipo!$C$12:$C$27,1,FALSE),\"NO\")","v":"NO"},{"$f":"IFERROR(VLOOKUP(H14,afectacion,1,FALSE),\"NO\")","v":"Funcionamiento"},{"$f":"IFERROR(VLOOKUP(I14,programa,1,FALSE),\"NO\")","v":"NO"}]
[null,2019,null,"Otros gastos",null,null,"PAGO HONORARIOS EDILES LOCALIDAD DE SUBA, VIGENCIA 2019.","Funcionamiento","No aplica",{"$f":"IF(ISERROR(VLOOKUP(I15,[1]Eje_Pilar!$C$2:$E$47,2,FALSE)),\" \",VLOOKUP(I15,[1]Eje_Pilar!$C$2:$E$47,2,FALSE))","v":" "},{"$f":"IF(ISERROR(VLOOKUP(I15,[1]Eje_Pilar!$C$2:$E$47,3,FALSE)),\" \",VLOOKUP(I15,[1]Eje_Pilar!$C$2:$E$47,3,FALSE))","v":" "},"3-1-1-04-01-02-0000-000",null,"WILLIAM ALFONSO DIAZ SANCHEZ",85116732,null,0,null,null,85116732,84793645,"2019-01-17","2019-01-17","2019-12-31",null,null,null,null,null,null,null,{"$f":"(IF(ISERROR(U15/T15),\"-\",(U15/T15)))*100","v":99.620418932437389},{"$f":"IF(SUMPRODUCT((A$14:A15=A15)*(B$14:B15=B15)*(C$14:C15=C15))>1,0,1)","v":0},{"$f":"IF(AND(AA15=\"X\",AG15=1 ),1,0)","v":0},{"$f":"IF(AND(AB15=\"X\",AG15=1 ),1,0)","v":0},{"$f":"IF(AND(AC15=\"X\",AG15=1 ),1,0)","v":0},{"$f":"IF(AND(AD15=\"X\",AG15=1 ),1,0)","v":0},{"$f":"IF(AND(AE15=\"X\",AG15=1 ),1,0)","v":0},"Otros gastos","NO",{"$f":"IFERROR(VLOOKUP(F15,[1]Tipo!$C$12:$C$27,1,FALSE),\"NO\")","v":"NO"},"Funcionamiento","NO"]
[null,2019,null,"Otros gastos",null,null,"PAGO HONORARIOS EDILES LOCALIDAD DE SUBA, VIGENCIA 2019.","Funcionamiento","No aplica",{"$f":"IF(ISERROR(VLOOKUP(I16,[1]Eje_Pilar!$C$2:$E$47,2,FALSE)),\" \",VLOOKUP(I16,[1]Eje_Pilar!$C$2:$E$47,2,FALSE))","v":" "},{"$f":"IF(ISERROR(VLOOKUP(I16,[1]Eje_Pilar!$C$2:$E$47,3,FALSE)),\" \",VLOOKUP(I16,[1]Eje_Pilar!$C$2:$E$47,3,FALSE))","v":" "},"3-1-1-04-01-02-0000-000",null,"LUZ AMPARO GARCIA QUINTERO",85116732,null,0,null,null,85116732,85116732,"2019-01-17","2019-01-17","2019-12-31",null,null,null,null,null,null,null,100,{"$f":"IF(SUMPRODUCT((A$14:A16=A16)*(B$14:B16=B16)*(C$14:C16=C16))>1,0,1)","v":0},0,0,0,0,0,"Otros gastos","NO",{"$f":"IFERROR(VLOOKUP(F16,[1]Tipo!$C$12:$C$27,1,FALSE),\"NO\")","v":"NO"},"Funcionamiento","NO"]
[null,2019,null,"Otros gastos",null,null,"PAGO HONORARIOS EDILES LOCALIDAD DE SUBA, VIGENCIA 2019.","Funcionamiento","No aplica",{"$f":"IF(ISERROR(VLOOKUP(I17,[1]Eje_Pilar!$C$2:$E$47,2,FALSE)),\" \",VLOOKUP(I17,[1]Eje_Pilar!$C$2:$E$47,2,FALSE))","v":" "},{"$f":"IF(ISERROR(VLOOKUP(I17,[1]Eje_Pilar!$C$2:$E$47,3,FALSE)),\" \",VLOOKUP(I17,[1]Eje_Pilar!$C$2:$E$47,3,FALSE))","v":" "},"3-1-1-04-01-02-0000-000",null,"JAIME RAFAEL MORON BARROS",85116732,null,0,null,null,85116732,85116732,"2019-01-17","2019-01-17","2019-12-31",null,null,null,null,null,null,null,100,{"$f":"IF(SUMPRODUCT((A$14:A17=A17)*(B$14:B17=B17)*(C$14:C17=C17))>1,0,1)","v":0},0,0,0,0,0,"Otros gastos","NO",{"$f":"IFERROR(VLOOKUP(F17,[1]Tipo!$C$12:$C$27,1,FALSE),\"NO\")","v":"NO"},"Funcionamiento","NO"]
[null,2019,null,"Otros gastos",null,null,"PAGO HONORARIOS EDILES LOCALIDAD DE SUBA, VIGENCIA 2019.","Funcionamiento","No aplica",{"$f":"IF(ISERROR(VLOOKUP(I18,[1]Eje_Pilar!$C$2:$E$47,2,FALSE)),\" \",VLOOKUP(I18,[1]Eje_Pilar!$C$2:$E$47,2,FALSE))","v":" "},{"$f":"IF(ISERROR(VLOOKUP(I18,[1]Eje_Pilar!$C$2:$E$47,3,FALSE)),\" \",VLOOKUP(I18,[1]Eje_Pilar!$C$2:$E$47,3,FALSE))","v":" "},"3-1-1-04-01-02-0000-000",null,"OSPINA GOMEZ MARCELA",85116732,null,0,null,null,85116732,85116732,"2019-01-17","2019-01-17","2019-12-31",null,null,null,null,null,null,null,100,{"$f":"IF(SUMPRODUCT((A$14:A18=A18)*(B$14:B18=B18)*(C$14:C18=C18))>1,0,1)","v":0},0,0,0,0,0,"Otros gastos","NO",{"$f":"IFERROR(VLOOKUP(F18,[1]Tipo!$C$12:$C$27,1,FALSE),\"NO\")","v":"NO"},"Funcionamiento","NO"]
[null,2019,null,"Otros gastos",null,null,"PAGO HONORARIOS EDILES LOCALIDAD DE SUBA, VIGENCIA 2019.","Funcionamiento","No aplica",{"$f":"IF(ISERROR(VLOOKUP(I19,[1]Eje_Pilar!$C$2:$E$47,2,FALSE)),\" \",VLOOKUP(I19,[1]Eje_Pilar!$C$2:$E$47,2,FALSE))","v":" "},{"$f":"IF(ISERROR(VLOOKUP(I19,[1]Eje_Pilar!$C$2:$E$47,3,FALSE)),\" \",VLOOKUP(I19,[1]Eje_Pilar!$C$2:$E$47,3,FALSE))","v":" "},"3-1-1-04-01-02-0000-000",null,"JUAN ALBERTO OVIEDO SABOGAL",85116732,null,0,null,null,85116732,85116732,"2019-01-17","2019-01-17","2019-12-31",null,null,null,null,null,null,null,100,{"$f":"IF(SUMPRODUCT((A$14:A19=A19)*(B$14:B19=B19)*(C$14:C19=C19))>1,0,1)","v":0},0,0,0,0,0,"Otros gastos","NO",{"$f":"IFERROR(VLOOKUP(F19,[1]Tipo!$C$12:$C$27,1,FALSE),\"NO\")","v":"NO"},"Funcionamiento","NO"]
[null,2019,null,"Otros gastos",null,null,"PAGO HONORARIOS EDILES LOCALIDAD DE SUBA, VIGENCIA 2019.","Funcionamiento","No aplica",{"$f":"IF(ISERROR(VLOOKUP(I20,[1]Eje_Pilar!$C$2:$E$47,2,FALSE)),\" \",VLOOKUP(I20,[1]Eje_Pilar!$C$2:$E$47,2,FALSE))","v":" "},{"$f":"IF(ISERROR(VLOOKUP(I20,[1]Eje_Pilar!$C$2:$E$47,3,FALSE)),\" \",VLOOKUP(I20,[1]Eje_Pilar!$C$2:$E$47,3,FALSE))","v":" "},"3-1-1-04-01-02-0000-000",null,"JUAN JOSE RAMIREZ CIFUENTES",85116732,null,0,null,null,85116732,85116732,"2019-01-17","2019-01-17","2019-12-31",null,null,null,null,null,null,null,100,{"$f":"IF(SUMPRODUCT((A$14:A20=A20)*(B$14:B20=B20)*(C$14:C20=C20))>1,0,1)","v":0},0,0,0,0,0,"Otros gastos","NO",{"$f":"IFERROR(VLOOKUP(F20,[1]Tipo!$C$12:$C$27,1,FALSE),\"NO\")","v":"NO"},"Funcionamiento","NO"]
[null,2019,null,"Otros gastos",null,null,"PAGO HONORARIOS EDILES LOCALIDAD DE SUBA, VIGENCIA 2019.","Funcionamiento","No aplica",{"$f":"IF(ISERROR(VLOOKUP(I21,[1]Eje_Pilar!$C$2:$E$47,2,FALSE)),\" \",VLOOKUP(I21,[1]Eje_Pilar!$C$2:$E$47,2,FALSE))","v":" "},{"$f":"IF(ISERROR(VLOOKUP(I21,[1]Eje_Pilar!$C$2:$E$47,3,FALSE)),\" \",VLOOKUP(I21,[1]Eje_Pilar!$C$2:$E$47,3,FALSE))","v":" "},"3-1-1-04-01-02-0000-000",null,"JOSE GUSTAVO ROJAS PINILLA",85116732,null,0,null,null,85116732,84617344,"2019-01-17","2019-01-17","2019-12-31",null,null,null,null,null,null,null,99.413290444468657,{"$f":"IF(SUMPRODUCT((A$14:A21=A21)*(B$14:B21=B21)*(C$14:C21=C21))>1,0,1)","v":0},0,0,0,0,0]
[null,2019,null,"Otros gastos",null,null,"PAGO HONORARIOS EDILES LOCALIDAD DE SUBA, VIGENCIA 2019.","Funcionamiento","No aplica",{"$f":"IF(ISERROR(VLOOKUP(I22,[1]Eje_Pilar!$C$2:$E$47,2,FALSE)),\" \",VLOOKUP(I22,[1]Eje_Pilar!$C$2:$E$47,2,FALSE))","v":" "},{"$f":"IF(ISERROR(VLOOKUP(I22,[1]Eje_Pilar!$C$2:$E$47,3,FALSE)),\" \",VLOOKUP(I22,[1]Eje_Pilar!$C$2:$E$47,3,FALSE))","v":" "},"3-1-1-04-01-02-0000-000",null,"CESAR AUGUSTO SALAMANCA ROJAS",85116732,null,0,null,null,85116732,85116732,"2019-01-17","2019-01-17","2019-12-31",null,null,null,null,null,null,null,100,{"$f":"IF(SUMPRODUCT((A$14:A22=A22)*(B$14:B22=B22)*(C$14:C22=C22))>1,0,1)","v":0},0,0,0,0,0]
[null,2019,null,"Otros gastos",null,null,"PAGO HONORARIOS EDILES LOCALIDAD DE SUBA, VIGENCIA 2019.","Funcionamiento","No aplica",{"$f":"IF(ISERROR(VLOOKUP(I23,[1]Eje_Pilar!$C$2:$E$47,2,FALSE)),\" \",VLOOKUP(I23,[1]Eje_Pilar!$C$2:$E$47,2,FALSE))","v":" "},{"$f":"IF(ISERROR(VLOOKUP(I23,[1]Eje_Pilar!$C$2:$E$47,3,FALSE)),\" \",VLOOKUP(I23,[1]Eje_Pilar!$C$2:$E$47,3,FALSE))","v":" "},"3-1-1-04-01-02-0000-000",null,"YEISON JAVIER SEPULVEDA RINCON",85116732,null,0,null,null,85116732,85116732,"2019-01-17","2019-01-17","2019-12-31",null,null,null,null,null,null,null,100,{"$f":"IF(SUMPRODUCT((A$14:A23=A23)*(B$14:B23=B23)*(C$14:C23=C23))>1,0,1)","v":0},0,0,0,0,0,"Otros gastos","NO",{"$f":"IFERROR(VLOOKUP(F23,[1]Tipo!$C$12:$C$27,1,FALSE),\"NO\")","v":"NO"},"Funcionamiento","NO"]
[null,2019,null,"Otros gastos",null,null,"PAGO HONORARIOS EDILES LOCALIDAD DE SUBA, VIGENCIA 2019.","Funcionamiento","No aplica",{"$f":"IF(ISERROR(VLOOKUP(I24,[1]Eje_Pilar!$C$2:$E$47,2,FALSE)),\" \",VLOOKUP(I24,[1]Eje_Pilar!$C$2:$E$47,2,FALSE))","v":" "},{"$f":"IF(ISERROR(VLOOKUP(I24,[1]Eje_Pilar!$C$2:$E$47,3,FALSE)),\" \",VLOOKUP(I24,[1]Eje_Pilar!$C$2:$E$47,3,FALSE))","v":" "},"3-1-1-04-01-02-0000-000",null,"MARIA CAROLINA VILLAMARIN JIMENEZ",85116732,null,0,null,null,85116732,85116732,"2019-01-17","2019-01-17","2019-12-31",null,null,null,null,null,null,null,100,{"$f":"IF(SUMPRODUCT((A$14:A24=A24)*(B$14:B24=B24)*(C$14:C24=C24))>1,0,1)","v":0},0,0,0,0,0,"Otros gastos","NO",{"$f":"IFERROR(VLOOKUP(F24,[1]Tipo!$C$12:$C$27,1,FALSE),\"NO\")","v":"NO"},"Funcionamiento","NO"]
[1,2019,"FDLSUBA-CPS-001-2019","Contratos de prestación de servicios profesionales y de apoyo a la gestión","Contratación directa","Prestación de servicios profesionales y de apoyo a la gestión, o para la ejecución de trabajos artísticos que sólo puedan encomendarse a determinadas personas naturales;","PRESTAR LOS SERVICIOS PROFESIONALES COMO ABOGADO (A) PARA APOYAR LA GESTION CONTRACTUAL DEL AREA GESTION DEL DESARROLLO LOCAL DE LA ALCALDIA LOCAL DE SUBA, EN LOS DIFERENTES PROCESOS DE SELECCION EN SUS ETAPAS PRECONTRACTUAL, CONTRACTUAL Y POSTCONTRACTUAL. NO HAY 14669.","Inversión",45,{"$f":"IF(ISERROR(VLOOKUP(I25,[1]Eje_Pilar!$C$2:$E$47,2,FALSE)),\" \",VLOOKUP(I25,[1]Eje_Pilar!$C$2:$E$47,2,FALSE))","v":"Gobernanza e influencia local, regional e internacional"},{"$f":"IF(ISERROR(VLOOKUP(I25,[1]Eje_Pilar!$C$2:$E$47,3,FALSE)),\" \",VLOOKUP(I25,[1]Eje_Pilar!$C$2:$E$47,3,FALSE))","v":"Eje Transversal 4 Gobierno Legitimo, Fortalecimiento Local y Eficiencia"},"3-3-1-15-07-45-1478-000",80491498,"CARLOS ALBERTO DIAZ AGUDELO",72450000,null,0,1,3780000,76230000,64680000,"2019-01-22","2019-01-22","2020-01-21",345,21,null,null,null,"X",null,84.848484848484844,{"$f":"IF(SUMPRODUCT((A$14:A25=A25)*(B$14:B25=B25)*(C$14:C25=C25))>1,0,1)","v":1},0,0,0,1,0,"Contratos de prestación de servicios profesionales y de apoyo a la gestión","Contratación directa",{"$f":"IFERROR(VLOOKUP(F25,[1]Tipo!$C$12:$C$27,1,FALSE),\"NO\")","v":"Prestación de servicios profesionales y de apoyo a la gestión, o para la ejecución de trabajos artísticos que sólo puedan encomendarse a determinadas personas naturales;"},"Inversión",45]
[null,2019,null,"Otros gastos",null,null,"PAGO DEL SERVICIO DE ENERGIA DE LOS INMUEBLES A CARGO DEL FDL SUBA","Funcionamiento","No aplica",{"$f":"IF(ISERROR(VLOOKUP(I26,[1]Eje_Pilar!$C$2:$E$47,2,FALSE)),\" \",VLOOKUP(I26,[1]Eje_Pilar!$C$2:$E$47,2,FALSE))","v":" "},{"$f":"IF(ISERROR(VLOOKUP(I26,[1]Eje_Pilar!$C$2:$E$47,3,FALSE)),\" \",VLOOKUP(I26,[1]Eje_Pilar!$C$2:$E$47,3,FALSE))","v":" "},"3-1-2-02-02-04-0001-001",null,"CODENSA S. A. ESP",65000000,null,0,null,0,65000000,65000000,"2019-01-17","2019-01-17","2019-12-31",null,null,null,null,null,null,null,100,{"$f":"IF(SUMPRODUCT((A$14:A26=A26)*(B$14:B26=B26)*(C$14:C26=C26))>1,0,1)","v":0},0,0,0,0,0,"Otros gastos","NO",{"$f":"IFERROR(VLOOKUP(F26,[1]Tipo!$C$12:$C$27,1,FALSE),\"NO\")","v":"NO"},"Funcionamiento","NO"]
[2,2019,"FDLSUBA-CPS-002-2019","Contratos de prestación de servicios profesionales y de apoyo a la gestión","Contratación directa","Prestación de servicios profesionales y de apoyo a la gestión, o para la ejecución de trabajos artísticos que sólo puedan encomendarse a determinadas personas naturales;","PRESTAR SERVICIOS PROFESIONALES PARA LA OPERACION, PRESTACION Y SEGUIMIENTO Y CUMPLIMIENTO DE LOS PROCEDIMIENTOS ADMINISTRATIVOS, OPERATIVOS Y PROGRAMATICOS DE LOS SERVICIOS SOCIALES DEL PROYECTO DE SUBSIDIO / APOYO ECONOMICO TIPO C, QUE CONTRIBUYAN A LA GARANTIA DE LOS DERECHOS DE LA POBLACION MAYOR EN EL MARCO DE LA POLITICA PUBLICA SOCIAL PARA EL ENVEJECIMIENTO Y LA VEJEZ EN EL DISTRITO CAPITAL A CARGO DE LA ALCALDIA LOCAL DE SUBA. NO HAY 14803.","Inversión",3,{"$f":"IF(ISERROR(VLOOKUP(I27,[1]Eje_Pilar!$C$2:$E$47,2,FALSE)),\" \",VLOOKUP(I27,[1]Eje_Pilar!$C$2:$E$47,2,FALSE))","v":"Igualdad y autonomía para una Bogotá incluyente"},{"$f":"IF(ISERROR(VLOOKUP(I27,[1]Eje_Pilar!$C$2:$E$47,3,FALSE)),\" \",VLOOKUP(I27,[1]Eje_Pilar!$C$2:$E$47,3,FALSE))","v":"Pilar 1 Igualdad de Calidad de Vida"},"3-3-1-15-01-03-1427-000",1098682528,"KAREN DAYANA NIZ PABUENA",52900000,null,0,null,0,52900000,46460000,"2019-01-22","2019-01-22","2019-12-31",345,null,null,null,null,"X",null,87.826086956521749,{"$f":"IF(SUMPRODUCT((A$14:A27=A27)*(B$14:B27=B27)*(C$14:C27=C27))>1,0,1)","v":1},0,0,0,1,0,"Contratos de prestación de servicios profesionales y de apoyo a la gestión","Contratación directa",{"$f":"IFERROR(VLOOKUP(F27,[1]Tipo!$C$12:$C$27,1,FALSE),\"NO\")","v":"Prestación de servicios profesionales y de apoyo a la gestión, o para la ejecución de trabajos artísticos que sólo puedan encomendarse a determinadas personas naturales;"},"Inversión",3]
[null,2019,null,"Otros gastos",null,null,"PAGO DEL SERVICIO TELEFONICO DE LAS LINEAS A CARGO DEL FONDO DE DESARROLLO LOCAL DE SUBA.","Funcionamiento","No aplica",{"$f":"IF(ISERROR(VLOOKUP(I28,[1]Eje_Pilar!$C$2:$E$47,2,FALSE)),\" \",VLOOKUP(I28,[1]Eje_Pilar!$C$2:$E$47,2,FALSE))","v":" "},{"$f":"IF(ISERROR(VLOOKUP(I28,[1]Eje_Pilar!$C$2:$E$47,3,FALSE)),\" \",VLOOKUP(I28,[1]Eje_Pilar!$C$2:$E$47,3,FALSE))","v":" "},"3-1-2-02-02-03-0004-001",null,"EMPRESA DE TELECOMUNICACIONES DE BOGOTA SA ESP",40000000,null,0,null,0,40000000,26527820,"2019-01-21","2019-01-21","2019-12-31",null,null,null,null,null,null,null,66.319550000000007,{"$f":"IF(SUMPRODUCT((A$14:A28=A28)*(B$14:B28=B28)*(C$14:C28=C28))>1,0,1)","v":0},0,0,0,0,0,"Otros gastos","NO",{"$f":"IFERROR(VLOOKUP(F28,[1]Tipo!$C$12:$C$27,1,FALSE),\"NO\")","v":"NO"},"Funcionamiento","NO"]
[3,2019,"FDLSUBA-CPS-003-2019","Contratos de prestación de servicios profesionales y de apoyo a la gestión","Contratación directa","Prestación de servicios profesionales y de apoyo a la gestión, o para la ejecución de trabajos artísticos que sólo puedan encomendarse a determinadas personas naturales;","PRESTAR SERVICIOS PROFESIONALES PARA LA OPERACION, PRESTACION Y SEGUIMIENTO Y CUMPLIMIENTO DE LOS PROCEDIMIENTOS ADMINISTRATIVOS, OPERATIVOS Y PROGRAMATICOS DE LOS SERVICIOS SOCIALES DEL PROYECTO DE SUBSIDIO / APOYO ECONOMICO TIPO C, QUE CONTRIBUYAN A LA GARANTIA DE LOS DERECHOS DE LA POBLACION MAYOR EN EL MARCO DE LA POLITICA PUBLICA SOCIAL PARA EL ENVEJECIMIENTO Y LA VEJEZ EN EL DISTRITO CAPITAL A CARGO DE LA ALCALDIA LOCAL DE SUBA. NO HAY 14803.","Inversión",3,{"$f":"IF(ISERROR(VLOOKUP(I29,[1]Eje_Pilar!$C$2:$E$47,2,FALSE)),\" \",VLOOKUP(I29,[1]Eje_Pilar!$C$2:$E$47,2,FALSE))","v":"Igualdad y autonomía para una Bogotá incluyente"},{"$f":"IF(ISERROR(VLOOKUP(I29,[1]Eje_Pilar!$C$2:$E$47,3,FALSE)),\" \",VLOOKUP(I29,[1]Eje_Pilar!$C$2:$E$47,3,FALSE))","v":"Pilar 1 Igualdad de Calidad de Vida"},"3-3-1-15-01-03-1427-000",1019084310,"GILMA VIVIANA MEJIA PRADA",52900000,null,0,1,2453333,55353333,42320000,"2019-01-22","2019-01-22","2020-01-21",345,21,null,null,null,"X",null,76.454294089210492,{"$f":"IF(SUMPRODUCT((A$14:A29=A29)*(B$14:B29=B29)*(C$14:C29=C29))>1,0,1)","v":1},0,0,0,1,0,"Contratos de prestación de servicios profesionales y de apoyo a la gestión","Contratación directa",{"$f":"IFERROR(VLOOKUP(F29,[1]Tipo!$C$12:$C$27,1,FALSE),\"NO\")","v":"Prestación de servicios profesionales y de apoyo a la gestión, o para la ejecución de trabajos artísticos que sólo puedan encomendarse a determinadas personas naturales;"},"Inversión",3]
[4,2019,"FDLSUBA-CPS-004-2019","Contratos de prestación de servicios profesionales y de apoyo a la gestión","Contratación directa","Prestación de servicios profesionales y de apoyo a la gestión, o para la ejecución de trabajos artísticos que sólo puedan encomendarse a determinadas personas naturales;","¿Apoyar al equipo de prensa y comunicaciones de la Alcaldía Local en la realización y publicación de contenidos de redes sociales y canales de divulgación digital (sitio web) de la Alcaldía local\". NO HAY 14588.","Inversión",45,{"$f":"IF(ISERROR(VLOOKUP(I30,[1]Eje_Pilar!$C$2:$E$47,2,FALSE)),\" \",VLOOKUP(I30,[1]Eje_Pilar!$C$2:$E$47,2,FALSE))","v":"Gobernanza e influencia local, regional e internacional"},{"$f":"IF(ISERROR(VLOOKUP(I30,[1]Eje_Pilar!$C$2:$E$47,3,FALSE)),\" \",VLOOKUP(I30,[1]Eje_Pilar!$C$2:$E$47,3,FALSE))","v":"Eje Transversal 4 Gobierno Legitimo, Fortalecimiento Local y Eficiencia"},"3-3-1-15-07-45-1478-000",52975107,"CATHERINE  GONZALEZ RAMOS",52900000,null,0,null,0,52900000,37720000,"2019-01-22","2019-01-22","2020-05-01",345,60,null,null,"X",null,null,71.304347826086953,{"$f":"IF(SUMPRODUCT((A$14:A30=A30)*(B$14:B30=B30)*(C$14:C30=C30))>1,0,1)","v":1},0,0,1,0,0,"Contratos de prestación de servicios profesionales y de apoyo a la gestión","Contratación directa",{"$f":"IFERROR(VLOOKUP(F30,[1]Tipo!$C$12:$C$27,1,FALSE),\"NO\")","v":"Prestación de servicios profesionales y de apoyo a la gestión, o para la ejecución de trabajos artísticos que sólo puedan encomendarse a determinadas personas naturales;"},"Inversión",45]
[5,2019,"FDLSUBA-CPS-005-2019","Contratos de prestación de servicios profesionales y de apoyo a la gestión","Contratación directa","Prestación de servicios profesionales y de apoyo a la gestión, o para la ejecución de trabajos artísticos que sólo puedan encomendarse a determinadas personas naturales;","PRESTAR EL SERVICIO COMO CONDUCTOR DE LOS VEHICULOS LIVIANOS DEL DESPACHO DE LA ALCALDIA LOCAL DE SUBA. NO HAY 14600.","Inversión",45,{"$f":"IF(ISERROR(VLOOKUP(I31,[1]Eje_Pilar!$C$2:$E$47,2,FALSE)),\" \",VLOOKUP(I31,[1]Eje_Pilar!$C$2:$E$47,2,FALSE))","v":"Gobernanza e influencia local, regional e internacional"},{"$f":"IF(ISERROR(VLOOKUP(I31,[1]Eje_Pilar!$C$2:$E$47,3,FALSE)),\" \",VLOOKUP(I31,[1]Eje_Pilar!$C$2:$E$47,3,FALSE))","v":"Eje Transversal 4 Gobierno Legitimo, Fortalecimiento Local y Eficiencia"},"3-3-1-15-07-45-1478-000",80179342,"EDWIN ANDRES MAYORGA TIBAQUIRA",26450000,null,0,1,1226666,27676666,23460000,"2019-01-22","2019-01-22","2020-01-21",345,21,null,null,null,"X",null,84.764544978069253,{"$f":"IF(SUMPRODUCT((A$14:A31=A31)*(B$14:B31=B31)*(C$14:C31=C31))>1,0,1)","v":1},0,0,0,1,0,"Contratos de prestación de servicios profesionales y de apoyo a la gestión","Contratación directa",{"$f":"IFERROR(VLOOKUP(F31,[1]Tipo!$C$12:$C$27,1,FALSE),\"NO\")","v":"Prestación de servicios profesionales y de apoyo a la gestión, o para la ejecución de trabajos artísticos que sólo puedan encomendarse a determinadas personas naturales;"},"Inversión",45]
[6,2019,"FDLSUBA-CPS-006-2019","Contratos de prestación de servicios profesionales y de apoyo a la gestión","Contratación directa","Prestación de servicios profesionales y de apoyo a la gestión, o para la ejecución de trabajos artísticos que sólo puedan encomendarse a determinadas personas naturales;","APOYAR JURIDICAMENTE LA EJECUCION DE LAS ACCIONES REQUERIDAS PARA LA DEPURACION DE LAS ACTUACIONES ADMINISTRATIVAS QUE CURSAN EN LA ALCALDIA LOCAL. NO HAY 14658.","Inversión",45,{"$f":"IF(ISERROR(VLOOKUP(I32,[1]Eje_Pilar!$C$2:$E$47,2,FALSE)),\" \",VLOOKUP(I32,[1]Eje_Pilar!$C$2:$E$47,2,FALSE))","v":"Gobernanza e influencia local, regional e internacional"},{"$f":"IF(ISERROR(VLOOKUP(I32,[1]Eje_Pilar!$C$2:$E$47,3,FALSE)),\" \",VLOOKUP(I32,[1]Eje_Pilar!$C$2:$E$47,3,FALSE))","v":"Eje Transversal 4 Gobierno Legitimo, Fortalecimiento Local y Eficiencia"},"3-3-1-15-07-45-1478-000",52989234,"JENNY ALEXANDRA NORIEGA GOMEZ",52900000,null,0,1,1840000,54740000,46306667,"2019-01-29","2019-01-29","2020-01-21",345,21,null,null,null,"X",null,84.593838143953235,{"$f":"IF(SUMPRODUCT((A$14:A32=A32)*(B$14:B32=B32)*(C$14:C32=C32))>1,0,1)","v":1},0,0,0,1,0,"Contratos de prestación de servicios profesionales y de apoyo a la gestión","Contratación directa",{"$f":"IFERROR(VLOOKUP(F32,[1]Tipo!$C$12:$C$27,1,FALSE),\"NO\")","v":"Prestación de servicios profesionales y de apoyo a la gestión, o para la ejecución de trabajos artísticos que sólo puedan encomendarse a determinadas personas naturales;"},"Inversión",45]
[7,2019,"FDLSUBA-CPS-007-2019","Contratos de prestación de servicios profesionales y de apoyo a la gestión","Contratación directa","Prestación de servicios profesionales y de apoyo a la gestión, o para la ejecución de trabajos artísticos que sólo puedan encomendarse a determinadas personas naturales;","PRESTAR LOS SERVICIOS PROFESIONALES COMO ABOGADO (A) PARA APOYAR LA GESTION CONTRACTUAL DEL AREA GESTION DEL DESARROLLO LOCAL DE LA ALCALDIA LOCAL DE SUBA, EN LOS DIFERENTES PROCESOS DE SELECCION EN SUS ETAPAS PRECONTRACTUAL, CONTRACTUAL Y POSTCONTRACTUAL. NO HAY 14669.","Inversión",45,{"$f":"IF(ISERROR(VLOOKUP(I33,[1]Eje_Pilar!$C$2:$E$47,2,FALSE)),\" \",VLOOKUP(I33,[1]Eje_Pilar!$C$2:$E$47,2,FALSE))","v":"Gobernanza e influencia local, regional e internacional"},{"$f":"IF(ISERROR(VLOOKUP(I33,[1]Eje_Pilar!$C$2:$E$47,3,FALSE)),\" \",VLOOKUP(I33,[1]Eje_Pilar!$C$2:$E$47,3,FALSE))","v":"Eje Transversal 4 Gobierno Legitimo, Fortalecimiento Local y Eficiencia"},"3-3-1-15-07-45-1478-000",52898025,"LILIA  ZAMBRANO DURAN",72450000,null,0,null,0,72450000,64470000,"2019-01-24","2019-01-24","2019-12-31",345,null,null,null,null,"X",null,88.985507246376812,{"$f":"IF(SUMPRODUCT((A$14:A33=A33)*(B$14:B33=B33)*(C$14:C33=C33))>1,0,1)","v":1},0,0,0,1,0,"Contratos de prestación de servicios profesionales y de apoyo a la gestión","Contratación directa",{"$f":"IFERROR(VLOOKUP(F33,[1]Tipo!$C$12:$C$27,1,FALSE),\"NO\")","v":"Prestación de servicios profesionales y de apoyo a la gestión, o para la ejecución de trabajos artísticos que sólo puedan encomendarse a determinadas personas naturales;"},"Inversión",45]
[8,2019,"FDLSUBA-CPS-008-2019","Contratos de prestación de servicios profesionales y de apoyo a la gestión","Contratación directa","Prestación de servicios profesionales y de apoyo a la gestión, o para la ejecución de trabajos artísticos que sólo puedan encomendarse a determinadas personas naturales;","PRESTAR LOS SERVICIOS PROFESIONALES COMO ABOGADO (A) PARA APOYAR LA GESTION CONTRACTUAL DEL AREA GESTION DEL DESARROLLO LOCAL DE LA ALCALDIA LOCAL DE SUBA, EN LOS DIFERENTES PROCESOS DE SELECCION EN SUS ETAPAS PRECONTRACTUAL, CONTRACTUAL Y POSTCONTRACTUAL. NO HAY 14669.","Inversión",45,{"$f":"IF(ISERROR(VLOOKUP(I34,[1]Eje_Pilar!$C$2:$E$47,2,FALSE)),\" \",VLOOKUP(I34,[1]Eje_Pilar!$C$2:$E$47,2,FALSE))","v":"Gobernanza e influencia local, regional e internacional"},{"$f":"IF(ISERROR(VLOOKUP(I34,[1]Eje_Pilar!$C$2:$E$47,3,FALSE)),\" \",VLOOKUP(I34,[1]Eje_Pilar!$C$2:$E$47,3,FALSE))","v":"Eje Transversal 4 Gobierno Legitimo, Fortalecimiento Local y Eficiencia"},"3-3-1-15-07-45-1478-000",1110471820,"DIANA MARIA BOLAÑOS LOPEZ",72450000,null,0,1,3570000,76020000,64470000,"2019-01-24","2019-01-24","2020-01-21",345,21,null,null,null,"X",null,84.806629834254139,{"$f":"IF(SUMPRODUCT((A$14:A34=A34)*(B$14:B34=B34)*(C$14:C34=C34))>1,0,1)","v":1},0,0,0,1,0,"Contratos de prestación de servicios profesionales y de apoyo a la gestión","Contratación directa",{"$f":"IFERROR(VLOOKUP(F34,[1]Tipo!$C$12:$C$27,1,FALSE),\"NO\")","v":"Prestación de servicios profesionales y de apoyo a la gestión, o para la ejecución de trabajos artísticos que sólo puedan encomendarse a determinadas personas naturales;"},"Inversión",45]
[null,2019,null,"Otros gastos",null,null,"OBJETO: PAGO DEL SERVICIO PUBLICO DE ACUEDUCTO DE LOS INMUEBLES A CARGO DEL FDL SUBA VIGENCIA 2018.","Funcionamiento","No aplica",{"$f":"IF(ISERROR(VLOOKUP(I35,[1]Eje_Pilar!$C$2:$E$47,2,FALSE)),\" \",VLOOKUP(I35,[1]Eje_Pilar!$C$2:$E$47,2,FALSE))","v":" "},{"$f":"IF(ISERROR(VLOOKUP(I35,[1]Eje_Pilar!$C$2:$E$47,3,FALSE)),\" \",VLOOKUP(I35,[1]Eje_Pilar!$C$2:$E$47,3,FALSE))","v":" "},"3-1-2-02-02-04-0001-002",null,"EMPRESA DE ACUEDUCTO Y ALCANTARILLADO DE BOGOTA ESP",20000000,null,0,null,0,20000000,9837448,"2019-01-23","2019-01-23","2019-12-31",null,null,null,null,null,null,null,49.187239999999996,{"$f":"IF(SUMPRODUCT((A$14:A35=A35)*(B$14:B35=B35)*(C$14:C35=C35))>1,0,1)","v":0},0,0,0,0,0,"Otros gastos","NO",{"$f":"IFERROR(VLOOKUP(F35,[1]Tipo!$C$12:$C$27,1,FALSE),\"NO\")","v":"NO"},"Funcionamiento","NO"]
[null,2019,null,"Otros gastos",null,null,"PAGO SEGURIDAD SOCIAL EDILES LOCALIDAD DE SUBA, VIGENCIA 2019. EDIL JUAN JOSÉ RAMIREZ CIFUENTES DADO EL CAMBIO DE EPS DE MEDIMAS A SURAAMERICANA S.A. DESDE EL 1 DE AGOSTO DE 2019.","Funcionamiento","No aplica",{"$f":"IF(ISERROR(VLOOKUP(I36,[1]Eje_Pilar!$C$2:$E$47,2,FALSE)),\" \",VLOOKUP(I36,[1]Eje_Pilar!$C$2:$E$47,2,FALSE))","v":" "},{"$f":"IF(ISERROR(VLOOKUP(I36,[1]Eje_Pilar!$C$2:$E$47,3,FALSE)),\" \",VLOOKUP(I36,[1]Eje_Pilar!$C$2:$E$47,3,FALSE))","v":" "},"3-1-2-02-02-02-0001-006",null,"EPS Y MEDICINA PREPAGADA SURAMERICANA S.A.",4450000,null,0,null,0,4450000,3559600,"2019-09-02","2019-09-02","2019-12-31",null,null,null,null,null,null,null,79.991011235955057,{"$f":"IF(SUMPRODUCT((A$14:A36=A36)*(B$14:B36=B36)*(C$14:C36=C36))>1,0,1)","v":0},0,0,0,0,0,"Otros gastos","NO",{"$f":"IFERROR(VLOOKUP(F36,[1]Tipo!$C$12:$C$27,1,FALSE),\"NO\")","v":"NO"},"Funcionamiento","NO"]
[9,2019,"FDLSUBA-CPS-009-2019","Contratos de prestación de servicios profesionales y de apoyo a la gestión","Contratación directa","Prestación de servicios profesionales y de apoyo a la gestión, o para la ejecución de trabajos artísticos que sólo puedan encomendarse a determinadas personas naturales;","PRESTAR LOS SERVICIOS PROFESIONALES COMO ABOGADO (A) PARA APOYAR LA GESTION CONTRACTUAL DEL AREA GESTION DEL DESARROLLO LOCAL DE LA ALCALDIA LOCAL DE SUBA, EN LOS DIFERENTES PROCESOS DE SELECCION EN SUS ETAPAS PRECONTRACTUAL, CONTRACTUAL Y POSTCONTRACTUAL. NO HAY 14669.","Inversión",45,{"$f":"IF(ISERROR(VLOOKUP(I37,[1]Eje_Pilar!$C$2:$E$47,2,FALSE)),\" \",VLOOKUP(I37,[1]Eje_Pilar!$C$2:$E$47,2,FALSE))","v":"Gobernanza e influencia local, regional e internacional"},{"$f":"IF(ISERROR(VLOOKUP(I37,[1]Eje_Pilar!$C$2:$E$47,3,FALSE)),\" \",VLOOKUP(I37,[1]Eje_Pilar!$C$2:$E$47,3,FALSE))","v":"Eje Transversal 4 Gobierno Legitimo, Fortalecimiento Local y Eficiencia"},"3-3-1-15-07-45-1478-000",52715599,"LYDA ENITH SOLANO GUTIERREZ",72450000,null,0,1,3360000,75810000,64260000,"2019-01-24","2019-01-24","2020-01-21",345,21,null,null,null,"X",null,84.764542936288095,{"$f":"IF(SUMPRODUCT((A$14:A37=A37)*(B$14:B37=B37)*(C$14:C37=C37))>1,0,1)","v":1},0,0,0,1,0,"Contratos de prestación de servicios profesionales y de apoyo a la gestión","Contratación directa",{"$f":"IFERROR(VLOOKUP(F37,[1]Tipo!$C$12:$C$27,1,FALSE),\"NO\")","v":"Prestación de servicios profesionales y de apoyo a la gestión, o para la ejecución de trabajos artísticos que sólo puedan encomendarse a determinadas personas naturales;"},"Inversión",45]
[null,2019,null,"Otros gastos",null,null,"PAGO SERVICIO DE GAS VIGENCIA 2019. PARA LOS PREDIOS EN DONDE FUNCIONAN DEPENDENCIAS DE LA ALCALDIA LOCAL DE SUBA, CALLE 146 C  BIS NO. 90 - 57 LOC. 1 Y CALLE 147 NO. 90 62.","Funcionamiento","No aplica",{"$f":"IF(ISERROR(VLOOKUP(I38,[1]Eje_Pilar!$C$2:$E$47,2,FALSE)),\" \",VLOOKUP(I38,[1]Eje_Pilar!$C$2:$E$47,2,FALSE))","v":" "},{"$f":"IF(ISERROR(VLOOKUP(I38,[1]Eje_Pilar!$C$2:$E$47,3,FALSE)),\" \",VLOOKUP(I38,[1]Eje_Pilar!$C$2:$E$47,3,FALSE))","v":" "},"3-1-2-02-02-04-0001-004",null,"GAS NATURAL S A E S P",4000000,null,0,null,0,4000000,2114220,"2019-01-23","2019-01-23","2019-12-31",null,null,null,null,null,null,null,52.855499999999999,{"$f":"IF(SUMPRODUCT((A$14:A38=A38)*(B$14:B38=B38)*(C$14:C38=C38))>1,0,1)","v":0},0,0,0,0,0,"Otros gastos","NO",{"$f":"IFERROR(VLOOKUP(F38,[1]Tipo!$C$12:$C$27,1,FALSE),\"NO\")","v":"NO"},"Funcionamiento","NO"]
[10,2019,"FDLSUBA-CPS-010-2019","Contratos de prestación de servicios profesionales y de apoyo a la gestión","Contratación directa","Prestación de servicios profesionales y de apoyo a la gestión, o para la ejecución de trabajos artísticos que sólo puedan encomendarse a determinadas personas naturales;","PRESTAR LOS SERVICIOS PROFESIONALES COMO ABOGADO EN LA ALCALDIA LOCAL DE SUBA, PRINCIPALMENTE EN LA REVISION DE LOS IMPULSOS Y PROYECTOS DE ACTOS ADMINISTRATIVOS QUE SE PRODUZCAN DENTRO DE LAS ACTUACIONES ADMINISTRATIVAS QUE CURSAN EN LA ALCALDIA LOCAL. NO HAY 14844.","Inversión",45,{"$f":"IF(ISERROR(VLOOKUP(I39,[1]Eje_Pilar!$C$2:$E$47,2,FALSE)),\" \",VLOOKUP(I39,[1]Eje_Pilar!$C$2:$E$47,2,FALSE))","v":"Gobernanza e influencia local, regional e internacional"},{"$f":"IF(ISERROR(VLOOKUP(I39,[1]Eje_Pilar!$C$2:$E$47,3,FALSE)),\" \",VLOOKUP(I39,[1]Eje_Pilar!$C$2:$E$47,3,FALSE))","v":"Eje Transversal 4 Gobierno Legitimo, Fortalecimiento Local y Eficiencia"},"3-3-1-15-07-45-1481-000",1052395871,"ARLID JOHANA ALVAREZ RINCON",52900000,null,0,null,0,52900000,28520000,"2019-01-24","2019-01-24","2020-04-12",345,102,null,null,"X",null,null,53.913043478260867,{"$f":"IF(SUMPRODUCT((A$14:A39=A39)*(B$14:B39=B39)*(C$14:C39=C39))>1,0,1)","v":1},0,0,1,0,0,"Contratos de prestación de servicios profesionales y de apoyo a la gestión","Contratación directa",{"$f":"IFERROR(VLOOKUP(F39,[1]Tipo!$C$12:$C$27,1,FALSE),\"NO\")","v":"Prestación de servicios profesionales y de apoyo a la gestión, o para la ejecución de trabajos artísticos que sólo puedan encomendarse a determinadas personas naturales;"},"Inversión",45]
[null,2019,null,"Otros gastos",null,null,"PAGO HONORARIOS EDILES LOCALIDAD DE SUBA, VIGENCIA 2019, PAGO MES DE NOVIEMBRE DE 2019.","Funcionamiento","No aplica",{"$f":"IF(ISERROR(VLOOKUP(I40,[1]Eje_Pilar!$C$2:$E$47,2,FALSE)),\" \",VLOOKUP(I40,[1]Eje_Pilar!$C$2:$E$47,2,FALSE))","v":" "},{"$f":"IF(ISERROR(VLOOKUP(I40,[1]Eje_Pilar!$C$2:$E$47,3,FALSE)),\" \",VLOOKUP(I40,[1]Eje_Pilar!$C$2:$E$47,3,FALSE))","v":" "},"3-1-1-04-01-02-0000-000",null,"JAIME RAFAEL MORON BARROS",32861,null,0,null,0,32861,32861,"2019-11-29","2019-11-29","2019-12-31",null,null,null,null,null,null,null,100,{"$f":"IF(SUMPRODUCT((A$14:A40=A40)*(B$14:B40=B40)*(C$14:C40=C40))>1,0,1)","v":0},0,0,0,0,0,"Otros gastos","NO",{"$f":"IFERROR(VLOOKUP(F40,[1]Tipo!$C$12:$C$27,1,FALSE),\"NO\")","v":"NO"},"Funcionamiento","NO"]
[null,2019,null,"Otros gastos",null,null,"PAGO HONORARIOS EDILES LOCALIDAD DE SUBA, VIGENCIA 2019.","Funcionamiento","No aplica",{"$f":"IF(ISERROR(VLOOKUP(I41,[1]Eje_Pilar!$C$2:$E$47,2,FALSE)),\" \",VLOOKUP(I41,[1]Eje_Pilar!$C$2:$E$47,2,FALSE))","v":" "},{"$f":"IF(ISERROR(VLOOKUP(I41,[1]Eje_Pilar!$C$2:$E$47,3,FALSE)),\" \",VLOOKUP(I41,[1]Eje_Pilar!$C$2:$E$47,3,FALSE))","v":" "},"3-1-1-04-01-02-0000-000",null,"LUZ AMPARO GARCIA QUINTERO",32845,null,0,null,0,32845,32845,"2019-11-29","2019-11-29","2019-12-31",null,null,null,null,null,null,null,100,{"$f":"IF(SUMPRODUCT((A$14:A41=A41)*(B$14:B41=B41)*(C$14:C41=C41))>1,0,1)","v":0},0,0,0,0,0,"Otros gastos","NO",{"$f":"IFERROR(VLOOKUP(F41,[1]Tipo!$C$12:$C$27,1,FALSE),\"NO\")","v":"NO"},"Funcionamiento","NO"]
[null,2019,null,"Otros gastos",null,null,"PAGO HONORARIOS EDILES LOCALIDAD DE SUBA, VIGENCIA 2019, NOVIEMBRE 2019","Funcionamiento","No aplica",{"$f":"IF(ISERROR(VLOOKUP(I42,[1]Eje_Pilar!$C$2:$E$47,2,FALSE)),\" \",VLOOKUP(I42,[1]Eje_Pilar!$C$2:$E$47,2,FALSE))","v":" "},{"$f":"IF(ISERROR(VLOOKUP(I42,[1]Eje_Pilar!$C$2:$E$47,3,FALSE)),\" \",VLOOKUP(I42,[1]Eje_Pilar!$C$2:$E$47,3,FALSE))","v":" "},"3-1-1-04-01-02-0000-000",null,"JUAN ALBERTO OVIEDO SABOGAL",32855,null,0,null,0,32855,32855,"2019-11-29","2019-11-29","2019-12-31",null,null,null,null,null,null,null,100,{"$f":"IF(SUMPRODUCT((A$14:A42=A42)*(B$14:B42=B42)*(C$14:C42=C42))>1,0,1)","v":0},0,0,0,0,0,"Otros gastos","NO",{"$f":"IFERROR(VLOOKUP(F42,[1]Tipo!$C$12:$C$27,1,FALSE),\"NO\")","v":"NO"},"Funcionamiento","NO"]
[null,2019,null,"Otros gastos",null,null,"PAGO HONORARIOS EDILES LOCALIDAD DE SUBA, VIGENCIA 2019, HONORARIOS NOVIEMBRE DE 2019.","Funcionamiento","No aplica",{"$f":"IF(ISERROR(VLOOKUP(I43,[1]Eje_Pilar!$C$2:$E$47,2,FALSE)),\" \",VLOOKUP(I43,[1]Eje_Pilar!$C$2:$E$47,2,FALSE))","v":" "},{"$f":"IF(ISERROR(VLOOKUP(I43,[1]Eje_Pilar!$C$2:$E$47,3,FALSE)),\" \",VLOOKUP(I43,[1]Eje_Pilar!$C$2:$E$47,3,FALSE))","v":" "},"3-1-1-04-01-02-0000-000",null,"JUAN JOSE RAMIREZ CIFUENTES",32855,null,0,null,0,32855,32855,"2019-11-29","2019-11-29","2019-12-31",null,null,null,null,null,null,null,100,{"$f":"IF(SUMPRODUCT((A$14:A43=A43)*(B$14:B43=B43)*(C$14:C43=C43))>1,0,1)","v":0},0,0,0,0,0,"Otros gastos","NO",{"$f":"IFERROR(VLOOKUP(F43,[1]Tipo!$C$12:$C$27,1,FALSE),\"NO\")","v":"NO"},"Funcionamiento","NO"]
[null,2019,null,"Otros gastos",null,null,"PAGO HONORARIOS EDILES LOCALIDAD DE SUBA, VIGENCIA 2019, HONORARIOS NOVIEMBRE DE 2019.","Funcionamiento","No aplica",{"$f":"IF(ISERROR(VLOOKUP(I44,[1]Eje_Pilar!$C$2:$E$47,2,FALSE)),\" \",VLOOKUP(I44,[1]Eje_Pilar!$C$2:$E$47,2,FALSE))","v":" "},{"$f":"IF(ISERROR(VLOOKUP(I44,[1]Eje_Pilar!$C$2:$E$47,3,FALSE)),\" \",VLOOKUP(I44,[1]Eje_Pilar!$C$2:$E$47,3,FALSE))","v":" "},"3-1-1-04-01-02-0000-000",null,"CESAR AUGUSTO SALAMANCA ROJAS",33662,null,0,null,0,33662,33662,"2019-11-29","2019-11-29","2019-12-31",null,null,null,null,null,null,null,100,{"$f":"IF(SUMPRODUCT((A$14:A44=A44)*(B$14:B44=B44)*(C$14:C44=C44))>1,0,1)","v":0},0,0,0,0,0,"Otros gastos","NO",{"$f":"IFERROR(VLOOKUP(F44,[1]Tipo!$C$12:$C$27,1,FALSE),\"NO\")","v":"NO"},"Funcionamiento","NO"]
[null,2019,null,"Otros gastos",null,null,"PAGO HONORARIOS EDILES LOCALIDAD DE SUBA, VIGENCIA 2019.","Funcionamiento","No aplica",{"$f":"IF(ISERROR(VLOOKUP(I45,[1]Eje_Pilar!$C$2:$E$47,2,FALSE)),\" \",VLOOKUP(I45,[1]Eje_Pilar!$C$2:$E$47,2,FALSE))","v":" "},{"$f":"IF(ISERROR(VLOOKUP(I45,[1]Eje_Pilar!$C$2:$E$47,3,FALSE)),\" \",VLOOKUP(I45,[1]Eje_Pilar!$C$2:$E$47,3,FALSE))","v":" "},"3-1-1-04-01-02-0000-000",null,"YEISON JAVIER SEPULVEDA RINCON",32855,null,0,null,0,32855,32855,"2019-11-29","2019-11-29","2019-12-31",null,null,null,null,null,null,null,100,{"$f":"IF(SUMPRODUCT((A$14:A45=A45)*(B$14:B45=B45)*(C$14:C45=C45))>1,0,1)","v":0},0,0,0,0,0,"Otros gastos","NO",{"$f":"IFERROR(VLOOKUP(F45,[1]Tipo!$C$12:$C$27,1,FALSE),\"NO\")","v":"NO"},"Funcionamiento","NO"]
[null,2019,null,"Otros gastos",null,null,"PAGO HONORARIOS EDILES LOCALIDAD DE SUBA, VIGENCIA 2019.","Funcionamiento","No aplica",{"$f":"IF(ISERROR(VLOOKUP(I46,[1]Eje_Pilar!$C$2:$E$47,2,FALSE)),\" \",VLOOKUP(I46,[1]Eje_Pilar!$C$2:$E$47,2,FALSE))","v":" "},{"$f":"IF(ISERROR(VLOOKUP(I46,[1]Eje_Pilar!$C$2:$E$47,3,FALSE)),\" \",VLOOKUP(I46,[1]Eje_Pilar!$C$2:$E$47,3,FALSE))","v":" "},"3-1-1-04-01-02-0000-000",null,"MARIA CAROLINA VILLAMARIN JIMENEZ",32895,null,0,null,0,32895,32895,"2019-11-29","2019-11-29","2019-12-31",null,null,null,null,null,null,null,100,{"$f":"IF(SUMPRODUCT((A$14:A46=A46)*(B$14:B46=B46)*(C$14:C46=C46))>1,0,1)","v":0},0,0,0,0,0,"Otros gastos","NO",{"$f":"IFERROR(VLOOKUP(F46,[1]Tipo!$C$12:$C$27,1,FALSE),\"NO\")","v":"NO"},"Funcionamiento","NO"]
[null,2019,null,"Otros gastos",null,null,"PAGO SEGURIDAD SOCIAL EDILES LOCALIDAD DE SUBA, VIGENCIA 2019. EDIL JAIME RAFAEL MORON BARROS","Funcionamiento","No aplica",{"$f":"IF(ISERROR(VLOOKUP(I47,[1]Eje_Pilar!$C$2:$E$47,2,FALSE)),\" \",VLOOKUP(I47,[1]Eje_Pilar!$C$2:$E$47,2,FALSE))","v":" "},{"$f":"IF(ISERROR(VLOOKUP(I47,[1]Eje_Pilar!$C$2:$E$47,3,FALSE)),\" \",VLOOKUP(I47,[1]Eje_Pilar!$C$2:$E$47,3,FALSE))","v":" "},"3-1-2-02-02-02-0001-006",null,"ALIANSALUD ENTIDAD PROMOTORA DE SALUD S.A",9834000,null,0,null,0,9834000,9803600,"2019-02-20","2019-02-20","2019-12-31",null,null,null,null,null,null,null,99.690868415700635,{"$f":"IF(SUMPRODUCT((A$14:A47=A47)*(B$14:B47=B47)*(C$14:C47=C47))>1,0,1)","v":0},0,0,0,0,0,"Otros gastos","NO",{"$f":"IFERROR(VLOOKUP(F47,[1]Tipo!$C$12:$C$27,1,FALSE),\"NO\")","v":"NO"},"Funcionamiento","NO"]
[11,2019,"FDLSUBA-CPS-011-2019","Contratos de prestación de servicios profesionales y de apoyo a la gestión","Contratación directa","Prestación de servicios profesionales y de apoyo a la gestión, o para la ejecución de trabajos artísticos que sólo puedan encomendarse a determinadas personas naturales;","PRESTAR LOS SERVICIOS PROFESIONALES ESPECIALIZADOS COMO ABOGADO (A) PARA APOYAR LA GESTION CONTRACTUAL DEL AREA GESTION DEL DESARROLLO LOCAL DE LA ALCALDIA LOCAL DE SUBA, EN LOS DIFERENTES PROCESOS DE SELECCION EN SUS ETAPAS PRECONTRACTUAL, CONTRACTUAL Y POSTCONTRACTUAL.","Inversión",45,{"$f":"IF(ISERROR(VLOOKUP(I48,[1]Eje_Pilar!$C$2:$E$47,2,FALSE)),\" \",VLOOKUP(I48,[1]Eje_Pilar!$C$2:$E$47,2,FALSE))","v":"Gobernanza e influencia local, regional e internacional"},{"$f":"IF(ISERROR(VLOOKUP(I48,[1]Eje_Pilar!$C$2:$E$47,3,FALSE)),\" \",VLOOKUP(I48,[1]Eje_Pilar!$C$2:$E$47,3,FALSE))","v":"Eje Transversal 4 Gobierno Legitimo, Fortalecimiento Local y Eficiencia"},"3-3-1-15-07-45-1478-000",79938533,"JULIO ALEJANDRO MAYA AMADOR",92000000,null,0,1,4266666,96266666,81600000,"2019-01-24","2019-01-24","2020-01-21",345,21,null,null,null,"X",null,84.764543523300162,{"$f":"IF(SUMPRODUCT((A$14:A48=A48)*(B$14:B48=B48)*(C$14:C48=C48))>1,0,1)","v":1},0,0,0,1,0,"Contratos de prestación de servicios profesionales y de apoyo a la gestión","Contratación directa",{"$f":"IFERROR(VLOOKUP(F48,[1]Tipo!$C$12:$C$27,1,FALSE),\"NO\")","v":"Prestación de servicios profesionales y de apoyo a la gestión, o para la ejecución de trabajos artísticos que sólo puedan encomendarse a determinadas personas naturales;"},"Inversión",45]
[null,2019,null,"Otros gastos",null,null,"PAGO HONORARIOS EDILES LOCALIDAD DE SUBA, VIGENCIA 2019, NOVIEMBRE 2019.","Funcionamiento","No aplica",{"$f":"IF(ISERROR(VLOOKUP(I49,[1]Eje_Pilar!$C$2:$E$47,2,FALSE)),\" \",VLOOKUP(I49,[1]Eje_Pilar!$C$2:$E$47,2,FALSE))","v":" "},{"$f":"IF(ISERROR(VLOOKUP(I49,[1]Eje_Pilar!$C$2:$E$47,3,FALSE)),\" \",VLOOKUP(I49,[1]Eje_Pilar!$C$2:$E$47,3,FALSE))","v":" "},"3-1-1-04-01-02-0000-000",null,"MARCELA  OSPINA GOMEZ",32856,null,0,null,0,32856,32856,"2019-11-29","2019-11-29","2019-12-31",null,null,null,null,null,null,null,100,{"$f":"IF(SUMPRODUCT((A$14:A49=A49)*(B$14:B49=B49)*(C$14:C49=C49))>1,0,1)","v":0},0,0,0,0,0,"Otros gastos","NO",{"$f":"IFERROR(VLOOKUP(F49,[1]Tipo!$C$12:$C$27,1,FALSE),\"NO\")","v":"NO"},"Funcionamiento","NO"]
[null,2019,null,"Otros gastos",null,null,"OBJETO: PAGO DEL SERVICIO PUBLICO DE ASEO VIGENCIA 2019, DE LOS INMUEBLES A CARGO DEL FDL SUBA. CARRERA 93 C # 129 C - 15. ENERO 2019.","Funcionamiento","No aplica",{"$f":"IF(ISERROR(VLOOKUP(I50,[1]Eje_Pilar!$C$2:$E$47,2,FALSE)),\" \",VLOOKUP(I50,[1]Eje_Pilar!$C$2:$E$47,2,FALSE))","v":" "},{"$f":"IF(ISERROR(VLOOKUP(I50,[1]Eje_Pilar!$C$2:$E$47,3,FALSE)),\" \",VLOOKUP(I50,[1]Eje_Pilar!$C$2:$E$47,3,FALSE))","v":" "},"3-1-2-02-02-04-0001-003",null,"EMPRESA DE ACUEDUCTO Y ALCANTARILLADO DE BOGOTA ESP",464580,null,0,null,0,464580,464580,"2019-01-23","2019-01-23","2019-12-31",null,null,null,null,null,null,null,100,{"$f":"IF(SUMPRODUCT((A$14:A50=A50)*(B$14:B50=B50)*(C$14:C50=C50))>1,0,1)","v":0},0,0,0,0,0,"Otros gastos","NO",{"$f":"IFERROR(VLOOKUP(F50,[1]Tipo!$C$12:$C$27,1,FALSE),\"NO\")","v":"NO"},"Funcionamiento","NO"]
[12,2019,"FDLSUBA-CPS-012-2019","Contratos de prestación de servicios profesionales y de apoyo a la gestión","Contratación directa","Prestación de servicios profesionales y de apoyo a la gestión, o para la ejecución de trabajos artísticos que sólo puedan encomendarse a determinadas personas naturales;","PRESTAR LOS SERVICIOS DE APOYO AL AREA DE GESTION DE DESARROLLO LOCAL ESPECIALMENTE EN EL CENTRO DE DOCUMENTACION E INFORMACION CDI DE LA ALCALDIA LOCAL DE SUBA. NO HAY 14601.","Inversión",45,{"$f":"IF(ISERROR(VLOOKUP(I51,[1]Eje_Pilar!$C$2:$E$47,2,FALSE)),\" \",VLOOKUP(I51,[1]Eje_Pilar!$C$2:$E$47,2,FALSE))","v":"Gobernanza e influencia local, regional e internacional"},{"$f":"IF(ISERROR(VLOOKUP(I51,[1]Eje_Pilar!$C$2:$E$47,3,FALSE)),\" \",VLOOKUP(I51,[1]Eje_Pilar!$C$2:$E$47,3,FALSE))","v":"Eje Transversal 4 Gobierno Legitimo, Fortalecimiento Local y Eficiencia"},"3-3-1-15-07-45-1478-000",80756783,"JAVIER IGNACIO RODRIGUEZ PARRA",25116000,null,0,1,1164800,26280800,22276800,"2019-01-24","2019-01-24","2020-01-21",345,21,null,null,null,"X",null,84.764542936288095,{"$f":"IF(SUMPRODUCT((A$14:A51=A51)*(B$14:B51=B51)*(C$14:C51=C51))>1,0,1)","v":1},0,0,0,1,0,"Contratos de prestación de servicios profesionales y de apoyo a la gestión","Contratación directa",{"$f":"IFERROR(VLOOKUP(F51,[1]Tipo!$C$12:$C$27,1,FALSE),\"NO\")","v":"Prestación de servicios profesionales y de apoyo a la gestión, o para la ejecución de trabajos artísticos que sólo puedan encomendarse a determinadas personas naturales;"},"Inversión",45]
[null,2019,null,"Otros gastos",null,null,"PAGO SEGURIDAD SOCIAL EDILES LOCALIDAD DE SUBA, VIGENCIA 2019. EDIL CESAR AUGUSTO SALAMANCA ROJAS.","Funcionamiento","No aplica",{"$f":"IF(ISERROR(VLOOKUP(I52,[1]Eje_Pilar!$C$2:$E$47,2,FALSE)),\" \",VLOOKUP(I52,[1]Eje_Pilar!$C$2:$E$47,2,FALSE))","v":" "},{"$f":"IF(ISERROR(VLOOKUP(I52,[1]Eje_Pilar!$C$2:$E$47,3,FALSE)),\" \",VLOOKUP(I52,[1]Eje_Pilar!$C$2:$E$47,3,FALSE))","v":" "},"3-1-2-02-02-02-0001-006",null,"SALUD TOTAL ENTIDAD PROMOTORA DE SALUD DEL REGIMEN CONTRIBUTIVO Y DEL REGIMEN SUBSIDIADO S.A.",9834000,null,0,null,0,9834000,9803600,"2019-02-20","2019-02-20","2019-12-31",null,null,null,null,null,null,null,99.690868415700635,{"$f":"IF(SUMPRODUCT((A$14:A52=A52)*(B$14:B52=B52)*(C$14:C52=C52))>1,0,1)","v":0},0,0,0,0,0,"Otros gastos","NO",{"$f":"IFERROR(VLOOKUP(F52,[1]Tipo!$C$12:$C$27,1,FALSE),\"NO\")","v":"NO"},"Funcionamiento","NO"]
[null,2019,null,"Otros gastos",null,null,"PAGO SEGURIDAD SOCIAL EDILES LOCALIDAD DE SUBA, VIGENCIA 2019. EDILES JUAN ALBERTO OVIEDO SABOGAL Y MARIA CAROLINA VILLAMARIN JIMENEZ.","Funcionamiento","No aplica",{"$f":"IF(ISERROR(VLOOKUP(I53,[1]Eje_Pilar!$C$2:$E$47,2,FALSE)),\" \",VLOOKUP(I53,[1]Eje_Pilar!$C$2:$E$47,2,FALSE))","v":" "},{"$f":"IF(ISERROR(VLOOKUP(I53,[1]Eje_Pilar!$C$2:$E$47,3,FALSE)),\" \",VLOOKUP(I53,[1]Eje_Pilar!$C$2:$E$47,3,FALSE))","v":" "},"3-1-2-02-02-02-0001-006",null,"ENTIDAD PROMOTORA DE SALUD SANITAS S.A.",19667000,null,0,null,0,19667000,19607100,"2019-02-20","2019-02-20","2019-12-31",null,null,null,null,null,null,null,99.695428891035746,{"$f":"IF(SUMPRODUCT((A$14:A53=A53)*(B$14:B53=B53)*(C$14:C53=C53))>1,0,1)","v":0},0,0,0,0,0,"Otros gastos","NO",{"$f":"IFERROR(VLOOKUP(F53,[1]Tipo!$C$12:$C$27,1,FALSE),\"NO\")","v":"NO"},"Funcionamiento","NO"]
[null,2019,null,"Otros gastos",null,null,"PAGO SEGURIDAD SOCIAL EDILES LOCALIDAD DE SUBA, VIGENCIA 2019. EDILES WILLIAM ALFONSO DIAZ SANCHEZ, HUGO BARAJAS, YEISON JAVIER SEPÚLVEDA Y MARCELA OSPINA.","Funcionamiento","No aplica",{"$f":"IF(ISERROR(VLOOKUP(I54,[1]Eje_Pilar!$C$2:$E$47,2,FALSE)),\" \",VLOOKUP(I54,[1]Eje_Pilar!$C$2:$E$47,2,FALSE))","v":" "},{"$f":"IF(ISERROR(VLOOKUP(I54,[1]Eje_Pilar!$C$2:$E$47,3,FALSE)),\" \",VLOOKUP(I54,[1]Eje_Pilar!$C$2:$E$47,3,FALSE))","v":" "},"3-1-2-02-02-02-0001-006",null,"CAJA DE COMPENSACION FAMILIAR - COMPENSAR",39333000,null,0,null,0,39333000,39125200,"2019-02-20","2019-02-20","2019-12-31",null,null,null,null,null,null,null,99.471690438054566,{"$f":"IF(SUMPRODUCT((A$14:A54=A54)*(B$14:B54=B54)*(C$14:C54=C54))>1,0,1)","v":0},0,0,0,0,0,"Otros gastos","NO",{"$f":"IFERROR(VLOOKUP(F54,[1]Tipo!$C$12:$C$27,1,FALSE),\"NO\")","v":"NO"},"Funcionamiento","NO"]
[null,2019,null,"Otros gastos",null,null,"PAGO SEGURIDAD SOCIAL EDILES LOCALIDAD DE SUBA, VIGENCIA 2019. EDIL  LUZ AMPARO GARCÍA QUINTERO.","Funcionamiento","No aplica",{"$f":"IF(ISERROR(VLOOKUP(I55,[1]Eje_Pilar!$C$2:$E$47,2,FALSE)),\" \",VLOOKUP(I55,[1]Eje_Pilar!$C$2:$E$47,2,FALSE))","v":" "},{"$f":"IF(ISERROR(VLOOKUP(I55,[1]Eje_Pilar!$C$2:$E$47,3,FALSE)),\" \",VLOOKUP(I55,[1]Eje_Pilar!$C$2:$E$47,3,FALSE))","v":" "},"3-1-2-02-02-02-0001-006",null,"COOMEVA ENTIDAD PROMOTORA DE SALUD S.A. - COOMEVA E.P.S. S.A.",9834000,null,0,null,0,9834000,9803600,"2019-02-20","2019-02-20","2019-12-31",null,null,null,null,null,null,null,99.690868415700635,{"$f":"IF(SUMPRODUCT((A$14:A55=A55)*(B$14:B55=B55)*(C$14:C55=C55))>1,0,1)","v":0},0,0,0,0,0,"Otros gastos","NO",{"$f":"IFERROR(VLOOKUP(F55,[1]Tipo!$C$12:$C$27,1,FALSE),\"NO\")","v":"NO"},"Funcionamiento","NO"]
[null,2019,null,"Otros gastos",null,null,"PAGO SEGURIDAD SOCIAL EDILES LOCALIDAD DE SUBA, VIGENCIA 2019. EDILES JUAN JOSÉ RAMIREZ CIFUENTE Y GUSTAVO ROJAS PINILLA.","Funcionamiento","No aplica",{"$f":"IF(ISERROR(VLOOKUP(I56,[1]Eje_Pilar!$C$2:$E$47,2,FALSE)),\" \",VLOOKUP(I56,[1]Eje_Pilar!$C$2:$E$47,2,FALSE))","v":" "},{"$f":"IF(ISERROR(VLOOKUP(I56,[1]Eje_Pilar!$C$2:$E$47,3,FALSE)),\" \",VLOOKUP(I56,[1]Eje_Pilar!$C$2:$E$47,3,FALSE))","v":" "},"3-1-2-02-02-02-0001-006",null,"MEDIMAS EPS S.A.S.",19667000,null,0,null,0,19667000,15825100,"2019-02-20","2019-02-20","2019-12-31",null,null,null,null,null,null,null,80.465246351756747,{"$f":"IF(SUMPRODUCT((A$14:A56=A56)*(B$14:B56=B56)*(C$14:C56=C56))>1,0,1)","v":0},0,0,0,0,0,"Otros gastos","NO",{"$f":"IFERROR(VLOOKUP(F56,[1]Tipo!$C$12:$C$27,1,FALSE),\"NO\")","v":"NO"},"Funcionamiento","NO"]
[null,2019,null,"Otros gastos",null,null,"OBJETO: PAGO DEL SERVICIO PUBLICO DE ASEO VIGENCIA 2019, DE LOS INMUEBLES A CARGO DEL FDL SUBA.","Funcionamiento","No aplica",{"$f":"IF(ISERROR(VLOOKUP(I57,[1]Eje_Pilar!$C$2:$E$47,2,FALSE)),\" \",VLOOKUP(I57,[1]Eje_Pilar!$C$2:$E$47,2,FALSE))","v":" "},{"$f":"IF(ISERROR(VLOOKUP(I57,[1]Eje_Pilar!$C$2:$E$47,3,FALSE)),\" \",VLOOKUP(I57,[1]Eje_Pilar!$C$2:$E$47,3,FALSE))","v":" "},"3-1-2-02-02-04-0001-003",null,"AREA LIMPIA DISTRITO CAPITAL S.A.S. E.S.P.",223200,null,0,null,0,223200,223200,"2019-05-02","2019-05-02","2019-12-31",null,null,null,null,null,null,null,100,{"$f":"IF(SUMPRODUCT((A$14:A57=A57)*(B$14:B57=B57)*(C$14:C57=C57))>1,0,1)","v":0},0,0,0,0,0,"Otros gastos","NO",{"$f":"IFERROR(VLOOKUP(F57,[1]Tipo!$C$12:$C$27,1,FALSE),\"NO\")","v":"NO"},"Funcionamiento","NO"]
[null,2019,null,"Otros gastos",null,null,"OBJETO: PAGO DEL SERVICIO PUBLICO DE ASEO VIGENCIA 2019, DE LOS INMUEBLES A CARGO DEL FDL SUBA.","Funcionamiento","No aplica",{"$f":"IF(ISERROR(VLOOKUP(I58,[1]Eje_Pilar!$C$2:$E$47,2,FALSE)),\" \",VLOOKUP(I58,[1]Eje_Pilar!$C$2:$E$47,2,FALSE))","v":" "},{"$f":"IF(ISERROR(VLOOKUP(I58,[1]Eje_Pilar!$C$2:$E$47,3,FALSE)),\" \",VLOOKUP(I58,[1]Eje_Pilar!$C$2:$E$47,3,FALSE))","v":" "},"3-1-2-02-02-04-0001-003",null,"CODENSA S. A. ESP",14285,null,0,null,0,14285,14285,"2019-08-01","2019-08-01","2019-12-31",null,null,null,null,null,null,null,100,{"$f":"IF(SUMPRODUCT((A$14:A58=A58)*(B$14:B58=B58)*(C$14:C58=C58))>1,0,1)","v":0},0,0,0,0,0,"Otros gastos","NO",{"$f":"IFERROR(VLOOKUP(F58,[1]Tipo!$C$12:$C$27,1,FALSE),\"NO\")","v":"NO"},"Funcionamiento","NO"]
[null,2019,null,"Otros gastos",null,null,"PAGO DEL SERVICIO PUBLICO DE ASEO VIGENCIA 2019, DE LOS INMUEBLES A CARGO DEL FDL SUBA.","Funcionamiento","No aplica",{"$f":"IF(ISERROR(VLOOKUP(I59,[1]Eje_Pilar!$C$2:$E$47,2,FALSE)),\" \",VLOOKUP(I59,[1]Eje_Pilar!$C$2:$E$47,2,FALSE))","v":" "},{"$f":"IF(ISERROR(VLOOKUP(I59,[1]Eje_Pilar!$C$2:$E$47,3,FALSE)),\" \",VLOOKUP(I59,[1]Eje_Pilar!$C$2:$E$47,3,FALSE))","v":" "},"3-1-2-02-02-04-0001-003",null,"CODENSA S. A. ESP",60005,null,0,null,0,60005,60005,"2019-08-01","2019-08-01","2019-12-31",null,null,null,null,null,null,null,100,{"$f":"IF(SUMPRODUCT((A$14:A59=A59)*(B$14:B59=B59)*(C$14:C59=C59))>1,0,1)","v":0},0,0,0,0,0,"Otros gastos","NO",{"$f":"IFERROR(VLOOKUP(F59,[1]Tipo!$C$12:$C$27,1,FALSE),\"NO\")","v":"NO"},"Funcionamiento","NO"]
[null,2019,null,"Otros gastos",null,null,"PAGO DEL SERVICIO PUBLICO DE ASEO VIGENCIA 2019, DE LOS INMUEBLES A CARGO DEL FDL SUBA.","Funcionamiento","No aplica",{"$f":"IF(ISERROR(VLOOKUP(I60,[1]Eje_Pilar!$C$2:$E$47,2,FALSE)),\" \",VLOOKUP(I60,[1]Eje_Pilar!$C$2:$E$47,2,FALSE))","v":" "},{"$f":"IF(ISERROR(VLOOKUP(I60,[1]Eje_Pilar!$C$2:$E$47,3,FALSE)),\" \",VLOOKUP(I60,[1]Eje_Pilar!$C$2:$E$47,3,FALSE))","v":" "},"3-1-2-02-02-04-0001-003",null,"CODENSA S. A. ESP",5000,null,0,null,0,5000,5000,"2019-08-01","2019-08-01","2019-12-31",null,null,null,null,null,null,null,100,{"$f":"IF(SUMPRODUCT((A$14:A60=A60)*(B$14:B60=B60)*(C$14:C60=C60))>1,0,1)","v":0},0,0,0,0,0,"Otros gastos","NO",{"$f":"IFERROR(VLOOKUP(F60,[1]Tipo!$C$12:$C$27,1,FALSE),\"NO\")","v":"NO"},"Funcionamiento","NO"]
[null,2019,null,"Otros gastos",null,null,"PAGO DEL SERVICIO PUBLICO DE ASEO VIGENCIA 2019, DE LOS INMUEBLES A CARGO DEL FDL SUBA.","Funcionamiento","No aplica",{"$f":"IF(ISERROR(VLOOKUP(I61,[1]Eje_Pilar!$C$2:$E$47,2,FALSE)),\" \",VLOOKUP(I61,[1]Eje_Pilar!$C$2:$E$47,2,FALSE))","v":" "},{"$f":"IF(ISERROR(VLOOKUP(I61,[1]Eje_Pilar!$C$2:$E$47,3,FALSE)),\" \",VLOOKUP(I61,[1]Eje_Pilar!$C$2:$E$47,3,FALSE))","v":" "},"3-1-2-02-02-04-0001-003",null,"AREA LIMPIA DISTRITO CAPITAL S.A.S. E.S.P.",1870960,null,0,null,0,1870960,1870960,"2019-08-01","2019-08-01","2019-12-31",null,null,null,null,null,null,null,100,{"$f":"IF(SUMPRODUCT((A$14:A61=A61)*(B$14:B61=B61)*(C$14:C61=C61))>1,0,1)","v":0},0,0,0,0,0,"Otros gastos","NO",{"$f":"IFERROR(VLOOKUP(F61,[1]Tipo!$C$12:$C$27,1,FALSE),\"NO\")","v":"NO"},"Funcionamiento","NO"]
[13,2019,"FDLSUBA-CPS-013-2019","Contratos de prestación de servicios profesionales y de apoyo a la gestión","Contratación directa","Prestación de servicios profesionales y de apoyo a la gestión, o para la ejecución de trabajos artísticos que sólo puedan encomendarse a determinadas personas naturales;","PRESTAR LOS SERVICIOS DE APOYO AL AREA DE GESTION DE DESARROLLO LOCAL ESPECIALMENTE EN EL CENTRO DE DOCUMENTACION E INFORMACION CDI DE LA ALCALDIA LOCAL DE SUBA. NO HAY 14601.","Inversión",45,{"$f":"IF(ISERROR(VLOOKUP(I62,[1]Eje_Pilar!$C$2:$E$47,2,FALSE)),\" \",VLOOKUP(I62,[1]Eje_Pilar!$C$2:$E$47,2,FALSE))","v":"Gobernanza e influencia local, regional e internacional"},{"$f":"IF(ISERROR(VLOOKUP(I62,[1]Eje_Pilar!$C$2:$E$47,3,FALSE)),\" \",VLOOKUP(I62,[1]Eje_Pilar!$C$2:$E$47,3,FALSE))","v":"Eje Transversal 4 Gobierno Legitimo, Fortalecimiento Local y Eficiencia"},"3-3-1-15-07-45-1478-000",79866768,"OSCAR ENRIQUE VANEGAS GONZALEZ",25116000,null,0,null,0,25116000,22276800,"2019-01-24","2019-01-24","2019-12-31",341,null,null,null,null,"X",null,88.695652173913047,{"$f":"IF(SUMPRODUCT((A$14:A62=A62)*(B$14:B62=B62)*(C$14:C62=C62))>1,0,1)","v":1},0,0,0,1,0,"Contratos de prestación de servicios profesionales y de apoyo a la gestión","Contratación directa",{"$f":"IFERROR(VLOOKUP(F62,[1]Tipo!$C$12:$C$27,1,FALSE),\"NO\")","v":"Prestación de servicios profesionales y de apoyo a la gestión, o para la ejecución de trabajos artísticos que sólo puedan encomendarse a determinadas personas naturales;"},"Inversión",45]
[null,2019,null,"Otros gastos",null,null,"OBJETO: PAGO DEL SERVICIO PUBLICO DE ASEO VIGENCIA 2019, DE LOS INMUEBLES A CARGO DEL FDL SUBA.","Funcionamiento","No aplica",{"$f":"IF(ISERROR(VLOOKUP(I63,[1]Eje_Pilar!$C$2:$E$47,2,FALSE)),\" \",VLOOKUP(I63,[1]Eje_Pilar!$C$2:$E$47,2,FALSE))","v":" "},{"$f":"IF(ISERROR(VLOOKUP(I63,[1]Eje_Pilar!$C$2:$E$47,3,FALSE)),\" \",VLOOKUP(I63,[1]Eje_Pilar!$C$2:$E$47,3,FALSE))","v":" "},"3-1-2-02-02-04-0001-003",null,"AREA LIMPIA DISTRITO CAPITAL S.A.S. E.S.P.",1719790,null,0,null,0,1719790,1719790,"2019-02-27","2019-02-27","2019-12-31",null,null,null,null,null,null,null,100,{"$f":"IF(SUMPRODUCT((A$14:A63=A63)*(B$14:B63=B63)*(C$14:C63=C63))>1,0,1)","v":0},0,0,0,0,0,"Otros gastos","NO",{"$f":"IFERROR(VLOOKUP(F63,[1]Tipo!$C$12:$C$27,1,FALSE),\"NO\")","v":"NO"},"Funcionamiento","NO"]
[null,2019,null,"Otros gastos",null,null,"OBJETO: PAGO DEL SERVICIO PUBLICO DE ASEO VIGENCIA 2019, DE LOS INMUEBLES A CARGO DEL FDL SUBA.","Funcionamiento","No aplica",{"$f":"IF(ISERROR(VLOOKUP(I64,[1]Eje_Pilar!$C$2:$E$47,2,FALSE)),\" \",VLOOKUP(I64,[1]Eje_Pilar!$C$2:$E$47,2,FALSE))","v":" "},{"$f":"IF(ISERROR(VLOOKUP(I64,[1]Eje_Pilar!$C$2:$E$47,3,FALSE)),\" \",VLOOKUP(I64,[1]Eje_Pilar!$C$2:$E$47,3,FALSE))","v":" "},"3-1-2-02-02-04-0001-003",null,"CODENSA S. A. ESP",57240,null,0,null,0,57240,57240,"2019-06-04","2019-06-04","2019-12-31",null,null,null,null,null,null,null,100,{"$f":"IF(SUMPRODUCT((A$14:A64=A64)*(B$14:B64=B64)*(C$14:C64=C64))>1,0,1)","v":0},0,0,0,0,0,"Otros gastos","NO",{"$f":"IFERROR(VLOOKUP(F64,[1]Tipo!$C$12:$C$27,1,FALSE),\"NO\")","v":"NO"},"Funcionamiento","NO"]
[null,2019,null,"Otros gastos",null,null,"OBJETO: PAGO DEL SERVICIO PUBLICO DE ASEO VIGENCIA 2019, DE LOS INMUEBLES A CARGO DEL FDL SUBA.","Funcionamiento","No aplica",{"$f":"IF(ISERROR(VLOOKUP(I65,[1]Eje_Pilar!$C$2:$E$47,2,FALSE)),\" \",VLOOKUP(I65,[1]Eje_Pilar!$C$2:$E$47,2,FALSE))","v":" "},{"$f":"IF(ISERROR(VLOOKUP(I65,[1]Eje_Pilar!$C$2:$E$47,3,FALSE)),\" \",VLOOKUP(I65,[1]Eje_Pilar!$C$2:$E$47,3,FALSE))","v":" "},"3-1-2-02-02-04-0001-003",null,"CODENSA S. A. ESP",95610,null,0,null,0,95610,95610,"2019-06-04","2019-06-04","2019-12-31",null,null,null,null,null,null,null,100,{"$f":"IF(SUMPRODUCT((A$14:A65=A65)*(B$14:B65=B65)*(C$14:C65=C65))>1,0,1)","v":0},0,0,0,0,0,"Otros gastos","NO",{"$f":"IFERROR(VLOOKUP(F65,[1]Tipo!$C$12:$C$27,1,FALSE),\"NO\")","v":"NO"},"Funcionamiento","NO"]
[14,2019,"FDLSUBA-CPS-014-2019","Contratos de prestación de servicios profesionales y de apoyo a la gestión","Contratación directa","Prestación de servicios profesionales y de apoyo a la gestión, o para la ejecución de trabajos artísticos que sólo puedan encomendarse a determinadas personas naturales;","PRESTAR LOS SERVICIOS DE APOYO AL AREA DE GESTION DE DESARROLLO LOCAL ESPECIALMENTE EN EL CENTRO DE DOCUMENTACION E INFORMACION CDI DE LA ALCALDIA LOCAL DE SUBA. NO HAY 14601.","Inversión",45,{"$f":"IF(ISERROR(VLOOKUP(I66,[1]Eje_Pilar!$C$2:$E$47,2,FALSE)),\" \",VLOOKUP(I66,[1]Eje_Pilar!$C$2:$E$47,2,FALSE))","v":"Gobernanza e influencia local, regional e internacional"},{"$f":"IF(ISERROR(VLOOKUP(I66,[1]Eje_Pilar!$C$2:$E$47,3,FALSE)),\" \",VLOOKUP(I66,[1]Eje_Pilar!$C$2:$E$47,3,FALSE))","v":"Eje Transversal 4 Gobierno Legitimo, Fortalecimiento Local y Eficiencia"},"3-3-1-15-07-45-1478-000",79998991,"WILLIAM JAIR PACHON CALA",25116000,null,0,null,0,25116000,22058400,"2019-01-28","2019-01-28","2019-12-31",345,null,null,null,null,"X",null,87.826086956521749,{"$f":"IF(SUMPRODUCT((A$14:A66=A66)*(B$14:B66=B66)*(C$14:C66=C66))>1,0,1)","v":1},0,0,0,1,0,"Contratos de prestación de servicios profesionales y de apoyo a la gestión","Contratación directa",{"$f":"IFERROR(VLOOKUP(F66,[1]Tipo!$C$12:$C$27,1,FALSE),\"NO\")","v":"Prestación de servicios profesionales y de apoyo a la gestión, o para la ejecución de trabajos artísticos que sólo puedan encomendarse a determinadas personas naturales;"},"Inversión",45]
[15,2019,"FDLSUBA-CPS-015-2019","Contratos de prestación de servicios profesionales y de apoyo a la gestión","Contratación directa","Prestación de servicios profesionales y de apoyo a la gestión, o para la ejecución de trabajos artísticos que sólo puedan encomendarse a determinadas personas naturales;","PRESTAR LOS SERVICIOS DE APOYO AL AREA DE GESTION DE DESARROLLO LOCAL ESPECIALMENTE EN EL CENTRO DE DOCUMENTACION E INFORMACION CDI DE LA ALCALDIA LOCAL DE SUBA. NO HAY 14601.","Inversión",45,{"$f":"IF(ISERROR(VLOOKUP(I67,[1]Eje_Pilar!$C$2:$E$47,2,FALSE)),\" \",VLOOKUP(I67,[1]Eje_Pilar!$C$2:$E$47,2,FALSE))","v":"Gobernanza e influencia local, regional e internacional"},{"$f":"IF(ISERROR(VLOOKUP(I67,[1]Eje_Pilar!$C$2:$E$47,3,FALSE)),\" \",VLOOKUP(I67,[1]Eje_Pilar!$C$2:$E$47,3,FALSE))","v":"Eje Transversal 4 Gobierno Legitimo, Fortalecimiento Local y Eficiencia"},"3-3-1-15-07-45-1478-000",1019099233,"DELLY ALEXANDRA HERNANDEZ HERNANDEZ",25116000,null,0,1,1164800,26280800,22276800,"2019-01-24","2019-01-24","2020-01-21",345,21,null,null,null,"X",null,84.764542936288095,{"$f":"IF(SUMPRODUCT((A$14:A67=A67)*(B$14:B67=B67)*(C$14:C67=C67))>1,0,1)","v":1},0,0,0,1,0,"Contratos de prestación de servicios profesionales y de apoyo a la gestión","Contratación directa",{"$f":"IFERROR(VLOOKUP(F67,[1]Tipo!$C$12:$C$27,1,FALSE),\"NO\")","v":"Prestación de servicios profesionales y de apoyo a la gestión, o para la ejecución de trabajos artísticos que sólo puedan encomendarse a determinadas personas naturales;"},"Inversión",45]
[16,2019,"FDLSUBA-CPS-016-2019","Contratos de prestación de servicios profesionales y de apoyo a la gestión","Contratación directa","Prestación de servicios profesionales y de apoyo a la gestión, o para la ejecución de trabajos artísticos que sólo puedan encomendarse a determinadas personas naturales;","PRESTAR LOS SERVICIOS PROFESIONALES COMO ABOGADO (A) ESPECIALIZADO (A) PARA APOYAR Y LIDERAR JURIDICA Y TECNICAMENTE EL DESARROLLO DE LAS ACTIVIDADES ENCAMINADAS AL CUMPLIMIENTO DE LAS METAS ESTABLECIDAS EN LOS PLANES DE TRABAJO SUSCRITOS PARA TODOS LOS ASUNTOS JURIDICOS DE INSPECCION VIGILANCIA Y CONTROL DE LA ALCALDIA LOCAL DE SUBA. NO HAY 14661.","Inversión",45,{"$f":"IF(ISERROR(VLOOKUP(I68,[1]Eje_Pilar!$C$2:$E$47,2,FALSE)),\" \",VLOOKUP(I68,[1]Eje_Pilar!$C$2:$E$47,2,FALSE))","v":"Gobernanza e influencia local, regional e internacional"},{"$f":"IF(ISERROR(VLOOKUP(I68,[1]Eje_Pilar!$C$2:$E$47,3,FALSE)),\" \",VLOOKUP(I68,[1]Eje_Pilar!$C$2:$E$47,3,FALSE))","v":"Eje Transversal 4 Gobierno Legitimo, Fortalecimiento Local y Eficiencia"},"3-3-1-15-07-45-1481-000",55063883,"NATALIA  ROJAS GONZALEZ",92000000,null,0,1,4266666,96266666,81600000,"2019-01-24","2019-01-24","2020-01-21",345,21,null,null,null,"X",null,84.764543523300162,{"$f":"IF(SUMPRODUCT((A$14:A68=A68)*(B$14:B68=B68)*(C$14:C68=C68))>1,0,1)","v":1},0,0,0,1,0,"Contratos de prestación de servicios profesionales y de apoyo a la gestión","Contratación directa",{"$f":"IFERROR(VLOOKUP(F68,[1]Tipo!$C$12:$C$27,1,FALSE),\"NO\")","v":"Prestación de servicios profesionales y de apoyo a la gestión, o para la ejecución de trabajos artísticos que sólo puedan encomendarse a determinadas personas naturales;"},"Inversión",45]
[17,2019,"FDLSUBA-CPS-017-2019","Contratos de prestación de servicios profesionales y de apoyo a la gestión","Contratación directa","Prestación de servicios profesionales y de apoyo a la gestión, o para la ejecución de trabajos artísticos que sólo puedan encomendarse a determinadas personas naturales;","¿Prestar servicios profesionales en el Área de Gestión del Desarrollo Local de la Alcaldía Local de Suba en el área de planeación, para lograr el cumplimiento de las metas del plan de desarrollo local de la vigencia¿. NO HAY 14605.","Inversión",45,{"$f":"IF(ISERROR(VLOOKUP(I69,[1]Eje_Pilar!$C$2:$E$47,2,FALSE)),\" \",VLOOKUP(I69,[1]Eje_Pilar!$C$2:$E$47,2,FALSE))","v":"Gobernanza e influencia local, regional e internacional"},{"$f":"IF(ISERROR(VLOOKUP(I69,[1]Eje_Pilar!$C$2:$E$47,3,FALSE)),\" \",VLOOKUP(I69,[1]Eje_Pilar!$C$2:$E$47,3,FALSE))","v":"Eje Transversal 4 Gobierno Legitimo, Fortalecimiento Local y Eficiencia"},"3-3-1-15-07-45-1478-000",52998723,"JENNY LILIANA CAMACHO ANGEL",72450000,null,0,1,3360000,75810000,64260000,"2019-01-24","2019-01-24","2020-01-21",345,21,null,null,null,"X",null,84.764542936288095,{"$f":"IF(SUMPRODUCT((A$14:A69=A69)*(B$14:B69=B69)*(C$14:C69=C69))>1,0,1)","v":1},0,0,0,1,0,"Contratos de prestación de servicios profesionales y de apoyo a la gestión","Contratación directa",{"$f":"IFERROR(VLOOKUP(F69,[1]Tipo!$C$12:$C$27,1,FALSE),\"NO\")","v":"Prestación de servicios profesionales y de apoyo a la gestión, o para la ejecución de trabajos artísticos que sólo puedan encomendarse a determinadas personas naturales;"},"Inversión",45]
[18,2019,"FDLSUBA-CPS-018-2019","Contratos de prestación de servicios profesionales y de apoyo a la gestión","Contratación directa","Prestación de servicios profesionales y de apoyo a la gestión, o para la ejecución de trabajos artísticos que sólo puedan encomendarse a determinadas personas naturales;","¿Prestar servicios profesionales especializados en el despacho para lineamientos jurídicos, financieros, y administrativos para evaluar y orientar temas prioritarios en el área de gestión de desarrollo local de la Alcaldía Local de Suba.¿. NO HAY 14594.","Inversión",45,{"$f":"IF(ISERROR(VLOOKUP(I70,[1]Eje_Pilar!$C$2:$E$47,2,FALSE)),\" \",VLOOKUP(I70,[1]Eje_Pilar!$C$2:$E$47,2,FALSE))","v":"Gobernanza e influencia local, regional e internacional"},{"$f":"IF(ISERROR(VLOOKUP(I70,[1]Eje_Pilar!$C$2:$E$47,3,FALSE)),\" \",VLOOKUP(I70,[1]Eje_Pilar!$C$2:$E$47,3,FALSE))","v":"Eje Transversal 4 Gobierno Legitimo, Fortalecimiento Local y Eficiencia"},"3-3-1-15-07-45-1478-000",40820509,"YINETH ROCIO TOVAR PIMIENTA",92000000,null,0,1,3466667,95466667,80800000,"2019-01-25","2019-01-25","2020-01-21",345,21,null,null,null,"X",null,84.636871212860086,{"$f":"IF(SUMPRODUCT((A$14:A70=A70)*(B$14:B70=B70)*(C$14:C70=C70))>1,0,1)","v":1},0,0,0,1,0,"Contratos de prestación de servicios profesionales y de apoyo a la gestión","Contratación directa",{"$f":"IFERROR(VLOOKUP(F70,[1]Tipo!$C$12:$C$27,1,FALSE),\"NO\")","v":"Prestación de servicios profesionales y de apoyo a la gestión, o para la ejecución de trabajos artísticos que sólo puedan encomendarse a determinadas personas naturales;"},"Inversión",45]
[19,2019,"FDLSUBA-CPS-019-2019","Contratos de prestación de servicios profesionales y de apoyo a la gestión","Contratación directa","Prestación de servicios profesionales y de apoyo a la gestión, o para la ejecución de trabajos artísticos que sólo puedan encomendarse a determinadas personas naturales;","¿Prestar Servicios Profesionales en Área de Gestión del Desarrollo de la Alcaldía Local de suba, para la respuesta efectiva y oportuna a los requerimientos presentados, revisión de las actuaciones, liderar de relaciones en sus distintos niveles y demás asuntos de competencia de la Alcaldía\". NO HAY 14599.","Inversión",45,{"$f":"IF(ISERROR(VLOOKUP(I71,[1]Eje_Pilar!$C$2:$E$47,2,FALSE)),\" \",VLOOKUP(I71,[1]Eje_Pilar!$C$2:$E$47,2,FALSE))","v":"Gobernanza e influencia local, regional e internacional"},{"$f":"IF(ISERROR(VLOOKUP(I71,[1]Eje_Pilar!$C$2:$E$47,3,FALSE)),\" \",VLOOKUP(I71,[1]Eje_Pilar!$C$2:$E$47,3,FALSE))","v":"Eje Transversal 4 Gobierno Legitimo, Fortalecimiento Local y Eficiencia"},"3-3-1-15-07-45-1478-000",53140639,"SANDRA MILENA MONTOYA AMARILES",72450000,null,0,1,2310000,74760000,60900000,"2019-01-25","2019-01-25","2020-01-21",345,21,null,null,null,"X",null,81.460674157303373,{"$f":"IF(SUMPRODUCT((A$14:A71=A71)*(B$14:B71=B71)*(C$14:C71=C71))>1,0,1)","v":1},0,0,0,1,0,"Contratos de prestación de servicios profesionales y de apoyo a la gestión","Contratación directa",{"$f":"IFERROR(VLOOKUP(F71,[1]Tipo!$C$12:$C$27,1,FALSE),\"NO\")","v":"Prestación de servicios profesionales y de apoyo a la gestión, o para la ejecución de trabajos artísticos que sólo puedan encomendarse a determinadas personas naturales;"},"Inversión",45]
[20,2019,"FDLSUBA-CPS-020-2019","Contratos de prestación de servicios profesionales y de apoyo a la gestión","Contratación directa","Prestación de servicios profesionales y de apoyo a la gestión, o para la ejecución de trabajos artísticos que sólo puedan encomendarse a determinadas personas naturales;","PRESTAR LOS SERVICIOS PROFESIONALES JURIDICOS ESPECIALIZADOS A LA ALCALDIA LOCAL DE SUBA, PRINCIPALMENTE LIDERANDO LAS ACCIONES PEDAGOGICAS PREVENTIVAS Y DE SENSIBILIZACION PARA EL ACATAMIENTO VOLUNTARIO DE LA NORMATIVA EN MATERIA DEL REGIMEN URBANISTICO, LEGAL FUNCIONAMIENTO DE LOS ESTABLECIMIENTOS COMERCIALES, USO DEL ESPACIO PUBLICO Y MEDIO AMBIENTE EN LA ALCALDIA LOCAL DE SUBA. NO HAY 14802.","Inversión",45,{"$f":"IF(ISERROR(VLOOKUP(I72,[1]Eje_Pilar!$C$2:$E$47,2,FALSE)),\" \",VLOOKUP(I72,[1]Eje_Pilar!$C$2:$E$47,2,FALSE))","v":"Gobernanza e influencia local, regional e internacional"},{"$f":"IF(ISERROR(VLOOKUP(I72,[1]Eje_Pilar!$C$2:$E$47,3,FALSE)),\" \",VLOOKUP(I72,[1]Eje_Pilar!$C$2:$E$47,3,FALSE))","v":"Eje Transversal 4 Gobierno Legitimo, Fortalecimiento Local y Eficiencia"},"3-3-1-15-07-45-1481-000",19097825,"JOSE VICENTE BERARDINELLI SOLANO",83950000,null,0,1,3163333,87113333,73730000,"2019-01-28","2019-01-28","2020-01-21",345,21,null,null,null,"X",null,84.636871832237205,{"$f":"IF(SUMPRODUCT((A$14:A72=A72)*(B$14:B72=B72)*(C$14:C72=C72))>1,0,1)","v":1},0,0,0,1,0,"Contratos de prestación de servicios profesionales y de apoyo a la gestión","Contratación directa",{"$f":"IFERROR(VLOOKUP(F72,[1]Tipo!$C$12:$C$27,1,FALSE),\"NO\")","v":"Prestación de servicios profesionales y de apoyo a la gestión, o para la ejecución de trabajos artísticos que sólo puedan encomendarse a determinadas personas naturales;"},"Inversión",45]
[21,2019,"FDLSUBA-CPS-021-2019","Contratos de prestación de servicios profesionales y de apoyo a la gestión","Contratación directa","Prestación de servicios profesionales y de apoyo a la gestión, o para la ejecución de trabajos artísticos que sólo puedan encomendarse a determinadas personas naturales;","PRESTAR LOS SERVICIOS PROFESIONALES COMO ABOGADO EN LA ALCALDIA LOCAL DE SUBA, ESPECIALMENTE REALIZANDO EL TRAMITE Y SEGUIMIENTO A TUTELAS, ACCIONES POPULARES, INCIDENTE DE DESACATO, PROPOSICIONES Y DEMAS ASUNTOS JURIDICOS DE LA ALCALDIA LOCAL DE SUBA NOHAY 14607.","Inversión",45,{"$f":"IF(ISERROR(VLOOKUP(I73,[1]Eje_Pilar!$C$2:$E$47,2,FALSE)),\" \",VLOOKUP(I73,[1]Eje_Pilar!$C$2:$E$47,2,FALSE))","v":"Gobernanza e influencia local, regional e internacional"},{"$f":"IF(ISERROR(VLOOKUP(I73,[1]Eje_Pilar!$C$2:$E$47,3,FALSE)),\" \",VLOOKUP(I73,[1]Eje_Pilar!$C$2:$E$47,3,FALSE))","v":"Eje Transversal 4 Gobierno Legitimo, Fortalecimiento Local y Eficiencia"},"3-3-1-15-07-45-1481-000",80136968,"JUAN CARLOS BETANCOURT CARVAJAL",52900000,null,0,1,1840000,54740000,46306667,"2019-01-28","2019-01-28","2020-01-21",345,21,null,null,null,"X",null,84.593838143953235,{"$f":"IF(SUMPRODUCT((A$14:A73=A73)*(B$14:B73=B73)*(C$14:C73=C73))>1,0,1)","v":1},0,0,0,1,0,"Contratos de prestación de servicios profesionales y de apoyo a la gestión","Contratación directa",{"$f":"IFERROR(VLOOKUP(F73,[1]Tipo!$C$12:$C$27,1,FALSE),\"NO\")","v":"Prestación de servicios profesionales y de apoyo a la gestión, o para la ejecución de trabajos artísticos que sólo puedan encomendarse a determinadas personas naturales;"},"Inversión",45]
[22,2019,"FDLSUBA-CPS-022-2019","Contratos de prestación de servicios profesionales y de apoyo a la gestión","Contratación directa","Prestación de servicios profesionales y de apoyo a la gestión, o para la ejecución de trabajos artísticos que sólo puedan encomendarse a determinadas personas naturales;","PRESTAR LOS SERVICIOS DE APOYO AL AREA DE GESTION DEL DESARROLLO LOCAL POR SUS PROPIOS MEDIOS PARA LA DISTRIBUCION DE LA CORRESPONDENCIA EXTERNA QUE TIENE ORIGEN EN LAS DIFERENTES DEPENDENCIAS DE LA ALCALDIA LOCAL. NO HAY 14598.","Inversión",45,{"$f":"IF(ISERROR(VLOOKUP(I74,[1]Eje_Pilar!$C$2:$E$47,2,FALSE)),\" \",VLOOKUP(I74,[1]Eje_Pilar!$C$2:$E$47,2,FALSE))","v":"Gobernanza e influencia local, regional e internacional"},{"$f":"IF(ISERROR(VLOOKUP(I74,[1]Eje_Pilar!$C$2:$E$47,3,FALSE)),\" \",VLOOKUP(I74,[1]Eje_Pilar!$C$2:$E$47,3,FALSE))","v":"Eje Transversal 4 Gobierno Legitimo, Fortalecimiento Local y Eficiencia"},"3-3-1-15-07-45-1478-000",1030567733,"CRISTIAN DIOKR CALDERON GARCES",25116000,null,0,1,946400,26062400,22058400,"2019-01-25","2019-01-25","2020-01-21",345,21,null,null,null,"X",null,84.636871508379883,{"$f":"IF(SUMPRODUCT((A$14:A74=A74)*(B$14:B74=B74)*(C$14:C74=C74))>1,0,1)","v":1},0,0,0,1,0,"Contratos de prestación de servicios profesionales y de apoyo a la gestión","Contratación directa",{"$f":"IFERROR(VLOOKUP(F74,[1]Tipo!$C$12:$C$27,1,FALSE),\"NO\")","v":"Prestación de servicios profesionales y de apoyo a la gestión, o para la ejecución de trabajos artísticos que sólo puedan encomendarse a determinadas personas naturales;"},"Inversión",45]
[23,2019,"FDLSUBA-CPS-023-2019","Contratos de prestación de servicios profesionales y de apoyo a la gestión","Contratación directa","Prestación de servicios profesionales y de apoyo a la gestión, o para la ejecución de trabajos artísticos que sólo puedan encomendarse a determinadas personas naturales;","PRESTAR LOS SERVICIOS DE APOYO AL AREA DE GESTION DEL DESARROLLO LOCAL POR SUS PROPIOS MEDIOS PARA LA DISTRIBUCION DE LA CORRESPONDENCIA EXTERNA QUE TIENE ORIGEN EN LAS DIFERENTES DEPENDENCIAS DE LA ALCALDIA LOCAL. NO HAY 14598.","Inversión",45,{"$f":"IF(ISERROR(VLOOKUP(I75,[1]Eje_Pilar!$C$2:$E$47,2,FALSE)),\" \",VLOOKUP(I75,[1]Eje_Pilar!$C$2:$E$47,2,FALSE))","v":"Gobernanza e influencia local, regional e internacional"},{"$f":"IF(ISERROR(VLOOKUP(I75,[1]Eje_Pilar!$C$2:$E$47,3,FALSE)),\" \",VLOOKUP(I75,[1]Eje_Pilar!$C$2:$E$47,3,FALSE))","v":"Eje Transversal 4 Gobierno Legitimo, Fortalecimiento Local y Eficiencia"},"3-3-1-15-07-45-1478-000",59888227,"WILLIAM OSWALDO RODRIGUEZ MORENO",25116000,null,0,1,946400,26062400,22058400,"2019-01-28","2019-01-28","2020-01-21",345,21,null,null,null,"X",null,84.636871508379883,{"$f":"IF(SUMPRODUCT((A$14:A75=A75)*(B$14:B75=B75)*(C$14:C75=C75))>1,0,1)","v":1},0,0,0,1,0,"Contratos de prestación de servicios profesionales y de apoyo a la gestión","Contratación directa",{"$f":"IFERROR(VLOOKUP(F75,[1]Tipo!$C$12:$C$27,1,FALSE),\"NO\")","v":"Prestación de servicios profesionales y de apoyo a la gestión, o para la ejecución de trabajos artísticos que sólo puedan encomendarse a determinadas personas naturales;"},"Inversión",45]
[24,2019,"FDLSUBA-CPS-024-2019","Contratos de prestación de servicios profesionales y de apoyo a la gestión","Contratación directa","Prestación de servicios profesionales y de apoyo a la gestión, o para la ejecución de trabajos artísticos que sólo puedan encomendarse a determinadas personas naturales;","PRESTAR LOS SERVICIOS DE APOYO AL AREA DE GESTION DEL DESARROLLO LOCAL POR SUS PROPIOS MEDIOS PARA LA DISTRIBUCION DE LA CORRESPONDENCIA EXTERNA QUE TIENE ORIGEN EN LAS DIFERENTES DEPENDENCIAS DE LA ALCALDIA LOCAL. NO HAY 14598.","Inversión",45,{"$f":"IF(ISERROR(VLOOKUP(I76,[1]Eje_Pilar!$C$2:$E$47,2,FALSE)),\" \",VLOOKUP(I76,[1]Eje_Pilar!$C$2:$E$47,2,FALSE))","v":"Gobernanza e influencia local, regional e internacional"},{"$f":"IF(ISERROR(VLOOKUP(I76,[1]Eje_Pilar!$C$2:$E$47,3,FALSE)),\" \",VLOOKUP(I76,[1]Eje_Pilar!$C$2:$E$47,3,FALSE))","v":"Eje Transversal 4 Gobierno Legitimo, Fortalecimiento Local y Eficiencia"},"3-3-1-15-07-45-1478-000",79915114,"JUAN CARLOS CASTILLO LOPEZ",25116000,null,0,1,946400,26062400,22058400,"2019-01-25","2019-01-25","2020-01-21",345,21,null,null,null,"X",null,84.636871508379883,{"$f":"IF(SUMPRODUCT((A$14:A76=A76)*(B$14:B76=B76)*(C$14:C76=C76))>1,0,1)","v":1},0,0,0,1,0,"Contratos de prestación de servicios profesionales y de apoyo a la gestión","Contratación directa",{"$f":"IFERROR(VLOOKUP(F76,[1]Tipo!$C$12:$C$27,1,FALSE),\"NO\")","v":"Prestación de servicios profesionales y de apoyo a la gestión, o para la ejecución de trabajos artísticos que sólo puedan encomendarse a determinadas personas naturales;"},"Inversión",45]
[25,2019,"FDLSUBA-CPS-025-2019","Contratos de prestación de servicios profesionales y de apoyo a la gestión","Contratación directa","Prestación de servicios profesionales y de apoyo a la gestión, o para la ejecución de trabajos artísticos que sólo puedan encomendarse a determinadas personas naturales;","¿Apoyar jurídicamente a la Alcaldía Local de Suba, principalmente en el proceso de liderar el cobro persuasivo y remisión de cobro coactivo que competa al Alcalde Local, así como las gestiones jurídicas para mantener actualizada la información correspondiente a multas¿. NO HAY 14592.","Inversión",45,{"$f":"IF(ISERROR(VLOOKUP(I77,[1]Eje_Pilar!$C$2:$E$47,2,FALSE)),\" \",VLOOKUP(I77,[1]Eje_Pilar!$C$2:$E$47,2,FALSE))","v":"Gobernanza e influencia local, regional e internacional"},{"$f":"IF(ISERROR(VLOOKUP(I77,[1]Eje_Pilar!$C$2:$E$47,3,FALSE)),\" \",VLOOKUP(I77,[1]Eje_Pilar!$C$2:$E$47,3,FALSE))","v":"Eje Transversal 4 Gobierno Legitimo, Fortalecimiento Local y Eficiencia"},"3-3-1-15-07-45-1481-000",79262899,"NORBERTO  RUBIANO MARTINEZ",72450000,null,0,1,2520000,74970000,63420000,"2019-01-28","2019-01-28","2020-01-21",345,21,null,null,null,"X",null,84.593837535014003,{"$f":"IF(SUMPRODUCT((A$14:A77=A77)*(B$14:B77=B77)*(C$14:C77=C77))>1,0,1)","v":1},0,0,0,1,0,"Contratos de prestación de servicios profesionales y de apoyo a la gestión","Contratación directa",{"$f":"IFERROR(VLOOKUP(F77,[1]Tipo!$C$12:$C$27,1,FALSE),\"NO\")","v":"Prestación de servicios profesionales y de apoyo a la gestión, o para la ejecución de trabajos artísticos que sólo puedan encomendarse a determinadas personas naturales;"},"Inversión",45]
[26,2019,"FDLSUBA-CPS-026-2019","Contratos de prestación de servicios profesionales y de apoyo a la gestión","Contratación directa","Prestación de servicios profesionales y de apoyo a la gestión, o para la ejecución de trabajos artísticos que sólo puedan encomendarse a determinadas personas naturales;","PRESTAR SERVICIOS PROFESIONALES ESPECIALIZADOS PARA BRINDAR LINEAMIENTOS JURIDICOS, EVALUAR Y ORIENTAR TEMAS PRIORITARIOS EN EL AREA DE DESARROLLO LOCAL DE LA ALCALDIA LOCAL DE SUBA, PARA EL CUMPLIMIENTO DE LAS REGULACIONES EN MATERIA DE DERECHO ADMINISTRATIVO APLICABLES EN EL DISTRITO CAPITAL. NO HAY 15119.","Inversión",45,{"$f":"IF(ISERROR(VLOOKUP(I78,[1]Eje_Pilar!$C$2:$E$47,2,FALSE)),\" \",VLOOKUP(I78,[1]Eje_Pilar!$C$2:$E$47,2,FALSE))","v":"Gobernanza e influencia local, regional e internacional"},{"$f":"IF(ISERROR(VLOOKUP(I78,[1]Eje_Pilar!$C$2:$E$47,3,FALSE)),\" \",VLOOKUP(I78,[1]Eje_Pilar!$C$2:$E$47,3,FALSE))","v":"Eje Transversal 4 Gobierno Legitimo, Fortalecimiento Local y Eficiencia"},"3-3-1-15-07-45-1478-000",48600807,"JANETTE ALEXANDRA LUNA VELA",92000000,null,0,1,3200000,95200000,80533333,"2019-01-28","2019-01-28","2020-01-21",345,21,null,null,null,"X",null,84.593837184873948,{"$f":"IF(SUMPRODUCT((A$14:A78=A78)*(B$14:B78=B78)*(C$14:C78=C78))>1,0,1)","v":1},0,0,0,1,0,"Contratos de prestación de servicios profesionales y de apoyo a la gestión","Contratación directa",{"$f":"IFERROR(VLOOKUP(F78,[1]Tipo!$C$12:$C$27,1,FALSE),\"NO\")","v":"Prestación de servicios profesionales y de apoyo a la gestión, o para la ejecución de trabajos artísticos que sólo puedan encomendarse a determinadas personas naturales;"},"Inversión",45]
[27,2019,"FDLSUBA-CPS-027-2019","Contratos de prestación de servicios profesionales y de apoyo a la gestión","Contratación directa","Prestación de servicios profesionales y de apoyo a la gestión, o para la ejecución de trabajos artísticos que sólo puedan encomendarse a determinadas personas naturales;","PRESTAR EL SERVICIO COMO CONDUCTOR DE LOS VEHICULOS LIVIANOS QUE INTEGRAN EL PARQUE AUTOMOTOR DE LA ALCALDIA LOCAL DE SUBA. NO HAY 14853.","Inversión",45,{"$f":"IF(ISERROR(VLOOKUP(I79,[1]Eje_Pilar!$C$2:$E$47,2,FALSE)),\" \",VLOOKUP(I79,[1]Eje_Pilar!$C$2:$E$47,2,FALSE))","v":"Gobernanza e influencia local, regional e internacional"},{"$f":"IF(ISERROR(VLOOKUP(I79,[1]Eje_Pilar!$C$2:$E$47,3,FALSE)),\" \",VLOOKUP(I79,[1]Eje_Pilar!$C$2:$E$47,3,FALSE))","v":"Eje Transversal 4 Gobierno Legitimo, Fortalecimiento Local y Eficiencia"},"3-3-1-15-07-45-1478-000",9398950,"WILSON ALEXANDER RINCON NIVIA",25116000,null,0,1,873600,25989600,21985600,"2019-01-28","2019-01-28","2020-01-21",345,21,null,null,null,"X",null,{"$f":"(IF(ISERROR(U79/T79),\"-\",(U79/T79)))*100","v":84.593837535014003},{"$f":"IF(SUMPRODUCT((A$14:A79=A79)*(B$14:B79=B79)*(C$14:C79=C79))>1,0,1)","v":1},{"$f":"IF(AND(AA79=\"X\",AG79=1 ),1,0)","v":0},{"$f":"IF(AND(AB79=\"X\",AG79=1 ),1,0)","v":0},{"$f":"IF(AND(AC79=\"X\",AG79=1 ),1,0)","v":0},{"$f":"IF(AND(AD79=\"X\",AG79=1 ),1,0)","v":1},{"$f":"IF(AND(AE79=\"X\",AG79=1 ),1,0)","v":0},"Contratos de prestación de servicios profesionales y de apoyo a la gestión","Contratación directa",{"$f":"IFERROR(VLOOKUP(F79,[1]Tipo!$C$12:$C$27,1,FALSE),\"NO\")","v":"Prestación de servicios profesionales y de apoyo a la gestión, o para la ejecución de trabajos artísticos que sólo puedan encomendarse a determinadas personas naturales;"},"Inversión",45]
[28,2019,"FDLSUBA-CPS-028-2019","Contratos de prestación de servicios profesionales y de apoyo a la gestión","Contratación directa","Prestación de servicios profesionales y de apoyo a la gestión, o para la ejecución de trabajos artísticos que sólo puedan encomendarse a determinadas personas naturales;","PRESTAR EL SERVICIO COMO CONDUCTOR DE LOS VEHICULOS LIVIANOS QUE INTEGRAN EL PARQUE AUTOMOTOR DE LA ALCALDIA LOCAL DE SUBA. NO HAY 14853.","Inversión",45,{"$f":"IF(ISERROR(VLOOKUP(I80,[1]Eje_Pilar!$C$2:$E$47,2,FALSE)),\" \",VLOOKUP(I80,[1]Eje_Pilar!$C$2:$E$47,2,FALSE))","v":"Gobernanza e influencia local, regional e internacional"},{"$f":"IF(ISERROR(VLOOKUP(I80,[1]Eje_Pilar!$C$2:$E$47,3,FALSE)),\" \",VLOOKUP(I80,[1]Eje_Pilar!$C$2:$E$47,3,FALSE))","v":"Eje Transversal 4 Gobierno Legitimo, Fortalecimiento Local y Eficiencia"},"3-3-1-15-07-45-1478-000",19301839,"ISIDRO  TELLEZ BECERRA",25116000,null,0,1,873600,25989600,21985600,"2019-01-28","2019-01-28","2020-01-21",345,21,null,null,null,"X",null,84.593837535014003,{"$f":"IF(SUMPRODUCT((A$14:A80=A80)*(B$14:B80=B80)*(C$14:C80=C80))>1,0,1)","v":1},0,0,0,1,0,"Contratos de prestación de servicios profesionales y de apoyo a la gestión","Contratación directa",{"$f":"IFERROR(VLOOKUP(F80,[1]Tipo!$C$12:$C$27,1,FALSE),\"NO\")","v":"Prestación de servicios profesionales y de apoyo a la gestión, o para la ejecución de trabajos artísticos que sólo puedan encomendarse a determinadas personas naturales;"},"Inversión",45]
[29,2019,"FDLSUBA-CPS-029-2019","Contratos de prestación de servicios profesionales y de apoyo a la gestión","Contratación directa","Prestación de servicios profesionales y de apoyo a la gestión, o para la ejecución de trabajos artísticos que sólo puedan encomendarse a determinadas personas naturales;","PRESTAR SERVICIOS PROFESIONALES ESPECIALIZADOS PARA BRINDAR LINEAMIENTOS JURIDICOS, EVALUAR Y ORIENTAR TEMAS PRIORITARIOS EN EL AREA DE DESARROLLO LOCAL DE LA ALCALDIA LOCAL DE SUBA, PARA EL CUMPLIMIENTO DE LAS REGULACIONES EN MATERIA DE DERECHO ADMINISTRATIVO APLICABLES EN EL DISTRITO CAPITAL. NO HAY 15119.","Inversión",45,{"$f":"IF(ISERROR(VLOOKUP(I81,[1]Eje_Pilar!$C$2:$E$47,2,FALSE)),\" \",VLOOKUP(I81,[1]Eje_Pilar!$C$2:$E$47,2,FALSE))","v":"Gobernanza e influencia local, regional e internacional"},{"$f":"IF(ISERROR(VLOOKUP(I81,[1]Eje_Pilar!$C$2:$E$47,3,FALSE)),\" \",VLOOKUP(I81,[1]Eje_Pilar!$C$2:$E$47,3,FALSE))","v":"Eje Transversal 4 Gobierno Legitimo, Fortalecimiento Local y Eficiencia"},"3-3-1-15-07-45-1478-000",52084411,"DUNIA SOAD DE LA VEGA JALILIE",92000000,null,0,1,3200000,95200000,80533333,"2019-01-28","2019-01-28","2020-01-21",345,21,null,null,null,"X",null,84.593837184873948,{"$f":"IF(SUMPRODUCT((A$14:A81=A81)*(B$14:B81=B81)*(C$14:C81=C81))>1,0,1)","v":1},0,0,0,1,0,"Contratos de prestación de servicios profesionales y de apoyo a la gestión","Contratación directa",{"$f":"IFERROR(VLOOKUP(F81,[1]Tipo!$C$12:$C$27,1,FALSE),\"NO\")","v":"Prestación de servicios profesionales y de apoyo a la gestión, o para la ejecución de trabajos artísticos que sólo puedan encomendarse a determinadas personas naturales;"},"Inversión",45]
[30,2019,"FDLSUBA-CPS-030-2019","Contratos de prestación de servicios profesionales y de apoyo a la gestión","Contratación directa","Prestación de servicios profesionales y de apoyo a la gestión, o para la ejecución de trabajos artísticos que sólo puedan encomendarse a determinadas personas naturales;","PRESTAR EL SERVICIO COMO CONDUCTOR DE LOS VEHICULOS LIVIANOS QUE INTEGRAN EL PARQUE AUTOMOTOR DE LA ALCALDIA LOCAL DE SUBA. NO HAY 14853.","Inversión",45,{"$f":"IF(ISERROR(VLOOKUP(I82,[1]Eje_Pilar!$C$2:$E$47,2,FALSE)),\" \",VLOOKUP(I82,[1]Eje_Pilar!$C$2:$E$47,2,FALSE))","v":"Gobernanza e influencia local, regional e internacional"},{"$f":"IF(ISERROR(VLOOKUP(I82,[1]Eje_Pilar!$C$2:$E$47,3,FALSE)),\" \",VLOOKUP(I82,[1]Eje_Pilar!$C$2:$E$47,3,FALSE))","v":"Eje Transversal 4 Gobierno Legitimo, Fortalecimiento Local y Eficiencia"},"3-3-1-15-07-45-1478-000",80139311,"RICHARD ARNULFO BUITRAGO",25116000,null,0,1,873600,25989600,21985600,"2019-01-28","2019-01-28","2020-01-21",345,21,null,null,null,"X",null,84.593837535014003,{"$f":"IF(SUMPRODUCT((A$14:A82=A82)*(B$14:B82=B82)*(C$14:C82=C82))>1,0,1)","v":1},0,0,0,1,0,"Contratos de prestación de servicios profesionales y de apoyo a la gestión","Contratación directa",{"$f":"IFERROR(VLOOKUP(F82,[1]Tipo!$C$12:$C$27,1,FALSE),\"NO\")","v":"Prestación de servicios profesionales y de apoyo a la gestión, o para la ejecución de trabajos artísticos que sólo puedan encomendarse a determinadas personas naturales;"},"Inversión",45]
[31,2019,"FDLSUBA-CPS-031-2019","Contratos de prestación de servicios profesionales y de apoyo a la gestión","Contratación directa","Prestación de servicios profesionales y de apoyo a la gestión, o para la ejecución de trabajos artísticos que sólo puedan encomendarse a determinadas personas naturales;","PRESTAR SERVICIOS DE APOYO A LA SUPERVISION EN LAS AREAS OPERATIVAS DE CARACTER ARCHIVISTICO DESARROLLADAS EN LAS DEPENDENCIAS DE LA ALCALDIA LOCAL DE SUBA PARA GARANTIZAR LA APLICACION CORRECTA DE LOS PROCEDIMIENTOS TECNICOS. NO HAY 14779.","Inversión",45,{"$f":"IF(ISERROR(VLOOKUP(I83,[1]Eje_Pilar!$C$2:$E$47,2,FALSE)),\" \",VLOOKUP(I83,[1]Eje_Pilar!$C$2:$E$47,2,FALSE))","v":"Gobernanza e influencia local, regional e internacional"},{"$f":"IF(ISERROR(VLOOKUP(I83,[1]Eje_Pilar!$C$2:$E$47,3,FALSE)),\" \",VLOOKUP(I83,[1]Eje_Pilar!$C$2:$E$47,3,FALSE))","v":"Eje Transversal 4 Gobierno Legitimo, Fortalecimiento Local y Eficiencia"},"3-3-1-15-07-45-1478-000",1032361632,"JENNIFER  TORRES PEREZ",40250000,null,0,1,1166666,41416666,35116667,"2019-01-30","2019-01-30","2020-01-21",345,21,null,null,null,"X",null,84.788734564003775,{"$f":"IF(SUMPRODUCT((A$14:A83=A83)*(B$14:B83=B83)*(C$14:C83=C83))>1,0,1)","v":1},0,0,0,1,0,"Contratos de prestación de servicios profesionales y de apoyo a la gestión","Contratación directa",{"$f":"IFERROR(VLOOKUP(F83,[1]Tipo!$C$12:$C$27,1,FALSE),\"NO\")","v":"Prestación de servicios profesionales y de apoyo a la gestión, o para la ejecución de trabajos artísticos que sólo puedan encomendarse a determinadas personas naturales;"},"Inversión",45]
[32,2019,"FDLSUBA-CPS-032-2019","Contratos de prestación de servicios profesionales y de apoyo a la gestión","Contratación directa","Prestación de servicios profesionales y de apoyo a la gestión, o para la ejecución de trabajos artísticos que sólo puedan encomendarse a determinadas personas naturales;","¿Prestar servicios técnicos en el Área de Gestión Desarrollo Local especialmente para apoyar en la atención de actividades ambientales propias de la Alcaldía Local de Suba para lograr con el cumplimiento de las metas del plan de desarrollo local de la vigencia¿. NO HAY 14585.","Inversión",38,{"$f":"IF(ISERROR(VLOOKUP(I84,[1]Eje_Pilar!$C$2:$E$47,2,FALSE)),\" \",VLOOKUP(I84,[1]Eje_Pilar!$C$2:$E$47,2,FALSE))","v":"Recuperación y manejo de la Estructura Ecológica Principal"},{"$f":"IF(ISERROR(VLOOKUP(I84,[1]Eje_Pilar!$C$2:$E$47,3,FALSE)),\" \",VLOOKUP(I84,[1]Eje_Pilar!$C$2:$E$47,3,FALSE))","v":"Eje Transversal 3 Sostenibilidad Ambiental basada en la eficiencia energética"},"3-3-1-15-06-38-1472-000",52337641,"ROCIO  LOPEZ RAMIREZ",40250000,null,0,null,0,40250000,35116667,"2019-01-30","2019-01-30","2019-12-31",345,null,null,null,null,"X",null,87.246377639751543,{"$f":"IF(SUMPRODUCT((A$14:A84=A84)*(B$14:B84=B84)*(C$14:C84=C84))>1,0,1)","v":1},0,0,0,1,0,"Contratos de prestación de servicios profesionales y de apoyo a la gestión","Contratación directa",{"$f":"IFERROR(VLOOKUP(F84,[1]Tipo!$C$12:$C$27,1,FALSE),\"NO\")","v":"Prestación de servicios profesionales y de apoyo a la gestión, o para la ejecución de trabajos artísticos que sólo puedan encomendarse a determinadas personas naturales;"},"Inversión",38]
[33,2019,"FDLSUBA-CPS-033-2019","Contratos de prestación de servicios profesionales y de apoyo a la gestión","Contratación directa","Prestación de servicios profesionales y de apoyo a la gestión, o para la ejecución de trabajos artísticos que sólo puedan encomendarse a determinadas personas naturales;","PRESTAR SERVICIOS PROFESIONALES ESPECIALIZADOS AL AREA DE GESTION DEL DESARROLLO LOCAL DE LA ALCALDIA LOCAL DE SUBA, PARA APOYAR LA SUPERVISION DE CONTRATOS DE LOS PROYECTOS QUE LE SEAN ASIGNADOS. NO HAY 15041.","Inversión",45,{"$f":"IF(ISERROR(VLOOKUP(I85,[1]Eje_Pilar!$C$2:$E$47,2,FALSE)),\" \",VLOOKUP(I85,[1]Eje_Pilar!$C$2:$E$47,2,FALSE))","v":"Gobernanza e influencia local, regional e internacional"},{"$f":"IF(ISERROR(VLOOKUP(I85,[1]Eje_Pilar!$C$2:$E$47,3,FALSE)),\" \",VLOOKUP(I85,[1]Eje_Pilar!$C$2:$E$47,3,FALSE))","v":"Eje Transversal 4 Gobierno Legitimo, Fortalecimiento Local y Eficiencia"},"3-3-1-15-07-45-1478-000",79148595,"ALBERTO ENRIQUE NUNEZ MOLINARES",83950000,null,0,1,2676666,86626666,73243333,"2019-01-30","2019-01-30","2020-01-21",345,21,null,null,null,"X",null,84.550562063649082,{"$f":"IF(SUMPRODUCT((A$14:A85=A85)*(B$14:B85=B85)*(C$14:C85=C85))>1,0,1)","v":1},0,0,0,1,0,"Contratos de prestación de servicios profesionales y de apoyo a la gestión","Contratación directa",{"$f":"IFERROR(VLOOKUP(F85,[1]Tipo!$C$12:$C$27,1,FALSE),\"NO\")","v":"Prestación de servicios profesionales y de apoyo a la gestión, o para la ejecución de trabajos artísticos que sólo puedan encomendarse a determinadas personas naturales;"},"Inversión",45]
[34,2019,"FDLSUBA-CPS-034-2019","Contratos de prestación de servicios profesionales y de apoyo a la gestión","Contratación directa","Prestación de servicios profesionales y de apoyo a la gestión, o para la ejecución de trabajos artísticos que sólo puedan encomendarse a determinadas personas naturales;","PRESTAR LOS SERVICIOS PROFESIONALES DE APOYO EN LA ALCALDIA LOCAL DE SUBA EN LA GESTION DE LOS ASUNTOS RELACIONADOS CON LA SEGURIDAD CIUDADANA, CONVIVENCIA Y PREVENCION DE CONFLICTOS, VIOLENCIA Y DELITOS EN LA LOCALIDAD DE SUBA. NO HAY 14994.|72450000|0|0|72450000|63420000|9030000","Inversión",19,{"$f":"IF(ISERROR(VLOOKUP(I86,[1]Eje_Pilar!$C$2:$E$47,2,FALSE)),\" \",VLOOKUP(I86,[1]Eje_Pilar!$C$2:$E$47,2,FALSE))","v":"Seguridad y convivencia para todos"},{"$f":"IF(ISERROR(VLOOKUP(I86,[1]Eje_Pilar!$C$2:$E$47,3,FALSE)),\" \",VLOOKUP(I86,[1]Eje_Pilar!$C$2:$E$47,3,FALSE))","v":"Pilar 3 Construcción de Comunidad y Cultura Ciudadana"},"3-3-1-15-03-19-1469-000",10881331,"LUIS CARLOS OTERO ESPITIA",72450000,null,0,1,2520000,74970000,63420000,"2019-01-29","2019-01-29","2020-01-21",345,21,null,null,null,"X",null,84.593837535014003,{"$f":"IF(SUMPRODUCT((A$14:A86=A86)*(B$14:B86=B86)*(C$14:C86=C86))>1,0,1)","v":1},0,0,0,1,0,"Contratos de prestación de servicios profesionales y de apoyo a la gestión","Contratación directa",{"$f":"IFERROR(VLOOKUP(F86,[1]Tipo!$C$12:$C$27,1,FALSE),\"NO\")","v":"Prestación de servicios profesionales y de apoyo a la gestión, o para la ejecución de trabajos artísticos que sólo puedan encomendarse a determinadas personas naturales;"},"Inversión",19]
[35,2019,"FDLSUBA-CPS-035-2019","Contratos de prestación de servicios profesionales y de apoyo a la gestión","Contratación directa","Prestación de servicios profesionales y de apoyo a la gestión, o para la ejecución de trabajos artísticos que sólo puedan encomendarse a determinadas personas naturales;","PRESTAR SERVICIOS PROFESIONALES AL AREA DE GESTION DEL DESARROLLO LOCAL DE LA ALCALDIA LOCAL DE SUBA, PARA APOYAR LA SUPERVISION DE CONTRATOS DE LOS PROYECTOS QUE LE SEAN ASIGNADOS. NO HAY 14591.","Inversión",45,{"$f":"IF(ISERROR(VLOOKUP(I87,[1]Eje_Pilar!$C$2:$E$47,2,FALSE)),\" \",VLOOKUP(I87,[1]Eje_Pilar!$C$2:$E$47,2,FALSE))","v":"Gobernanza e influencia local, regional e internacional"},{"$f":"IF(ISERROR(VLOOKUP(I87,[1]Eje_Pilar!$C$2:$E$47,3,FALSE)),\" \",VLOOKUP(I87,[1]Eje_Pilar!$C$2:$E$47,3,FALSE))","v":"Eje Transversal 4 Gobierno Legitimo, Fortalecimiento Local y Eficiencia"},"3-3-1-15-07-45-1478-000",51582419,"NASLLY ESPERANZA FONSECA GRANADA",72450000,null,0,1,2310000,74760000,63210000,"2019-01-30","2019-01-30","2020-01-21",345,21,null,null,null,"X",null,84.550561797752806,{"$f":"IF(SUMPRODUCT((A$14:A87=A87)*(B$14:B87=B87)*(C$14:C87=C87))>1,0,1)","v":1},0,0,0,1,0,"Contratos de prestación de servicios profesionales y de apoyo a la gestión","Contratación directa",{"$f":"IFERROR(VLOOKUP(F87,[1]Tipo!$C$12:$C$27,1,FALSE),\"NO\")","v":"Prestación de servicios profesionales y de apoyo a la gestión, o para la ejecución de trabajos artísticos que sólo puedan encomendarse a determinadas personas naturales;"},"Inversión",45]
[36,2019,"FDLSUBA-CPS-036-2019","Contratos de prestación de servicios profesionales y de apoyo a la gestión","Contratación directa","Prestación de servicios profesionales y de apoyo a la gestión, o para la ejecución de trabajos artísticos que sólo puedan encomendarse a determinadas personas naturales;","PRESTAR SERVICIOS PROFESIONALES AL AREA DE GESTION DEL DESARROLLO LOCAL DE LA ALCALDIA LOCAL DE SUBA, PARA APOYAR LA SUPERVISION DE CONTRATOS DE LOS PROYECTOS QUE LE SEAN ASIGNADOS. NO HAY 14591.","Inversión",45,{"$f":"IF(ISERROR(VLOOKUP(I88,[1]Eje_Pilar!$C$2:$E$47,2,FALSE)),\" \",VLOOKUP(I88,[1]Eje_Pilar!$C$2:$E$47,2,FALSE))","v":"Gobernanza e influencia local, regional e internacional"},{"$f":"IF(ISERROR(VLOOKUP(I88,[1]Eje_Pilar!$C$2:$E$47,3,FALSE)),\" \",VLOOKUP(I88,[1]Eje_Pilar!$C$2:$E$47,3,FALSE))","v":"Eje Transversal 4 Gobierno Legitimo, Fortalecimiento Local y Eficiencia"},"3-3-1-15-07-45-1478-000",79489803,"NEIL OSWALDO RODRIGUEZ MORALES",72450000,null,0,1,2100000,74550000,63210000,"2019-01-30","2019-01-30","2020-01-21",345,21,null,null,null,"X",null,84.788732394366193,{"$f":"IF(SUMPRODUCT((A$14:A88=A88)*(B$14:B88=B88)*(C$14:C88=C88))>1,0,1)","v":1},0,0,0,1,0,"Contratos de prestación de servicios profesionales y de apoyo a la gestión","Contratación directa",{"$f":"IFERROR(VLOOKUP(F88,[1]Tipo!$C$12:$C$27,1,FALSE),\"NO\")","v":"Prestación de servicios profesionales y de apoyo a la gestión, o para la ejecución de trabajos artísticos que sólo puedan encomendarse a determinadas personas naturales;"},"Inversión",45]
[37,2019,"FDLSUBA-CPS-037-2019","Contratos de prestación de servicios profesionales y de apoyo a la gestión","Contratación directa","Prestación de servicios profesionales y de apoyo a la gestión, o para la ejecución de trabajos artísticos que sólo puedan encomendarse a determinadas personas naturales;","PRESTAR SERVICIOS AL GRUPO DE GESTION ADMINISTRATIVA Y FINANCIERA PARA LIDERAR Y COORDINAR LOS PUNTO VIVE DIGITAL PLUS DE LA LOCALIDAD DE SUBA Y BRINDAR APOYO AL AREA DE PRENSA EN LOS TEMAS RELACIONADOS CON TICS.|72450000|0|0|72450000|63420000|9030000","Inversión",36,{"$f":"IF(ISERROR(VLOOKUP(I89,[1]Eje_Pilar!$C$2:$E$47,2,FALSE)),\" \",VLOOKUP(I89,[1]Eje_Pilar!$C$2:$E$47,2,FALSE))","v":"Bogotá, una ciudad digital"},{"$f":"IF(ISERROR(VLOOKUP(I89,[1]Eje_Pilar!$C$2:$E$47,3,FALSE)),\" \",VLOOKUP(I89,[1]Eje_Pilar!$C$2:$E$47,3,FALSE))","v":"Eje Transversal 2 Desarrollo Económico basado en el conocimiento"},"3-3-1-15-05-36-1504-000",1098648859,"DIANA PATRICIA ARENAS BLANCO",72450000,null,0,1,2520000,74970000,63420000,"2019-01-29","2019-01-29","2020-01-21",345,21,null,null,null,"X",null,84.593837535014003,{"$f":"IF(SUMPRODUCT((A$14:A89=A89)*(B$14:B89=B89)*(C$14:C89=C89))>1,0,1)","v":1},0,0,0,1,0,"Contratos de prestación de servicios profesionales y de apoyo a la gestión","Contratación directa",{"$f":"IFERROR(VLOOKUP(F89,[1]Tipo!$C$12:$C$27,1,FALSE),\"NO\")","v":"Prestación de servicios profesionales y de apoyo a la gestión, o para la ejecución de trabajos artísticos que sólo puedan encomendarse a determinadas personas naturales;"},"Inversión",36]
[38,2019,"FDLSUBA-CPS-038-2019","Contratos de prestación de servicios profesionales y de apoyo a la gestión","Contratación directa","Prestación de servicios profesionales y de apoyo a la gestión, o para la ejecución de trabajos artísticos que sólo puedan encomendarse a determinadas personas naturales;","PRESTAR SERVICIOS PROFESIONALES ESPECIALIZADOS EN EL AREA DE GESTION DEL DESARROLLO LOCAL DE LA ALCALDIA LOCAL DE SUBA, PARA EL APOYO A LA EJECUCION INTEGRAL DE LOS DIFERENTES PROYECTOS DE INVERSION DESTINADOS A LA INTERVENCION DE LA MALLA VIAL, ESPACIO PUBLICO Y PARQUES DE LA LOCALIDAD DE SUBA. NO HAY 14781.","Inversión",18,{"$f":"IF(ISERROR(VLOOKUP(I90,[1]Eje_Pilar!$C$2:$E$47,2,FALSE)),\" \",VLOOKUP(I90,[1]Eje_Pilar!$C$2:$E$47,2,FALSE))","v":"Mejor movilidad para todos"},{"$f":"IF(ISERROR(VLOOKUP(I90,[1]Eje_Pilar!$C$2:$E$47,3,FALSE)),\" \",VLOOKUP(I90,[1]Eje_Pilar!$C$2:$E$47,3,FALSE))","v":"Pilar 2 Democracía Urbana"},"3-3-1-15-02-18-1506-000",79724176,"EXMELIN HAMID LEMUS FRANCO",83950000,null,0,1,2433333,86383333,73243333,"2019-01-31","2019-01-31","2020-01-21",345,21,null,null,null,"X",null,84.788732335669422,{"$f":"IF(SUMPRODUCT((A$14:A90=A90)*(B$14:B90=B90)*(C$14:C90=C90))>1,0,1)","v":1},0,0,0,1,0,"Contratos de prestación de servicios profesionales y de apoyo a la gestión","Contratación directa",{"$f":"IFERROR(VLOOKUP(F90,[1]Tipo!$C$12:$C$27,1,FALSE),\"NO\")","v":"Prestación de servicios profesionales y de apoyo a la gestión, o para la ejecución de trabajos artísticos que sólo puedan encomendarse a determinadas personas naturales;"},"Inversión",18]
[39,2019,"FDLSUBA-CPS-039-2019","Contratos de prestación de servicios profesionales y de apoyo a la gestión","Contratación directa","Prestación de servicios profesionales y de apoyo a la gestión, o para la ejecución de trabajos artísticos que sólo puedan encomendarse a determinadas personas naturales;","PRESTAR LOS SERVICOS PROFESIONALES EN EL AREA GESTION DEL DESARROLLO, PARA EL APOYO A LA EJECUCION INTEGRAL DE LOS DIFERENTES PROYECTOS DE INVERSION DESTINADOS A LA INTERVENCION DE LA MALLA VIAL, ESPACIO PUBLICO Y PARQUES DE LA LOCALIDAD DE SUBA. NO HAY 14780.","Inversión",18,{"$f":"IF(ISERROR(VLOOKUP(I91,[1]Eje_Pilar!$C$2:$E$47,2,FALSE)),\" \",VLOOKUP(I91,[1]Eje_Pilar!$C$2:$E$47,2,FALSE))","v":"Mejor movilidad para todos"},{"$f":"IF(ISERROR(VLOOKUP(I91,[1]Eje_Pilar!$C$2:$E$47,3,FALSE)),\" \",VLOOKUP(I91,[1]Eje_Pilar!$C$2:$E$47,3,FALSE))","v":"Pilar 2 Democracía Urbana"},"3-3-1-15-02-18-1506-000",1032456151,"OSCAR JAVIER OVALLE RIVERA",72450000,null,0,1,2100000,74550000,63210000,"2019-01-30","2019-01-30","2020-01-21",345,21,null,null,null,"X",null,84.788732394366193,{"$f":"IF(SUMPRODUCT((A$14:A91=A91)*(B$14:B91=B91)*(C$14:C91=C91))>1,0,1)","v":1},0,0,0,1,0,"Contratos de prestación de servicios profesionales y de apoyo a la gestión","Contratación directa",{"$f":"IFERROR(VLOOKUP(F91,[1]Tipo!$C$12:$C$27,1,FALSE),\"NO\")","v":"Prestación de servicios profesionales y de apoyo a la gestión, o para la ejecución de trabajos artísticos que sólo puedan encomendarse a determinadas personas naturales;"},"Inversión",18]
[40,2019,"FDLSUBA-CPS-040-2019","Contratos de prestación de servicios profesionales y de apoyo a la gestión","Contratación directa","Prestación de servicios profesionales y de apoyo a la gestión, o para la ejecución de trabajos artísticos que sólo puedan encomendarse a determinadas personas naturales;","PRESTAR LOS SERVICOS PROFESIONALES EN EL AREA GESTION DEL DESARROLLO, PARA EL APOYO A LA EJECUCION INTEGRAL DE LOS DIFERENTES PROYECTOS DE INVERSION DESTINADOS A LA INTERVENCION DE LA MALLA VIAL, ESPACIO PUBLICO Y PARQUES DE LA LOCALIDAD DE SUBA. NO HAY 14780.","Inversión",18,{"$f":"IF(ISERROR(VLOOKUP(I92,[1]Eje_Pilar!$C$2:$E$47,2,FALSE)),\" \",VLOOKUP(I92,[1]Eje_Pilar!$C$2:$E$47,2,FALSE))","v":"Mejor movilidad para todos"},{"$f":"IF(ISERROR(VLOOKUP(I92,[1]Eje_Pilar!$C$2:$E$47,3,FALSE)),\" \",VLOOKUP(I92,[1]Eje_Pilar!$C$2:$E$47,3,FALSE))","v":"Pilar 2 Democracía Urbana"},"3-3-1-15-02-18-1506-000",7121658,"YEISSON YAZETH BARAJAS GONZALEZ",72450000,null,0,1,2310000,74760000,63210000,"2019-01-30","2019-01-30","2020-01-21",345,21,null,null,null,"X",null,84.550561797752806,{"$f":"IF(SUMPRODUCT((A$14:A92=A92)*(B$14:B92=B92)*(C$14:C92=C92))>1,0,1)","v":1},0,0,0,1,0,"Contratos de prestación de servicios profesionales y de apoyo a la gestión","Contratación directa",{"$f":"IFERROR(VLOOKUP(F92,[1]Tipo!$C$12:$C$27,1,FALSE),\"NO\")","v":"Prestación de servicios profesionales y de apoyo a la gestión, o para la ejecución de trabajos artísticos que sólo puedan encomendarse a determinadas personas naturales;"},"Inversión",18]
[41,2019,"FDLSUBA-CPS-041-2019","Contratos de prestación de servicios profesionales y de apoyo a la gestión","Contratación directa","Prestación de servicios profesionales y de apoyo a la gestión, o para la ejecución de trabajos artísticos que sólo puedan encomendarse a determinadas personas naturales;","PRESTAR LOS SERVICIOS PROFESIONALES PARA EL APOYO EN EL TRAMITE DE DESPACHOS COMISORIOS DE LA ALCALDIA LOCAL DE SUBA. NO HAY 14590.","Inversión",45,{"$f":"IF(ISERROR(VLOOKUP(I93,[1]Eje_Pilar!$C$2:$E$47,2,FALSE)),\" \",VLOOKUP(I93,[1]Eje_Pilar!$C$2:$E$47,2,FALSE))","v":"Gobernanza e influencia local, regional e internacional"},{"$f":"IF(ISERROR(VLOOKUP(I93,[1]Eje_Pilar!$C$2:$E$47,3,FALSE)),\" \",VLOOKUP(I93,[1]Eje_Pilar!$C$2:$E$47,3,FALSE))","v":"Eje Transversal 4 Gobierno Legitimo, Fortalecimiento Local y Eficiencia"},"3-3-1-15-07-45-1478-000",51979241,"ELIZABETH  ANGEL",52900000,null,0,null,0,52900000,46153333,"2019-01-30","2019-01-30","2019-12-31",345,null,null,null,null,"X",null,87.246376181474488,{"$f":"IF(SUMPRODUCT((A$14:A93=A93)*(B$14:B93=B93)*(C$14:C93=C93))>1,0,1)","v":1},0,0,0,1,0,"Contratos de prestación de servicios profesionales y de apoyo a la gestión","Contratación directa",{"$f":"IFERROR(VLOOKUP(F93,[1]Tipo!$C$12:$C$27,1,FALSE),\"NO\")","v":"Prestación de servicios profesionales y de apoyo a la gestión, o para la ejecución de trabajos artísticos que sólo puedan encomendarse a determinadas personas naturales;"},"Inversión",45]
[42,2019,"FDLSUBA-CPS-042-2019","Contratos de prestación de servicios profesionales y de apoyo a la gestión","Contratación directa","Prestación de servicios profesionales y de apoyo a la gestión, o para la ejecución de trabajos artísticos que sólo puedan encomendarse a determinadas personas naturales;","PRESTAR LOS SERVICIOS PROFESIONALES PARA EL APOYO EN EL TRAMITE DE DESPACHOS COMISORIOS DE LA ALCALDIA LOCAL DE SUBA. NO HAY 14590.","Inversión",45,{"$f":"IF(ISERROR(VLOOKUP(I94,[1]Eje_Pilar!$C$2:$E$47,2,FALSE)),\" \",VLOOKUP(I94,[1]Eje_Pilar!$C$2:$E$47,2,FALSE))","v":"Gobernanza e influencia local, regional e internacional"},{"$f":"IF(ISERROR(VLOOKUP(I94,[1]Eje_Pilar!$C$2:$E$47,3,FALSE)),\" \",VLOOKUP(I94,[1]Eje_Pilar!$C$2:$E$47,3,FALSE))","v":"Eje Transversal 4 Gobierno Legitimo, Fortalecimiento Local y Eficiencia"},"3-3-1-15-07-45-1478-000",52517812,"ADRIANA  MONTEALEGRE RIAÑO",52900000,null,0,1,1533333,54433333,46153333,"2019-01-31","2019-01-31","2020-01-21",345,21,null,null,null,"X",null,84.788732301216967,{"$f":"IF(SUMPRODUCT((A$14:A94=A94)*(B$14:B94=B94)*(C$14:C94=C94))>1,0,1)","v":1},0,0,0,1,0,"Contratos de prestación de servicios profesionales y de apoyo a la gestión","Contratación directa",{"$f":"IFERROR(VLOOKUP(F94,[1]Tipo!$C$12:$C$27,1,FALSE),\"NO\")","v":"Prestación de servicios profesionales y de apoyo a la gestión, o para la ejecución de trabajos artísticos que sólo puedan encomendarse a determinadas personas naturales;"},"Inversión",45]
[43,2019,"FDLSUBA-CPS-043-2019","Contratos de prestación de servicios profesionales y de apoyo a la gestión","Contratación directa","Prestación de servicios profesionales y de apoyo a la gestión, o para la ejecución de trabajos artísticos que sólo puedan encomendarse a determinadas personas naturales;","PRESTAR LOS SERVICIOS PROFESIONALES COMO ABOGADO (A) PARA APOYAR LA GESTION CONTRACTUAL DEL AREA GESTION DEL DESARROLLO LOCAL DE LA ALCALDIA LOCAL DE SUBA, EN LOS DIFERENTES PROCESOS DE SELECCION EN SUS ETAPAS PRECONTRACTUAL, CONTRACTUAL Y POSTCONTRACTUAL. NO HAY 14669.","Inversión",45,{"$f":"IF(ISERROR(VLOOKUP(I95,[1]Eje_Pilar!$C$2:$E$47,2,FALSE)),\" \",VLOOKUP(I95,[1]Eje_Pilar!$C$2:$E$47,2,FALSE))","v":"Gobernanza e influencia local, regional e internacional"},{"$f":"IF(ISERROR(VLOOKUP(I95,[1]Eje_Pilar!$C$2:$E$47,3,FALSE)),\" \",VLOOKUP(I95,[1]Eje_Pilar!$C$2:$E$47,3,FALSE))","v":"Eje Transversal 4 Gobierno Legitimo, Fortalecimiento Local y Eficiencia"},"3-3-1-15-07-45-1478-000",3232505,"JULIO CESAR GONZALEZ VARGAS",72450000,null,0,1,2310000,74760000,63210000,"2019-01-31","2019-01-31","2020-01-21",345,21,null,null,null,"X",null,84.550561797752806,{"$f":"IF(SUMPRODUCT((A$14:A95=A95)*(B$14:B95=B95)*(C$14:C95=C95))>1,0,1)","v":1},0,0,0,1,0,"Contratos de prestación de servicios profesionales y de apoyo a la gestión","Contratación directa",{"$f":"IFERROR(VLOOKUP(F95,[1]Tipo!$C$12:$C$27,1,FALSE),\"NO\")","v":"Prestación de servicios profesionales y de apoyo a la gestión, o para la ejecución de trabajos artísticos que sólo puedan encomendarse a determinadas personas naturales;"},"Inversión",45]
[44,2019,"FDLSUBA-CPS-044-2019","Contratos de prestación de servicios profesionales y de apoyo a la gestión","Contratación directa","Prestación de servicios profesionales y de apoyo a la gestión, o para la ejecución de trabajos artísticos que sólo puedan encomendarse a determinadas personas naturales;","PRESTAR SERVICIOS PROFESIONALES ESPECIALIZADOS EN EL AREA DE GESTION DEL DESARROLLO LOCAL DE LA ALCALDIA LOCAL DE SUBA PARA EL APOYO AL SEGUIMIENTO DE LA EJECUCION DE LOS PROYECTOS DE INVERSION DESTINADOS A LA INTERVENCION DE INFRAESTRUCTURA DE LA LOCALIDAD DE SUBA. NO HAY 15185.","Inversión",18,{"$f":"IF(ISERROR(VLOOKUP(I96,[1]Eje_Pilar!$C$2:$E$47,2,FALSE)),\" \",VLOOKUP(I96,[1]Eje_Pilar!$C$2:$E$47,2,FALSE))","v":"Mejor movilidad para todos"},{"$f":"IF(ISERROR(VLOOKUP(I96,[1]Eje_Pilar!$C$2:$E$47,3,FALSE)),\" \",VLOOKUP(I96,[1]Eje_Pilar!$C$2:$E$47,3,FALSE))","v":"Pilar 2 Democracía Urbana"},"3-3-1-15-02-18-1506-000",79602816,"ADOLFO JOSE BERNAL PUERTO",92000000,null,0,1,2400000,94400000,80000000,"2019-02-01","2019-02-01","2020-01-21",345,21,null,null,null,"X",null,84.745762711864401,{"$f":"IF(SUMPRODUCT((A$14:A96=A96)*(B$14:B96=B96)*(C$14:C96=C96))>1,0,1)","v":1},0,0,0,1,0,"Contratos de prestación de servicios profesionales y de apoyo a la gestión","Contratación directa",{"$f":"IFERROR(VLOOKUP(F96,[1]Tipo!$C$12:$C$27,1,FALSE),\"NO\")","v":"Prestación de servicios profesionales y de apoyo a la gestión, o para la ejecución de trabajos artísticos que sólo puedan encomendarse a determinadas personas naturales;"},"Inversión",18]
[45,2019,"FDLSUBA-CPS-045-2019","Contratos de prestación de servicios profesionales y de apoyo a la gestión","Contratación directa","Prestación de servicios profesionales y de apoyo a la gestión, o para la ejecución de trabajos artísticos que sólo puedan encomendarse a determinadas personas naturales;","PRESTAR LOS SERVICIOS PROFESIONALES PARA APOYAR LA GESTION CONTRACTUAL EN EL AREA DE GESTION DEL DESARROLLO LOCAL, REALIZANDO LAS ACTIVIDADES RELACIONADAS CON LAS DIFERENTES ETAPAS CONTRACTUALES DE LOS PROCESOS DE ADQUISICION DE BIENES Y SERVICIOS QUE REALICE EL FONDO DE DESARROLLO LOCAL DE SUBA. NO HAY 15413.","Inversión",45,{"$f":"IF(ISERROR(VLOOKUP(I97,[1]Eje_Pilar!$C$2:$E$47,2,FALSE)),\" \",VLOOKUP(I97,[1]Eje_Pilar!$C$2:$E$47,2,FALSE))","v":"Gobernanza e influencia local, regional e internacional"},{"$f":"IF(ISERROR(VLOOKUP(I97,[1]Eje_Pilar!$C$2:$E$47,3,FALSE)),\" \",VLOOKUP(I97,[1]Eje_Pilar!$C$2:$E$47,3,FALSE))","v":"Eje Transversal 4 Gobierno Legitimo, Fortalecimiento Local y Eficiencia"},"3-3-1-15-07-45-1478-000",1032441293,"LADY YESSENIA RIAÑO UPEGUI",50600000,null,0,1,1613333,52213333,44146667,"2019-01-30","2019-01-30","2020-01-21",345,21,null,null,null,"X",null,84.550562975935676,{"$f":"IF(SUMPRODUCT((A$14:A97=A97)*(B$14:B97=B97)*(C$14:C97=C97))>1,0,1)","v":1},0,0,0,1,0,"Contratos de prestación de servicios profesionales y de apoyo a la gestión","Contratación directa",{"$f":"IFERROR(VLOOKUP(F97,[1]Tipo!$C$12:$C$27,1,FALSE),\"NO\")","v":"Prestación de servicios profesionales y de apoyo a la gestión, o para la ejecución de trabajos artísticos que sólo puedan encomendarse a determinadas personas naturales;"},"Inversión",45]
[46,2019,"FDLSUBA-CPS-046-2019","Contratos de prestación de servicios profesionales y de apoyo a la gestión","Contratación directa","Prestación de servicios profesionales y de apoyo a la gestión, o para la ejecución de trabajos artísticos que sólo puedan encomendarse a determinadas personas naturales;","PRESTAR SERVICIOS PROFESIONALES COMO APOYO AL ÁREA DE GESTIÓN DEL DESARROLLO LOCAL, EN LA OFICINA DE PRESUPUESTO DE LA ALCALDÍA LOCAL DE SUBA. NO HAY 14602.","Inversión",45,{"$f":"IF(ISERROR(VLOOKUP(I98,[1]Eje_Pilar!$C$2:$E$47,2,FALSE)),\" \",VLOOKUP(I98,[1]Eje_Pilar!$C$2:$E$47,2,FALSE))","v":"Gobernanza e influencia local, regional e internacional"},{"$f":"IF(ISERROR(VLOOKUP(I98,[1]Eje_Pilar!$C$2:$E$47,3,FALSE)),\" \",VLOOKUP(I98,[1]Eje_Pilar!$C$2:$E$47,3,FALSE))","v":"Eje Transversal 4 Gobierno Legitimo, Fortalecimiento Local y Eficiencia"},"3-3-1-15-07-45-1478-000",79399120,"FABIAN ANDRES PALACIOS VANEGAS",52900000,null,0,1,1686667,54586667,46153333,"2019-01-30","2019-01-30","2020-01-21",345,21,null,null,null,"X",null,84.550560670795306,{"$f":"IF(SUMPRODUCT((A$14:A98=A98)*(B$14:B98=B98)*(C$14:C98=C98))>1,0,1)","v":1},0,0,0,1,0,"Contratos de prestación de servicios profesionales y de apoyo a la gestión","Contratación directa",{"$f":"IFERROR(VLOOKUP(F98,[1]Tipo!$C$12:$C$27,1,FALSE),\"NO\")","v":"Prestación de servicios profesionales y de apoyo a la gestión, o para la ejecución de trabajos artísticos que sólo puedan encomendarse a determinadas personas naturales;"},"Inversión",45]
[47,2019,"FDLSUBA-CPS-047-2019","Contratos de prestación de servicios profesionales y de apoyo a la gestión","Contratación directa","Prestación de servicios profesionales y de apoyo a la gestión, o para la ejecución de trabajos artísticos que sólo puedan encomendarse a determinadas personas naturales;","PRESTAR LOS SERVICIOS PROFESIONALES COMO ABOGADO (A) PARA APOYAR LA GESTION CONTRACTUAL DEL AREA DE GESTION DEL DESARROLLO LOCAL DE LA ALCALDIA LOCAL DE SUBA, EN LOS DIFERENTES PROCESOS DE SELECCION EN SUS ETAPAS PRECONTRACTUAL, CONTRACTUAL Y POSTCONTRACTUAL. NO HAY 14852.","Inversión",45,{"$f":"IF(ISERROR(VLOOKUP(I99,[1]Eje_Pilar!$C$2:$E$47,2,FALSE)),\" \",VLOOKUP(I99,[1]Eje_Pilar!$C$2:$E$47,2,FALSE))","v":"Gobernanza e influencia local, regional e internacional"},{"$f":"IF(ISERROR(VLOOKUP(I99,[1]Eje_Pilar!$C$2:$E$47,3,FALSE)),\" \",VLOOKUP(I99,[1]Eje_Pilar!$C$2:$E$47,3,FALSE))","v":"Eje Transversal 4 Gobierno Legitimo, Fortalecimiento Local y Eficiencia"},"3-3-1-15-07-45-1478-000",1094947788,"SEBASTIAN  CHAVARRIA TELLEZ",52900000,null,0,1,1686667,54586667,46153333,"2019-01-30","2019-01-30","2020-01-21",345,21,null,null,null,"X",null,84.550560670795306,{"$f":"IF(SUMPRODUCT((A$14:A99=A99)*(B$14:B99=B99)*(C$14:C99=C99))>1,0,1)","v":1},0,0,0,1,0,"Contratos de prestación de servicios profesionales y de apoyo a la gestión","Contratación directa",{"$f":"IFERROR(VLOOKUP(F99,[1]Tipo!$C$12:$C$27,1,FALSE),\"NO\")","v":"Prestación de servicios profesionales y de apoyo a la gestión, o para la ejecución de trabajos artísticos que sólo puedan encomendarse a determinadas personas naturales;"},"Inversión",45]
[48,2019,"FDLSUBA-CPS-048-2019","Contratos de prestación de servicios profesionales y de apoyo a la gestión","Contratación directa","Prestación de servicios profesionales y de apoyo a la gestión, o para la ejecución de trabajos artísticos que sólo puedan encomendarse a determinadas personas naturales;","PRESTAR LOS SERVICIOS PROFESIONALES EN LA ALCALDIA LOCAL DE SUBA, EN LOS TEMAS RELACIONADOS CON EL AREA DE SISTEMAS, GESTION DE TICS Y TODO LO RELACIONADO CON EL RECURSO TECNOLOGICO DE LA ALCALDIA LOCAL DE SUBA. NO HAY 14855.","Inversión",45,{"$f":"IF(ISERROR(VLOOKUP(I100,[1]Eje_Pilar!$C$2:$E$47,2,FALSE)),\" \",VLOOKUP(I100,[1]Eje_Pilar!$C$2:$E$47,2,FALSE))","v":"Gobernanza e influencia local, regional e internacional"},{"$f":"IF(ISERROR(VLOOKUP(I100,[1]Eje_Pilar!$C$2:$E$47,3,FALSE)),\" \",VLOOKUP(I100,[1]Eje_Pilar!$C$2:$E$47,3,FALSE))","v":"Eje Transversal 4 Gobierno Legitimo, Fortalecimiento Local y Eficiencia"},"3-3-1-15-07-45-1478-000",52783714,"MARTHA PATRICIA MATEUS GONZALEZ",52900000,null,0,1,1380000,54280000,46000000,"2019-02-01","2019-02-01","2020-01-21",345,21,null,null,null,"X",null,84.745762711864401,{"$f":"IF(SUMPRODUCT((A$14:A100=A100)*(B$14:B100=B100)*(C$14:C100=C100))>1,0,1)","v":1},0,0,0,1,0,"Contratos de prestación de servicios profesionales y de apoyo a la gestión","Contratación directa",{"$f":"IFERROR(VLOOKUP(F100,[1]Tipo!$C$12:$C$27,1,FALSE),\"NO\")","v":"Prestación de servicios profesionales y de apoyo a la gestión, o para la ejecución de trabajos artísticos que sólo puedan encomendarse a determinadas personas naturales;"},"Inversión",45]
[49,2019,"FDLSUBA-CPS-049-2019","Contratos de prestación de servicios profesionales y de apoyo a la gestión","Contratación directa","Prestación de servicios profesionales y de apoyo a la gestión, o para la ejecución de trabajos artísticos que sólo puedan encomendarse a determinadas personas naturales;","PRESTAR LOS SERVICIOS PROFESIONALES EN LA ALCALDIA LOCAL DE SUBA, EN LOS TEMAS RELACIONADOS CON EL AREA DE SISTEMAS, GESTION DE TICS Y TODO LO RELACIONADO CON EL RECURSO TECNOLOGICO DE LA ALCALDIA LOCAL DE SUBA. NO HAY 14855.","Inversión",45,{"$f":"IF(ISERROR(VLOOKUP(I101,[1]Eje_Pilar!$C$2:$E$47,2,FALSE)),\" \",VLOOKUP(I101,[1]Eje_Pilar!$C$2:$E$47,2,FALSE))","v":"Gobernanza e influencia local, regional e internacional"},{"$f":"IF(ISERROR(VLOOKUP(I101,[1]Eje_Pilar!$C$2:$E$47,3,FALSE)),\" \",VLOOKUP(I101,[1]Eje_Pilar!$C$2:$E$47,3,FALSE))","v":"Eje Transversal 4 Gobierno Legitimo, Fortalecimiento Local y Eficiencia"},"3-3-1-15-07-45-1478-000",79632651,"HERWIN  BRICEÑO AVILA",52900000,null,0,1,1686667,54586667,46153333,"2019-01-31","2019-01-31","2020-01-21",345,21,null,null,null,"X",null,84.550560670795306,{"$f":"IF(SUMPRODUCT((A$14:A101=A101)*(B$14:B101=B101)*(C$14:C101=C101))>1,0,1)","v":1},0,0,0,1,0,"Contratos de prestación de servicios profesionales y de apoyo a la gestión","Contratación directa",{"$f":"IFERROR(VLOOKUP(F101,[1]Tipo!$C$12:$C$27,1,FALSE),\"NO\")","v":"Prestación de servicios profesionales y de apoyo a la gestión, o para la ejecución de trabajos artísticos que sólo puedan encomendarse a determinadas personas naturales;"},"Inversión",45]
[50,2019,"FDLSUBA-CPS-050-2019","Contratos de prestación de servicios profesionales y de apoyo a la gestión","Contratación directa","Prestación de servicios profesionales y de apoyo a la gestión, o para la ejecución de trabajos artísticos que sólo puedan encomendarse a determinadas personas naturales;","PRESTAR LOS SERVICIOS PROFESIONALES EN LA ALCALDIA LOCAL DE SUBA, EN LOS TEMAS RELACIONADOS CON EL AREA DE SISTEMAS, GESTION DE TICS Y TODO LO RELACIONADO CON EL RECURSO TECNOLOGICO DE LA ALCALDIA LOCAL DE SUBA. NO HAY 14855.","Inversión",45,{"$f":"IF(ISERROR(VLOOKUP(I102,[1]Eje_Pilar!$C$2:$E$47,2,FALSE)),\" \",VLOOKUP(I102,[1]Eje_Pilar!$C$2:$E$47,2,FALSE))","v":"Gobernanza e influencia local, regional e internacional"},{"$f":"IF(ISERROR(VLOOKUP(I102,[1]Eje_Pilar!$C$2:$E$47,3,FALSE)),\" \",VLOOKUP(I102,[1]Eje_Pilar!$C$2:$E$47,3,FALSE))","v":"Eje Transversal 4 Gobierno Legitimo, Fortalecimiento Local y Eficiencia"},"3-3-1-15-07-45-1478-000",11385910,"PEDRO PABLO ANGEL MENDEZ",52900000,null,0,null,0,52900000,46000000,"2019-02-01","2019-02-01","2019-12-31",345,null,null,null,null,"X",null,86.956521739130437,{"$f":"IF(SUMPRODUCT((A$14:A102=A102)*(B$14:B102=B102)*(C$14:C102=C102))>1,0,1)","v":1},0,0,0,1,0,"Contratos de prestación de servicios profesionales y de apoyo a la gestión","Contratación directa",{"$f":"IFERROR(VLOOKUP(F102,[1]Tipo!$C$12:$C$27,1,FALSE),\"NO\")","v":"Prestación de servicios profesionales y de apoyo a la gestión, o para la ejecución de trabajos artísticos que sólo puedan encomendarse a determinadas personas naturales;"},"Inversión",45]
[51,2019,"FDLSUBA-CPS-051-2019","Contratos de prestación de servicios profesionales y de apoyo a la gestión","Contratación directa","Prestación de servicios profesionales y de apoyo a la gestión, o para la ejecución de trabajos artísticos que sólo puedan encomendarse a determinadas personas naturales;","PRESTAR SERVICIOS PROFESIONALES ESPECIALIZADOS EN EL AREA DE GESTION DEL DESARROLLO LOCAL DE LA ALCALDIA LOCAL DE SUBA, PARA EL APOYO A LA EJECUCION INTEGRAL DE LOS DIFERENTES PROYECTOS DE INVERSION DESTINADOS A LA INTERVENCION DE LA MALLA VIAL, ESPACIO PUBLICO Y PARQUES DE LA LOCALIDAD DE SUBA. NO HAY 14781.","Inversión",18,{"$f":"IF(ISERROR(VLOOKUP(I103,[1]Eje_Pilar!$C$2:$E$47,2,FALSE)),\" \",VLOOKUP(I103,[1]Eje_Pilar!$C$2:$E$47,2,FALSE))","v":"Mejor movilidad para todos"},{"$f":"IF(ISERROR(VLOOKUP(I103,[1]Eje_Pilar!$C$2:$E$47,3,FALSE)),\" \",VLOOKUP(I103,[1]Eje_Pilar!$C$2:$E$47,3,FALSE))","v":"Pilar 2 Democracía Urbana"},"3-3-1-15-02-18-1506-000",79460624,"JOSE ARTURO LOPEZ BORRAEZ",83950000,null,0,1,2190000,86140000,73000000,"2019-02-01","2019-02-01","2020-01-21",345,21,null,null,null,"X",null,84.745762711864401,{"$f":"IF(SUMPRODUCT((A$14:A103=A103)*(B$14:B103=B103)*(C$14:C103=C103))>1,0,1)","v":1},0,0,0,1,0,"Contratos de prestación de servicios profesionales y de apoyo a la gestión","Contratación directa",{"$f":"IFERROR(VLOOKUP(F103,[1]Tipo!$C$12:$C$27,1,FALSE),\"NO\")","v":"Prestación de servicios profesionales y de apoyo a la gestión, o para la ejecución de trabajos artísticos que sólo puedan encomendarse a determinadas personas naturales;"},"Inversión",18]
[53,2019,"FDLSUBA-CPS-053-2019","Contratos de prestación de servicios profesionales y de apoyo a la gestión","Contratación directa","Prestación de servicios profesionales y de apoyo a la gestión, o para la ejecución de trabajos artísticos que sólo puedan encomendarse a determinadas personas naturales;","PRESTAR SERVICIOS DE APOYO A LA GESTION MEDIANTE LABORES ADMINISTRATIVAS Y FINANCIERAS EN LA OFICINA DE CONTABILIDAD EN EL AREA DE GESTION DEL DESARROLLO LOCAL. NO HAY 15018.|40250000|0|0|40250000|34650000|5600000","Inversión",45,{"$f":"IF(ISERROR(VLOOKUP(I104,[1]Eje_Pilar!$C$2:$E$47,2,FALSE)),\" \",VLOOKUP(I104,[1]Eje_Pilar!$C$2:$E$47,2,FALSE))","v":"Gobernanza e influencia local, regional e internacional"},{"$f":"IF(ISERROR(VLOOKUP(I104,[1]Eje_Pilar!$C$2:$E$47,3,FALSE)),\" \",VLOOKUP(I104,[1]Eje_Pilar!$C$2:$E$47,3,FALSE))","v":"Eje Transversal 4 Gobierno Legitimo, Fortalecimiento Local y Eficiencia"},"3-3-1-15-07-45-1478-000",1032371046,"LUIS ALEJANDRO GONZALEZ CASTILLO",40250000,null,0,1,700000,40950000,34650000,"2019-02-01","2019-02-01","2020-01-21",345,21,null,null,null,"X",null,84.615384615384613,{"$f":"IF(SUMPRODUCT((A$14:A104=A104)*(B$14:B104=B104)*(C$14:C104=C104))>1,0,1)","v":1},0,0,0,1,0,"Contratos de prestación de servicios profesionales y de apoyo a la gestión","Contratación directa",{"$f":"IFERROR(VLOOKUP(F104,[1]Tipo!$C$12:$C$27,1,FALSE),\"NO\")","v":"Prestación de servicios profesionales y de apoyo a la gestión, o para la ejecución de trabajos artísticos que sólo puedan encomendarse a determinadas personas naturales;"},"Inversión",45]
[54,2019,"FDLSUBA-CPS-054-2019","Contratos de prestación de servicios profesionales y de apoyo a la gestión","Contratación directa","Prestación de servicios profesionales y de apoyo a la gestión, o para la ejecución de trabajos artísticos que sólo puedan encomendarse a determinadas personas naturales;","PRESTAR LOS SERVICIOS PROFESIONALES PARA EL DESARROLLO DE LAS ACTIVIDADES RELACIONADAS CON LA POBLACION LGBTI, EN CONCORDANCIA CON LA METAS DEL PLAN DE DESARROLLO, EN EL AREA DE GESTION DE DESARROLLO LOCAL DE LA ALCLADIA LOCAL DE SUBA. NO HAY 14988.","Inversión",45,{"$f":"IF(ISERROR(VLOOKUP(I105,[1]Eje_Pilar!$C$2:$E$47,2,FALSE)),\" \",VLOOKUP(I105,[1]Eje_Pilar!$C$2:$E$47,2,FALSE))","v":"Gobernanza e influencia local, regional e internacional"},{"$f":"IF(ISERROR(VLOOKUP(I105,[1]Eje_Pilar!$C$2:$E$47,3,FALSE)),\" \",VLOOKUP(I105,[1]Eje_Pilar!$C$2:$E$47,3,FALSE))","v":"Eje Transversal 4 Gobierno Legitimo, Fortalecimiento Local y Eficiencia"},"3-3-1-15-07-45-1483-000",52207793,"CARINA  HERNANDEZ OCAMPO",52900000,null,0,1,306667,53206667,44926667,"2019-02-01","2019-02-01","2020-01-21",345,21,null,null,null,"X",null,84.438040443315117,{"$f":"IF(SUMPRODUCT((A$14:A105=A105)*(B$14:B105=B105)*(C$14:C105=C105))>1,0,1)","v":1},0,0,0,1,0,"Contratos de prestación de servicios profesionales y de apoyo a la gestión","Contratación directa",{"$f":"IFERROR(VLOOKUP(F105,[1]Tipo!$C$12:$C$27,1,FALSE),\"NO\")","v":"Prestación de servicios profesionales y de apoyo a la gestión, o para la ejecución de trabajos artísticos que sólo puedan encomendarse a determinadas personas naturales;"},"Inversión",45]
[55,2019,"FDLSUBA-CPS-055-2019","Contratos de prestación de servicios profesionales y de apoyo a la gestión","Contratación directa","Prestación de servicios profesionales y de apoyo a la gestión, o para la ejecución de trabajos artísticos que sólo puedan encomendarse a determinadas personas naturales;","PRESTAR LOS SERVICIOS PROFESIONALES AL DESPACHO DE LA ALCALDIA LOCAL DE SUBA COMO ENLACE EN LOS TEMAS DE GESTION DEL RIESGO DE CONFORMIDAD CON EL MARCO NORMATIVO APLICABLE PARA LA MATERIA. NO HAY 15480.","Inversión",19,{"$f":"IF(ISERROR(VLOOKUP(I106,[1]Eje_Pilar!$C$2:$E$47,2,FALSE)),\" \",VLOOKUP(I106,[1]Eje_Pilar!$C$2:$E$47,2,FALSE))","v":"Seguridad y convivencia para todos"},{"$f":"IF(ISERROR(VLOOKUP(I106,[1]Eje_Pilar!$C$2:$E$47,3,FALSE)),\" \",VLOOKUP(I106,[1]Eje_Pilar!$C$2:$E$47,3,FALSE))","v":"Pilar 3 Construcción de Comunidad y Cultura Ciudadana"},"3-3-1-15-03-19-1469-000",80512697,"FREDY ARMANDO ORTIZ HERNANDEZ",72450000,null,0,1,1890000,74340000,63000000,"2019-02-01","2019-02-01","2020-01-21",345,21,null,null,null,"X",null,84.745762711864401,{"$f":"IF(SUMPRODUCT((A$14:A106=A106)*(B$14:B106=B106)*(C$14:C106=C106))>1,0,1)","v":1},0,0,0,1,0,"Contratos de prestación de servicios profesionales y de apoyo a la gestión","Contratación directa",{"$f":"IFERROR(VLOOKUP(F106,[1]Tipo!$C$12:$C$27,1,FALSE),\"NO\")","v":"Prestación de servicios profesionales y de apoyo a la gestión, o para la ejecución de trabajos artísticos que sólo puedan encomendarse a determinadas personas naturales;"},"Inversión",19]
[56,2019,"FDLSUBA-CPS-056-2019","Contratos de prestación de servicios profesionales y de apoyo a la gestión","Contratación directa","Prestación de servicios profesionales y de apoyo a la gestión, o para la ejecución de trabajos artísticos que sólo puedan encomendarse a determinadas personas naturales;","PRESTAR SERVICIOS PROFESIONALES ESPECIALIZADOS EN EL AREA DE GESTION DEL DESARROLLO LOCAL DE LA ALCALDIA LOCAL DE SUBA, PARA EL APOYO A LA EJECUCION INTEGRAL DE LOS DIFERENTES PROYECTOS DE INVERSION DESTINADOS A LA INTERVENCION DE LA MALLA VIAL, ESPACIO PUBLICO Y PARQUES DE LA LOCALIDAD DE SUBA. NO HAY 14781.","Inversión",18,{"$f":"IF(ISERROR(VLOOKUP(I107,[1]Eje_Pilar!$C$2:$E$47,2,FALSE)),\" \",VLOOKUP(I107,[1]Eje_Pilar!$C$2:$E$47,2,FALSE))","v":"Mejor movilidad para todos"},{"$f":"IF(ISERROR(VLOOKUP(I107,[1]Eje_Pilar!$C$2:$E$47,3,FALSE)),\" \",VLOOKUP(I107,[1]Eje_Pilar!$C$2:$E$47,3,FALSE))","v":"Pilar 2 Democracía Urbana"},"3-3-1-15-02-18-1506-000",79169164,"EDWIN DARIO SANCHEZ GONZALEZ",83950000,null,0,1,1260000,85210000,72270000,"2019-02-04","2019-02-04","2020-01-21",345,21,null,null,null,"X",null,84.813988968430934,{"$f":"IF(SUMPRODUCT((A$14:A107=A107)*(B$14:B107=B107)*(C$14:C107=C107))>1,0,1)","v":1},0,0,0,1,0,"Contratos de prestación de servicios profesionales y de apoyo a la gestión","Contratación directa",{"$f":"IFERROR(VLOOKUP(F107,[1]Tipo!$C$12:$C$27,1,FALSE),\"NO\")","v":"Prestación de servicios profesionales y de apoyo a la gestión, o para la ejecución de trabajos artísticos que sólo puedan encomendarse a determinadas personas naturales;"},"Inversión",18]
[57,2019,"FDLSUBA-CPS-057-2019","Contratos de prestación de servicios profesionales y de apoyo a la gestión","Contratación directa","Prestación de servicios profesionales y de apoyo a la gestión, o para la ejecución de trabajos artísticos que sólo puedan encomendarse a determinadas personas naturales;","PRESTAR SERVICIOS AL GRUPO DE GESTION ADMINISTRATIVA Y FINANCIERA PARA LA ADMINISTRACION DEL PUNTO VIVE DIGITAL PLUS DE LA LOCALIDAD DE SUBA Y BRINDAR APOYO AL AREA DE PRENSA EN LOS TEMAS RELACIONADOS CON TICS. NO HAY 15042.|52900000|0|0|52900000|43853333|9046667","Inversión",36,{"$f":"IF(ISERROR(VLOOKUP(I108,[1]Eje_Pilar!$C$2:$E$47,2,FALSE)),\" \",VLOOKUP(I108,[1]Eje_Pilar!$C$2:$E$47,2,FALSE))","v":"Bogotá, una ciudad digital"},{"$f":"IF(ISERROR(VLOOKUP(I108,[1]Eje_Pilar!$C$2:$E$47,3,FALSE)),\" \",VLOOKUP(I108,[1]Eje_Pilar!$C$2:$E$47,3,FALSE))","v":"Eje Transversal 2 Desarrollo Económico basado en el conocimiento"},"3-3-1-15-05-36-1504-000",1018407461,"DIEGO FERNANDO MARTINEZ GOMEZ",52900000,null,0,null,null,52900000,43853333,"2019-02-06","2019-02-06","2019-12-31",345,null,null,null,null,"X",null,82.898550094517958,{"$f":"IF(SUMPRODUCT((A$14:A108=A108)*(B$14:B108=B108)*(C$14:C108=C108))>1,0,1)","v":1},0,0,0,1,0,"Contratos de prestación de servicios profesionales y de apoyo a la gestión","Contratación directa",{"$f":"IFERROR(VLOOKUP(F108,[1]Tipo!$C$12:$C$27,1,FALSE),\"NO\")","v":"Prestación de servicios profesionales y de apoyo a la gestión, o para la ejecución de trabajos artísticos que sólo puedan encomendarse a determinadas personas naturales;"},"Inversión",36]
[58,2019,"FDLSUBA-CPS-058-2019","Contratos de prestación de servicios profesionales y de apoyo a la gestión","Contratación directa","Prestación de servicios profesionales y de apoyo a la gestión, o para la ejecución de trabajos artísticos que sólo puedan encomendarse a determinadas personas naturales;","PRESTAR SERVICIOS AL GRUPO DE GESTION ADMINISTRATIVA Y FINANCIERA PARA LA ADMINISTRACION DEL PUNTO VIVE DIGITAL PLUS DE LA LOCALIDAD DE SUBA Y BRINDAR APOYO AL AREA DE PRENSA EN LOS TEMAS RELACIONADOS CON TICS. NO HAY 15042.|52900000|0|0|52900000|44466667|8433333","Inversión",36,{"$f":"IF(ISERROR(VLOOKUP(I109,[1]Eje_Pilar!$C$2:$E$47,2,FALSE)),\" \",VLOOKUP(I109,[1]Eje_Pilar!$C$2:$E$47,2,FALSE))","v":"Bogotá, una ciudad digital"},{"$f":"IF(ISERROR(VLOOKUP(I109,[1]Eje_Pilar!$C$2:$E$47,3,FALSE)),\" \",VLOOKUP(I109,[1]Eje_Pilar!$C$2:$E$47,3,FALSE))","v":"Eje Transversal 2 Desarrollo Económico basado en el conocimiento"},"3-3-1-15-05-36-1504-000",80853316,"CARLOS ALFONSO ACOSTA GARZON",52900000,null,0,null,null,52900000,44466667,"2019-02-11","2019-02-11","2019-12-31",345,21,null,null,null,"X",null,84.057971644612479,{"$f":"IF(SUMPRODUCT((A$14:A109=A109)*(B$14:B109=B109)*(C$14:C109=C109))>1,0,1)","v":1},0,0,0,1,0,"Contratos de prestación de servicios profesionales y de apoyo a la gestión","Contratación directa",{"$f":"IFERROR(VLOOKUP(F109,[1]Tipo!$C$12:$C$27,1,FALSE),\"NO\")","v":"Prestación de servicios profesionales y de apoyo a la gestión, o para la ejecución de trabajos artísticos que sólo puedan encomendarse a determinadas personas naturales;"},"Inversión",36]
[59,2019,"FDLSUBA-CPS-059-2019","Contratos de prestación de servicios profesionales y de apoyo a la gestión","Contratación directa","Prestación de servicios profesionales y de apoyo a la gestión, o para la ejecución de trabajos artísticos que sólo puedan encomendarse a determinadas personas naturales;","PRESTAR SERVICIOS PROFESIONALES EN EL AREA DE GESTION DEL DESARROLLO LOCAL DE LA ALCALDIA LOCAL DE SUBA, EN EL PROCESO DE FORMULACION, EJECUCION, SEGUIMIENTO Y EVALUACION DE LAS POLITICAS, PLANES, PROGRAMAS Y PROYECTOS DE DESARROLLO LOCAL PARA LOGRAR EL CUMPLIMIENTO DEL PLAN DE DESARROLLO LOCAL DE LA VIGENCIA. NO HAY 14849.","Inversión",45,{"$f":"IF(ISERROR(VLOOKUP(I110,[1]Eje_Pilar!$C$2:$E$47,2,FALSE)),\" \",VLOOKUP(I110,[1]Eje_Pilar!$C$2:$E$47,2,FALSE))","v":"Gobernanza e influencia local, regional e internacional"},{"$f":"IF(ISERROR(VLOOKUP(I110,[1]Eje_Pilar!$C$2:$E$47,3,FALSE)),\" \",VLOOKUP(I110,[1]Eje_Pilar!$C$2:$E$47,3,FALSE))","v":"Eje Transversal 4 Gobierno Legitimo, Fortalecimiento Local y Eficiencia"},"3-3-1-15-07-45-1478-000",1019080604,"FREDDY ORLANDO PUERTO PEÑA",52900000,null,0,null,0,52900000,44160000,"2019-02-11","2019-02-11","2019-12-31",345,21,null,null,null,"X",null,83.478260869565219,{"$f":"IF(SUMPRODUCT((A$14:A110=A110)*(B$14:B110=B110)*(C$14:C110=C110))>1,0,1)","v":1},0,0,0,1,0,"Contratos de prestación de servicios profesionales y de apoyo a la gestión","Contratación directa",{"$f":"IFERROR(VLOOKUP(F110,[1]Tipo!$C$12:$C$27,1,FALSE),\"NO\")","v":"Prestación de servicios profesionales y de apoyo a la gestión, o para la ejecución de trabajos artísticos que sólo puedan encomendarse a determinadas personas naturales;"},"Inversión",45]
[60,2019,"FDLSUBA-CPS-060-2019","Contratos de prestación de servicios profesionales y de apoyo a la gestión","Contratación directa","Prestación de servicios profesionales y de apoyo a la gestión, o para la ejecución de trabajos artísticos que sólo puedan encomendarse a determinadas personas naturales;","APOYAR JURIDICAMENTE LA EJECUCION DE LAS ACCIONES REQUERIDAS PARA LA DEPURACION DE LAS ACTUACIONES ADMINISTRATIVAS QUE CURSAN EN LA ALCALDIA LOCAL. NO HAY 14565.","Inversión",45,{"$f":"IF(ISERROR(VLOOKUP(I111,[1]Eje_Pilar!$C$2:$E$47,2,FALSE)),\" \",VLOOKUP(I111,[1]Eje_Pilar!$C$2:$E$47,2,FALSE))","v":"Gobernanza e influencia local, regional e internacional"},{"$f":"IF(ISERROR(VLOOKUP(I111,[1]Eje_Pilar!$C$2:$E$47,3,FALSE)),\" \",VLOOKUP(I111,[1]Eje_Pilar!$C$2:$E$47,3,FALSE))","v":"Eje Transversal 4 Gobierno Legitimo, Fortalecimiento Local y Eficiencia"},"3-3-1-15-07-45-1478-000",37626464,"ROSA LILIANA SUAREZ VELOSA",52900000,null,0,null,0,52900000,45386667,"2019-02-05","2019-02-05","2019-12-31",345,21,null,null,null,"X",null,85.797102079395088,{"$f":"IF(SUMPRODUCT((A$14:A111=A111)*(B$14:B111=B111)*(C$14:C111=C111))>1,0,1)","v":1},0,0,0,1,0,{"$f":"IFERROR(VLOOKUP(D111,tipo,1,FALSE),\"NO\")","v":"Contratos de prestación de servicios profesionales y de apoyo a la gestión"},{"$f":"IFERROR(VLOOKUP(E111,modal,1,FALSE),\"NO\")","v":"Contratación directa"},{"$f":"IFERROR(VLOOKUP(F111,[1]Tipo!$C$12:$C$27,1,FALSE),\"NO\")","v":"Prestación de servicios profesionales y de apoyo a la gestión, o para la ejecución de trabajos artísticos que sólo puedan encomendarse a determinadas personas naturales;"},{"$f":"IFERROR(VLOOKUP(H111,afectacion,1,FALSE),\"NO\")","v":"Inversión"},{"$f":"IFERROR(VLOOKUP(I111,programa,1,FALSE),\"NO\")","v":45}]
[61,2019,"FDLSUBA-CPS-061-2019","Contratos de prestación de servicios profesionales y de apoyo a la gestión","Contratación directa","Prestación de servicios profesionales y de apoyo a la gestión, o para la ejecución de trabajos artísticos que sólo puedan encomendarse a determinadas personas naturales;","PRESTAR SERVICIOS PROFESIONALES PARA LA OPERACION, PRESTACION Y SEGUIMIENTO Y CUMPLIMIENTO DE LOS PROCEDIMIENTOS ADMINISTRATIVOS, OPERATIVOS Y PROGRAMATICOS DE LOS SERVICIOS SOCIALES DEL PROYECTO DE SUBSIDIO / APOYO ECONOMICO TIPO C, QUE CONTRIBUYAN A LA GARANTIA DE LOS DERECHOS DE LA POBLACION MAYOR EN EL MARCO DE LA POLITICA PUBLICA SOCIAL PARA EL ENVEJECIMIENTO Y LA VEJEZ EN EL DISTRITO CAPITAL A CARGO DE LA ALCALDIA LOCAL DE SUBA. NO HAY 14803.","Inversión",3,{"$f":"IF(ISERROR(VLOOKUP(I112,[1]Eje_Pilar!$C$2:$E$47,2,FALSE)),\" \",VLOOKUP(I112,[1]Eje_Pilar!$C$2:$E$47,2,FALSE))","v":"Igualdad y autonomía para una Bogotá incluyente"},{"$f":"IF(ISERROR(VLOOKUP(I112,[1]Eje_Pilar!$C$2:$E$47,3,FALSE)),\" \",VLOOKUP(I112,[1]Eje_Pilar!$C$2:$E$47,3,FALSE))","v":"Pilar 1 Igualdad de Calidad de Vida"},"3-3-1-15-01-03-1427-000",52896849,"LINDSAY MIREYA BETANCUR MAYORGA",52900000,null,0,1,920000,{"$f":"+O112+Q112+S112","v":53820000},45540000,"2019-02-04","2019-02-04","2020-01-21",345,21,null,null,null,"X",null,84.615384615384613,{"$f":"IF(SUMPRODUCT((A$14:A112=A112)*(B$14:B112=B112)*(C$14:C112=C112))>1,0,1)","v":1},0,0,0,1,0,"Contratos de prestación de servicios profesionales y de apoyo a la gestión","Contratación directa",{"$f":"IFERROR(VLOOKUP(F112,[1]Tipo!$C$12:$C$27,1,FALSE),\"NO\")","v":"Prestación de servicios profesionales y de apoyo a la gestión, o para la ejecución de trabajos artísticos que sólo puedan encomendarse a determinadas personas naturales;"},"Inversión",3]
[62,2019,"FDLSUBA-CPS-062-2019","Contratos de prestación de servicios profesionales y de apoyo a la gestión","Contratación directa","Prestación de servicios profesionales y de apoyo a la gestión, o para la ejecución de trabajos artísticos que sólo puedan encomendarse a determinadas personas naturales;","PRESTAR LOS SERVICIOS PROFESIONALES EN LA ALCALDIA LOCAL DE SUBA, PRINCIPALMENTE PARA REALIZAR ACCIONES PEDAGOGICAS PREVENTIVAS Y DE SENSIBILIZACION PARA EL ACATAMIENTO VOLUNTARIO DE LAS NORMAS EN LA LOCALIDAD. NO HAY 15412.","Inversión",45,{"$f":"IF(ISERROR(VLOOKUP(I113,[1]Eje_Pilar!$C$2:$E$47,2,FALSE)),\" \",VLOOKUP(I113,[1]Eje_Pilar!$C$2:$E$47,2,FALSE))","v":"Gobernanza e influencia local, regional e internacional"},{"$f":"IF(ISERROR(VLOOKUP(I113,[1]Eje_Pilar!$C$2:$E$47,3,FALSE)),\" \",VLOOKUP(I113,[1]Eje_Pilar!$C$2:$E$47,3,FALSE))","v":"Eje Transversal 4 Gobierno Legitimo, Fortalecimiento Local y Eficiencia"},"3-3-1-15-07-45-1481-000",51602138,"BEATRIZ HELENA ROZO MORALES",52900000,null,0,1,766667,53666667,45386667,"2019-02-05","2019-02-05","2020-01-21",345,21,null,null,null,"X",null,84.571428667258203,{"$f":"IF(SUMPRODUCT((A$14:A113=A113)*(B$14:B113=B113)*(C$14:C113=C113))>1,0,1)","v":1},0,0,0,1,0,"Contratos de prestación de servicios profesionales y de apoyo a la gestión","Contratación directa",{"$f":"IFERROR(VLOOKUP(F113,[1]Tipo!$C$12:$C$27,1,FALSE),\"NO\")","v":"Prestación de servicios profesionales y de apoyo a la gestión, o para la ejecución de trabajos artísticos que sólo puedan encomendarse a determinadas personas naturales;"},"Inversión",45]
[63,2019,"FDLSUBA-CPS-063-2019","Contratos de prestación de servicios profesionales y de apoyo a la gestión","Contratación directa","Prestación de servicios profesionales y de apoyo a la gestión, o para la ejecución de trabajos artísticos que sólo puedan encomendarse a determinadas personas naturales;","PRESTAR LOS SERVICIOS PROFESIONALES EN LA ALCALDIA LOCAL DE SUBA, PRINCIPALMENTE PARA REALIZAR ACCIONES PEDAGOGICAS PREVENTIVAS Y DE SENSIBILIZACION PARA EL ACATAMIENTO VOLUNTARIO DE LAS NORMAS EN LA LOCALIDAD. NO HAY 15412.","Inversión",45,{"$f":"IF(ISERROR(VLOOKUP(I114,[1]Eje_Pilar!$C$2:$E$47,2,FALSE)),\" \",VLOOKUP(I114,[1]Eje_Pilar!$C$2:$E$47,2,FALSE))","v":"Gobernanza e influencia local, regional e internacional"},{"$f":"IF(ISERROR(VLOOKUP(I114,[1]Eje_Pilar!$C$2:$E$47,3,FALSE)),\" \",VLOOKUP(I114,[1]Eje_Pilar!$C$2:$E$47,3,FALSE))","v":"Eje Transversal 4 Gobierno Legitimo, Fortalecimiento Local y Eficiencia"},"3-3-1-15-07-45-1481-000",26872947,"SARA NOHELIA VELASQUEZ GUERRA",52900000,null,0,null,0,52900000,45386667,"2019-02-05","2019-02-05","2019-12-31",345,null,null,null,null,"X",null,85.797102079395088,{"$f":"IF(SUMPRODUCT((A$14:A114=A114)*(B$14:B114=B114)*(C$14:C114=C114))>1,0,1)","v":1},0,0,0,1,0,"Contratos de prestación de servicios profesionales y de apoyo a la gestión","Contratación directa",{"$f":"IFERROR(VLOOKUP(F114,[1]Tipo!$C$12:$C$27,1,FALSE),\"NO\")","v":"Prestación de servicios profesionales y de apoyo a la gestión, o para la ejecución de trabajos artísticos que sólo puedan encomendarse a determinadas personas naturales;"},"Inversión",45]
[64,2019,"FDLSUBA-CPS-064-2019","Contratos de prestación de servicios profesionales y de apoyo a la gestión","Contratación directa","Prestación de servicios profesionales y de apoyo a la gestión, o para la ejecución de trabajos artísticos que sólo puedan encomendarse a determinadas personas naturales;","PRESTAR LOS SERVICIOS PROFESIONALES EN LA ALCALDIA LOCAL DE SUBA, PRINCIPALMENTE PARA REALIZAR ACCIONES PEDAGOGICAS PREVENTIVAS Y DE SENSIBILIZACION PARA EL ACATAMIENTO VOLUNTARIO DE LAS NORMAS EN LA LOCALIDAD. NO HAY 15412.","Inversión",45,{"$f":"IF(ISERROR(VLOOKUP(I115,[1]Eje_Pilar!$C$2:$E$47,2,FALSE)),\" \",VLOOKUP(I115,[1]Eje_Pilar!$C$2:$E$47,2,FALSE))","v":"Gobernanza e influencia local, regional e internacional"},{"$f":"IF(ISERROR(VLOOKUP(I115,[1]Eje_Pilar!$C$2:$E$47,3,FALSE)),\" \",VLOOKUP(I115,[1]Eje_Pilar!$C$2:$E$47,3,FALSE))","v":"Eje Transversal 4 Gobierno Legitimo, Fortalecimiento Local y Eficiencia"},"3-3-1-15-07-45-1481-000",79648974,"JUAN CARLOS MORENO JIMENEZ",52900000,null,0,1,766667,53666667,45386667,"2019-02-05","2019-02-05","2020-01-21",345,21,null,null,null,"X",null,84.571428667258203,{"$f":"IF(SUMPRODUCT((A$14:A115=A115)*(B$14:B115=B115)*(C$14:C115=C115))>1,0,1)","v":1},0,0,0,1,0,"Contratos de prestación de servicios profesionales y de apoyo a la gestión","Contratación directa",{"$f":"IFERROR(VLOOKUP(F115,[1]Tipo!$C$12:$C$27,1,FALSE),\"NO\")","v":"Prestación de servicios profesionales y de apoyo a la gestión, o para la ejecución de trabajos artísticos que sólo puedan encomendarse a determinadas personas naturales;"},"Inversión",45]
[65,2019,"FDLSUBA-CPS-065-2019","Contratos de prestación de servicios profesionales y de apoyo a la gestión","Contratación directa","Prestación de servicios profesionales y de apoyo a la gestión, o para la ejecución de trabajos artísticos que sólo puedan encomendarse a determinadas personas naturales;","PRESTAR LOS SERVICIOS PROFESIONALES EN LA ALCALDIA LOCAL DE SUBA, PRINCIPALMENTE PARA REALIZAR ACCIONES PEDAGOGICAS PREVENTIVAS Y DE SENSIBILIZACION PARA EL ACATAMIENTO VOLUNTARIO DE LAS NORMAS EN LA LOCALIDAD. NO HAY 15412.","Inversión",45,{"$f":"IF(ISERROR(VLOOKUP(I116,[1]Eje_Pilar!$C$2:$E$47,2,FALSE)),\" \",VLOOKUP(I116,[1]Eje_Pilar!$C$2:$E$47,2,FALSE))","v":"Gobernanza e influencia local, regional e internacional"},{"$f":"IF(ISERROR(VLOOKUP(I116,[1]Eje_Pilar!$C$2:$E$47,3,FALSE)),\" \",VLOOKUP(I116,[1]Eje_Pilar!$C$2:$E$47,3,FALSE))","v":"Eje Transversal 4 Gobierno Legitimo, Fortalecimiento Local y Eficiencia"},"3-3-1-15-07-45-1481-000",77008995,"CARLOS  ARDILA VEGA",52900000,null,0,null,0,52900000,45386667,"2019-02-05","2019-02-05","2019-12-31",345,null,null,null,null,"X",null,85.797102079395088,{"$f":"IF(SUMPRODUCT((A$14:A116=A116)*(B$14:B116=B116)*(C$14:C116=C116))>1,0,1)","v":1},0,0,0,1,0,"Contratos de prestación de servicios profesionales y de apoyo a la gestión","Contratación directa",{"$f":"IFERROR(VLOOKUP(F116,[1]Tipo!$C$12:$C$27,1,FALSE),\"NO\")","v":"Prestación de servicios profesionales y de apoyo a la gestión, o para la ejecución de trabajos artísticos que sólo puedan encomendarse a determinadas personas naturales;"},"Inversión",45]
[66,2019,"FDLSUBA-CPS-066-2019","Contratos de prestación de servicios profesionales y de apoyo a la gestión","Contratación directa","Prestación de servicios profesionales y de apoyo a la gestión, o para la ejecución de trabajos artísticos que sólo puedan encomendarse a determinadas personas naturales;","PRESTAR SERVICIOS DE APOYO A LOS ARCHIVOS DE GESTION DE LA ENTIDAD EN LA IMPLEMENTACION DE LOS PROCESOS DE CLASIFICACION, ORDENACION, SELECCION NATURAL, FOLIACION, IDENTIFICACION, LEVANTAMIENTO DE INVENTARIOS, ALMACENAMIENTO Y APLICACION DE PROTOCOLOS DE ELIMINACION Y TRANSFERENCIAS DOCUMENTALES. NO HAY 15414.","Inversión",45,{"$f":"IF(ISERROR(VLOOKUP(I117,[1]Eje_Pilar!$C$2:$E$47,2,FALSE)),\" \",VLOOKUP(I117,[1]Eje_Pilar!$C$2:$E$47,2,FALSE))","v":"Gobernanza e influencia local, regional e internacional"},{"$f":"IF(ISERROR(VLOOKUP(I117,[1]Eje_Pilar!$C$2:$E$47,3,FALSE)),\" \",VLOOKUP(I117,[1]Eje_Pilar!$C$2:$E$47,3,FALSE))","v":"Eje Transversal 4 Gobierno Legitimo, Fortalecimiento Local y Eficiencia"},"3-3-1-15-07-45-1478-000",1019021542,"YENNI MARCELA DURAN GOMEZ",24024000,null,0,1,1310400,25334400,21403200,"2019-02-06","2019-02-06","2020-01-21",345,21,null,null,null,"X",null,84.482758620689651,{"$f":"IF(SUMPRODUCT((A$14:A117=A117)*(B$14:B117=B117)*(C$14:C117=C117))>1,0,1)","v":1},0,0,0,1,0,"Contratos de prestación de servicios profesionales y de apoyo a la gestión","Contratación directa",{"$f":"IFERROR(VLOOKUP(F117,[1]Tipo!$C$12:$C$27,1,FALSE),\"NO\")","v":"Prestación de servicios profesionales y de apoyo a la gestión, o para la ejecución de trabajos artísticos que sólo puedan encomendarse a determinadas personas naturales;"},"Inversión",45]
[67,2019,"FDLSUBA-CPS-067-2019","Contratos de prestación de servicios profesionales y de apoyo a la gestión","Contratación directa","Prestación de servicios profesionales y de apoyo a la gestión, o para la ejecución de trabajos artísticos que sólo puedan encomendarse a determinadas personas naturales;","PRESTAR SERVICIOS DE APOYO A LOS ARCHIVOS DE GESTION DE LA ENTIDAD EN LA IMPLEMENTACION DE LOS PROCESOS DE CLASIFICACION, ORDENACION, SELECCION NATURAL, FOLIACION, IDENTIFICACION, LEVANTAMIENTO DE INVENTARIOS, ALMACENAMIENTO Y APLICACION DE PROTOCOLOS DE ELIMINACION Y TRANSFERENCIAS DOCUMENTALES. NO HAY 15414.","Inversión",45,{"$f":"IF(ISERROR(VLOOKUP(I118,[1]Eje_Pilar!$C$2:$E$47,2,FALSE)),\" \",VLOOKUP(I118,[1]Eje_Pilar!$C$2:$E$47,2,FALSE))","v":"Gobernanza e influencia local, regional e internacional"},{"$f":"IF(ISERROR(VLOOKUP(I118,[1]Eje_Pilar!$C$2:$E$47,3,FALSE)),\" \",VLOOKUP(I118,[1]Eje_Pilar!$C$2:$E$47,3,FALSE))","v":"Eje Transversal 4 Gobierno Legitimo, Fortalecimiento Local y Eficiencia"},"3-3-1-15-07-45-1478-000",52396441,"CLAUDIA ALEXANDRA CIFUENTES ORTIZ",25116000,null,0,null,0,25116000,9609600,"2019-02-04","2019-02-04","2019-12-31",345,null,null,null,null,"X",null,38.260869565217391,{"$f":"IF(SUMPRODUCT((A$14:A118=A118)*(B$14:B118=B118)*(C$14:C118=C118))>1,0,1)","v":1},0,0,0,1,0,"Contratos de prestación de servicios profesionales y de apoyo a la gestión","Contratación directa",{"$f":"IFERROR(VLOOKUP(F118,[1]Tipo!$C$12:$C$27,1,FALSE),\"NO\")","v":"Prestación de servicios profesionales y de apoyo a la gestión, o para la ejecución de trabajos artísticos que sólo puedan encomendarse a determinadas personas naturales;"},"Inversión",45]
[68,2019,"FDLSUBA-CPS-068-2019","Contratos de prestación de servicios profesionales y de apoyo a la gestión","Contratación directa","Prestación de servicios profesionales y de apoyo a la gestión, o para la ejecución de trabajos artísticos que sólo puedan encomendarse a determinadas personas naturales;","PRESTAR SERVICIOS DE APOYO A LOS ARCHIVOS DE GESTION DE LA ENTIDAD EN LA IMPLEMENTACION DE LOS PROCESOS DE CLASIFICACION, ORDENACION, SELECCION NATURAL, FOLIACION, IDENTIFICACION, LEVANTAMIENTO DE INVENTARIOS, ALMACENAMIENTO Y APLICACION DE PROTOCOLOS DE ELIMINACION Y TRANSFERENCIAS DOCUMENTALES. NO HAY 15414.","Inversión",45,{"$f":"IF(ISERROR(VLOOKUP(I119,[1]Eje_Pilar!$C$2:$E$47,2,FALSE)),\" \",VLOOKUP(I119,[1]Eje_Pilar!$C$2:$E$47,2,FALSE))","v":"Gobernanza e influencia local, regional e internacional"},{"$f":"IF(ISERROR(VLOOKUP(I119,[1]Eje_Pilar!$C$2:$E$47,3,FALSE)),\" \",VLOOKUP(I119,[1]Eje_Pilar!$C$2:$E$47,3,FALSE))","v":"Eje Transversal 4 Gobierno Legitimo, Fortalecimiento Local y Eficiencia"},"3-3-1-15-07-45-1478-000",53003164,"ANGELICA MARIA NIETO CASALLAS",25116000,null,0,null,0,25116000,21621600,"2019-02-04","2019-02-04","2019-12-31",345,null,null,null,null,"X",null,86.08695652173914,{"$f":"IF(SUMPRODUCT((A$14:A119=A119)*(B$14:B119=B119)*(C$14:C119=C119))>1,0,1)","v":1},0,0,0,1,0,"Contratos de prestación de servicios profesionales y de apoyo a la gestión","Contratación directa",{"$f":"IFERROR(VLOOKUP(F119,[1]Tipo!$C$12:$C$27,1,FALSE),\"NO\")","v":"Prestación de servicios profesionales y de apoyo a la gestión, o para la ejecución de trabajos artísticos que sólo puedan encomendarse a determinadas personas naturales;"},"Inversión",45]
[69,2019,"FDLSUBA-CPS-069-2019","Contratos de prestación de servicios profesionales y de apoyo a la gestión","Contratación directa","Prestación de servicios profesionales y de apoyo a la gestión, o para la ejecución de trabajos artísticos que sólo puedan encomendarse a determinadas personas naturales;","PRESTAR SERVICIOS PROFESIONALES ESPECIALIZADOS EN EL AREA DE GESTION DEL DESARROLLO LOCAL, DE LA ALCALDIA LOCAL DE SUBA EN EL PROCESO DE FORMULACION EJECUCION SEGUIMIENTO Y EVALUACION DE LAS POLITICAS, PLANES, PROGRAMAS Y PROYECTOS DE DESARROLLO LOCAL, PARA LOGRAR EL CUMPLIMIENTO DE LAS METAS DE DESARROLLO LOCAL DE LA VIGENCIA. NO HAY 15854.","Inversión",45,{"$f":"IF(ISERROR(VLOOKUP(I120,[1]Eje_Pilar!$C$2:$E$47,2,FALSE)),\" \",VLOOKUP(I120,[1]Eje_Pilar!$C$2:$E$47,2,FALSE))","v":"Gobernanza e influencia local, regional e internacional"},{"$f":"IF(ISERROR(VLOOKUP(I120,[1]Eje_Pilar!$C$2:$E$47,3,FALSE)),\" \",VLOOKUP(I120,[1]Eje_Pilar!$C$2:$E$47,3,FALSE))","v":"Eje Transversal 4 Gobierno Legitimo, Fortalecimiento Local y Eficiencia"},"3-3-1-15-07-45-1478-000",77192494,"ARIEL COHEN RIVERA",92000000,null,0,1,1600000,93600000,79200000,"2019-02-04","2019-02-04","2020-01-21",345,21,null,null,null,"X",null,84.615384615384613,{"$f":"IF(SUMPRODUCT((A$14:A120=A120)*(B$14:B120=B120)*(C$14:C120=C120))>1,0,1)","v":1},0,0,0,1,0,"Contratos de prestación de servicios profesionales y de apoyo a la gestión","Contratación directa",{"$f":"IFERROR(VLOOKUP(F120,[1]Tipo!$C$12:$C$27,1,FALSE),\"NO\")","v":"Prestación de servicios profesionales y de apoyo a la gestión, o para la ejecución de trabajos artísticos que sólo puedan encomendarse a determinadas personas naturales;"},"Inversión",45]
[70,2019,"FDLSUBA-CPS-070-2019","Contratos de prestación de servicios profesionales y de apoyo a la gestión","Contratación directa","Prestación de servicios profesionales y de apoyo a la gestión, o para la ejecución de trabajos artísticos que sólo puedan encomendarse a determinadas personas naturales;","PRESTAR SERVICIOS DE APOYO EN LAS ACTIVIDADES ADMINISTRATIVAS EN EL AREA DE GESTION DEL DESARROLLO LOCAL, PARA EL LOGRO DE LAS METAS DE GESTION DE LA VIGENCIA. NO HAY 15855.","Inversión",45,{"$f":"IF(ISERROR(VLOOKUP(I121,[1]Eje_Pilar!$C$2:$E$47,2,FALSE)),\" \",VLOOKUP(I121,[1]Eje_Pilar!$C$2:$E$47,2,FALSE))","v":"Gobernanza e influencia local, regional e internacional"},{"$f":"IF(ISERROR(VLOOKUP(I121,[1]Eje_Pilar!$C$2:$E$47,3,FALSE)),\" \",VLOOKUP(I121,[1]Eje_Pilar!$C$2:$E$47,3,FALSE))","v":"Eje Transversal 4 Gobierno Legitimo, Fortalecimiento Local y Eficiencia"},"3-3-1-15-07-45-1478-000",52588770,"BLANCA PILAR SUAREZ CHACON",40250000,null,0,1,700000,40950000,34650000,"2019-02-04","2019-02-04","2020-01-21",345,21,null,null,null,"X",null,84.615384615384613,{"$f":"IF(SUMPRODUCT((A$14:A121=A121)*(B$14:B121=B121)*(C$14:C121=C121))>1,0,1)","v":1},0,0,0,1,0,"Contratos de prestación de servicios profesionales y de apoyo a la gestión","Contratación directa",{"$f":"IFERROR(VLOOKUP(F121,[1]Tipo!$C$12:$C$27,1,FALSE),\"NO\")","v":"Prestación de servicios profesionales y de apoyo a la gestión, o para la ejecución de trabajos artísticos que sólo puedan encomendarse a determinadas personas naturales;"},"Inversión",45]
[71,2019,"FDLSUBA-CPS-071-2019","Contratos de prestación de servicios profesionales y de apoyo a la gestión","Contratación directa","Prestación de servicios profesionales y de apoyo a la gestión, o para la ejecución de trabajos artísticos que sólo puedan encomendarse a determinadas personas naturales;","PRESTAR LOS SERVICIOS PROFESIONALES PARA COORDINAR, LIDERAR Y ASESORAR LOS PLANES Y ESTRATEGIAS DE COMUNICACION INTERNA Y EXTERNA PARA LA DIVULGACION DE LOS PROGRAMAS, PROYECTOS Y ACTIVIDADES DE LA ALCALDIA LOCAL DE SUBA. NO HAY 15272.","Inversión",45,{"$f":"IF(ISERROR(VLOOKUP(I122,[1]Eje_Pilar!$C$2:$E$47,2,FALSE)),\" \",VLOOKUP(I122,[1]Eje_Pilar!$C$2:$E$47,2,FALSE))","v":"Gobernanza e influencia local, regional e internacional"},{"$f":"IF(ISERROR(VLOOKUP(I122,[1]Eje_Pilar!$C$2:$E$47,3,FALSE)),\" \",VLOOKUP(I122,[1]Eje_Pilar!$C$2:$E$47,3,FALSE))","v":"Eje Transversal 4 Gobierno Legitimo, Fortalecimiento Local y Eficiencia"},"3-3-1-15-07-45-1478-000",52869347,"CAROLINA  RESTREPO ARIAS",79350000,null,0,null,0,79350000,66700000,"2019-02-05","2019-02-05","2020-01-21",345,21,null,null,null,"X",null,84.05797101449275,{"$f":"IF(SUMPRODUCT((A$14:A122=A122)*(B$14:B122=B122)*(C$14:C122=C122))>1,0,1)","v":1},0,0,0,1,0,"Contratos de prestación de servicios profesionales y de apoyo a la gestión","Contratación directa",{"$f":"IFERROR(VLOOKUP(F122,[1]Tipo!$C$12:$C$27,1,FALSE),\"NO\")","v":"Prestación de servicios profesionales y de apoyo a la gestión, o para la ejecución de trabajos artísticos que sólo puedan encomendarse a determinadas personas naturales;"},"Inversión",45]
[72,2019,"FDLSUBA-CPS-072-2019","Contratos de prestación de servicios profesionales y de apoyo a la gestión","Contratación directa","Prestación de servicios profesionales y de apoyo a la gestión, o para la ejecución de trabajos artísticos que sólo puedan encomendarse a determinadas personas naturales;","PRESTAR SERVICIOS PROFESIONALES ESPECIALIZADOS EN EL AREA DE GESTION DEL DESARROLLO LOCAL DE LA ALCALDIA LOCAL DE SUBA EN EL AREA DE PLANEACION, PARA LOGRAR EL CUMPLIMIENTO DE LAS METAS DEL PLAN DE DESARROLLO LOCAL DE LA VIGENCIA. NO HAY 15856.","Inversión",45,{"$f":"IF(ISERROR(VLOOKUP(I123,[1]Eje_Pilar!$C$2:$E$47,2,FALSE)),\" \",VLOOKUP(I123,[1]Eje_Pilar!$C$2:$E$47,2,FALSE))","v":"Gobernanza e influencia local, regional e internacional"},{"$f":"IF(ISERROR(VLOOKUP(I123,[1]Eje_Pilar!$C$2:$E$47,3,FALSE)),\" \",VLOOKUP(I123,[1]Eje_Pilar!$C$2:$E$47,3,FALSE))","v":"Eje Transversal 4 Gobierno Legitimo, Fortalecimiento Local y Eficiencia"},"3-3-1-15-07-45-1478-000",80257080,"YURY ANDRES SANTOS PETREL",80948500,null,0,1,1407800,82356300,69686100,"2019-02-04","2019-02-04","2020-01-21",345,21,null,null,null,"X",null,84.615384615384613,{"$f":"IF(SUMPRODUCT((A$14:A123=A123)*(B$14:B123=B123)*(C$14:C123=C123))>1,0,1)","v":1},0,0,0,1,0,"Contratos de prestación de servicios profesionales y de apoyo a la gestión","Contratación directa",{"$f":"IFERROR(VLOOKUP(F123,[1]Tipo!$C$12:$C$27,1,FALSE),\"NO\")","v":"Prestación de servicios profesionales y de apoyo a la gestión, o para la ejecución de trabajos artísticos que sólo puedan encomendarse a determinadas personas naturales;"},"Inversión",45]
[73,2019,"FDLSUBA-CPS-073-2019","Contratos de prestación de servicios profesionales y de apoyo a la gestión","Contratación directa","Prestación de servicios profesionales y de apoyo a la gestión, o para la ejecución de trabajos artísticos que sólo puedan encomendarse a determinadas personas naturales;","PRESTAR SERVICIOS PROFESIONALES ESPECIALIZADOS EN EL AREA DE GESTION DEL DESARROLLO LOCAL DE LA ALCALDIA LOCAL DE SUBA EN EL AREA DE PLANEACION, PARA LOGRAR EL CUMPLIMIENTO DE LAS METAS DEL PLAN DE DESARROLLO LOCAL DE LA VIGENCIA. NO HAY 15856.","Inversión",45,{"$f":"IF(ISERROR(VLOOKUP(I124,[1]Eje_Pilar!$C$2:$E$47,2,FALSE)),\" \",VLOOKUP(I124,[1]Eje_Pilar!$C$2:$E$47,2,FALSE))","v":"Gobernanza e influencia local, regional e internacional"},{"$f":"IF(ISERROR(VLOOKUP(I124,[1]Eje_Pilar!$C$2:$E$47,3,FALSE)),\" \",VLOOKUP(I124,[1]Eje_Pilar!$C$2:$E$47,3,FALSE))","v":"Eje Transversal 4 Gobierno Legitimo, Fortalecimiento Local y Eficiencia"},"3-3-1-15-07-45-1478-000",79230850,"LUIS JAVIER GOUSY AMORTEGUI",80948500,null,0,1,1407800,82356300,69686100,"2019-02-04","2019-02-04","2020-01-21",345,21,null,null,null,"X",null,84.615384615384613,{"$f":"IF(SUMPRODUCT((A$14:A124=A124)*(B$14:B124=B124)*(C$14:C124=C124))>1,0,1)","v":1},0,0,0,1,0,"Contratos de prestación de servicios profesionales y de apoyo a la gestión","Contratación directa",{"$f":"IFERROR(VLOOKUP(F124,[1]Tipo!$C$12:$C$27,1,FALSE),\"NO\")","v":"Prestación de servicios profesionales y de apoyo a la gestión, o para la ejecución de trabajos artísticos que sólo puedan encomendarse a determinadas personas naturales;"},"Inversión",45]
[74,2019,"FDLSUBA-CPS-074-2019","Contratos de prestación de servicios profesionales y de apoyo a la gestión","Contratación directa","Prestación de servicios profesionales y de apoyo a la gestión, o para la ejecución de trabajos artísticos que sólo puedan encomendarse a determinadas personas naturales;","PRESTAR SERVICIOS PROFESIONALES AL AREA DE GESTION DEL DESARROLLO LOCAL DE LA ALCALDIA LOCAL DE SUBA, PARA APOYAR LA SUPERVISION DE CONTRATOS DE LOS PROYECTOS QUE LE SEAN ASIGNADOS. NO HAY 14591.","Inversión",45,{"$f":"IF(ISERROR(VLOOKUP(I125,[1]Eje_Pilar!$C$2:$E$47,2,FALSE)),\" \",VLOOKUP(I125,[1]Eje_Pilar!$C$2:$E$47,2,FALSE))","v":"Gobernanza e influencia local, regional e internacional"},{"$f":"IF(ISERROR(VLOOKUP(I125,[1]Eje_Pilar!$C$2:$E$47,3,FALSE)),\" \",VLOOKUP(I125,[1]Eje_Pilar!$C$2:$E$47,3,FALSE))","v":"Eje Transversal 4 Gobierno Legitimo, Fortalecimiento Local y Eficiencia"},"3-3-1-15-07-45-1478-000",77020940,"ENRIQUE ALFREDO HERRERA ARAUJO",72450000,null,0,1,840000,73290000,61950000,"2019-02-05","2019-02-05","2020-01-21",345,21,null,null,null,"X",null,84.527220630372497,{"$f":"IF(SUMPRODUCT((A$14:A125=A125)*(B$14:B125=B125)*(C$14:C125=C125))>1,0,1)","v":1},0,0,0,1,0,"Contratos de prestación de servicios profesionales y de apoyo a la gestión","Contratación directa",{"$f":"IFERROR(VLOOKUP(F125,[1]Tipo!$C$12:$C$27,1,FALSE),\"NO\")","v":"Prestación de servicios profesionales y de apoyo a la gestión, o para la ejecución de trabajos artísticos que sólo puedan encomendarse a determinadas personas naturales;"},"Inversión",45]
[75,2019,"FDLSUBA-CPS-075-2019","Contratos de prestación de servicios profesionales y de apoyo a la gestión","Contratación directa","Prestación de servicios profesionales y de apoyo a la gestión, o para la ejecución de trabajos artísticos que sólo puedan encomendarse a determinadas personas naturales;","¿Prestar los servicios asistenciales en la Alcaldía Local de Suba, especialmente para apoyar la gestión documental del área de Gestión Policiva, acompañando al equipo jurídico de Depuración en las labores operativas que genera el proceso de impulso de las actuaciones administrativas existentes en la localidad.¿. NO HAY 14571.","Inversión",45,{"$f":"IF(ISERROR(VLOOKUP(I126,[1]Eje_Pilar!$C$2:$E$47,2,FALSE)),\" \",VLOOKUP(I126,[1]Eje_Pilar!$C$2:$E$47,2,FALSE))","v":"Gobernanza e influencia local, regional e internacional"},{"$f":"IF(ISERROR(VLOOKUP(I126,[1]Eje_Pilar!$C$2:$E$47,3,FALSE)),\" \",VLOOKUP(I126,[1]Eje_Pilar!$C$2:$E$47,3,FALSE))","v":"Eje Transversal 4 Gobierno Legitimo, Fortalecimiento Local y Eficiencia"},"3-3-1-15-07-45-1481-000",80759813,"OMAR EDUARDO SUPELANO MARQUEZ",25116000,null,0,1,436800,25552800,21548800,"2019-02-05","2019-02-05","2020-01-21",345,21,null,null,null,"X",null,84.330484330484339,{"$f":"IF(SUMPRODUCT((A$14:A126=A126)*(B$14:B126=B126)*(C$14:C126=C126))>1,0,1)","v":1},0,0,0,1,0,"Contratos de prestación de servicios profesionales y de apoyo a la gestión","Contratación directa",{"$f":"IFERROR(VLOOKUP(F126,[1]Tipo!$C$12:$C$27,1,FALSE),\"NO\")","v":"Prestación de servicios profesionales y de apoyo a la gestión, o para la ejecución de trabajos artísticos que sólo puedan encomendarse a determinadas personas naturales;"},"Inversión",45]
[76,2019,"FDLSUBA-CPS-076-2019","Contratos de prestación de servicios profesionales y de apoyo a la gestión","Contratación directa","Prestación de servicios profesionales y de apoyo a la gestión, o para la ejecución de trabajos artísticos que sólo puedan encomendarse a determinadas personas naturales;","¿Prestar los servicios asistenciales en la Alcaldía Local de Suba, especialmente para apoyar la gestión documental del área de Gestión Policiva, acompañando al equipo jurídico de Depuración en las labores operativas que genera el proceso de impulso de las actuaciones administrativas existentes en la localidad.¿. NO HAY 14571.","Inversión",45,{"$f":"IF(ISERROR(VLOOKUP(I127,[1]Eje_Pilar!$C$2:$E$47,2,FALSE)),\" \",VLOOKUP(I127,[1]Eje_Pilar!$C$2:$E$47,2,FALSE))","v":"Gobernanza e influencia local, regional e internacional"},{"$f":"IF(ISERROR(VLOOKUP(I127,[1]Eje_Pilar!$C$2:$E$47,3,FALSE)),\" \",VLOOKUP(I127,[1]Eje_Pilar!$C$2:$E$47,3,FALSE))","v":"Eje Transversal 4 Gobierno Legitimo, Fortalecimiento Local y Eficiencia"},"3-3-1-15-07-45-1481-000",103376982,"EDWARD JAMIR LOZANO VERA",25116000,null,0,1,436800,25552800,21548800,"2019-02-05","2019-02-05","2020-01-21",345,21,null,null,null,"X",null,84.330484330484339,{"$f":"IF(SUMPRODUCT((A$14:A127=A127)*(B$14:B127=B127)*(C$14:C127=C127))>1,0,1)","v":1},0,0,0,1,0,"Contratos de prestación de servicios profesionales y de apoyo a la gestión","Contratación directa",{"$f":"IFERROR(VLOOKUP(F127,[1]Tipo!$C$12:$C$27,1,FALSE),\"NO\")","v":"Prestación de servicios profesionales y de apoyo a la gestión, o para la ejecución de trabajos artísticos que sólo puedan encomendarse a determinadas personas naturales;"},"Inversión",45]
[77,2019,"FDLSUBA-CPS-077-2019","Contratos de prestación de servicios profesionales y de apoyo a la gestión","Contratación directa","Prestación de servicios profesionales y de apoyo a la gestión, o para la ejecución de trabajos artísticos que sólo puedan encomendarse a determinadas personas naturales;","¿Prestar servicios profesionales en el Área de Gestión del Desarrollo Local de la Alcaldía Local de Suba en el área de planeación, para lograr el cumplimiento de las metas del plan de desarrollo local de la vigencia¿. NO HAY 14605.","Inversión",45,{"$f":"IF(ISERROR(VLOOKUP(I128,[1]Eje_Pilar!$C$2:$E$47,2,FALSE)),\" \",VLOOKUP(I128,[1]Eje_Pilar!$C$2:$E$47,2,FALSE))","v":"Gobernanza e influencia local, regional e internacional"},{"$f":"IF(ISERROR(VLOOKUP(I128,[1]Eje_Pilar!$C$2:$E$47,3,FALSE)),\" \",VLOOKUP(I128,[1]Eje_Pilar!$C$2:$E$47,3,FALSE))","v":"Eje Transversal 4 Gobierno Legitimo, Fortalecimiento Local y Eficiencia"},"3-3-1-15-07-45-1478-000",98570119,"NESTOR JOSE LARA BARRIOS",72450000,null,0,null,0,72450000,60690000,"2019-02-12","2019-02-12","2019-12-31",345,null,null,null,null,"X",null,83.768115942028984,{"$f":"IF(SUMPRODUCT((A$14:A128=A128)*(B$14:B128=B128)*(C$14:C128=C128))>1,0,1)","v":1},0,0,0,1,0,"Contratos de prestación de servicios profesionales y de apoyo a la gestión","Contratación directa",{"$f":"IFERROR(VLOOKUP(F128,[1]Tipo!$C$12:$C$27,1,FALSE),\"NO\")","v":"Prestación de servicios profesionales y de apoyo a la gestión, o para la ejecución de trabajos artísticos que sólo puedan encomendarse a determinadas personas naturales;"},"Inversión",45]
[78,2019,"FDLSUBA-CPS-078-2019","Contratos de prestación de servicios profesionales y de apoyo a la gestión","Contratación directa","Prestación de servicios profesionales y de apoyo a la gestión, o para la ejecución de trabajos artísticos que sólo puedan encomendarse a determinadas personas naturales;","PRESTAR SERVICIOS DE APOYO PROFESIONAL AL AREA DE GESTION DEL DESARROLLO LOCAL EN LA OFICINA DE CONTABILIDAD PARA ADELANTAR LAS ACTIVIDADES QUE DEN CUMPLIMIENTO A PROCEDIMIENTOS, ADMINISTRATIVOS Y CONTABLES APLICABLES.","Inversión",45,{"$f":"IF(ISERROR(VLOOKUP(I129,[1]Eje_Pilar!$C$2:$E$47,2,FALSE)),\" \",VLOOKUP(I129,[1]Eje_Pilar!$C$2:$E$47,2,FALSE))","v":"Gobernanza e influencia local, regional e internacional"},{"$f":"IF(ISERROR(VLOOKUP(I129,[1]Eje_Pilar!$C$2:$E$47,3,FALSE)),\" \",VLOOKUP(I129,[1]Eje_Pilar!$C$2:$E$47,3,FALSE))","v":"Eje Transversal 4 Gobierno Legitimo, Fortalecimiento Local y Eficiencia"},"3-3-1-15-07-45-1478-000",51924201,"LUZ ANGELA RAMIREZ ORTEGON",69300000,null,0,1,3780000,73080000,61740000,"2019-02-06","2019-02-06","2020-01-21",330,21,null,null,null,"X",null,84.482758620689651,{"$f":"IF(SUMPRODUCT((A$14:A129=A129)*(B$14:B129=B129)*(C$14:C129=C129))>1,0,1)","v":1},0,0,0,1,0,{"$f":"11*30","v":330},"Contratación directa",{"$f":"IFERROR(VLOOKUP(F129,[1]Tipo!$C$12:$C$27,1,FALSE),\"NO\")","v":"Prestación de servicios profesionales y de apoyo a la gestión, o para la ejecución de trabajos artísticos que sólo puedan encomendarse a determinadas personas naturales;"},"Inversión",45]
[79,2019,"FDLSUBA-CPS-079-2019","Contratos de prestación de servicios profesionales y de apoyo a la gestión","Contratación directa","Prestación de servicios profesionales y de apoyo a la gestión, o para la ejecución de trabajos artísticos que sólo puedan encomendarse a determinadas personas naturales;","PRESTAR SERVICIOS PROFESIONALES PARA LA OPERACION, SEGUIMIENTO Y CUMPLIMIENTO DE LOS PROCESOS Y PROCEDIMIENTOS DEL SERVICIO SOCIAL APOYO ECONOMICO TIPO C, REQUERIDOS PARA EL OPORTUNO Y ADECUADO REGISTRO, CRUCE Y REPORTE DE LOS DATOS EN EL SISTEMA DE INFORMACION Y REGISTRO DE BENEFICIARIOS SIRBE, QUE CONTRIBUYAN A LA GARANTIA DE LOS DERECHOS DE LA POBLACION MAYOR EN EL MARCO DE LA POLITICA PUBLICA SOCIAL PARA EL ENVEJECIMIENTO Y LA VEJEZ EN EL DISTRITO CAPITAL A CARGO DE LA ALCALDIA LOCAL. NO HAY 15009.","Inversión",3,{"$f":"IF(ISERROR(VLOOKUP(I130,[1]Eje_Pilar!$C$2:$E$47,2,FALSE)),\" \",VLOOKUP(I130,[1]Eje_Pilar!$C$2:$E$47,2,FALSE))","v":"Igualdad y autonomía para una Bogotá incluyente"},{"$f":"IF(ISERROR(VLOOKUP(I130,[1]Eje_Pilar!$C$2:$E$47,3,FALSE)),\" \",VLOOKUP(I130,[1]Eje_Pilar!$C$2:$E$47,3,FALSE))","v":"Pilar 1 Igualdad de Calidad de Vida"},"3-3-1-15-01-03-1427-000",52840007,"DENISSE ELISA MATIZ HERRERA",50600000,null,0,1,2606667,53206667,41706666,"2019-02-08","2019-02-08","2020-01-21",330,21,null,null,null,"X",null,78.386165402918394,{"$f":"IF(SUMPRODUCT((A$14:A130=A130)*(B$14:B130=B130)*(C$14:C130=C130))>1,0,1)","v":1},0,0,0,1,0,"Contratos de prestación de servicios profesionales y de apoyo a la gestión","Contratación directa",{"$f":"IFERROR(VLOOKUP(F130,[1]Tipo!$C$12:$C$27,1,FALSE),\"NO\")","v":"Prestación de servicios profesionales y de apoyo a la gestión, o para la ejecución de trabajos artísticos que sólo puedan encomendarse a determinadas personas naturales;"},"Inversión",3]
[80,2019,"FDLSUBA-CPS-080-2019","Contratos de prestación de servicios profesionales y de apoyo a la gestión","Contratación directa","Prestación de servicios profesionales y de apoyo a la gestión, o para la ejecución de trabajos artísticos que sólo puedan encomendarse a determinadas personas naturales;","PRESTAR SERVICIOS DE APOYO EN EL AREA DE GESTION DEL DESARROLLO LOCAL, REALIZANDO LAS LABORES ASISTENCIALES PARA LAS ACTIVIDADES ENCAMINADAS EN LAS DIFERENTES ETAPAS CONTRACTUALES DE LOS PROCESOS DE ADQUISICION DE BIENES Y SERVICIOS QUE REALICE EL FONDO DE DESARROLLO LOCAL DE SUBA. NO HAY 15860.","Inversión",45,{"$f":"IF(ISERROR(VLOOKUP(I131,[1]Eje_Pilar!$C$2:$E$47,2,FALSE)),\" \",VLOOKUP(I131,[1]Eje_Pilar!$C$2:$E$47,2,FALSE))","v":"Gobernanza e influencia local, regional e internacional"},{"$f":"IF(ISERROR(VLOOKUP(I131,[1]Eje_Pilar!$C$2:$E$47,3,FALSE)),\" \",VLOOKUP(I131,[1]Eje_Pilar!$C$2:$E$47,3,FALSE))","v":"Eje Transversal 4 Gobierno Legitimo, Fortalecimiento Local y Eficiencia"},"3-3-1-15-07-45-1478-000",1233895755,"BRAYAN STIVEN SUAREZ BORJA",33000000,null,0,1,1700000,34700000,29300000,"2019-02-07","2019-02-07","2020-01-21",330,21,null,null,null,"X",null,84.438040345821335,{"$f":"IF(SUMPRODUCT((A$14:A131=A131)*(B$14:B131=B131)*(C$14:C131=C131))>1,0,1)","v":1},0,0,0,1,0,"Contratos de prestación de servicios profesionales y de apoyo a la gestión","Contratación directa",{"$f":"IFERROR(VLOOKUP(F131,[1]Tipo!$C$12:$C$27,1,FALSE),\"NO\")","v":"Prestación de servicios profesionales y de apoyo a la gestión, o para la ejecución de trabajos artísticos que sólo puedan encomendarse a determinadas personas naturales;"},"Inversión",45]
[81,2019,"FDLSUBA-CPS-081-2019","Contratos de prestación de servicios profesionales y de apoyo a la gestión","Contratación directa","Prestación de servicios profesionales y de apoyo a la gestión, o para la ejecución de trabajos artísticos que sólo puedan encomendarse a determinadas personas naturales;","¿Prestar los servicios profesionales como abogado en la Alcaldía Local de Suba, principalmente en todas las gestiones jurídicas y administrativas en materia de Propiedad Horizontal.¿. NO HAY 14589.","Inversión",45,{"$f":"IF(ISERROR(VLOOKUP(I132,[1]Eje_Pilar!$C$2:$E$47,2,FALSE)),\" \",VLOOKUP(I132,[1]Eje_Pilar!$C$2:$E$47,2,FALSE))","v":"Gobernanza e influencia local, regional e internacional"},{"$f":"IF(ISERROR(VLOOKUP(I132,[1]Eje_Pilar!$C$2:$E$47,3,FALSE)),\" \",VLOOKUP(I132,[1]Eje_Pilar!$C$2:$E$47,3,FALSE))","v":"Eje Transversal 4 Gobierno Legitimo, Fortalecimiento Local y Eficiencia"},"3-3-1-15-07-45-1481-000",1032376922,"DANIEL FRANCISCO MATIZ RODRIGUEZ",50600000,null,0,1,1840000,52440000,44160000,"2019-02-07","2019-02-07","2020-01-21",330,21,null,null,null,"X",null,84.210526315789465,{"$f":"IF(SUMPRODUCT((A$14:A132=A132)*(B$14:B132=B132)*(C$14:C132=C132))>1,0,1)","v":1},0,0,0,1,0,"Contratos de prestación de servicios profesionales y de apoyo a la gestión","Contratación directa",{"$f":"IFERROR(VLOOKUP(F132,[1]Tipo!$C$12:$C$27,1,FALSE),\"NO\")","v":"Prestación de servicios profesionales y de apoyo a la gestión, o para la ejecución de trabajos artísticos que sólo puedan encomendarse a determinadas personas naturales;"},"Inversión",45]
[82,2019,"FDLSUBA-CPS-082-2019","Contratos de prestación de servicios profesionales y de apoyo a la gestión","Contratación directa","Prestación de servicios profesionales y de apoyo a la gestión, o para la ejecución de trabajos artísticos que sólo puedan encomendarse a determinadas personas naturales;","APOYAR JURIDICAMENTE LA EJECUCION DE LAS ACCIONES REQUERIDAS PARA LA DEPURACION DE LAS ACTUACIONES ADMINISTRATIVAS QUE CURSAN EN LA ALCALDIA LOCAL. NO HAY 14565.","Inversión",45,{"$f":"IF(ISERROR(VLOOKUP(I133,[1]Eje_Pilar!$C$2:$E$47,2,FALSE)),\" \",VLOOKUP(I133,[1]Eje_Pilar!$C$2:$E$47,2,FALSE))","v":"Gobernanza e influencia local, regional e internacional"},{"$f":"IF(ISERROR(VLOOKUP(I133,[1]Eje_Pilar!$C$2:$E$47,3,FALSE)),\" \",VLOOKUP(I133,[1]Eje_Pilar!$C$2:$E$47,3,FALSE))","v":"Eje Transversal 4 Gobierno Legitimo, Fortalecimiento Local y Eficiencia"},"3-3-1-15-07-45-1478-000",1069477300,"MARIA DEL PILAR MUÑOZ ALVAREZ",50600000,null,0,1,2606667,53206667,44926666,"2019-02-08","2019-02-08","2020-01-21",330,21,null,null,null,"X",null,84.438038563851407,{"$f":"IF(SUMPRODUCT((A$14:A133=A133)*(B$14:B133=B133)*(C$14:C133=C133))>1,0,1)","v":1},0,0,0,1,0,"Contratos de prestación de servicios profesionales y de apoyo a la gestión","Contratación directa",{"$f":"IFERROR(VLOOKUP(F133,[1]Tipo!$C$12:$C$27,1,FALSE),\"NO\")","v":"Prestación de servicios profesionales y de apoyo a la gestión, o para la ejecución de trabajos artísticos que sólo puedan encomendarse a determinadas personas naturales;"},"Inversión",45]
[83,2019,"FDLSUBA-CPS-083-2019","Contratos de prestación de servicios profesionales y de apoyo a la gestión","Contratación directa","Prestación de servicios profesionales y de apoyo a la gestión, o para la ejecución de trabajos artísticos que sólo puedan encomendarse a determinadas personas naturales;","¿Prestar los servicios como operario de maquinaria amarilla del Área Gestión del Desarrollo De la Alcaldía local de Suba¿. NO HAY 14560.","Inversión",18,{"$f":"IF(ISERROR(VLOOKUP(I134,[1]Eje_Pilar!$C$2:$E$47,2,FALSE)),\" \",VLOOKUP(I134,[1]Eje_Pilar!$C$2:$E$47,2,FALSE))","v":"Mejor movilidad para todos"},{"$f":"IF(ISERROR(VLOOKUP(I134,[1]Eje_Pilar!$C$2:$E$47,3,FALSE)),\" \",VLOOKUP(I134,[1]Eje_Pilar!$C$2:$E$47,3,FALSE))","v":"Pilar 2 Democracía Urbana"},"3-3-1-15-02-18-1506-000",79985679,"FREDDY  RODRIGUEZ CASTELLANOS",24024000,null,0,null,0,24024000,19146400,"2019-02-08","2019-02-08","2019-12-31",330,null,null,null,null,"X",null,79.696969696969703,{"$f":"IF(SUMPRODUCT((A$14:A134=A134)*(B$14:B134=B134)*(C$14:C134=C134))>1,0,1)","v":1},0,0,0,1,0,"Contratos de prestación de servicios profesionales y de apoyo a la gestión","Contratación directa",{"$f":"IFERROR(VLOOKUP(F134,[1]Tipo!$C$12:$C$27,1,FALSE),\"NO\")","v":"Prestación de servicios profesionales y de apoyo a la gestión, o para la ejecución de trabajos artísticos que sólo puedan encomendarse a determinadas personas naturales;"},"Inversión",18]
[84,2019,"FDLSUBA-CPS-084-2019","Contratos de prestación de servicios profesionales y de apoyo a la gestión","Contratación directa","Prestación de servicios profesionales y de apoyo a la gestión, o para la ejecución de trabajos artísticos que sólo puedan encomendarse a determinadas personas naturales;","¿Prestar los servicios como operario de maquinaria amarilla del Área Gestión del Desarrollo De la Alcaldía local de Suba¿. NO HAY 14560.","Inversión",18,{"$f":"IF(ISERROR(VLOOKUP(I135,[1]Eje_Pilar!$C$2:$E$47,2,FALSE)),\" \",VLOOKUP(I135,[1]Eje_Pilar!$C$2:$E$47,2,FALSE))","v":"Mejor movilidad para todos"},{"$f":"IF(ISERROR(VLOOKUP(I135,[1]Eje_Pilar!$C$2:$E$47,3,FALSE)),\" \",VLOOKUP(I135,[1]Eje_Pilar!$C$2:$E$47,3,FALSE))","v":"Pilar 2 Democracía Urbana"},"3-3-1-15-02-18-1506-000",4228947,"LUIS ALBERTO ZAMBRANO CASTELLANOS",24024000,null,0,1,1237600,25261600,21330400,"2019-02-07","2019-02-07","2020-01-21",330,21,null,null,null,"X",null,84.438040345821335,{"$f":"IF(SUMPRODUCT((A$14:A135=A135)*(B$14:B135=B135)*(C$14:C135=C135))>1,0,1)","v":1},0,0,0,1,0,"Contratos de prestación de servicios profesionales y de apoyo a la gestión","Contratación directa",{"$f":"IFERROR(VLOOKUP(F135,[1]Tipo!$C$12:$C$27,1,FALSE),\"NO\")","v":"Prestación de servicios profesionales y de apoyo a la gestión, o para la ejecución de trabajos artísticos que sólo puedan encomendarse a determinadas personas naturales;"},"Inversión",18]
[85,2019,"FDLSUBA-CPS-085-2019","Contratos de prestación de servicios profesionales y de apoyo a la gestión","Contratación directa","Prestación de servicios profesionales y de apoyo a la gestión, o para la ejecución de trabajos artísticos que sólo puedan encomendarse a determinadas personas naturales;","¿Prestar los servicios como operario de maquinaria amarilla del Área Gestión del Desarrollo De la Alcaldía local de Suba¿. NO HAY 14560.","Inversión",18,{"$f":"IF(ISERROR(VLOOKUP(I136,[1]Eje_Pilar!$C$2:$E$47,2,FALSE)),\" \",VLOOKUP(I136,[1]Eje_Pilar!$C$2:$E$47,2,FALSE))","v":"Mejor movilidad para todos"},{"$f":"IF(ISERROR(VLOOKUP(I136,[1]Eje_Pilar!$C$2:$E$47,3,FALSE)),\" \",VLOOKUP(I136,[1]Eje_Pilar!$C$2:$E$47,3,FALSE))","v":"Pilar 2 Democracía Urbana"},"3-3-1-15-02-18-1506-000",80265981,"GERMAN  SANCHEZ SANCHEZ",24024000,null,0,1,1241600,25265600,21330400,"2019-02-08","2019-02-08","2020-01-21",330,21,null,null,null,"X",null,84.424672281679435,{"$f":"IF(SUMPRODUCT((A$14:A136=A136)*(B$14:B136=B136)*(C$14:C136=C136))>1,0,1)","v":1},0,0,0,1,0,"Contratos de prestación de servicios profesionales y de apoyo a la gestión","Contratación directa",{"$f":"IFERROR(VLOOKUP(F136,[1]Tipo!$C$12:$C$27,1,FALSE),\"NO\")","v":"Prestación de servicios profesionales y de apoyo a la gestión, o para la ejecución de trabajos artísticos que sólo puedan encomendarse a determinadas personas naturales;"},"Inversión",18]
[86,2019,"FDLSUBA-CPS-086-2019","Contratos de prestación de servicios profesionales y de apoyo a la gestión","Contratación directa","Prestación de servicios profesionales y de apoyo a la gestión, o para la ejecución de trabajos artísticos que sólo puedan encomendarse a determinadas personas naturales;","PRESTAR SERVICIOS PROFESIONALES EN EL AREA DE GESTION DEL DESARROLLO LOCAL EN LA ALCALDIA LOCAL DE SUBA, EN TEMAS SOCIALES EN MATERIA DE INFRAESTRUCTURA, PARA LOGRAR EL CUMPLIMIENTO DE LAS METAS DEL PLAN DE DESARROLLO LOCAL DE LA VIGENCIA. NO HAY 15910.","Inversión",18,{"$f":"IF(ISERROR(VLOOKUP(I137,[1]Eje_Pilar!$C$2:$E$47,2,FALSE)),\" \",VLOOKUP(I137,[1]Eje_Pilar!$C$2:$E$47,2,FALSE))","v":"Mejor movilidad para todos"},{"$f":"IF(ISERROR(VLOOKUP(I137,[1]Eje_Pilar!$C$2:$E$47,3,FALSE)),\" \",VLOOKUP(I137,[1]Eje_Pilar!$C$2:$E$47,3,FALSE))","v":"Pilar 2 Democracía Urbana"},"3-3-1-15-02-18-1506-000",53041995,"SHIRLEY  SAENZ BUITRAGO",50600000,null,0,1,1933333,52533333,44159999,"2019-02-08","2019-02-08","2020-01-21",330,21,null,null,null,"X",null,84.060912335411871,{"$f":"IF(SUMPRODUCT((A$14:A137=A137)*(B$14:B137=B137)*(C$14:C137=C137))>1,0,1)","v":1},0,0,0,1,0,"Contratos de prestación de servicios profesionales y de apoyo a la gestión","Contratación directa",{"$f":"IFERROR(VLOOKUP(F137,[1]Tipo!$C$12:$C$27,1,FALSE),\"NO\")","v":"Prestación de servicios profesionales y de apoyo a la gestión, o para la ejecución de trabajos artísticos que sólo puedan encomendarse a determinadas personas naturales;"},"Inversión",18]
[null,2019,null,"Otros gastos",null,null,"AUNAR RECURSOS TECNICOS Y ADMINISTRATIVOS PARA GARANTIZAR LA ENTREGA DEL SUBSIDIO ECONOMICO TIPO C A LAS PERSONAS MAYORES BENEFICIARIAS DEL SERVICIO SOCIAL SUBSIDIOS ECONOMICOS QUE SON ATENDIDAS CON RECURSOS DE LOS FONDOS DE DESAROLLO LOCAL EN EL MARCO DE LA POLITICA PUBLICA SOCIAL PARA EL ENVEJECIMIENTO Y LA VEJEZ EN EL DISTRITO CAPITAL.","Inversión",3,{"$f":"IF(ISERROR(VLOOKUP(I138,[1]Eje_Pilar!$C$2:$E$47,2,FALSE)),\" \",VLOOKUP(I138,[1]Eje_Pilar!$C$2:$E$47,2,FALSE))","v":"Igualdad y autonomía para una Bogotá incluyente"},{"$f":"IF(ISERROR(VLOOKUP(I138,[1]Eje_Pilar!$C$2:$E$47,3,FALSE)),\" \",VLOOKUP(I138,[1]Eje_Pilar!$C$2:$E$47,3,FALSE))","v":"Pilar 1 Igualdad de Calidad de Vida"},"3-3-1-15-01-03-1427-000",52793510,"CAJA DE COMPENSACION FAMILIAR - COMPENSAR",3060000000,null,0,null,0,3060000000,3060000000,"2019-02-28","2019-02-28","2019-12-31",306,null,null,null,null,"X",null,100,{"$f":"IF(SUMPRODUCT((A$14:A138=A138)*(B$14:B138=B138)*(C$14:C138=C138))>1,0,1)","v":0},0,0,0,0,0,"Otros gastos","NO",{"$f":"IFERROR(VLOOKUP(F138,[1]Tipo!$C$12:$C$27,1,FALSE),\"NO\")","v":"NO"},"Inversión",3]
[87,2019,"FDLSUBA-CPS-087-2019","Contratos de prestación de servicios profesionales y de apoyo a la gestión","Contratación directa","Prestación de servicios profesionales y de apoyo a la gestión, o para la ejecución de trabajos artísticos que sólo puedan encomendarse a determinadas personas naturales;","Prestar Apoyo técnico en el Área de Gestión del Desarrollo Local en el área de planeación, para lograr el cumplimiento de las metas del plan de desarrollo local de la vigencia¿. NO HAY 15928.|27500000|0|0|27500000|24083333|3416667","Inversión",45,{"$f":"IF(ISERROR(VLOOKUP(I139,[1]Eje_Pilar!$C$2:$E$47,2,FALSE)),\" \",VLOOKUP(I139,[1]Eje_Pilar!$C$2:$E$47,2,FALSE))","v":"Gobernanza e influencia local, regional e internacional"},{"$f":"IF(ISERROR(VLOOKUP(I139,[1]Eje_Pilar!$C$2:$E$47,3,FALSE)),\" \",VLOOKUP(I139,[1]Eje_Pilar!$C$2:$E$47,3,FALSE))","v":"Eje Transversal 4 Gobierno Legitimo, Fortalecimiento Local y Eficiencia"},"3-3-1-15-07-45-1478-000",52329311,"MARIA CRISTINA BERNAL ROMERO",27500000,null,0,1,1083333,28583333,24083333,"2019-02-11","2019-02-11","2020-01-21",330,21,null,null,null,"X",null,84.256559583166876,{"$f":"IF(SUMPRODUCT((A$14:A139=A139)*(B$14:B139=B139)*(C$14:C139=C139))>1,0,1)","v":1},0,0,0,1,0,"Contratos de prestación de servicios profesionales y de apoyo a la gestión","Contratación directa",{"$f":"IFERROR(VLOOKUP(F139,[1]Tipo!$C$12:$C$27,1,FALSE),\"NO\")","v":"Prestación de servicios profesionales y de apoyo a la gestión, o para la ejecución de trabajos artísticos que sólo puedan encomendarse a determinadas personas naturales;"},"Inversión",45]
[88,2019,"FDLSUBA-CPS-088-2019","Contratos de prestación de servicios profesionales y de apoyo a la gestión","Contratación directa","Prestación de servicios profesionales y de apoyo a la gestión, o para la ejecución de trabajos artísticos que sólo puedan encomendarse a determinadas personas naturales;","Prestar servicios profesionales al Área de Gestión del Desarrollo local de la Alcaldía local de Suba, para apoyar la supervisión de contratos del proyecto 1427 que le sean asignado¿. NO HAY 15931.|69300000|0|0|69300000|60900000|8400000","Inversión",3,{"$f":"IF(ISERROR(VLOOKUP(I140,[1]Eje_Pilar!$C$2:$E$47,2,FALSE)),\" \",VLOOKUP(I140,[1]Eje_Pilar!$C$2:$E$47,2,FALSE))","v":"Igualdad y autonomía para una Bogotá incluyente"},{"$f":"IF(ISERROR(VLOOKUP(I140,[1]Eje_Pilar!$C$2:$E$47,3,FALSE)),\" \",VLOOKUP(I140,[1]Eje_Pilar!$C$2:$E$47,3,FALSE))","v":"Pilar 1 Igualdad de Calidad de Vida"},"3-3-1-15-01-03-1427-000",79762491,"JOHN ALAIN RAMIREZ CARRILLO",69300000,null,0,1,2940000,72240000,60900000,"2019-02-08","2019-02-08","2020-01-21",330,21,null,null,null,"X",null,84.302325581395351,{"$f":"IF(SUMPRODUCT((A$14:A140=A140)*(B$14:B140=B140)*(C$14:C140=C140))>1,0,1)","v":1},0,0,0,1,0,"Contratos de prestación de servicios profesionales y de apoyo a la gestión","Contratación directa",{"$f":"IFERROR(VLOOKUP(F140,[1]Tipo!$C$12:$C$27,1,FALSE),\"NO\")","v":"Prestación de servicios profesionales y de apoyo a la gestión, o para la ejecución de trabajos artísticos que sólo puedan encomendarse a determinadas personas naturales;"},"Inversión",3]
[89,2019,"FDLSUBA-CPS-089-2019","Contratos de prestación de servicios profesionales y de apoyo a la gestión","Contratación directa","Prestación de servicios profesionales y de apoyo a la gestión, o para la ejecución de trabajos artísticos que sólo puedan encomendarse a determinadas personas naturales;","PRESTAR SERVICIOS TECNICOS EN EL AREA DE GESTION DEL DESARROLLO LOCAL ESPECIALMENTE PARA APOYAR EN LA ATENCION DE ACTIVIDADES AMBIENTALES PROPIAS DE LA ALCALDIA LOCAL DE SUBA PARA LOGRAR CON EL CUMPLIMIENTO DE LAS METAS DEL PLAN DE DESARROLLO LOCAL DE LA VIGENCIA. NO HAY 14783.","Inversión",38,{"$f":"IF(ISERROR(VLOOKUP(I141,[1]Eje_Pilar!$C$2:$E$47,2,FALSE)),\" \",VLOOKUP(I141,[1]Eje_Pilar!$C$2:$E$47,2,FALSE))","v":"Recuperación y manejo de la Estructura Ecológica Principal"},{"$f":"IF(ISERROR(VLOOKUP(I141,[1]Eje_Pilar!$C$2:$E$47,3,FALSE)),\" \",VLOOKUP(I141,[1]Eje_Pilar!$C$2:$E$47,3,FALSE))","v":"Eje Transversal 3 Sostenibilidad Ambiental basada en la eficiencia energética"},"3-3-1-15-06-38-1472-000",1018493757,"ALIX GERALDINE MORA ROA",28750000,null,0,null,0,28750000,24250000,"2019-02-08","2019-02-08","2019-12-31",345,null,null,null,null,"X",null,84.34782608695653,{"$f":"IF(SUMPRODUCT((A$14:A141=A141)*(B$14:B141=B141)*(C$14:C141=C141))>1,0,1)","v":1},0,0,0,1,0,"Contratos de prestación de servicios profesionales y de apoyo a la gestión","Contratación directa",{"$f":"IFERROR(VLOOKUP(F141,[1]Tipo!$C$12:$C$27,1,FALSE),\"NO\")","v":"Prestación de servicios profesionales y de apoyo a la gestión, o para la ejecución de trabajos artísticos que sólo puedan encomendarse a determinadas personas naturales;"},"Inversión",38]
[91,2019,"FDLSUBA-CPS-091-2019","Contratos de prestación de servicios profesionales y de apoyo a la gestión","Contratación directa","Prestación de servicios profesionales y de apoyo a la gestión, o para la ejecución de trabajos artísticos que sólo puedan encomendarse a determinadas personas naturales;","APOYAR AL EQUIPO DE PRENSA Y COMUNICACIONES DE LA ALCALDIA LOCAL MEDIANTE EL REGISTRO, LA EDICION Y LA PRESENTACION DE FOTOGRAFIAS DE LOS ACONTECIMIENTOS, HECHOS Y EVENTOS DE LA ALCALDIA LOCAL EN LOS MEDIOS DE COMUNICACION, ESPECIALMENTE ESCRITOS, DIGITALES Y AUDIOVISUALES. NO HAY 15922.","Inversión",45,{"$f":"IF(ISERROR(VLOOKUP(I142,[1]Eje_Pilar!$C$2:$E$47,2,FALSE)),\" \",VLOOKUP(I142,[1]Eje_Pilar!$C$2:$E$47,2,FALSE))","v":"Gobernanza e influencia local, regional e internacional"},{"$f":"IF(ISERROR(VLOOKUP(I142,[1]Eje_Pilar!$C$2:$E$47,3,FALSE)),\" \",VLOOKUP(I142,[1]Eje_Pilar!$C$2:$E$47,3,FALSE))","v":"Eje Transversal 4 Gobierno Legitimo, Fortalecimiento Local y Eficiencia"},"3-3-1-15-07-45-1478-000",1014242626,"JULY JOHANA SILVA GUTIERREZ",52900000,null,0,1,306667,53206667,44926667,"2019-02-08","2019-02-08","2020-01-21",345,21,null,null,null,"X",null,84.438040443315117,{"$f":"IF(SUMPRODUCT((A$14:A142=A142)*(B$14:B142=B142)*(C$14:C142=C142))>1,0,1)","v":1},0,0,0,1,0,"Contratos de prestación de servicios profesionales y de apoyo a la gestión","Contratación directa",{"$f":"IFERROR(VLOOKUP(F142,[1]Tipo!$C$12:$C$27,1,FALSE),\"NO\")","v":"Prestación de servicios profesionales y de apoyo a la gestión, o para la ejecución de trabajos artísticos que sólo puedan encomendarse a determinadas personas naturales;"},"Inversión",45]
[92,2019,"FDLSUBA-CPS-092-2019","Contratos de prestación de servicios profesionales y de apoyo a la gestión","Contratación directa","Prestación de servicios profesionales y de apoyo a la gestión, o para la ejecución de trabajos artísticos que sólo puedan encomendarse a determinadas personas naturales;","¿Prestar servicios profesionales en el área de gestión del desarrollo local para el cumplimiento de las metas del plan de desarrollo local de la vigencia y atender las competencias ambientales propias de la Alcaldía Local de Suba..¿. NO HAY 15932.","Inversión",38,{"$f":"IF(ISERROR(VLOOKUP(I143,[1]Eje_Pilar!$C$2:$E$47,2,FALSE)),\" \",VLOOKUP(I143,[1]Eje_Pilar!$C$2:$E$47,2,FALSE))","v":"Recuperación y manejo de la Estructura Ecológica Principal"},{"$f":"IF(ISERROR(VLOOKUP(I143,[1]Eje_Pilar!$C$2:$E$47,3,FALSE)),\" \",VLOOKUP(I143,[1]Eje_Pilar!$C$2:$E$47,3,FALSE))","v":"Eje Transversal 3 Sostenibilidad Ambiental basada en la eficiencia energética"},"3-3-1-15-06-38-1472-000",80124523,"JHON ALEXANDER FIERRO MARTINEZ",52900000,null,0,null,0,52900000,44926666,"2019-02-08","2019-02-08","2019-12-31",330,null,null,null,null,"X",null,{"$f":"(IF(ISERROR(U143/T143),\"-\",(U143/T143)))*100","v":84.927534971644619},{"$f":"IF(SUMPRODUCT((A$14:A143=A143)*(B$14:B143=B143)*(C$14:C143=C143))>1,0,1)","v":1},{"$f":"IF(AND(AA143=\"X\",AG143=1 ),1,0)","v":0},{"$f":"IF(AND(AB143=\"X\",AG143=1 ),1,0)","v":0},{"$f":"IF(AND(AC143=\"X\",AG143=1 ),1,0)","v":0},{"$f":"IF(AND(AD143=\"X\",AG143=1 ),1,0)","v":1},{"$f":"IF(AND(AE143=\"X\",AG143=1 ),1,0)","v":0},"Contratos de prestación de servicios profesionales y de apoyo a la gestión","Contratación directa",{"$f":"IFERROR(VLOOKUP(F143,[1]Tipo!$C$12:$C$27,1,FALSE),\"NO\")","v":"Prestación de servicios profesionales y de apoyo a la gestión, o para la ejecución de trabajos artísticos que sólo puedan encomendarse a determinadas personas naturales;"},"Inversión",38]
[93,2019,"FDLSUBA-CPS-093-2019","Contratos de prestación de servicios profesionales y de apoyo a la gestión","Contratación directa","Prestación de servicios profesionales y de apoyo a la gestión, o para la ejecución de trabajos artísticos que sólo puedan encomendarse a determinadas personas naturales;","PRESTAR SERVICIOS PROFESIONALES AL AREA DE GESTION DEL DESARROLLO LOCAL DE LA ALCALDIA LOCAL DE SUBA EN EL APOYO A LA SUPERVISION DE LOS CONTRATOS DE LOS PROYECTOS DE RECREACION Y EL DEPORTE. NO HAY 15921.","Inversión",11,{"$f":"IF(ISERROR(VLOOKUP(I144,[1]Eje_Pilar!$C$2:$E$47,2,FALSE)),\" \",VLOOKUP(I144,[1]Eje_Pilar!$C$2:$E$47,2,FALSE))","v":"Mejores oportunidades para el desarrollo a través de la cultura, la recreación y el deporte"},{"$f":"IF(ISERROR(VLOOKUP(I144,[1]Eje_Pilar!$C$2:$E$47,3,FALSE)),\" \",VLOOKUP(I144,[1]Eje_Pilar!$C$2:$E$47,3,FALSE))","v":"Pilar 1 Igualdad de Calidad de Vida"},"3-3-1-15-01-11-1459-000",79641497,"MARIO GIOVANNI MONROY HERNANDEZ",69300000,null,0,null,0,69300000,60900000,"2019-02-11","2019-02-11","2019-12-31",330,null,null,null,null,"X",null,87.878787878787875,{"$f":"IF(SUMPRODUCT((A$14:A144=A144)*(B$14:B144=B144)*(C$14:C144=C144))>1,0,1)","v":1},0,0,0,1,0,"Contratos de prestación de servicios profesionales y de apoyo a la gestión","Contratación directa",{"$f":"IFERROR(VLOOKUP(F144,[1]Tipo!$C$12:$C$27,1,FALSE),\"NO\")","v":"Prestación de servicios profesionales y de apoyo a la gestión, o para la ejecución de trabajos artísticos que sólo puedan encomendarse a determinadas personas naturales;"},"Inversión",11]
[94,2019,"FDLSUBA-CPS-094-2019","Contratos de prestación de servicios profesionales y de apoyo a la gestión","Contratación directa","Prestación de servicios profesionales y de apoyo a la gestión, o para la ejecución de trabajos artísticos que sólo puedan encomendarse a determinadas personas naturales;","¿Apoyar técnicamente a los responsables e integrantes de los procesos en la implementación de herramientas de gestión, siguiendo los lineamientos metodológicos establecidos por la Oficina Asesora de Planeación de la Secretaría Distrital de Gobierno¿. NO HAY 14565.","Inversión",45,{"$f":"IF(ISERROR(VLOOKUP(I145,[1]Eje_Pilar!$C$2:$E$47,2,FALSE)),\" \",VLOOKUP(I145,[1]Eje_Pilar!$C$2:$E$47,2,FALSE))","v":"Gobernanza e influencia local, regional e internacional"},{"$f":"IF(ISERROR(VLOOKUP(I145,[1]Eje_Pilar!$C$2:$E$47,3,FALSE)),\" \",VLOOKUP(I145,[1]Eje_Pilar!$C$2:$E$47,3,FALSE))","v":"Eje Transversal 4 Gobierno Legitimo, Fortalecimiento Local y Eficiencia"},"3-3-1-15-07-45-1478-000",1026266066,"KATHERIN JOHANNA MORENO CASTAÑEDA",69300000,null,0,1,2940000,72240000,60900000,"2019-02-11","2019-02-11","2020-01-21",330,21,null,null,null,"X",null,84.302325581395351,{"$f":"IF(SUMPRODUCT((A$14:A145=A145)*(B$14:B145=B145)*(C$14:C145=C145))>1,0,1)","v":1},0,0,0,1,0,"Contratos de prestación de servicios profesionales y de apoyo a la gestión","Contratación directa",{"$f":"IFERROR(VLOOKUP(F145,[1]Tipo!$C$12:$C$27,1,FALSE),\"NO\")","v":"Prestación de servicios profesionales y de apoyo a la gestión, o para la ejecución de trabajos artísticos que sólo puedan encomendarse a determinadas personas naturales;"},"Inversión",45]
[95,2019,"FDLSUBA-CPS-095-2019","Contratos de prestación de servicios profesionales y de apoyo a la gestión","Contratación directa","Prestación de servicios profesionales y de apoyo a la gestión, o para la ejecución de trabajos artísticos que sólo puedan encomendarse a determinadas personas naturales;","PRESTAR LOS SERVICIOS PROFESIONALES PARA LIDERAR Y REALIZAR EL LEVANTAMIENTO Y VERIFICACION DEL INVENTARIO DE LOS BIENES MUEBLES PROPIEDAD DE LA ALCALDIA LOCAL DE SUBA. NO HAY 14850.","Inversión",45,{"$f":"IF(ISERROR(VLOOKUP(I146,[1]Eje_Pilar!$C$2:$E$47,2,FALSE)),\" \",VLOOKUP(I146,[1]Eje_Pilar!$C$2:$E$47,2,FALSE))","v":"Gobernanza e influencia local, regional e internacional"},{"$f":"IF(ISERROR(VLOOKUP(I146,[1]Eje_Pilar!$C$2:$E$47,3,FALSE)),\" \",VLOOKUP(I146,[1]Eje_Pilar!$C$2:$E$47,3,FALSE))","v":"Eje Transversal 4 Gobierno Legitimo, Fortalecimiento Local y Eficiencia"},"3-3-1-15-07-45-1478-000",39533107,"MARLENE  TORRES RODRIGUEZ",50600000,null,0,1,1993333,52593333,44313333,"2019-02-11","2019-02-11","2020-01-21",330,21,null,null,null,"X",null,84.256559666982895,{"$f":"IF(SUMPRODUCT((A$14:A146=A146)*(B$14:B146=B146)*(C$14:C146=C146))>1,0,1)","v":1},0,0,0,1,0,"Contratos de prestación de servicios profesionales y de apoyo a la gestión","Contratación directa",{"$f":"IFERROR(VLOOKUP(F146,[1]Tipo!$C$12:$C$27,1,FALSE),\"NO\")","v":"Prestación de servicios profesionales y de apoyo a la gestión, o para la ejecución de trabajos artísticos que sólo puedan encomendarse a determinadas personas naturales;"},"Inversión",45]
[96,2019,"FDLSUBA-CPS-096-2019","Contratos de prestación de servicios profesionales y de apoyo a la gestión","Contratación directa","Prestación de servicios profesionales y de apoyo a la gestión, o para la ejecución de trabajos artísticos que sólo puedan encomendarse a determinadas personas naturales;","¿Apoyar al equipo de prensa y comunicaciones de la Alcaldía Local en la realización de productos y piezas digitales, impresas y publicitarias de gran formato y de animación gráfica, así como apoyar la producción y montaje de eventos.¿. NO HAY 14570.","Inversión",45,{"$f":"IF(ISERROR(VLOOKUP(I147,[1]Eje_Pilar!$C$2:$E$47,2,FALSE)),\" \",VLOOKUP(I147,[1]Eje_Pilar!$C$2:$E$47,2,FALSE))","v":"Gobernanza e influencia local, regional e internacional"},{"$f":"IF(ISERROR(VLOOKUP(I147,[1]Eje_Pilar!$C$2:$E$47,3,FALSE)),\" \",VLOOKUP(I147,[1]Eje_Pilar!$C$2:$E$47,3,FALSE))","v":"Eje Transversal 4 Gobierno Legitimo, Fortalecimiento Local y Eficiencia"},"3-3-1-15-07-45-1478-000",1020729968,"CESAR ANDRES AMARIS MONTERO",50600000,null,0,null,0,50600000,39713333,"2019-02-11","2019-02-11","2019-12-31",330,null,null,null,null,"X",null,78.484847826086963,{"$f":"IF(SUMPRODUCT((A$14:A147=A147)*(B$14:B147=B147)*(C$14:C147=C147))>1,0,1)","v":1},0,0,0,1,0,"Contratos de prestación de servicios profesionales y de apoyo a la gestión","Contratación directa",{"$f":"IFERROR(VLOOKUP(F147,[1]Tipo!$C$12:$C$27,1,FALSE),\"NO\")","v":"Prestación de servicios profesionales y de apoyo a la gestión, o para la ejecución de trabajos artísticos que sólo puedan encomendarse a determinadas personas naturales;"},"Inversión",45]
[97,2019,"FDLSUBA-CPS-097-2019","Contratos de prestación de servicios profesionales y de apoyo a la gestión","Contratación directa","Prestación de servicios profesionales y de apoyo a la gestión, o para la ejecución de trabajos artísticos que sólo puedan encomendarse a determinadas personas naturales;","PRESTAR SERVICIOS TECNICOS EN EL AREA DE GESTION DEL DESARROLLO LOCAL ESPECIALMENTE PARA APOYAR EN LA ATENCION DE ACTIVIDADES AMBIENTALES PROPIAS DE LA ALCALDIA LOCAL DE SUBA PARA LOGRAR CON EL CUMPLIMIENTO DE LAS METAS DEL PLAN DE DESARROLLO LOCAL DE LA VIGENCIA. NO HAY 14783.","Inversión",38,{"$f":"IF(ISERROR(VLOOKUP(I148,[1]Eje_Pilar!$C$2:$E$47,2,FALSE)),\" \",VLOOKUP(I148,[1]Eje_Pilar!$C$2:$E$47,2,FALSE))","v":"Recuperación y manejo de la Estructura Ecológica Principal"},{"$f":"IF(ISERROR(VLOOKUP(I148,[1]Eje_Pilar!$C$2:$E$47,3,FALSE)),\" \",VLOOKUP(I148,[1]Eje_Pilar!$C$2:$E$47,3,FALSE))","v":"Eje Transversal 3 Sostenibilidad Ambiental basada en la eficiencia energética"},"3-3-1-15-06-38-1472-000",52974214,"DIANA MARCELA PEDRAZA NOVA",28750000,null,0,null,0,28750000,24166667,"2019-02-11","2019-02-11","2019-12-31",345,21,null,null,null,"X",null,84.057972173913043,{"$f":"IF(SUMPRODUCT((A$14:A148=A148)*(B$14:B148=B148)*(C$14:C148=C148))>1,0,1)","v":1},0,0,0,1,0,"Contratos de prestación de servicios profesionales y de apoyo a la gestión","Contratación directa",{"$f":"IFERROR(VLOOKUP(F148,[1]Tipo!$C$12:$C$27,1,FALSE),\"NO\")","v":"Prestación de servicios profesionales y de apoyo a la gestión, o para la ejecución de trabajos artísticos que sólo puedan encomendarse a determinadas personas naturales;"},"Inversión",38]
[98,2019,"FDLSUBA-CPS-098-2019","Contratos de prestación de servicios profesionales y de apoyo a la gestión","Contratación directa","Prestación de servicios profesionales y de apoyo a la gestión, o para la ejecución de trabajos artísticos que sólo puedan encomendarse a determinadas personas naturales;","¿Prestar los servicios profesionales para apoyar jurídicamente la ejecución de las acciones requeridas para la depuración de las actuaciones administrativas que cursan en la Alcaldía Local.¿. NO HAY 14569.","Inversión",45,{"$f":"IF(ISERROR(VLOOKUP(I149,[1]Eje_Pilar!$C$2:$E$47,2,FALSE)),\" \",VLOOKUP(I149,[1]Eje_Pilar!$C$2:$E$47,2,FALSE))","v":"Gobernanza e influencia local, regional e internacional"},{"$f":"IF(ISERROR(VLOOKUP(I149,[1]Eje_Pilar!$C$2:$E$47,3,FALSE)),\" \",VLOOKUP(I149,[1]Eje_Pilar!$C$2:$E$47,3,FALSE))","v":"Eje Transversal 4 Gobierno Legitimo, Fortalecimiento Local y Eficiencia"},"3-3-1-15-07-45-1478-000",1020720464,"JORGE ANDRES ANGARITA PARDO",50600000,null,0,1,2146667,52746667,44466667,"2019-02-11","2019-02-11","2020-01-21",330,21,null,null,null,"X",null,84.302325680597036,{"$f":"IF(SUMPRODUCT((A$14:A149=A149)*(B$14:B149=B149)*(C$14:C149=C149))>1,0,1)","v":1},0,0,0,1,0,"Contratos de prestación de servicios profesionales y de apoyo a la gestión","Contratación directa",{"$f":"IFERROR(VLOOKUP(F149,[1]Tipo!$C$12:$C$27,1,FALSE),\"NO\")","v":"Prestación de servicios profesionales y de apoyo a la gestión, o para la ejecución de trabajos artísticos que sólo puedan encomendarse a determinadas personas naturales;"},"Inversión",45]
[99,2019,"FDLSUBA-CPS-099-2019","Contratos de prestación de servicios profesionales y de apoyo a la gestión","Contratación directa","Prestación de servicios profesionales y de apoyo a la gestión, o para la ejecución de trabajos artísticos que sólo puedan encomendarse a determinadas personas naturales;","¿Prestar los servicios de apoyo para realizar el levantamiento, toma física, identificación y verificación del inventario de los bienes muebles propiedad de la Alcaldía Local de Suba¿. NO HAY 15859.","Inversión",45,{"$f":"IF(ISERROR(VLOOKUP(I150,[1]Eje_Pilar!$C$2:$E$47,2,FALSE)),\" \",VLOOKUP(I150,[1]Eje_Pilar!$C$2:$E$47,2,FALSE))","v":"Gobernanza e influencia local, regional e internacional"},{"$f":"IF(ISERROR(VLOOKUP(I150,[1]Eje_Pilar!$C$2:$E$47,3,FALSE)),\" \",VLOOKUP(I150,[1]Eje_Pilar!$C$2:$E$47,3,FALSE))","v":"Eje Transversal 4 Gobierno Legitimo, Fortalecimiento Local y Eficiencia"},"3-3-1-15-07-45-1478-000",80036601,"CAMILO ANDRES GARNICA GONZALEZ",33000000,null,0,1,1300000,34300000,28100000,"2019-02-18","2019-02-18","2020-01-21",330,21,null,null,null,"X",null,81.924198250728864,{"$f":"IF(SUMPRODUCT((A$14:A150=A150)*(B$14:B150=B150)*(C$14:C150=C150))>1,0,1)","v":1},0,0,0,1,0,{"$f":"IFERROR(VLOOKUP(D150,tipo,1,FALSE),\"NO\")","v":"Contratos de prestación de servicios profesionales y de apoyo a la gestión"},{"$f":"IFERROR(VLOOKUP(E150,modal,1,FALSE),\"NO\")","v":"Contratación directa"},{"$f":"IFERROR(VLOOKUP(F150,[1]Tipo!$C$12:$C$27,1,FALSE),\"NO\")","v":"Prestación de servicios profesionales y de apoyo a la gestión, o para la ejecución de trabajos artísticos que sólo puedan encomendarse a determinadas personas naturales;"},{"$f":"IFERROR(VLOOKUP(H150,afectacion,1,FALSE),\"NO\")","v":"Inversión"},{"$f":"IFERROR(VLOOKUP(I150,programa,1,FALSE),\"NO\")","v":45}]
[100,2019,"FDLSUBA-CPS-100-2019","Contratos de prestación de servicios profesionales y de apoyo a la gestión","Contratación directa","Prestación de servicios profesionales y de apoyo a la gestión, o para la ejecución de trabajos artísticos que sólo puedan encomendarse a determinadas personas naturales;","GESTIONAR Y REALIZAR LAS ACTIVIDADES CORRESPONDIENTES PARA EL PROCESO DE REVISION DE GARANTIAS DE LAS OBRAS EN EJECUCION Y TERMINADAS DEL FONDO DE DESARROLLO LOCAL DE SUBA. NO HAY 15906.","Inversión",18,{"$f":"IF(ISERROR(VLOOKUP(I151,[1]Eje_Pilar!$C$2:$E$47,2,FALSE)),\" \",VLOOKUP(I151,[1]Eje_Pilar!$C$2:$E$47,2,FALSE))","v":"Mejor movilidad para todos"},{"$f":"IF(ISERROR(VLOOKUP(I151,[1]Eje_Pilar!$C$2:$E$47,3,FALSE)),\" \",VLOOKUP(I151,[1]Eje_Pilar!$C$2:$E$47,3,FALSE))","v":"Pilar 2 Democracía Urbana"},"3-3-1-15-02-18-1506-000",27535477,"MONICA PATRICIA MARTINEZ",69300000,null,0,1,2310000,71610000,60270000,"2019-02-14","2019-02-14","2020-01-21",330,21,null,null,null,"X",null,84.1642228739003,{"$f":"IF(SUMPRODUCT((A$14:A151=A151)*(B$14:B151=B151)*(C$14:C151=C151))>1,0,1)","v":1},0,0,0,1,0,"Contratos de prestación de servicios profesionales y de apoyo a la gestión","Contratación directa",{"$f":"IFERROR(VLOOKUP(F151,[1]Tipo!$C$12:$C$27,1,FALSE),\"NO\")","v":"Prestación de servicios profesionales y de apoyo a la gestión, o para la ejecución de trabajos artísticos que sólo puedan encomendarse a determinadas personas naturales;"},"Inversión",18]
[101,2019,"FDLSUBA-CPS-101-2019","Contratos de prestación de servicios profesionales y de apoyo a la gestión","Contratación directa","Prestación de servicios profesionales y de apoyo a la gestión, o para la ejecución de trabajos artísticos que sólo puedan encomendarse a determinadas personas naturales;","¿Apoyar administrativa y asistencialmente a las Inspecciones de Policía de la Localidad.¿. NO HAY 14567.","Inversión",45,{"$f":"IF(ISERROR(VLOOKUP(I152,[1]Eje_Pilar!$C$2:$E$47,2,FALSE)),\" \",VLOOKUP(I152,[1]Eje_Pilar!$C$2:$E$47,2,FALSE))","v":"Gobernanza e influencia local, regional e internacional"},{"$f":"IF(ISERROR(VLOOKUP(I152,[1]Eje_Pilar!$C$2:$E$47,3,FALSE)),\" \",VLOOKUP(I152,[1]Eje_Pilar!$C$2:$E$47,3,FALSE))","v":"Eje Transversal 4 Gobierno Legitimo, Fortalecimiento Local y Eficiencia"},"3-3-1-15-07-45-1481-000",1019131782,"NEIDER FARID CASTILLO BORJA",19448000,null,0,1,648267,20096267,16913867,"2019-02-14","2019-02-14","2020-01-21",330,21,null,null,null,"X",null,84.16422313656561,{"$f":"IF(SUMPRODUCT((A$14:A152=A152)*(B$14:B152=B152)*(C$14:C152=C152))>1,0,1)","v":1},0,0,0,1,0,"Contratos de prestación de servicios profesionales y de apoyo a la gestión","Contratación directa",{"$f":"IFERROR(VLOOKUP(F152,[1]Tipo!$C$12:$C$27,1,FALSE),\"NO\")","v":"Prestación de servicios profesionales y de apoyo a la gestión, o para la ejecución de trabajos artísticos que sólo puedan encomendarse a determinadas personas naturales;"},"Inversión",45]
[102,2019,"FDLSUBA-CPS-102-2019","Contratos de prestación de servicios profesionales y de apoyo a la gestión","Contratación directa","Prestación de servicios profesionales y de apoyo a la gestión, o para la ejecución de trabajos artísticos que sólo puedan encomendarse a determinadas personas naturales;","PRESTAR LOS SERVICIOS PROFESIONALES COMO ABOGADO EN LA ALCALDIA LOCAL DE SUBA, PRINCIPALMENTE EN LA REVISION DE LOS IMPULSOS Y PROYECTOS DE ACTOS ADMINISTRATIVOS QUE SE PRODUZCAN DENTRO DE LAS ACTUACIONES ADMINISTRATIVAS QUE CURSAN EN LA ALCALDIA LOCAL. NO HAY 14844.","Inversión",45,{"$f":"IF(ISERROR(VLOOKUP(I153,[1]Eje_Pilar!$C$2:$E$47,2,FALSE)),\" \",VLOOKUP(I153,[1]Eje_Pilar!$C$2:$E$47,2,FALSE))","v":"Gobernanza e influencia local, regional e internacional"},{"$f":"IF(ISERROR(VLOOKUP(I153,[1]Eje_Pilar!$C$2:$E$47,3,FALSE)),\" \",VLOOKUP(I153,[1]Eje_Pilar!$C$2:$E$47,3,FALSE))","v":"Eje Transversal 4 Gobierno Legitimo, Fortalecimiento Local y Eficiencia"},"3-3-1-15-07-45-1481-000",1026552471,"JULIO DANIEL GONZALEZ ASCENCIO",50600000,null,0,1,1686667,52286667,44006666,"2019-02-14","2019-02-14","2020-01-21",330,21,null,null,null,"X",null,84.164221062321687,{"$f":"IF(SUMPRODUCT((A$14:A153=A153)*(B$14:B153=B153)*(C$14:C153=C153))>1,0,1)","v":1},0,0,0,1,0,"Contratos de prestación de servicios profesionales y de apoyo a la gestión","Contratación directa",{"$f":"IFERROR(VLOOKUP(F153,[1]Tipo!$C$12:$C$27,1,FALSE),\"NO\")","v":"Prestación de servicios profesionales y de apoyo a la gestión, o para la ejecución de trabajos artísticos que sólo puedan encomendarse a determinadas personas naturales;"},"Inversión",45]
[103,2019,"FDLSUBA-CPS-103-2019","Contratos de prestación de servicios profesionales y de apoyo a la gestión","Contratación directa","Prestación de servicios profesionales y de apoyo a la gestión, o para la ejecución de trabajos artísticos que sólo puedan encomendarse a determinadas personas naturales;","PRESTAR SERVICIOS PROFESIONALES PARA LA OPERACION, PRESTACION Y SEGUIMIENTO Y CUMPLIMIENTO DE LOS PROCEDIMIENTOS ADMINISTRATIVOS, OPERATIVOS Y PROGRAMATICOS DE LOS SERVICIOS SOCIALES DEL PROYECTO DE SUBSIDIO / APOYO ECONOMICO TIPO C, QUE CONTRIBUYAN A LA GARANTIA DE LOS DERECHOS DE LA POBLACION MAYOR EN EL MARCO DE LA POLITICA PUBLICA SOCIAL PARA EL ENVEJECIMIENTO Y LA VEJEZ EN EL DISTRITO CAPITAL A CARGO DE LA ALCALDIA LOCAL DE SUBA. NO HAY 14803.","Inversión",3,{"$f":"IF(ISERROR(VLOOKUP(I154,[1]Eje_Pilar!$C$2:$E$47,2,FALSE)),\" \",VLOOKUP(I154,[1]Eje_Pilar!$C$2:$E$47,2,FALSE))","v":"Igualdad y autonomía para una Bogotá incluyente"},{"$f":"IF(ISERROR(VLOOKUP(I154,[1]Eje_Pilar!$C$2:$E$47,3,FALSE)),\" \",VLOOKUP(I154,[1]Eje_Pilar!$C$2:$E$47,3,FALSE))","v":"Pilar 1 Igualdad de Calidad de Vida"},"3-3-1-15-01-03-1427-000",52964383,"PAOLA IGNACIA VARGAS ALVAREZ",50600000,null,0,1,1993333,52593333,44313333,"2019-02-12","2019-02-12","2020-01-21",330,21,null,null,null,"X",null,84.256559666982895,{"$f":"IF(SUMPRODUCT((A$14:A154=A154)*(B$14:B154=B154)*(C$14:C154=C154))>1,0,1)","v":1},0,0,0,1,0,"Contratos de prestación de servicios profesionales y de apoyo a la gestión","Contratación directa",{"$f":"IFERROR(VLOOKUP(F154,[1]Tipo!$C$12:$C$27,1,FALSE),\"NO\")","v":"Prestación de servicios profesionales y de apoyo a la gestión, o para la ejecución de trabajos artísticos que sólo puedan encomendarse a determinadas personas naturales;"},"Inversión",3]
[104,2019,"FDLSUBA-CPS-104-2019","Contratos de prestación de servicios profesionales y de apoyo a la gestión","Contratación directa","Prestación de servicios profesionales y de apoyo a la gestión, o para la ejecución de trabajos artísticos que sólo puedan encomendarse a determinadas personas naturales;","PRESTAR SERVICIOS PROFESIONALES PARA LA OPERACION, PRESTACION Y SEGUIMIENTO Y CUMPLIMIENTO DE LOS PROCEDIMIENTOS ADMINISTRATIVOS, OPERATIVOS Y PROGRAMATICOS DE LOS SERVICIOS SOCIALES DEL PROYECTO DE SUBSIDIO / APOYO ECONOMICO TIPO C, QUE CONTRIBUYAN A LA GARANTIA DE LOS DERECHOS DE LA POBLACION MAYOR EN EL MARCO DE LA POLITICA PUBLICA SOCIAL PARA EL ENVEJECIMIENTO Y LA VEJEZ EN EL DISTRITO CAPITAL A CARGO DE LA ALCALDIA LOCAL DE SUBA. NO HAY 14803.","Inversión",3,{"$f":"IF(ISERROR(VLOOKUP(I155,[1]Eje_Pilar!$C$2:$E$47,2,FALSE)),\" \",VLOOKUP(I155,[1]Eje_Pilar!$C$2:$E$47,2,FALSE))","v":"Igualdad y autonomía para una Bogotá incluyente"},{"$f":"IF(ISERROR(VLOOKUP(I155,[1]Eje_Pilar!$C$2:$E$47,3,FALSE)),\" \",VLOOKUP(I155,[1]Eje_Pilar!$C$2:$E$47,3,FALSE))","v":"Pilar 1 Igualdad de Calidad de Vida"},"3-3-1-15-01-03-1427-000",52444244,"GLORIA ASTRID RODRIGUEZ BAQUERO",50600000,null,0,null,0,50600000,44160000,"2019-02-12","2019-02-12","2019-12-31",330,null,null,null,null,"X",null,87.272727272727266,{"$f":"IF(SUMPRODUCT((A$14:A155=A155)*(B$14:B155=B155)*(C$14:C155=C155))>1,0,1)","v":1},0,0,0,1,0,"Contratos de prestación de servicios profesionales y de apoyo a la gestión","Contratación directa",{"$f":"IFERROR(VLOOKUP(F155,[1]Tipo!$C$12:$C$27,1,FALSE),\"NO\")","v":"Prestación de servicios profesionales y de apoyo a la gestión, o para la ejecución de trabajos artísticos que sólo puedan encomendarse a determinadas personas naturales;"},"Inversión",3]
[105,2019,"FDLSUBA-CPS-105-2019","Contratos de prestación de servicios profesionales y de apoyo a la gestión","Contratación directa","Prestación de servicios profesionales y de apoyo a la gestión, o para la ejecución de trabajos artísticos que sólo puedan encomendarse a determinadas personas naturales;","PRESTAR SERVICIOS PROFESIONALES PARA LA OPERACION, PRESTACION Y SEGUIMIENTO Y CUMPLIMIENTO DE LOS PROCEDIMIENTOS ADMINISTRATIVOS, OPERATIVOS Y PROGRAMATICOS DE LOS SERVICIOS SOCIALES DEL PROYECTO DE SUBSIDIO / APOYO ECONOMICO TIPO C, QUE CONTRIBUYAN A LA GARANTIA DE LOS DERECHOS DE LA POBLACION MAYOR EN EL MARCO DE LA POLITICA PUBLICA SOCIAL PARA EL ENVEJECIMIENTO Y LA VEJEZ EN EL DISTRITO CAPITAL A CARGO DE LA ALCALDIA LOCAL DE SUBA. NO HAY 14803.","Inversión",3,{"$f":"IF(ISERROR(VLOOKUP(I156,[1]Eje_Pilar!$C$2:$E$47,2,FALSE)),\" \",VLOOKUP(I156,[1]Eje_Pilar!$C$2:$E$47,2,FALSE))","v":"Igualdad y autonomía para una Bogotá incluyente"},{"$f":"IF(ISERROR(VLOOKUP(I156,[1]Eje_Pilar!$C$2:$E$47,3,FALSE)),\" \",VLOOKUP(I156,[1]Eje_Pilar!$C$2:$E$47,3,FALSE))","v":"Pilar 1 Igualdad de Calidad de Vida"},"3-3-1-15-01-03-1427-000",53067352,"JENNY CAROLINA ACOSTA TALERO",50600000,null,0,1,1686667,52286667,44006667,"2019-02-14","2019-02-14","2020-01-21",330,21,null,null,null,"X",null,84.164222974855136,{"$f":"IF(SUMPRODUCT((A$14:A156=A156)*(B$14:B156=B156)*(C$14:C156=C156))>1,0,1)","v":1},0,0,0,1,0,"Contratos de prestación de servicios profesionales y de apoyo a la gestión","Contratación directa",{"$f":"IFERROR(VLOOKUP(F156,[1]Tipo!$C$12:$C$27,1,FALSE),\"NO\")","v":"Prestación de servicios profesionales y de apoyo a la gestión, o para la ejecución de trabajos artísticos que sólo puedan encomendarse a determinadas personas naturales;"},"Inversión",3]
[106,2019,"FDLSUBA-CPS-106-2019","Contratos de prestación de servicios profesionales y de apoyo a la gestión","Contratación directa","Prestación de servicios profesionales y de apoyo a la gestión, o para la ejecución de trabajos artísticos que sólo puedan encomendarse a determinadas personas naturales;","EL CONTRATO QUE SE PRETENDE CELEBRAR, TENDRA POR OBJETO: PRESTAR LOS SERVICIOS TECNICOS PARA LA OPERACION, SEGUIMIENTO Y CUMPLIMIENTO DE LOS PROCESOS Y PROCEDIMIENTOS DEL SERVICIO SOCIAL APOYOS PARA LA SEGURIDAD ECONOMICA TIPO C, REQUERIDOS PARA EL OPORTUNO Y ADECUADO REGISTRO, CRUCE Y REPORTE DE LOS DATOS EN EL SISTEMA DE INFORMACION Y REGISTRO DE BENEFICIARIOS SIRBE, QUE CONTRIBUYAN A LA GARANTIA DE LOS DERECHOS DE LA POBLACION MAYOR EN EL MARCO DE LA POLITICA PUBLICA SOCIAL PARA EL ENVEJECIMIENTO Y LA VEJEZ EN EL DISTRITO CAPITAL A CARGO DE LA ALCALDIA LOCAL. NO HAY 15008.","Inversión",3,{"$f":"IF(ISERROR(VLOOKUP(I157,[1]Eje_Pilar!$C$2:$E$47,2,FALSE)),\" \",VLOOKUP(I157,[1]Eje_Pilar!$C$2:$E$47,2,FALSE))","v":"Igualdad y autonomía para una Bogotá incluyente"},{"$f":"IF(ISERROR(VLOOKUP(I157,[1]Eje_Pilar!$C$2:$E$47,3,FALSE)),\" \",VLOOKUP(I157,[1]Eje_Pilar!$C$2:$E$47,3,FALSE))","v":"Pilar 1 Igualdad de Calidad de Vida"},"3-3-1-15-01-03-1427-000",52988161,"NANCY ANDREA NIETO PANTOJA",33000000,null,0,null,0,33000000,26900000,"2019-02-13","2019-02-13","2019-12-31",330,null,null,null,null,"X",null,81.515151515151516,{"$f":"IF(SUMPRODUCT((A$14:A157=A157)*(B$14:B157=B157)*(C$14:C157=C157))>1,0,1)","v":1},0,0,0,1,0,"Contratos de prestación de servicios profesionales y de apoyo a la gestión","Contratación directa",{"$f":"IFERROR(VLOOKUP(F157,[1]Tipo!$C$12:$C$27,1,FALSE),\"NO\")","v":"Prestación de servicios profesionales y de apoyo a la gestión, o para la ejecución de trabajos artísticos que sólo puedan encomendarse a determinadas personas naturales;"},"Inversión",3]
[107,2019,"FDLSUBA-CPS-107-2019","Contratos de prestación de servicios profesionales y de apoyo a la gestión","Contratación directa","Prestación de servicios profesionales y de apoyo a la gestión, o para la ejecución de trabajos artísticos que sólo puedan encomendarse a determinadas personas naturales;","¿Apoyar administrativa y asistencialmente a la Alcaldía Local de Suba en las diferentes dependencias con la oportunidad y confidencialidad requerida¿. NO HAY14568.","Inversión",45,{"$f":"IF(ISERROR(VLOOKUP(I158,[1]Eje_Pilar!$C$2:$E$47,2,FALSE)),\" \",VLOOKUP(I158,[1]Eje_Pilar!$C$2:$E$47,2,FALSE))","v":"Gobernanza e influencia local, regional e internacional"},{"$f":"IF(ISERROR(VLOOKUP(I158,[1]Eje_Pilar!$C$2:$E$47,3,FALSE)),\" \",VLOOKUP(I158,[1]Eje_Pilar!$C$2:$E$47,3,FALSE))","v":"Eje Transversal 4 Gobierno Legitimo, Fortalecimiento Local y Eficiencia"},"3-3-1-15-07-45-1481-000",1022349829,"GERMAN RICARDO SILVA CARDENAS",24024000,null,0,null,0,24024000,20820800,"2019-02-14","2019-02-14","2019-12-31",330,null,null,null,null,"X",null,86.666666666666671,{"$f":"IF(SUMPRODUCT((A$14:A158=A158)*(B$14:B158=B158)*(C$14:C158=C158))>1,0,1)","v":1},0,0,0,1,0,"Contratos de prestación de servicios profesionales y de apoyo a la gestión","Contratación directa",{"$f":"IFERROR(VLOOKUP(F158,[1]Tipo!$C$12:$C$27,1,FALSE),\"NO\")","v":"Prestación de servicios profesionales y de apoyo a la gestión, o para la ejecución de trabajos artísticos que sólo puedan encomendarse a determinadas personas naturales;"},"Inversión",45]
[108,2019,"FDLSUBA-CPS-108-2019","Contratos de prestación de servicios profesionales y de apoyo a la gestión","Contratación directa","Prestación de servicios profesionales y de apoyo a la gestión, o para la ejecución de trabajos artísticos que sólo puedan encomendarse a determinadas personas naturales;","¿Apoyar administrativa y asistencialmente a la Alcaldía Local de Suba en las diferentes dependencias con la oportunidad y confidencialidad requerida¿.","Inversión",45,{"$f":"IF(ISERROR(VLOOKUP(I159,[1]Eje_Pilar!$C$2:$E$47,2,FALSE)),\" \",VLOOKUP(I159,[1]Eje_Pilar!$C$2:$E$47,2,FALSE))","v":"Gobernanza e influencia local, regional e internacional"},{"$f":"IF(ISERROR(VLOOKUP(I159,[1]Eje_Pilar!$C$2:$E$47,3,FALSE)),\" \",VLOOKUP(I159,[1]Eje_Pilar!$C$2:$E$47,3,FALSE))","v":"Eje Transversal 4 Gobierno Legitimo, Fortalecimiento Local y Eficiencia"},"3-3-1-15-07-45-1481-000",1010106649,"CATALINA  REYES FORERO",24024000,null,0,null,0,24024000,20893600,"2019-02-14","2019-02-14","2019-12-31",330,null,null,null,null,"X",null,86.969696969696969,{"$f":"IF(SUMPRODUCT((A$14:A159=A159)*(B$14:B159=B159)*(C$14:C159=C159))>1,0,1)","v":1},0,0,0,1,0,"Contratos de prestación de servicios profesionales y de apoyo a la gestión","Contratación directa",{"$f":"IFERROR(VLOOKUP(F159,[1]Tipo!$C$12:$C$27,1,FALSE),\"NO\")","v":"Prestación de servicios profesionales y de apoyo a la gestión, o para la ejecución de trabajos artísticos que sólo puedan encomendarse a determinadas personas naturales;"},"Inversión",45]
[109,2019,"FDLSUBA-CPS-109-2019","Contratos de prestación de servicios profesionales y de apoyo a la gestión","Contratación directa","Prestación de servicios profesionales y de apoyo a la gestión, o para la ejecución de trabajos artísticos que sólo puedan encomendarse a determinadas personas naturales;","Prestar servicios profesionales en materia social para impulsar los procesos de participación ciudadana y fomentar las actividades institucionales para el cumplimiento de las metas de plan de desarrollo local. NO HAY 15902.","Inversión",45,{"$f":"IF(ISERROR(VLOOKUP(I160,[1]Eje_Pilar!$C$2:$E$47,2,FALSE)),\" \",VLOOKUP(I160,[1]Eje_Pilar!$C$2:$E$47,2,FALSE))","v":"Gobernanza e influencia local, regional e internacional"},{"$f":"IF(ISERROR(VLOOKUP(I160,[1]Eje_Pilar!$C$2:$E$47,3,FALSE)),\" \",VLOOKUP(I160,[1]Eje_Pilar!$C$2:$E$47,3,FALSE))","v":"Eje Transversal 4 Gobierno Legitimo, Fortalecimiento Local y Eficiencia"},"3-3-1-15-07-45-1483-000",53064832,"JESSICA ALEXANDRA QUIROZ CAUSIL",50600000,null,0,1,1686666,52286666,44006667,"2019-02-13","2019-02-13","2020-01-21",330,21,null,null,null,"X",null,84.164224584524092,{"$f":"IF(SUMPRODUCT((A$14:A160=A160)*(B$14:B160=B160)*(C$14:C160=C160))>1,0,1)","v":1},0,0,0,1,0,"Contratos de prestación de servicios profesionales y de apoyo a la gestión","Contratación directa",{"$f":"IFERROR(VLOOKUP(F160,[1]Tipo!$C$12:$C$27,1,FALSE),\"NO\")","v":"Prestación de servicios profesionales y de apoyo a la gestión, o para la ejecución de trabajos artísticos que sólo puedan encomendarse a determinadas personas naturales;"},"Inversión",45]
[110,2019,"FDLSUBA-CPS-110-2019","Contratos de prestación de servicios profesionales y de apoyo a la gestión","Contratación directa","Prestación de servicios profesionales y de apoyo a la gestión, o para la ejecución de trabajos artísticos que sólo puedan encomendarse a determinadas personas naturales;","APOYAR JURIDICAMENTE LA EJECUCION DE LAS ACCIONES REQUERIDAS PARA LA DEPURACION DE LAS ACTUACIONES ADMINISTRATIVAS QUE CURSAN EN LA ALCALDIA LOCAL. NO HAY 14565.","Inversión",45,{"$f":"IF(ISERROR(VLOOKUP(I161,[1]Eje_Pilar!$C$2:$E$47,2,FALSE)),\" \",VLOOKUP(I161,[1]Eje_Pilar!$C$2:$E$47,2,FALSE))","v":"Gobernanza e influencia local, regional e internacional"},{"$f":"IF(ISERROR(VLOOKUP(I161,[1]Eje_Pilar!$C$2:$E$47,3,FALSE)),\" \",VLOOKUP(I161,[1]Eje_Pilar!$C$2:$E$47,3,FALSE))","v":"Eje Transversal 4 Gobierno Legitimo, Fortalecimiento Local y Eficiencia"},"3-3-1-15-07-45-1478-000",1032418847,"DIEGO FERNANDO PULIDO CHICA",50600000,null,0,1,1840000,52440000,44160000,"2019-02-13","2019-02-13","2020-01-21",330,21,null,null,null,"X",null,84.210526315789465,{"$f":"IF(SUMPRODUCT((A$14:A161=A161)*(B$14:B161=B161)*(C$14:C161=C161))>1,0,1)","v":1},0,0,0,1,0,"Contratos de prestación de servicios profesionales y de apoyo a la gestión","Contratación directa",{"$f":"IFERROR(VLOOKUP(F161,[1]Tipo!$C$12:$C$27,1,FALSE),\"NO\")","v":"Prestación de servicios profesionales y de apoyo a la gestión, o para la ejecución de trabajos artísticos que sólo puedan encomendarse a determinadas personas naturales;"},"Inversión",45]
[111,2019,"FDLSUBA-CPS-111-2019","Contratos de prestación de servicios profesionales y de apoyo a la gestión","Contratación directa","Prestación de servicios profesionales y de apoyo a la gestión, o para la ejecución de trabajos artísticos que sólo puedan encomendarse a determinadas personas naturales;","Apoyar jurídicamente la ejecución de las acciones requeridas para la depuración de las actuaciones administrativas que cursan en la Alcaldía Local. NO HAY 15929.","Inversión",45,{"$f":"IF(ISERROR(VLOOKUP(I162,[1]Eje_Pilar!$C$2:$E$47,2,FALSE)),\" \",VLOOKUP(I162,[1]Eje_Pilar!$C$2:$E$47,2,FALSE))","v":"Gobernanza e influencia local, regional e internacional"},{"$f":"IF(ISERROR(VLOOKUP(I162,[1]Eje_Pilar!$C$2:$E$47,3,FALSE)),\" \",VLOOKUP(I162,[1]Eje_Pilar!$C$2:$E$47,3,FALSE))","v":"Eje Transversal 4 Gobierno Legitimo, Fortalecimiento Local y Eficiencia"},"3-3-1-15-07-45-1478-000",52990899,"CLAUDIA PATRICIA URREGO MORENO",50600000,null,0,null,0,50600000,44160000,"2019-02-14","2019-02-14","2019-12-31",330,null,null,null,null,"X",null,87.272727272727266,{"$f":"IF(SUMPRODUCT((A$14:A162=A162)*(B$14:B162=B162)*(C$14:C162=C162))>1,0,1)","v":1},0,0,0,1,0,"Contratos de prestación de servicios profesionales y de apoyo a la gestión","Contratación directa",{"$f":"IFERROR(VLOOKUP(F162,[1]Tipo!$C$12:$C$27,1,FALSE),\"NO\")","v":"Prestación de servicios profesionales y de apoyo a la gestión, o para la ejecución de trabajos artísticos que sólo puedan encomendarse a determinadas personas naturales;"},"Inversión",45]
[112,2019,"FDLSUBA-CPS-112-2019","Contratos de prestación de servicios profesionales y de apoyo a la gestión","Contratación directa","Prestación de servicios profesionales y de apoyo a la gestión, o para la ejecución de trabajos artísticos que sólo puedan encomendarse a determinadas personas naturales;","Apoyar jurídicamente la ejecución de las acciones requeridas para la depuración de las actuaciones administrativas que cursan en la Alcaldía Local. NO HAY 15929.","Inversión",45,{"$f":"IF(ISERROR(VLOOKUP(I163,[1]Eje_Pilar!$C$2:$E$47,2,FALSE)),\" \",VLOOKUP(I163,[1]Eje_Pilar!$C$2:$E$47,2,FALSE))","v":"Gobernanza e influencia local, regional e internacional"},{"$f":"IF(ISERROR(VLOOKUP(I163,[1]Eje_Pilar!$C$2:$E$47,3,FALSE)),\" \",VLOOKUP(I163,[1]Eje_Pilar!$C$2:$E$47,3,FALSE))","v":"Eje Transversal 4 Gobierno Legitimo, Fortalecimiento Local y Eficiencia"},"3-3-1-15-07-45-1478-000",7165595,"SERGIO JOSE SARMIENTO CHARRY",50600000,null,0,null,0,50600000,29133333,"2019-02-15","2019-02-15","2019-12-31",330,null,null,null,null,"X",null,57.575756916996049,{"$f":"IF(SUMPRODUCT((A$14:A163=A163)*(B$14:B163=B163)*(C$14:C163=C163))>1,0,1)","v":1},0,0,0,1,0,"Contratos de prestación de servicios profesionales y de apoyo a la gestión","Contratación directa",{"$f":"IFERROR(VLOOKUP(F163,[1]Tipo!$C$12:$C$27,1,FALSE),\"NO\")","v":"Prestación de servicios profesionales y de apoyo a la gestión, o para la ejecución de trabajos artísticos que sólo puedan encomendarse a determinadas personas naturales;"},"Inversión",45]
[113,2019,"FDLSUBA-CPS-113-2019","Contratos de prestación de servicios profesionales y de apoyo a la gestión","Contratación directa","Prestación de servicios profesionales y de apoyo a la gestión, o para la ejecución de trabajos artísticos que sólo puedan encomendarse a determinadas personas naturales;","Apoyar técnicamente las distintas etapas de los procesos de competencia de la Alcaldía Local para la depuración de actuaciones administrativas. NO HAY 15912.","Inversión",45,{"$f":"IF(ISERROR(VLOOKUP(I164,[1]Eje_Pilar!$C$2:$E$47,2,FALSE)),\" \",VLOOKUP(I164,[1]Eje_Pilar!$C$2:$E$47,2,FALSE))","v":"Gobernanza e influencia local, regional e internacional"},{"$f":"IF(ISERROR(VLOOKUP(I164,[1]Eje_Pilar!$C$2:$E$47,3,FALSE)),\" \",VLOOKUP(I164,[1]Eje_Pilar!$C$2:$E$47,3,FALSE))","v":"Eje Transversal 4 Gobierno Legitimo, Fortalecimiento Local y Eficiencia"},"3-3-1-15-07-45-1481-000",80470339,"ANDRES  LOPEZ GARCIA",69300000,null,0,null,0,69300000,59220000,"2019-02-14","2019-02-14","2019-12-31",330,null,null,null,null,"X",null,85.454545454545453,{"$f":"IF(SUMPRODUCT((A$14:A164=A164)*(B$14:B164=B164)*(C$14:C164=C164))>1,0,1)","v":1},0,0,0,1,0,"Contratos de prestación de servicios profesionales y de apoyo a la gestión","Contratación directa",{"$f":"IFERROR(VLOOKUP(F164,[1]Tipo!$C$12:$C$27,1,FALSE),\"NO\")","v":"Prestación de servicios profesionales y de apoyo a la gestión, o para la ejecución de trabajos artísticos que sólo puedan encomendarse a determinadas personas naturales;"},"Inversión",45]
[114,2019,"FDLSUBA-CPS-114-2019","Contratos de prestación de servicios profesionales y de apoyo a la gestión","Contratación directa","Prestación de servicios profesionales y de apoyo a la gestión, o para la ejecución de trabajos artísticos que sólo puedan encomendarse a determinadas personas naturales;","Apoyar jurídicamente la ejecución de las acciones requeridas para el trámite e impulso procesal de las actuaciones contravencionales y/o querellas que cursen en las Inspecciones de Policía de la Localidad. NO HAY 15858.","Inversión",45,{"$f":"IF(ISERROR(VLOOKUP(I165,[1]Eje_Pilar!$C$2:$E$47,2,FALSE)),\" \",VLOOKUP(I165,[1]Eje_Pilar!$C$2:$E$47,2,FALSE))","v":"Gobernanza e influencia local, regional e internacional"},{"$f":"IF(ISERROR(VLOOKUP(I165,[1]Eje_Pilar!$C$2:$E$47,3,FALSE)),\" \",VLOOKUP(I165,[1]Eje_Pilar!$C$2:$E$47,3,FALSE))","v":"Eje Transversal 4 Gobierno Legitimo, Fortalecimiento Local y Eficiencia"},"3-3-1-15-07-45-1481-000",1024470158,"ANGELA JOHANA PATIÑO QUIROGA",50600000,null,0,null,0,50600000,42933333,"2019-02-14","2019-02-14","2019-12-31",330,null,null,null,null,"X",null,84.848484189723322,{"$f":"IF(SUMPRODUCT((A$14:A165=A165)*(B$14:B165=B165)*(C$14:C165=C165))>1,0,1)","v":1},0,0,0,1,0,"Contratos de prestación de servicios profesionales y de apoyo a la gestión","Contratación directa",{"$f":"IFERROR(VLOOKUP(F165,[1]Tipo!$C$12:$C$27,1,FALSE),\"NO\")","v":"Prestación de servicios profesionales y de apoyo a la gestión, o para la ejecución de trabajos artísticos que sólo puedan encomendarse a determinadas personas naturales;"},"Inversión",45]
[null,2019,null,"Otros gastos",null,null,"PAGO ARL CONTRATISTAS DEL FONDO DE DESARROLLO LOCAL DE SUBA VIGENCIA 2019, SEGUN RESOLUCIONES No.115 DEL 14 DE MARZO DE 2019 Y No.152 DEL 04 DE ABRIL DE 2019 DE LA ALCALDIA LOCAL DE SUBA.","Inversión",18,{"$f":"IF(ISERROR(VLOOKUP(I166,[1]Eje_Pilar!$C$2:$E$47,2,FALSE)),\" \",VLOOKUP(I166,[1]Eje_Pilar!$C$2:$E$47,2,FALSE))","v":"Mejor movilidad para todos"},{"$f":"IF(ISERROR(VLOOKUP(I166,[1]Eje_Pilar!$C$2:$E$47,3,FALSE)),\" \",VLOOKUP(I166,[1]Eje_Pilar!$C$2:$E$47,3,FALSE))","v":"Pilar 2 Democracía Urbana"},"3-3-1-15-02-18-1506-000",null,"POSITIVA COMPAÑIA DE SEGUROS SA",7162000,null,0,null,0,7162000,7162000,"2019-04-09","2019-04-09","2019-12-31",266,null,null,null,"X",null,null,100,{"$f":"IF(SUMPRODUCT((A$14:A166=A166)*(B$14:B166=B166)*(C$14:C166=C166))>1,0,1)","v":0},0,0,0,0,0,"Otros gastos","NO",{"$f":"IFERROR(VLOOKUP(F166,[1]Tipo!$C$12:$C$27,1,FALSE),\"NO\")","v":"NO"},"Inversión",18]
[null,2019,null,"Otros gastos",null,null,"PAGO ARL CONTRATISTAS DEL FONDO DE DESARROLLO LOCAL DE SUBA VIGENCIA 2019, SEGUN RESOLUCIONES No.115 DEL 14 DE MARZO DE 2019 Y No.152 DEL 04 DE ABRIL DE 2019 DE LA ALCALDIA LOCAL DE SUBA.","Inversión",19,{"$f":"IF(ISERROR(VLOOKUP(I167,[1]Eje_Pilar!$C$2:$E$47,2,FALSE)),\" \",VLOOKUP(I167,[1]Eje_Pilar!$C$2:$E$47,2,FALSE))","v":"Seguridad y convivencia para todos"},{"$f":"IF(ISERROR(VLOOKUP(I167,[1]Eje_Pilar!$C$2:$E$47,3,FALSE)),\" \",VLOOKUP(I167,[1]Eje_Pilar!$C$2:$E$47,3,FALSE))","v":"Pilar 3 Construcción de Comunidad y Cultura Ciudadana"},"3-3-1-15-03-19-1469-000",null,"POSITIVA COMPAÑIA DE SEGUROS SA",8124000,null,0,null,0,8124000,8124000,"2019-04-09","2019-04-09","2019-12-31",266,null,null,null,"X",null,null,100,{"$f":"IF(SUMPRODUCT((A$14:A167=A167)*(B$14:B167=B167)*(C$14:C167=C167))>1,0,1)","v":0},0,0,0,0,0,"Otros gastos","NO",{"$f":"IFERROR(VLOOKUP(F167,[1]Tipo!$C$12:$C$27,1,FALSE),\"NO\")","v":"NO"},"Inversión",19]
[null,2019,null,"Otros gastos",null,null,"PAGO ARL CONTRATISTAS DEL FONDO DE DESARROLLO LOCAL DE SUBA VIGENCIA 2019, SEGUN RESOLUCIONES No.115 DEL 14 DE MARZO DE 2019 Y No.152 DEL 04 DE ABRIL DE 2019 DE LA ALCALDIA LOCAL DE SUBA.","Inversión",45,{"$f":"IF(ISERROR(VLOOKUP(I168,[1]Eje_Pilar!$C$2:$E$47,2,FALSE)),\" \",VLOOKUP(I168,[1]Eje_Pilar!$C$2:$E$47,2,FALSE))","v":"Gobernanza e influencia local, regional e internacional"},{"$f":"IF(ISERROR(VLOOKUP(I168,[1]Eje_Pilar!$C$2:$E$47,3,FALSE)),\" \",VLOOKUP(I168,[1]Eje_Pilar!$C$2:$E$47,3,FALSE))","v":"Eje Transversal 4 Gobierno Legitimo, Fortalecimiento Local y Eficiencia"},"3-3-1-15-07-45-1478-000",null,"POSITIVA COMPAÑIA DE SEGUROS SA",4263000,null,0,null,0,4263000,4263000,"2019-04-09","2019-04-09","2019-12-31",266,null,null,null,"X",null,null,100,{"$f":"IF(SUMPRODUCT((A$14:A168=A168)*(B$14:B168=B168)*(C$14:C168=C168))>1,0,1)","v":0},0,0,0,0,0,"Otros gastos","NO",{"$f":"IFERROR(VLOOKUP(F168,[1]Tipo!$C$12:$C$27,1,FALSE),\"NO\")","v":"NO"},"Inversión",45]
[115,2019,"FDLSUBA-CPS-115-2019","Contratos de prestación de servicios profesionales y de apoyo a la gestión","Contratación directa","Prestación de servicios profesionales y de apoyo a la gestión, o para la ejecución de trabajos artísticos que sólo puedan encomendarse a determinadas personas naturales;","Apoyar técnicamente las distintas etapas de los procesos de competencia de la Alcaldía Local para la depuración de actuaciones administrativas. NO HAY 15912.","Inversión",45,{"$f":"IF(ISERROR(VLOOKUP(I169,[1]Eje_Pilar!$C$2:$E$47,2,FALSE)),\" \",VLOOKUP(I169,[1]Eje_Pilar!$C$2:$E$47,2,FALSE))","v":"Gobernanza e influencia local, regional e internacional"},{"$f":"IF(ISERROR(VLOOKUP(I169,[1]Eje_Pilar!$C$2:$E$47,3,FALSE)),\" \",VLOOKUP(I169,[1]Eje_Pilar!$C$2:$E$47,3,FALSE))","v":"Eje Transversal 4 Gobierno Legitimo, Fortalecimiento Local y Eficiencia"},"3-3-1-15-07-45-1481-000",19489509,"SAUL  TORRES DUEÑAS",69300000,null,0,1,1260000,70560000,59220000,"2019-02-14","2019-02-14","2020-01-21",330,21,null,null,null,"X",null,83.928571428571431,{"$f":"IF(SUMPRODUCT((A$14:A169=A169)*(B$14:B169=B169)*(C$14:C169=C169))>1,0,1)","v":1},0,0,0,1,0,"Contratos de prestación de servicios profesionales y de apoyo a la gestión","Contratación directa",{"$f":"IFERROR(VLOOKUP(F169,[1]Tipo!$C$12:$C$27,1,FALSE),\"NO\")","v":"Prestación de servicios profesionales y de apoyo a la gestión, o para la ejecución de trabajos artísticos que sólo puedan encomendarse a determinadas personas naturales;"},"Inversión",45]
[116,2019,"FDLSUBA-CPS-116-2019","Contratos de prestación de servicios profesionales y de apoyo a la gestión","Contratación directa","Prestación de servicios profesionales y de apoyo a la gestión, o para la ejecución de trabajos artísticos que sólo puedan encomendarse a determinadas personas naturales;","PRESTAR SERVICIOS DE APOYO A LOS ARCHIVOS DE GESTION DE LA ENTIDAD EN LA IMPLEMENTACION DE LOS PROCESOS DE CLASIFICACION, ORDENACION, SELECCION NATURAL, FOLIACION, IDENTIFICACION, LEVANTAMIENTO DE INVENTARIOS, ALMACENAMIENTO Y APLICACION DE PROTOCOLOS DE ELIMINACION Y TRANSFERENCIAS DOCUMENTALES. NO HAY 15414.","Inversión",45,{"$f":"IF(ISERROR(VLOOKUP(I170,[1]Eje_Pilar!$C$2:$E$47,2,FALSE)),\" \",VLOOKUP(I170,[1]Eje_Pilar!$C$2:$E$47,2,FALSE))","v":"Gobernanza e influencia local, regional e internacional"},{"$f":"IF(ISERROR(VLOOKUP(I170,[1]Eje_Pilar!$C$2:$E$47,3,FALSE)),\" \",VLOOKUP(I170,[1]Eje_Pilar!$C$2:$E$47,3,FALSE))","v":"Eje Transversal 4 Gobierno Legitimo, Fortalecimiento Local y Eficiencia"},"3-3-1-15-07-45-1478-000",79633658,"JOSE LIBARDO CASTAÑEDA SERRANO",24024000,null,0,1,800800,24824800,20893600,"2019-02-14","2019-02-14","2020-01-21",330,21,null,null,null,"X",null,84.1642228739003,{"$f":"IF(SUMPRODUCT((A$14:A170=A170)*(B$14:B170=B170)*(C$14:C170=C170))>1,0,1)","v":1},0,0,0,1,0,"Contratos de prestación de servicios profesionales y de apoyo a la gestión","Contratación directa",{"$f":"IFERROR(VLOOKUP(F170,[1]Tipo!$C$12:$C$27,1,FALSE),\"NO\")","v":"Prestación de servicios profesionales y de apoyo a la gestión, o para la ejecución de trabajos artísticos que sólo puedan encomendarse a determinadas personas naturales;"},"Inversión",45]
[117,2019,"FDLSUBA-CPS-117-2019","Contratos de prestación de servicios profesionales y de apoyo a la gestión","Contratación directa","Prestación de servicios profesionales y de apoyo a la gestión, o para la ejecución de trabajos artísticos que sólo puedan encomendarse a determinadas personas naturales;","PRESTAR SERVICIOS DE APOYO A LOS ARCHIVOS DE GESTION DE LA ENTIDAD EN LA IMPLEMENTACION DE LOS PROCESOS DE CLASIFICACION, ORDENACION, SELECCION NATURAL, FOLIACION, IDENTIFICACION, LEVANTAMIENTO DE INVENTARIOS, ALMACENAMIENTO Y APLICACION DE PROTOCOLOS DE ELIMINACION Y TRANSFERENCIAS DOCUMENTALES. NO HAY 15414.","Inversión",45,{"$f":"IF(ISERROR(VLOOKUP(I171,[1]Eje_Pilar!$C$2:$E$47,2,FALSE)),\" \",VLOOKUP(I171,[1]Eje_Pilar!$C$2:$E$47,2,FALSE))","v":"Gobernanza e influencia local, regional e internacional"},{"$f":"IF(ISERROR(VLOOKUP(I171,[1]Eje_Pilar!$C$2:$E$47,3,FALSE)),\" \",VLOOKUP(I171,[1]Eje_Pilar!$C$2:$E$47,3,FALSE))","v":"Eje Transversal 4 Gobierno Legitimo, Fortalecimiento Local y Eficiencia"},"3-3-1-15-07-45-1478-000",52788301,"JOHANNA  PERILLA PLAZAS",24024000,null,0,null,0,24024000,20893600,"2019-02-14","2019-02-14","2019-12-31",330,null,null,null,null,"X",null,86.969696969696969,{"$f":"IF(SUMPRODUCT((A$14:A171=A171)*(B$14:B171=B171)*(C$14:C171=C171))>1,0,1)","v":1},0,0,0,1,0,"Contratos de prestación de servicios profesionales y de apoyo a la gestión","Contratación directa",{"$f":"IFERROR(VLOOKUP(F171,[1]Tipo!$C$12:$C$27,1,FALSE),\"NO\")","v":"Prestación de servicios profesionales y de apoyo a la gestión, o para la ejecución de trabajos artísticos que sólo puedan encomendarse a determinadas personas naturales;"},"Inversión",45]
[118,2019,"FDLSUBA-CPS-118-2019","Contratos de prestación de servicios profesionales y de apoyo a la gestión","Contratación directa","Prestación de servicios profesionales y de apoyo a la gestión, o para la ejecución de trabajos artísticos que sólo puedan encomendarse a determinadas personas naturales;","PRESTAR SERVICIOS DE APOYO A LOS ARCHIVOS DE GESTION DE LA ENTIDAD EN LA IMPLEMENTACION DE LOS PROCESOS DE CLASIFICACION, ORDENACION, SELECCION NATURAL, FOLIACION, IDENTIFICACION, LEVANTAMIENTO DE INVENTARIOS, ALMACENAMIENTO Y APLICACION DE PROTOCOLOS DE ELIMINACION Y TRANSFERENCIAS DOCUMENTALES. NO HAY 15414.","Inversión",45,{"$f":"IF(ISERROR(VLOOKUP(I172,[1]Eje_Pilar!$C$2:$E$47,2,FALSE)),\" \",VLOOKUP(I172,[1]Eje_Pilar!$C$2:$E$47,2,FALSE))","v":"Gobernanza e influencia local, regional e internacional"},{"$f":"IF(ISERROR(VLOOKUP(I172,[1]Eje_Pilar!$C$2:$E$47,3,FALSE)),\" \",VLOOKUP(I172,[1]Eje_Pilar!$C$2:$E$47,3,FALSE))","v":"Eje Transversal 4 Gobierno Legitimo, Fortalecimiento Local y Eficiencia"},"3-3-1-15-07-45-1478-000",1019106771,"NATALIA  NARANJO MAZO",24024000,null,0,null,0,24024000,20529600,"2019-02-14","2019-02-14","2019-12-31",330,null,null,null,null,"X",null,85.454545454545453,{"$f":"IF(SUMPRODUCT((A$14:A172=A172)*(B$14:B172=B172)*(C$14:C172=C172))>1,0,1)","v":1},0,0,0,1,0,"Contratos de prestación de servicios profesionales y de apoyo a la gestión","Contratación directa",{"$f":"IFERROR(VLOOKUP(F172,[1]Tipo!$C$12:$C$27,1,FALSE),\"NO\")","v":"Prestación de servicios profesionales y de apoyo a la gestión, o para la ejecución de trabajos artísticos que sólo puedan encomendarse a determinadas personas naturales;"},"Inversión",45]
[119,2019,"FDLSUBA-CPS-119-2019","Contratos de prestación de servicios profesionales y de apoyo a la gestión","Contratación directa","Prestación de servicios profesionales y de apoyo a la gestión, o para la ejecución de trabajos artísticos que sólo puedan encomendarse a determinadas personas naturales;","PRESTAR SERVICIOS DE APOYO A LOS ARCHIVOS DE GESTION DE LA ENTIDAD EN LA IMPLEMENTACION DE LOS PROCESOS DE CLASIFICACION, ORDENACION, SELECCION NATURAL, FOLIACION, IDENTIFICACION, LEVANTAMIENTO DE INVENTARIOS, ALMACENAMIENTO Y APLICACION DE PROTOCOLOS DE ELIMINACION Y TRANSFERENCIAS DOCUMENTALES. NO HAY 15414.","Inversión",45,{"$f":"IF(ISERROR(VLOOKUP(I173,[1]Eje_Pilar!$C$2:$E$47,2,FALSE)),\" \",VLOOKUP(I173,[1]Eje_Pilar!$C$2:$E$47,2,FALSE))","v":"Gobernanza e influencia local, regional e internacional"},{"$f":"IF(ISERROR(VLOOKUP(I173,[1]Eje_Pilar!$C$2:$E$47,3,FALSE)),\" \",VLOOKUP(I173,[1]Eje_Pilar!$C$2:$E$47,3,FALSE))","v":"Eje Transversal 4 Gobierno Legitimo, Fortalecimiento Local y Eficiencia"},"3-3-1-15-07-45-1478-000",1019050045,"DIEGO ALEJANDRO PATARROYO PINILLA",24024000,null,0,1,800800,24824800,20893600,"2019-02-14","2019-02-14","2020-01-21",330,21,null,null,null,"X",null,84.1642228739003,{"$f":"IF(SUMPRODUCT((A$14:A173=A173)*(B$14:B173=B173)*(C$14:C173=C173))>1,0,1)","v":1},0,0,0,1,0,"Contratos de prestación de servicios profesionales y de apoyo a la gestión","Contratación directa",{"$f":"IFERROR(VLOOKUP(F173,[1]Tipo!$C$12:$C$27,1,FALSE),\"NO\")","v":"Prestación de servicios profesionales y de apoyo a la gestión, o para la ejecución de trabajos artísticos que sólo puedan encomendarse a determinadas personas naturales;"},"Inversión",45]
[null,2019,null,"Otros gastos",null,null,"CAJA MENOR ALCALDIA LOCAL DE SUBA VIGENCIA 2019.","Funcionamiento","No aplica",{"$f":"IF(ISERROR(VLOOKUP(I174,[1]Eje_Pilar!$C$2:$E$47,2,FALSE)),\" \",VLOOKUP(I174,[1]Eje_Pilar!$C$2:$E$47,2,FALSE))","v":" "},{"$f":"IF(ISERROR(VLOOKUP(I174,[1]Eje_Pilar!$C$2:$E$47,3,FALSE)),\" \",VLOOKUP(I174,[1]Eje_Pilar!$C$2:$E$47,3,FALSE))","v":" "},"3-1-2-02-02-01-0006-001",null,"ALCALDIA LOCAL DE SUBA",28000000,null,0,null,0,28000000,17619450,"2019-04-03","2019-04-03","2019-12-31",null,null,null,null,null,null,null,62.926607142857137,{"$f":"IF(SUMPRODUCT((A$14:A174=A174)*(B$14:B174=B174)*(C$14:C174=C174))>1,0,1)","v":0},0,0,0,0,0,"Otros gastos","NO",{"$f":"IFERROR(VLOOKUP(F174,[1]Tipo!$C$12:$C$27,1,FALSE),\"NO\")","v":"NO"},"Funcionamiento","NO"]
[120,2019,"FDLSUBA-CPS-120-2019","Contratos de prestación de servicios profesionales y de apoyo a la gestión","Contratación directa","Prestación de servicios profesionales y de apoyo a la gestión, o para la ejecución de trabajos artísticos que sólo puedan encomendarse a determinadas personas naturales;","PRESTAR SERVICIOS DE APOYO A LOS ARCHIVOS DE GESTION DE LA ENTIDAD EN LA IMPLEMENTACION DE LOS PROCESOS DE CLASIFICACION, ORDENACION, SELECCION NATURAL, FOLIACION, IDENTIFICACION, LEVANTAMIENTO DE INVENTARIOS, ALMACENAMIENTO Y APLICACION DE PROTOCOLOS DE ELIMINACION Y TRANSFERENCIAS DOCUMENTALES. NO HAY 15414.","Inversión",45,{"$f":"IF(ISERROR(VLOOKUP(I175,[1]Eje_Pilar!$C$2:$E$47,2,FALSE)),\" \",VLOOKUP(I175,[1]Eje_Pilar!$C$2:$E$47,2,FALSE))","v":"Gobernanza e influencia local, regional e internacional"},{"$f":"IF(ISERROR(VLOOKUP(I175,[1]Eje_Pilar!$C$2:$E$47,3,FALSE)),\" \",VLOOKUP(I175,[1]Eje_Pilar!$C$2:$E$47,3,FALSE))","v":"Eje Transversal 4 Gobierno Legitimo, Fortalecimiento Local y Eficiencia"},"3-3-1-15-07-45-1478-000",52903143,"DIANA TEOFILDE GOMEZ DIAZ",24024000,null,0,null,0,24024000,20893600,"2019-02-14","2019-02-14","2019-12-31",330,null,null,null,null,"X",null,86.969696969696969,{"$f":"IF(SUMPRODUCT((A$14:A175=A175)*(B$14:B175=B175)*(C$14:C175=C175))>1,0,1)","v":1},0,0,0,1,0,"Contratos de prestación de servicios profesionales y de apoyo a la gestión","Contratación directa",{"$f":"IFERROR(VLOOKUP(F175,[1]Tipo!$C$12:$C$27,1,FALSE),\"NO\")","v":"Prestación de servicios profesionales y de apoyo a la gestión, o para la ejecución de trabajos artísticos que sólo puedan encomendarse a determinadas personas naturales;"},"Inversión",45]
[121,2019,"FDLSUBA-CPS-121-2019","Contratos de prestación de servicios profesionales y de apoyo a la gestión","Contratación directa","Prestación de servicios profesionales y de apoyo a la gestión, o para la ejecución de trabajos artísticos que sólo puedan encomendarse a determinadas personas naturales;","Apoyar jurídicamente la ejecución de las acciones requeridas para el trámite e impulso procesal de las actuaciones contravencionales y/o querellas que cursen en las Inspecciones de Policía de la Localidad. NO HAY 15858.","Inversión",45,{"$f":"IF(ISERROR(VLOOKUP(I176,[1]Eje_Pilar!$C$2:$E$47,2,FALSE)),\" \",VLOOKUP(I176,[1]Eje_Pilar!$C$2:$E$47,2,FALSE))","v":"Gobernanza e influencia local, regional e internacional"},{"$f":"IF(ISERROR(VLOOKUP(I176,[1]Eje_Pilar!$C$2:$E$47,3,FALSE)),\" \",VLOOKUP(I176,[1]Eje_Pilar!$C$2:$E$47,3,FALSE))","v":"Eje Transversal 4 Gobierno Legitimo, Fortalecimiento Local y Eficiencia"},"3-3-1-15-07-45-1481-000",1032405392,"JOHN JAVIER TORRES PAVA",50600000,null,0,1,766666,{"$f":"+O176+Q176+S176","v":51366666},43086667,"2019-02-14","2019-02-14","2020-01-21",330,21,null,null,null,"X",null,83.88059875250616,{"$f":"IF(SUMPRODUCT((A$14:A176=A176)*(B$14:B176=B176)*(C$14:C176=C176))>1,0,1)","v":1},0,0,0,1,0,"Contratos de prestación de servicios profesionales y de apoyo a la gestión","Contratación directa",{"$f":"IFERROR(VLOOKUP(F176,[1]Tipo!$C$12:$C$27,1,FALSE),\"NO\")","v":"Prestación de servicios profesionales y de apoyo a la gestión, o para la ejecución de trabajos artísticos que sólo puedan encomendarse a determinadas personas naturales;"},"Inversión",45]
[122,2019,"FDLSUBA-CPS-122-2019","Contratos de prestación de servicios profesionales y de apoyo a la gestión","Contratación directa","Prestación de servicios profesionales y de apoyo a la gestión, o para la ejecución de trabajos artísticos que sólo puedan encomendarse a determinadas personas naturales;","Prestar los servicios como operario de volqueta, en el Área Gestión del Desarrollo de Suba¿. NO HAY 15908.|24024000|0|0|24024000|20820800|3203200","Inversión",18,{"$f":"IF(ISERROR(VLOOKUP(I177,[1]Eje_Pilar!$C$2:$E$47,2,FALSE)),\" \",VLOOKUP(I177,[1]Eje_Pilar!$C$2:$E$47,2,FALSE))","v":"Mejor movilidad para todos"},{"$f":"IF(ISERROR(VLOOKUP(I177,[1]Eje_Pilar!$C$2:$E$47,3,FALSE)),\" \",VLOOKUP(I177,[1]Eje_Pilar!$C$2:$E$47,3,FALSE))","v":"Pilar 2 Democracía Urbana"},"3-3-1-15-02-18-1506-000",79512321,"FELIPE ARMANDO OTERO RUEDA",24024000,null,0,1,728000,24752000,20820800,"2019-02-15","2019-02-15","2020-01-21",330,21,null,null,null,"X",null,84.117647058823536,{"$f":"IF(SUMPRODUCT((A$14:A177=A177)*(B$14:B177=B177)*(C$14:C177=C177))>1,0,1)","v":1},0,0,0,1,0,"Contratos de prestación de servicios profesionales y de apoyo a la gestión","Contratación directa",{"$f":"IFERROR(VLOOKUP(F177,[1]Tipo!$C$12:$C$27,1,FALSE),\"NO\")","v":"Prestación de servicios profesionales y de apoyo a la gestión, o para la ejecución de trabajos artísticos que sólo puedan encomendarse a determinadas personas naturales;"},"Inversión",18]
[123,2019,"FDLSUBA-CPS-123-2019","Contratos de prestación de servicios profesionales y de apoyo a la gestión","Contratación directa","Prestación de servicios profesionales y de apoyo a la gestión, o para la ejecución de trabajos artísticos que sólo puedan encomendarse a determinadas personas naturales;","APOYAR JURIDICAMENTE LA EJECUCION DE LAS ACCIONES REQUERIDAS PARA LA DEPURACION DE LAS ACTUACIONES ADMINISTRATIVAS QUE CURSAN EN LA ALCALDIA LOCAL. NO HAY 14565.","Inversión",45,{"$f":"IF(ISERROR(VLOOKUP(I178,[1]Eje_Pilar!$C$2:$E$47,2,FALSE)),\" \",VLOOKUP(I178,[1]Eje_Pilar!$C$2:$E$47,2,FALSE))","v":"Gobernanza e influencia local, regional e internacional"},{"$f":"IF(ISERROR(VLOOKUP(I178,[1]Eje_Pilar!$C$2:$E$47,3,FALSE)),\" \",VLOOKUP(I178,[1]Eje_Pilar!$C$2:$E$47,3,FALSE))","v":"Eje Transversal 4 Gobierno Legitimo, Fortalecimiento Local y Eficiencia"},"3-3-1-15-07-45-1478-000",19366445,"GUILLERMO ANTONIO LEGUIZAMON GOMEZ",50600000,null,0,1,1686667,52286667,44006666,"2019-02-13","2019-02-13","2020-01-21",330,21,null,null,null,"X",null,84.164221062321687,{"$f":"IF(SUMPRODUCT((A$14:A178=A178)*(B$14:B178=B178)*(C$14:C178=C178))>1,0,1)","v":1},0,0,0,1,0,"Contratos de prestación de servicios profesionales y de apoyo a la gestión","Contratación directa",{"$f":"IFERROR(VLOOKUP(F178,[1]Tipo!$C$12:$C$27,1,FALSE),\"NO\")","v":"Prestación de servicios profesionales y de apoyo a la gestión, o para la ejecución de trabajos artísticos que sólo puedan encomendarse a determinadas personas naturales;"},"Inversión",45]
[124,2019,"FDLSUBA-CPS-124-2019","Contratos de prestación de servicios profesionales y de apoyo a la gestión","Contratación directa","Prestación de servicios profesionales y de apoyo a la gestión, o para la ejecución de trabajos artísticos que sólo puedan encomendarse a determinadas personas naturales;","PRESTAR SERVICIOS DE APOYO A LOS ARCHIVOS DE GESTION DE LA ENTIDAD EN LA IMPLEMENTACION DE LOS PROCESOS DE CLASIFICACION, ORDENACION, SELECCION NATURAL, FOLIACION, IDENTIFICACION, LEVANTAMIENTO DE INVENTARIOS, ALMACENAMIENTO Y APLICACION DE PROTOCOLOS DE ELIMINACION Y TRANSFERENCIAS DOCUMENTALES. NO HAY 15414.","Inversión",45,{"$f":"IF(ISERROR(VLOOKUP(I179,[1]Eje_Pilar!$C$2:$E$47,2,FALSE)),\" \",VLOOKUP(I179,[1]Eje_Pilar!$C$2:$E$47,2,FALSE))","v":"Gobernanza e influencia local, regional e internacional"},{"$f":"IF(ISERROR(VLOOKUP(I179,[1]Eje_Pilar!$C$2:$E$47,3,FALSE)),\" \",VLOOKUP(I179,[1]Eje_Pilar!$C$2:$E$47,3,FALSE))","v":"Eje Transversal 4 Gobierno Legitimo, Fortalecimiento Local y Eficiencia"},"3-3-1-15-07-45-1478-000",51847460,"JAKELINE  BERMEO OSORIO",24024000,null,0,1,800800,24824800,20893600,"2019-02-14","2019-02-14","2020-01-21",330,21,null,null,null,"X",null,84.1642228739003,{"$f":"IF(SUMPRODUCT((A$14:A179=A179)*(B$14:B179=B179)*(C$14:C179=C179))>1,0,1)","v":1},0,0,0,1,0,"Contratos de prestación de servicios profesionales y de apoyo a la gestión","Contratación directa",{"$f":"IFERROR(VLOOKUP(F179,[1]Tipo!$C$12:$C$27,1,FALSE),\"NO\")","v":"Prestación de servicios profesionales y de apoyo a la gestión, o para la ejecución de trabajos artísticos que sólo puedan encomendarse a determinadas personas naturales;"},"Inversión",45]
[125,2019,"FDLSUBA-CPS-125-2019","Contratos de prestación de servicios profesionales y de apoyo a la gestión","Contratación directa","Prestación de servicios profesionales y de apoyo a la gestión, o para la ejecución de trabajos artísticos que sólo puedan encomendarse a determinadas personas naturales;","¿Prestar los servicios jurídicos en la Alcaldía Local de Suba, especialmente en todo lo relacionado con la gestión de multas impuestas dentro de las actuaciones administrativas que surjan en la localidad¿. NO HAY 14587.","Inversión",45,{"$f":"IF(ISERROR(VLOOKUP(I180,[1]Eje_Pilar!$C$2:$E$47,2,FALSE)),\" \",VLOOKUP(I180,[1]Eje_Pilar!$C$2:$E$47,2,FALSE))","v":"Gobernanza e influencia local, regional e internacional"},{"$f":"IF(ISERROR(VLOOKUP(I180,[1]Eje_Pilar!$C$2:$E$47,3,FALSE)),\" \",VLOOKUP(I180,[1]Eje_Pilar!$C$2:$E$47,3,FALSE))","v":"Eje Transversal 4 Gobierno Legitimo, Fortalecimiento Local y Eficiencia"},"3-3-1-15-07-45-1481-000",4778246,"ANGEL KENNEDY ORDOÑEZ MUÑOZ",50600000,null,0,1,1073333,51673333,43393333,"2019-02-14","2019-02-14","2020-01-21",330,21,null,null,null,"X",null,83.976261024230809,{"$f":"IF(SUMPRODUCT((A$14:A180=A180)*(B$14:B180=B180)*(C$14:C180=C180))>1,0,1)","v":1},0,0,0,1,0,"Contratos de prestación de servicios profesionales y de apoyo a la gestión","Contratación directa",{"$f":"IFERROR(VLOOKUP(F180,[1]Tipo!$C$12:$C$27,1,FALSE),\"NO\")","v":"Prestación de servicios profesionales y de apoyo a la gestión, o para la ejecución de trabajos artísticos que sólo puedan encomendarse a determinadas personas naturales;"},"Inversión",45]
[126,2019,"FDLSUBA-CPS-126-2019","Contratos de prestación de servicios profesionales y de apoyo a la gestión","Contratación directa","Prestación de servicios profesionales y de apoyo a la gestión, o para la ejecución de trabajos artísticos que sólo puedan encomendarse a determinadas personas naturales;","Prestar servicios de apoyo en las actividades de seguridad y convivencia ciudadana y recuperación del espacio público para el logro de las metas de gestión de la vigencia. NO HAY 15926.","Inversión",19,{"$f":"IF(ISERROR(VLOOKUP(I181,[1]Eje_Pilar!$C$2:$E$47,2,FALSE)),\" \",VLOOKUP(I181,[1]Eje_Pilar!$C$2:$E$47,2,FALSE))","v":"Seguridad y convivencia para todos"},{"$f":"IF(ISERROR(VLOOKUP(I181,[1]Eje_Pilar!$C$2:$E$47,3,FALSE)),\" \",VLOOKUP(I181,[1]Eje_Pilar!$C$2:$E$47,3,FALSE))","v":"Pilar 3 Construcción de Comunidad y Cultura Ciudadana"},"3-3-1-15-03-19-1469-000",80157055,"JUAN ESTEBAN VILLAMIL TORRES",19448000,null,0,null,0,19448000,16854933,"2019-02-14","2019-02-14","2019-12-31",330,null,null,null,null,"X",null,86.666664952694362,{"$f":"IF(SUMPRODUCT((A$14:A181=A181)*(B$14:B181=B181)*(C$14:C181=C181))>1,0,1)","v":1},0,0,0,1,0,"Contratos de prestación de servicios profesionales y de apoyo a la gestión","Contratación directa",{"$f":"IFERROR(VLOOKUP(F181,[1]Tipo!$C$12:$C$27,1,FALSE),\"NO\")","v":"Prestación de servicios profesionales y de apoyo a la gestión, o para la ejecución de trabajos artísticos que sólo puedan encomendarse a determinadas personas naturales;"},"Inversión",19]
[127,2019,"FDLSUBA-CPS-127-2019","Contratos de prestación de servicios profesionales y de apoyo a la gestión","Contratación directa","Prestación de servicios profesionales y de apoyo a la gestión, o para la ejecución de trabajos artísticos que sólo puedan encomendarse a determinadas personas naturales;","Prestar servicios de apoyo en las actividades de seguridad y convivencia ciudadana y recuperación del espacio público para el logro de las metas de gestión de la vigencia. NO HAY 15926.","Inversión",19,{"$f":"IF(ISERROR(VLOOKUP(I182,[1]Eje_Pilar!$C$2:$E$47,2,FALSE)),\" \",VLOOKUP(I182,[1]Eje_Pilar!$C$2:$E$47,2,FALSE))","v":"Seguridad y convivencia para todos"},{"$f":"IF(ISERROR(VLOOKUP(I182,[1]Eje_Pilar!$C$2:$E$47,3,FALSE)),\" \",VLOOKUP(I182,[1]Eje_Pilar!$C$2:$E$47,3,FALSE))","v":"Pilar 3 Construcción de Comunidad y Cultura Ciudadana"},"3-3-1-15-03-19-1469-000",1026284037,"HEINER SEBASTIAN BONILLA ESTEPA",19448000,null,0,1,648267,20096267,16913867,"2019-02-14","2019-02-14","2020-01-21",330,21,null,null,null,"X",null,84.16422313656561,{"$f":"IF(SUMPRODUCT((A$14:A182=A182)*(B$14:B182=B182)*(C$14:C182=C182))>1,0,1)","v":1},0,0,0,1,0,"Contratos de prestación de servicios profesionales y de apoyo a la gestión","Contratación directa",{"$f":"IFERROR(VLOOKUP(F182,[1]Tipo!$C$12:$C$27,1,FALSE),\"NO\")","v":"Prestación de servicios profesionales y de apoyo a la gestión, o para la ejecución de trabajos artísticos que sólo puedan encomendarse a determinadas personas naturales;"},"Inversión",19]
[128,2019,"FDLSUBA-CPS-128-2019","Contratos de prestación de servicios profesionales y de apoyo a la gestión","Contratación directa","Prestación de servicios profesionales y de apoyo a la gestión, o para la ejecución de trabajos artísticos que sólo puedan encomendarse a determinadas personas naturales;","Prestar servicios de apoyo en las actividades de seguridad y convivencia ciudadana y recuperación del espacio público para el logro de las metas de gestión de la vigencia. NO HAY 15926.","Inversión",19,{"$f":"IF(ISERROR(VLOOKUP(I183,[1]Eje_Pilar!$C$2:$E$47,2,FALSE)),\" \",VLOOKUP(I183,[1]Eje_Pilar!$C$2:$E$47,2,FALSE))","v":"Seguridad y convivencia para todos"},{"$f":"IF(ISERROR(VLOOKUP(I183,[1]Eje_Pilar!$C$2:$E$47,3,FALSE)),\" \",VLOOKUP(I183,[1]Eje_Pilar!$C$2:$E$47,3,FALSE))","v":"Pilar 3 Construcción de Comunidad y Cultura Ciudadana"},"3-3-1-15-03-19-1469-000",39547967,"BERTILDA  VASQUEZ MEJIA",19448000,null,0,1,412533,19860533,16678133,"2019-02-15","2019-02-15","2020-01-21",330,21,null,null,null,"X",null,83.976260858658719,{"$f":"IF(SUMPRODUCT((A$14:A183=A183)*(B$14:B183=B183)*(C$14:C183=C183))>1,0,1)","v":1},0,0,0,1,0,"Contratos de prestación de servicios profesionales y de apoyo a la gestión","Contratación directa",{"$f":"IFERROR(VLOOKUP(F183,[1]Tipo!$C$12:$C$27,1,FALSE),\"NO\")","v":"Prestación de servicios profesionales y de apoyo a la gestión, o para la ejecución de trabajos artísticos que sólo puedan encomendarse a determinadas personas naturales;"},"Inversión",19]
[129,2019,"FDLSUBA-CPS-129-2019","Contratos de prestación de servicios profesionales y de apoyo a la gestión","Contratación directa","Prestación de servicios profesionales y de apoyo a la gestión, o para la ejecución de trabajos artísticos que sólo puedan encomendarse a determinadas personas naturales;","Prestar servicios de apoyo en las actividades de seguridad y convivencia ciudadana y recuperación del espacio público para el logro de las metas de gestión de la vigencia. NO HAY 15926.","Inversión",19,{"$f":"IF(ISERROR(VLOOKUP(I184,[1]Eje_Pilar!$C$2:$E$47,2,FALSE)),\" \",VLOOKUP(I184,[1]Eje_Pilar!$C$2:$E$47,2,FALSE))","v":"Seguridad y convivencia para todos"},{"$f":"IF(ISERROR(VLOOKUP(I184,[1]Eje_Pilar!$C$2:$E$47,3,FALSE)),\" \",VLOOKUP(I184,[1]Eje_Pilar!$C$2:$E$47,3,FALSE))","v":"Pilar 3 Construcción de Comunidad y Cultura Ciudadana"},"3-3-1-15-03-19-1469-000",1019020588,"ALEXANDRA  SIERRA ORTEGA",19448000,null,0,1,648267,20096267,16913867,"2019-02-14","2019-02-14","2020-01-21",330,21,null,null,null,"X",null,84.16422313656561,{"$f":"IF(SUMPRODUCT((A$14:A184=A184)*(B$14:B184=B184)*(C$14:C184=C184))>1,0,1)","v":1},0,0,0,1,0,"Contratos de prestación de servicios profesionales y de apoyo a la gestión","Contratación directa",{"$f":"IFERROR(VLOOKUP(F184,[1]Tipo!$C$12:$C$27,1,FALSE),\"NO\")","v":"Prestación de servicios profesionales y de apoyo a la gestión, o para la ejecución de trabajos artísticos que sólo puedan encomendarse a determinadas personas naturales;"},"Inversión",19]
[130,2019,"FDLSUBA-CPS-130-2019","Contratos de prestación de servicios profesionales y de apoyo a la gestión","Contratación directa","Prestación de servicios profesionales y de apoyo a la gestión, o para la ejecución de trabajos artísticos que sólo puedan encomendarse a determinadas personas naturales;","APOYAR LA FORMULACION, EJECUCION, SEGUIMIENTO Y MEJORA CONTINUA ESPECIALMENTE DE LAS HERRAMIENTAS QUE CONFORMAN LA GESTION AMBIENTAL INSTITUCIONAL DE LA ALCALDIA LOCAL. NO HAY 15857.","Inversión",38,{"$f":"IF(ISERROR(VLOOKUP(I185,[1]Eje_Pilar!$C$2:$E$47,2,FALSE)),\" \",VLOOKUP(I185,[1]Eje_Pilar!$C$2:$E$47,2,FALSE))","v":"Recuperación y manejo de la Estructura Ecológica Principal"},{"$f":"IF(ISERROR(VLOOKUP(I185,[1]Eje_Pilar!$C$2:$E$47,3,FALSE)),\" \",VLOOKUP(I185,[1]Eje_Pilar!$C$2:$E$47,3,FALSE))","v":"Eje Transversal 3 Sostenibilidad Ambiental basada en la eficiencia energética"},"3-3-1-15-06-38-1472-000",1019094992,"DIANA ZORAIDA ROMERO SALINAS",50600000,null,0,1,1686667,52286667,44006666,"2019-02-14","2019-02-14","2020-01-21",330,21,null,null,null,"X",null,84.164221062321687,{"$f":"IF(SUMPRODUCT((A$14:A185=A185)*(B$14:B185=B185)*(C$14:C185=C185))>1,0,1)","v":1},0,0,0,1,0,"Contratos de prestación de servicios profesionales y de apoyo a la gestión","Contratación directa",{"$f":"IFERROR(VLOOKUP(F185,[1]Tipo!$C$12:$C$27,1,FALSE),\"NO\")","v":"Prestación de servicios profesionales y de apoyo a la gestión, o para la ejecución de trabajos artísticos que sólo puedan encomendarse a determinadas personas naturales;"},"Inversión",38]
[131,2019,"FDLSUBA-CPS-131-2019","Contratos de prestación de servicios profesionales y de apoyo a la gestión","Contratación directa","Prestación de servicios profesionales y de apoyo a la gestión, o para la ejecución de trabajos artísticos que sólo puedan encomendarse a determinadas personas naturales;","PRESTAR LOS SERVICIOS A LA ALCALDIA LOCAL DE SUBA, PRINCIPALMENTE EN EL SEGUIMIENTO Y CONTROL PARA EL MANEJO DE TODOS LOS COMPONENTES AMBIENTALES EXTERNOS ESPECIALMENTE EN TEMAS DE RESERVAS AMBIENTALES, HUMEDALES Y ECOSISTEMAS RELACIONADOS CON LA GESTION DEL DESARROLLO Y RELACIONAMIENTO CON LA CAR. NO HAY 15904.","Inversión",38,{"$f":"IF(ISERROR(VLOOKUP(I186,[1]Eje_Pilar!$C$2:$E$47,2,FALSE)),\" \",VLOOKUP(I186,[1]Eje_Pilar!$C$2:$E$47,2,FALSE))","v":"Recuperación y manejo de la Estructura Ecológica Principal"},{"$f":"IF(ISERROR(VLOOKUP(I186,[1]Eje_Pilar!$C$2:$E$47,3,FALSE)),\" \",VLOOKUP(I186,[1]Eje_Pilar!$C$2:$E$47,3,FALSE))","v":"Eje Transversal 3 Sostenibilidad Ambiental basada en la eficiencia energética"},"3-3-1-15-06-38-1472-000",39670941,"NELCY  LOZANO CANTOR",69300000,null,0,null,0,69300000,30450000,"2019-02-14","2019-02-14","2019-12-31",330,null,null,null,null,"X",null,43.939393939393938,{"$f":"IF(SUMPRODUCT((A$14:A186=A186)*(B$14:B186=B186)*(C$14:C186=C186))>1,0,1)","v":1},0,0,0,1,0,"Contratos de prestación de servicios profesionales y de apoyo a la gestión","Contratación directa",{"$f":"IFERROR(VLOOKUP(F186,[1]Tipo!$C$12:$C$27,1,FALSE),\"NO\")","v":"Prestación de servicios profesionales y de apoyo a la gestión, o para la ejecución de trabajos artísticos que sólo puedan encomendarse a determinadas personas naturales;"},"Inversión",38]
[132,2019,"FDLSUBA-CPS-132-2019","Contratos de prestación de servicios profesionales y de apoyo a la gestión","Contratación directa","Prestación de servicios profesionales y de apoyo a la gestión, o para la ejecución de trabajos artísticos que sólo puedan encomendarse a determinadas personas naturales;","Apoyar técnicamente las distintas etapas de los procesos de competencia de la Alcaldía Local para la depuración de actuaciones administrativas. NO HAY 15912.","Inversión",45,{"$f":"IF(ISERROR(VLOOKUP(I187,[1]Eje_Pilar!$C$2:$E$47,2,FALSE)),\" \",VLOOKUP(I187,[1]Eje_Pilar!$C$2:$E$47,2,FALSE))","v":"Gobernanza e influencia local, regional e internacional"},{"$f":"IF(ISERROR(VLOOKUP(I187,[1]Eje_Pilar!$C$2:$E$47,3,FALSE)),\" \",VLOOKUP(I187,[1]Eje_Pilar!$C$2:$E$47,3,FALSE))","v":"Eje Transversal 4 Gobierno Legitimo, Fortalecimiento Local y Eficiencia"},"3-3-1-15-07-45-1481-000",8708001,"HERNANDO  FRANCO CARBONELL",69300000,null,0,null,0,69300000,58800000,"2019-02-18","2019-02-18","2019-12-31",330,null,null,null,null,"X",null,84.848484848484844,{"$f":"IF(SUMPRODUCT((A$14:A187=A187)*(B$14:B187=B187)*(C$14:C187=C187))>1,0,1)","v":1},0,0,0,1,0,"Contratos de prestación de servicios profesionales y de apoyo a la gestión","Contratación directa",{"$f":"IFERROR(VLOOKUP(F187,[1]Tipo!$C$12:$C$27,1,FALSE),\"NO\")","v":"Prestación de servicios profesionales y de apoyo a la gestión, o para la ejecución de trabajos artísticos que sólo puedan encomendarse a determinadas personas naturales;"},"Inversión",45]
[133,2019,"FDLSUBA-CPS-133-2019","Contratos de prestación de servicios profesionales y de apoyo a la gestión","Contratación directa","Prestación de servicios profesionales y de apoyo a la gestión, o para la ejecución de trabajos artísticos que sólo puedan encomendarse a determinadas personas naturales;","PRESTAR LOS SERVICIOS PROFESIONALES EN EL AREA GESTION DEL DESARROLLO LOCAL, PARA LOGRAR EL CUMPLIMIENTO DE LAS METAS DEL PLAN DE DESARROLLO LOCAL DE LA VIGENCIA Y ATENDER LAS COMPETENCIAS AMBIENTALES PROPIAS DE LA ALCALDIA LOCAL DE SUBA. NO HAY 15907.","Inversión",38,{"$f":"IF(ISERROR(VLOOKUP(I188,[1]Eje_Pilar!$C$2:$E$47,2,FALSE)),\" \",VLOOKUP(I188,[1]Eje_Pilar!$C$2:$E$47,2,FALSE))","v":"Recuperación y manejo de la Estructura Ecológica Principal"},{"$f":"IF(ISERROR(VLOOKUP(I188,[1]Eje_Pilar!$C$2:$E$47,3,FALSE)),\" \",VLOOKUP(I188,[1]Eje_Pilar!$C$2:$E$47,3,FALSE))","v":"Eje Transversal 3 Sostenibilidad Ambiental basada en la eficiencia energética"},"3-3-1-15-06-38-1472-000",1121874277,"ANGELICA MARIA DIAZ VILLALOBOS",69300000,null,0,1,2310000,71610000,60270000,"2019-02-14","2019-02-14","2020-01-21",330,21,null,null,null,"X",null,84.1642228739003,{"$f":"IF(SUMPRODUCT((A$14:A188=A188)*(B$14:B188=B188)*(C$14:C188=C188))>1,0,1)","v":1},0,0,0,1,0,"Contratos de prestación de servicios profesionales y de apoyo a la gestión","Contratación directa",{"$f":"IFERROR(VLOOKUP(F188,[1]Tipo!$C$12:$C$27,1,FALSE),\"NO\")","v":"Prestación de servicios profesionales y de apoyo a la gestión, o para la ejecución de trabajos artísticos que sólo puedan encomendarse a determinadas personas naturales;"},"Inversión",38]
[134,2019,"FDLSUBA-CPS-134-2019","Contratos de prestación de servicios profesionales y de apoyo a la gestión","Contratación directa","Prestación de servicios profesionales y de apoyo a la gestión, o para la ejecución de trabajos artísticos que sólo puedan encomendarse a determinadas personas naturales;","Apoyar técnicamente las distintas etapas de los procesos de competencia de las Inspecciones de Policía de la Localidad, según reparto. NO HAY 15963.","Inversión",45,{"$f":"IF(ISERROR(VLOOKUP(I189,[1]Eje_Pilar!$C$2:$E$47,2,FALSE)),\" \",VLOOKUP(I189,[1]Eje_Pilar!$C$2:$E$47,2,FALSE))","v":"Gobernanza e influencia local, regional e internacional"},{"$f":"IF(ISERROR(VLOOKUP(I189,[1]Eje_Pilar!$C$2:$E$47,3,FALSE)),\" \",VLOOKUP(I189,[1]Eje_Pilar!$C$2:$E$47,3,FALSE))","v":"Eje Transversal 4 Gobierno Legitimo, Fortalecimiento Local y Eficiencia"},"3-3-1-15-07-45-1481-000",80134934,"JONATHAN  PRIETO BARAJAS",69300000,null,0,null,0,69300000,57960000,"2019-02-18","2019-02-18","2019-12-31",330,null,null,null,null,"X",null,83.636363636363626,{"$f":"IF(SUMPRODUCT((A$14:A189=A189)*(B$14:B189=B189)*(C$14:C189=C189))>1,0,1)","v":1},0,0,0,1,0,"Contratos de prestación de servicios profesionales y de apoyo a la gestión","Contratación directa",{"$f":"IFERROR(VLOOKUP(F189,[1]Tipo!$C$12:$C$27,1,FALSE),\"NO\")","v":"Prestación de servicios profesionales y de apoyo a la gestión, o para la ejecución de trabajos artísticos que sólo puedan encomendarse a determinadas personas naturales;"},"Inversión",45]
[135,2019,"FDLSUBA-CPS-135-2019","Contratos de prestación de servicios profesionales y de apoyo a la gestión","Contratación directa","Prestación de servicios profesionales y de apoyo a la gestión, o para la ejecución de trabajos artísticos que sólo puedan encomendarse a determinadas personas naturales;","Prestar servicios profesionales en el Área de Gestión del Desarrollo Local de la Alcaldía Local de Suba, para el apoyo a la ejecución integral de los diferentes proyectos de inversión destinados a la intervención de la malla vial, espacio público y parques de la Localidad De Suba. NO HAY 15911.","Inversión",18,{"$f":"IF(ISERROR(VLOOKUP(I190,[1]Eje_Pilar!$C$2:$E$47,2,FALSE)),\" \",VLOOKUP(I190,[1]Eje_Pilar!$C$2:$E$47,2,FALSE))","v":"Mejor movilidad para todos"},{"$f":"IF(ISERROR(VLOOKUP(I190,[1]Eje_Pilar!$C$2:$E$47,3,FALSE)),\" \",VLOOKUP(I190,[1]Eje_Pilar!$C$2:$E$47,3,FALSE))","v":"Pilar 2 Democracía Urbana"},"3-3-1-15-02-18-1506-000",1018449224,"DAVID ALEJANDRO HURTADO PALMA",50600000,null,0,1,766667,51366667,43086667,"2019-02-18","2019-02-18","2020-01-21",330,21,null,null,null,"X",null,83.8805971195289,{"$f":"IF(SUMPRODUCT((A$14:A190=A190)*(B$14:B190=B190)*(C$14:C190=C190))>1,0,1)","v":1},0,0,0,1,0,"Contratos de prestación de servicios profesionales y de apoyo a la gestión","Contratación directa",{"$f":"IFERROR(VLOOKUP(F190,[1]Tipo!$C$12:$C$27,1,FALSE),\"NO\")","v":"Prestación de servicios profesionales y de apoyo a la gestión, o para la ejecución de trabajos artísticos que sólo puedan encomendarse a determinadas personas naturales;"},"Inversión",18]
[136,2019,"FDLSUBA-CPS-136-2019","Contratos de prestación de servicios profesionales y de apoyo a la gestión","Contratación directa","Prestación de servicios profesionales y de apoyo a la gestión, o para la ejecución de trabajos artísticos que sólo puedan encomendarse a determinadas personas naturales;","Apoyar técnicamente las distintas etapas de los procesos de competencia de la Alcaldía Local para la depuración de actuaciones administrativas. NO HAY 15930.","Inversión",45,{"$f":"IF(ISERROR(VLOOKUP(I191,[1]Eje_Pilar!$C$2:$E$47,2,FALSE)),\" \",VLOOKUP(I191,[1]Eje_Pilar!$C$2:$E$47,2,FALSE))","v":"Gobernanza e influencia local, regional e internacional"},{"$f":"IF(ISERROR(VLOOKUP(I191,[1]Eje_Pilar!$C$2:$E$47,3,FALSE)),\" \",VLOOKUP(I191,[1]Eje_Pilar!$C$2:$E$47,3,FALSE))","v":"Eje Transversal 4 Gobierno Legitimo, Fortalecimiento Local y Eficiencia"},"3-3-1-15-07-45-1481-000",51864992,"YOLANDA AMPARO RIAÑO GARCIA",69300000,null,0,null,0,69300000,59010000,"2019-02-18","2019-02-18","2019-12-31",330,null,null,null,null,"X",null,85.151515151515156,{"$f":"IF(SUMPRODUCT((A$14:A191=A191)*(B$14:B191=B191)*(C$14:C191=C191))>1,0,1)","v":1},0,0,0,1,0,"Contratos de prestación de servicios profesionales y de apoyo a la gestión","Contratación directa",{"$f":"IFERROR(VLOOKUP(F191,[1]Tipo!$C$12:$C$27,1,FALSE),\"NO\")","v":"Prestación de servicios profesionales y de apoyo a la gestión, o para la ejecución de trabajos artísticos que sólo puedan encomendarse a determinadas personas naturales;"},"Inversión",45]
[137,2019,"FDLSUBA-CPS-137-2019","Contratos de prestación de servicios profesionales y de apoyo a la gestión","Contratación directa","Prestación de servicios profesionales y de apoyo a la gestión, o para la ejecución de trabajos artísticos que sólo puedan encomendarse a determinadas personas naturales;","Apoyar jurídicamente la ejecución de las acciones requeridas para el trámite e impulso procesal de las actuaciones contravencionales y/o querellas que cursen en las Inspecciones de Policía de la Localidad. NO HAY 15858.","Inversión",45,{"$f":"IF(ISERROR(VLOOKUP(I192,[1]Eje_Pilar!$C$2:$E$47,2,FALSE)),\" \",VLOOKUP(I192,[1]Eje_Pilar!$C$2:$E$47,2,FALSE))","v":"Gobernanza e influencia local, regional e internacional"},{"$f":"IF(ISERROR(VLOOKUP(I192,[1]Eje_Pilar!$C$2:$E$47,3,FALSE)),\" \",VLOOKUP(I192,[1]Eje_Pilar!$C$2:$E$47,3,FALSE))","v":"Eje Transversal 4 Gobierno Legitimo, Fortalecimiento Local y Eficiencia"},"3-3-1-15-07-45-1481-000",53041139,"JEANNY  CARDOZO LOAIZA",50600000,null,0,null,0,50600000,42933333,"2019-02-18","2019-02-18","2019-12-31",330,null,null,null,null,"X",null,84.848484189723322,{"$f":"IF(SUMPRODUCT((A$14:A192=A192)*(B$14:B192=B192)*(C$14:C192=C192))>1,0,1)","v":1},0,0,0,1,0,{"$f":"IFERROR(VLOOKUP(D192,tipo,1,FALSE),\"NO\")","v":"Contratos de prestación de servicios profesionales y de apoyo a la gestión"},{"$f":"IFERROR(VLOOKUP(E192,modal,1,FALSE),\"NO\")","v":"Contratación directa"},{"$f":"IFERROR(VLOOKUP(F192,[1]Tipo!$C$12:$C$27,1,FALSE),\"NO\")","v":"Prestación de servicios profesionales y de apoyo a la gestión, o para la ejecución de trabajos artísticos que sólo puedan encomendarse a determinadas personas naturales;"},{"$f":"IFERROR(VLOOKUP(H192,afectacion,1,FALSE),\"NO\")","v":"Inversión"},{"$f":"IFERROR(VLOOKUP(I192,programa,1,FALSE),\"NO\")","v":45}]
[138,2019,"FDLSUBA-CPS-138-2019","Contratos de prestación de servicios profesionales y de apoyo a la gestión","Contratación directa","Prestación de servicios profesionales y de apoyo a la gestión, o para la ejecución de trabajos artísticos que sólo puedan encomendarse a determinadas personas naturales;","PRESTAR LOS SERVICIOS PROFESIONALES COMO ABOGADO EN LA ALCALDIA LOCAL DE SUBA, PRINCIPALMENTE EN LA REVISION DE LOS IMPULSOS Y PROYECTOS DE ACTOS ADMINISTRATIVOS QUE SE PRODUZCAN DENTRO DE LAS ACTUACIONES ADMINISTRATIVAS QUE CURSAN EN LA ALCALDIA LOCAL. NO HAY 14844.","Inversión",45,{"$f":"IF(ISERROR(VLOOKUP(I193,[1]Eje_Pilar!$C$2:$E$47,2,FALSE)),\" \",VLOOKUP(I193,[1]Eje_Pilar!$C$2:$E$47,2,FALSE))","v":"Gobernanza e influencia local, regional e internacional"},{"$f":"IF(ISERROR(VLOOKUP(I193,[1]Eje_Pilar!$C$2:$E$47,3,FALSE)),\" \",VLOOKUP(I193,[1]Eje_Pilar!$C$2:$E$47,3,FALSE))","v":"Eje Transversal 4 Gobierno Legitimo, Fortalecimiento Local y Eficiencia"},"3-3-1-15-07-45-1481-000",26421174,"ANA MARIA CORTES CABRERA",50600000,null,0,null,0,50600000,41553333,"2019-02-18","2019-02-18","2019-12-31",330,null,null,null,null,"X",null,82.121211462450589,{"$f":"IF(SUMPRODUCT((A$14:A193=A193)*(B$14:B193=B193)*(C$14:C193=C193))>1,0,1)","v":1},0,0,0,1,0,"Contratos de prestación de servicios profesionales y de apoyo a la gestión","Contratación directa",{"$f":"IFERROR(VLOOKUP(F193,[1]Tipo!$C$12:$C$27,1,FALSE),\"NO\")","v":"Prestación de servicios profesionales y de apoyo a la gestión, o para la ejecución de trabajos artísticos que sólo puedan encomendarse a determinadas personas naturales;"},"Inversión",45]
[139,2019,"FDLSUBA-CPS-139-2019","Contratos de prestación de servicios profesionales y de apoyo a la gestión","Contratación directa","Prestación de servicios profesionales y de apoyo a la gestión, o para la ejecución de trabajos artísticos que sólo puedan encomendarse a determinadas personas naturales;","¿Prestar los servicios asistenciales en la Alcaldía Local de Suba, especialmente para apoyar la gestión documental del área de Gestión Policiva, acompañando al equipo jurídico de Depuración en las labores operativas que genera el proceso de impulso de las actuaciones administrativas existentes en la localidad.¿. NO HAY 14571.","Inversión",45,{"$f":"IF(ISERROR(VLOOKUP(I194,[1]Eje_Pilar!$C$2:$E$47,2,FALSE)),\" \",VLOOKUP(I194,[1]Eje_Pilar!$C$2:$E$47,2,FALSE))","v":"Gobernanza e influencia local, regional e internacional"},{"$f":"IF(ISERROR(VLOOKUP(I194,[1]Eje_Pilar!$C$2:$E$47,3,FALSE)),\" \",VLOOKUP(I194,[1]Eje_Pilar!$C$2:$E$47,3,FALSE))","v":"Eje Transversal 4 Gobierno Legitimo, Fortalecimiento Local y Eficiencia"},"3-3-1-15-07-45-1481-000",52258620,"ADRIANA PATRICIA RODRIGUEZ MUNZA",24024000,null,0,null,0,24024000,20893600,"2019-02-14","2019-02-14","2019-12-31",330,null,null,null,null,"X",null,86.969696969696969,{"$f":"IF(SUMPRODUCT((A$14:A194=A194)*(B$14:B194=B194)*(C$14:C194=C194))>1,0,1)","v":1},0,0,0,1,0,"Contratos de prestación de servicios profesionales y de apoyo a la gestión","Contratación directa",{"$f":"IFERROR(VLOOKUP(F194,[1]Tipo!$C$12:$C$27,1,FALSE),\"NO\")","v":"Prestación de servicios profesionales y de apoyo a la gestión, o para la ejecución de trabajos artísticos que sólo puedan encomendarse a determinadas personas naturales;"},"Inversión",45]
[140,2019,"FDLSUBA-CPS-140-2019","Contratos de prestación de servicios profesionales y de apoyo a la gestión","Contratación directa","Prestación de servicios profesionales y de apoyo a la gestión, o para la ejecución de trabajos artísticos que sólo puedan encomendarse a determinadas personas naturales;","¿Prestar servicios profesionales en el Área de Gestión del Desarrollo Local de la Alcaldía Local de Suba, en el proceso de formulación, ejecución, seguimiento y evaluación de las políticas, planes, programas y proyectos de desarrollo local, para lograr el cumplimiento de las metas del plan de desarrollo local de la vigencia\". NO HAY 15918.","Inversión",45,{"$f":"IF(ISERROR(VLOOKUP(I195,[1]Eje_Pilar!$C$2:$E$47,2,FALSE)),\" \",VLOOKUP(I195,[1]Eje_Pilar!$C$2:$E$47,2,FALSE))","v":"Gobernanza e influencia local, regional e internacional"},{"$f":"IF(ISERROR(VLOOKUP(I195,[1]Eje_Pilar!$C$2:$E$47,3,FALSE)),\" \",VLOOKUP(I195,[1]Eje_Pilar!$C$2:$E$47,3,FALSE))","v":"Eje Transversal 4 Gobierno Legitimo, Fortalecimiento Local y Eficiencia"},"3-3-1-15-07-45-1478-000",1030533128,"ZAIRA LORENA CALDERON GARCES",50600000,null,0,1,766667,51366667,43086666,"2019-02-18","2019-02-18","2020-01-21",330,21,null,null,null,"X",null,83.88059517274111,{"$f":"IF(SUMPRODUCT((A$14:A195=A195)*(B$14:B195=B195)*(C$14:C195=C195))>1,0,1)","v":1},0,0,0,1,0,"Contratos de prestación de servicios profesionales y de apoyo a la gestión","Contratación directa",{"$f":"IFERROR(VLOOKUP(F195,[1]Tipo!$C$12:$C$27,1,FALSE),\"NO\")","v":"Prestación de servicios profesionales y de apoyo a la gestión, o para la ejecución de trabajos artísticos que sólo puedan encomendarse a determinadas personas naturales;"},"Inversión",45]
[141,2019,"FDLSUBA-CPS-141-2019","Contratos de prestación de servicios profesionales y de apoyo a la gestión","Contratación directa","Prestación de servicios profesionales y de apoyo a la gestión, o para la ejecución de trabajos artísticos que sólo puedan encomendarse a determinadas personas naturales;","Apoyar administrativa y asistencialmente las actividades de Seguridady convivencia ciudadana en la Alcaldía Local de Suba para el logro de las metas de gestión de la vigencia. NO HAY 14584.","Inversión",19,{"$f":"IF(ISERROR(VLOOKUP(I196,[1]Eje_Pilar!$C$2:$E$47,2,FALSE)),\" \",VLOOKUP(I196,[1]Eje_Pilar!$C$2:$E$47,2,FALSE))","v":"Seguridad y convivencia para todos"},{"$f":"IF(ISERROR(VLOOKUP(I196,[1]Eje_Pilar!$C$2:$E$47,3,FALSE)),\" \",VLOOKUP(I196,[1]Eje_Pilar!$C$2:$E$47,3,FALSE))","v":"Pilar 3 Construcción de Comunidad y Cultura Ciudadana"},"3-3-1-15-03-19-1469-000",80815289,"CARLOS ALBERTO ANGEL PEÑA",24024000,null,0,1,509600,24533600,20602400,"2019-02-14","2019-02-14","2020-01-21",330,21,null,null,null,"X",null,83.976261127596445,{"$f":"IF(SUMPRODUCT((A$14:A196=A196)*(B$14:B196=B196)*(C$14:C196=C196))>1,0,1)","v":1},0,0,0,1,0,"Contratos de prestación de servicios profesionales y de apoyo a la gestión","Contratación directa",{"$f":"IFERROR(VLOOKUP(F196,[1]Tipo!$C$12:$C$27,1,FALSE),\"NO\")","v":"Prestación de servicios profesionales y de apoyo a la gestión, o para la ejecución de trabajos artísticos que sólo puedan encomendarse a determinadas personas naturales;"},"Inversión",19]
[142,2019,"FDLSUBA-CPS-142-2019","Contratos de prestación de servicios profesionales y de apoyo a la gestión","Contratación directa","Prestación de servicios profesionales y de apoyo a la gestión, o para la ejecución de trabajos artísticos que sólo puedan encomendarse a determinadas personas naturales;","PRESTAR SERVICIOS PROFESIONALES PARA PROMOVER LOS PROCESOS CULTURALES EN LA ALCALDIA LOCAL DE SUBA, PARA DAR CUMPLIMIENTO A LAS METAS DEL PLAN DE DESARROLLO EN EL EJE UNO DEL PLAN DE DESARROLLO. NO HAY 14989.|69300000|0|0|69300000|59010000|10290000","Inversión",11,{"$f":"IF(ISERROR(VLOOKUP(I197,[1]Eje_Pilar!$C$2:$E$47,2,FALSE)),\" \",VLOOKUP(I197,[1]Eje_Pilar!$C$2:$E$47,2,FALSE))","v":"Mejores oportunidades para el desarrollo a través de la cultura, la recreación y el deporte"},{"$f":"IF(ISERROR(VLOOKUP(I197,[1]Eje_Pilar!$C$2:$E$47,3,FALSE)),\" \",VLOOKUP(I197,[1]Eje_Pilar!$C$2:$E$47,3,FALSE))","v":"Pilar 1 Igualdad de Calidad de Vida"},"3-3-1-15-01-11-1459-000",80276374,"DANILO ALFREDO MORRIS MONCADA",69300000,null,0,1,4410000,73710000,59010000,"2019-02-20","2019-02-20","2020-01-21",330,21,null,null,null,"X",null,80.056980056980052,{"$f":"IF(SUMPRODUCT((A$14:A197=A197)*(B$14:B197=B197)*(C$14:C197=C197))>1,0,1)","v":1},0,0,0,1,0,"Contratos de prestación de servicios profesionales y de apoyo a la gestión","Contratación directa",{"$f":"IFERROR(VLOOKUP(F197,[1]Tipo!$C$12:$C$27,1,FALSE),\"NO\")","v":"Prestación de servicios profesionales y de apoyo a la gestión, o para la ejecución de trabajos artísticos que sólo puedan encomendarse a determinadas personas naturales;"},"Inversión",11]
[143,2019,"FDLSUBA-CPS-143-2019","Contratos de prestación de servicios profesionales y de apoyo a la gestión","Contratación directa","Prestación de servicios profesionales y de apoyo a la gestión, o para la ejecución de trabajos artísticos que sólo puedan encomendarse a determinadas personas naturales;","PRESTAR LOS SERVICIOS PROFESIONALES EN LA ALCALDIA LOCAL DE SUBA, PRINCIPALMENTE PARA REALIZAR ACCIONES PEDAGOGICAS PREVENTIVAS Y DE SENSIBILIZACION PARA EL ACATAMIENTO VOLUNTARIO DE LAS NORMAS EN LA LOCALIDAD. NO HAY 15412.","Inversión",45,{"$f":"IF(ISERROR(VLOOKUP(I198,[1]Eje_Pilar!$C$2:$E$47,2,FALSE)),\" \",VLOOKUP(I198,[1]Eje_Pilar!$C$2:$E$47,2,FALSE))","v":"Gobernanza e influencia local, regional e internacional"},{"$f":"IF(ISERROR(VLOOKUP(I198,[1]Eje_Pilar!$C$2:$E$47,3,FALSE)),\" \",VLOOKUP(I198,[1]Eje_Pilar!$C$2:$E$47,3,FALSE))","v":"Eje Transversal 4 Gobierno Legitimo, Fortalecimiento Local y Eficiencia"},"3-3-1-15-07-45-1481-000",1019070345,"JOHANA CATERINE ROMERO MEDINA",48300000,null,0,null,0,48300000,42933333,"2019-02-21","2019-02-21","2019-12-31",330,null,null,null,null,"X",null,88.888888198757769,{"$f":"IF(SUMPRODUCT((A$14:A198=A198)*(B$14:B198=B198)*(C$14:C198=C198))>1,0,1)","v":1},0,0,0,1,0,"Contratos de prestación de servicios profesionales y de apoyo a la gestión","Contratación directa",{"$f":"IFERROR(VLOOKUP(F198,[1]Tipo!$C$12:$C$27,1,FALSE),\"NO\")","v":"Prestación de servicios profesionales y de apoyo a la gestión, o para la ejecución de trabajos artísticos que sólo puedan encomendarse a determinadas personas naturales;"},"Inversión",45]
[144,2019,"FDLSUBA-CPS-144-2019","Contratos de prestación de servicios profesionales y de apoyo a la gestión","Contratación directa","Prestación de servicios profesionales y de apoyo a la gestión, o para la ejecución de trabajos artísticos que sólo puedan encomendarse a determinadas personas naturales;","APOYAR JURIDICAMENTE LA EJECUCION DE LAS ACCIONES REQUERIDAS PARA LA DEPURACION DE LAS ACTUACIONES ADMINISTRATIVAS QUE CURSAN EN LA ALCALDIA LOCAL. NO HAY 14565.","Inversión",45,{"$f":"IF(ISERROR(VLOOKUP(I199,[1]Eje_Pilar!$C$2:$E$47,2,FALSE)),\" \",VLOOKUP(I199,[1]Eje_Pilar!$C$2:$E$47,2,FALSE))","v":"Gobernanza e influencia local, regional e internacional"},{"$f":"IF(ISERROR(VLOOKUP(I199,[1]Eje_Pilar!$C$2:$E$47,3,FALSE)),\" \",VLOOKUP(I199,[1]Eje_Pilar!$C$2:$E$47,3,FALSE))","v":"Eje Transversal 4 Gobierno Legitimo, Fortalecimiento Local y Eficiencia"},"3-3-1-15-07-45-1478-000",1020787568,"PAULA ANDREA BOHORQUEZ CALA",50600000,null,0,1,1073333,51673333,43393333,"2019-02-18","2019-02-18","2020-01-21",330,21,null,null,null,"X",null,83.976261024230809,{"$f":"IF(SUMPRODUCT((A$14:A199=A199)*(B$14:B199=B199)*(C$14:C199=C199))>1,0,1)","v":1},0,0,0,1,0,"Contratos de prestación de servicios profesionales y de apoyo a la gestión","Contratación directa",{"$f":"IFERROR(VLOOKUP(F199,[1]Tipo!$C$12:$C$27,1,FALSE),\"NO\")","v":"Prestación de servicios profesionales y de apoyo a la gestión, o para la ejecución de trabajos artísticos que sólo puedan encomendarse a determinadas personas naturales;"},"Inversión",45]
[145,2019,"FDLSUBA-CPS-145-2019","Contratos de prestación de servicios profesionales y de apoyo a la gestión","Contratación directa","Prestación de servicios profesionales y de apoyo a la gestión, o para la ejecución de trabajos artísticos que sólo puedan encomendarse a determinadas personas naturales;","APOYAR JURIDICAMENTE LA EJECUCION DE LAS ACCIONES REQUERIDAS PARA LA DEPURACION DE LAS ACTUACIONES ADMINISTRATIVAS QUE CURSAN EN LA ALCALDIA LOCAL. NO HAY 14565.","Inversión",45,{"$f":"IF(ISERROR(VLOOKUP(I200,[1]Eje_Pilar!$C$2:$E$47,2,FALSE)),\" \",VLOOKUP(I200,[1]Eje_Pilar!$C$2:$E$47,2,FALSE))","v":"Gobernanza e influencia local, regional e internacional"},{"$f":"IF(ISERROR(VLOOKUP(I200,[1]Eje_Pilar!$C$2:$E$47,3,FALSE)),\" \",VLOOKUP(I200,[1]Eje_Pilar!$C$2:$E$47,3,FALSE))","v":"Eje Transversal 4 Gobierno Legitimo, Fortalecimiento Local y Eficiencia"},"3-3-1-15-07-45-1478-000",51924901,"SONIA PATRICIA RINCON FONSECA",50600000,null,0,null,0,50600000,42320000,"2019-02-15","2019-02-15","2019-12-31",330,null,null,null,null,"X",null,83.636363636363626,{"$f":"IF(SUMPRODUCT((A$14:A200=A200)*(B$14:B200=B200)*(C$14:C200=C200))>1,0,1)","v":1},0,0,0,1,0,"Contratos de prestación de servicios profesionales y de apoyo a la gestión","Contratación directa",{"$f":"IFERROR(VLOOKUP(F200,[1]Tipo!$C$12:$C$27,1,FALSE),\"NO\")","v":"Prestación de servicios profesionales y de apoyo a la gestión, o para la ejecución de trabajos artísticos que sólo puedan encomendarse a determinadas personas naturales;"},"Inversión",45]
[146,2019,"FDLSUBA-CPS-146-2019","Contratos de prestación de servicios profesionales y de apoyo a la gestión","Contratación directa","Prestación de servicios profesionales y de apoyo a la gestión, o para la ejecución de trabajos artísticos que sólo puedan encomendarse a determinadas personas naturales;","¿Apoyar jurídicamente a la Alcaldía Local de Suba, principalmente en la formulación, seguimiento e implementación de la estrategia local para la terminación jurídica de las actuaciones administrativas que cursan en la Alcaldía local¿.  NO HAY 14612.","Inversión",45,{"$f":"IF(ISERROR(VLOOKUP(I201,[1]Eje_Pilar!$C$2:$E$47,2,FALSE)),\" \",VLOOKUP(I201,[1]Eje_Pilar!$C$2:$E$47,2,FALSE))","v":"Gobernanza e influencia local, regional e internacional"},{"$f":"IF(ISERROR(VLOOKUP(I201,[1]Eje_Pilar!$C$2:$E$47,3,FALSE)),\" \",VLOOKUP(I201,[1]Eje_Pilar!$C$2:$E$47,3,FALSE))","v":"Eje Transversal 4 Gobierno Legitimo, Fortalecimiento Local y Eficiencia"},"3-3-1-15-07-45-1481-000",52051059,"OLGA LUCIA DORIA CASTRILLON",69300000,null,0,1,2100000,71400000,60060000,"2019-02-15","2019-02-15","2020-01-21",330,21,null,null,null,"X",null,84.117647058823536,{"$f":"IF(SUMPRODUCT((A$14:A201=A201)*(B$14:B201=B201)*(C$14:C201=C201))>1,0,1)","v":1},0,0,0,1,0,"Contratos de prestación de servicios profesionales y de apoyo a la gestión","Contratación directa",{"$f":"IFERROR(VLOOKUP(F201,[1]Tipo!$C$12:$C$27,1,FALSE),\"NO\")","v":"Prestación de servicios profesionales y de apoyo a la gestión, o para la ejecución de trabajos artísticos que sólo puedan encomendarse a determinadas personas naturales;"},"Inversión",45]
[147,2019,"FDLSUBA-CPS-147-2019","Contratos de prestación de servicios profesionales y de apoyo a la gestión","Contratación directa","Prestación de servicios profesionales y de apoyo a la gestión, o para la ejecución de trabajos artísticos que sólo puedan encomendarse a determinadas personas naturales;","¿Prestar los servicios profesionales para apoyar jurídicamente la ejecución de las acciones requeridas para la depuración de las actuaciones administrativas que cursan en la Alcaldía Local.¿. NO HAY 14569.","Inversión",45,{"$f":"IF(ISERROR(VLOOKUP(I202,[1]Eje_Pilar!$C$2:$E$47,2,FALSE)),\" \",VLOOKUP(I202,[1]Eje_Pilar!$C$2:$E$47,2,FALSE))","v":"Gobernanza e influencia local, regional e internacional"},{"$f":"IF(ISERROR(VLOOKUP(I202,[1]Eje_Pilar!$C$2:$E$47,3,FALSE)),\" \",VLOOKUP(I202,[1]Eje_Pilar!$C$2:$E$47,3,FALSE))","v":"Eje Transversal 4 Gobierno Legitimo, Fortalecimiento Local y Eficiencia"},"3-3-1-15-07-45-1478-000",52390170,"LUISA FERNANDA DURAN ROMERO",50600000,null,0,1,1533333,52133333,43853333,"2019-02-15","2019-02-15","2020-01-21",330,21,null,null,null,"X",null,84.117646957273962,{"$f":"IF(SUMPRODUCT((A$14:A202=A202)*(B$14:B202=B202)*(C$14:C202=C202))>1,0,1)","v":1},0,0,0,1,0,"Contratos de prestación de servicios profesionales y de apoyo a la gestión","Contratación directa",{"$f":"IFERROR(VLOOKUP(F202,[1]Tipo!$C$12:$C$27,1,FALSE),\"NO\")","v":"Prestación de servicios profesionales y de apoyo a la gestión, o para la ejecución de trabajos artísticos que sólo puedan encomendarse a determinadas personas naturales;"},"Inversión",45]
[148,2019,"FDLSUBA-CPS-148-2019","Contratos de prestación de servicios profesionales y de apoyo a la gestión","Contratación directa","Prestación de servicios profesionales y de apoyo a la gestión, o para la ejecución de trabajos artísticos que sólo puedan encomendarse a determinadas personas naturales;","APOYAR JURIDICAMENTE LA EJECUCION DE LAS ACCIONES REQUERIDAS PARA LA DEPURACION DE LAS ACTUACIONES ADMINISTRATIVAS QUE CURSAN EN LA ALCALDIA LOCAL. NO HAY 14565.","Inversión",45,{"$f":"IF(ISERROR(VLOOKUP(I203,[1]Eje_Pilar!$C$2:$E$47,2,FALSE)),\" \",VLOOKUP(I203,[1]Eje_Pilar!$C$2:$E$47,2,FALSE))","v":"Gobernanza e influencia local, regional e internacional"},{"$f":"IF(ISERROR(VLOOKUP(I203,[1]Eje_Pilar!$C$2:$E$47,3,FALSE)),\" \",VLOOKUP(I203,[1]Eje_Pilar!$C$2:$E$47,3,FALSE))","v":"Eje Transversal 4 Gobierno Legitimo, Fortalecimiento Local y Eficiencia"},"3-3-1-15-07-45-1478-000",93406808,"LUIS GABRIEL ARANGO TRIANA",50600000,null,0,null,0,50600000,43393333,"2019-02-15","2019-02-15","2019-12-31",345,null,null,null,null,"X",null,85.757575098814229,{"$f":"IF(SUMPRODUCT((A$14:A203=A203)*(B$14:B203=B203)*(C$14:C203=C203))>1,0,1)","v":1},0,0,0,1,0,"Contratos de prestación de servicios profesionales y de apoyo a la gestión","Contratación directa",{"$f":"IFERROR(VLOOKUP(F203,[1]Tipo!$C$12:$C$27,1,FALSE),\"NO\")","v":"Prestación de servicios profesionales y de apoyo a la gestión, o para la ejecución de trabajos artísticos que sólo puedan encomendarse a determinadas personas naturales;"},"Inversión",45]
[149,2019,"FDLSUBA-CPS-149-2019","Contratos de prestación de servicios profesionales y de apoyo a la gestión","Contratación directa","Prestación de servicios profesionales y de apoyo a la gestión, o para la ejecución de trabajos artísticos que sólo puedan encomendarse a determinadas personas naturales;","APOYAR JURIDICAMENTE LA EJECUCION DE LAS ACCIONES REQUERIDAS PARA LA DEPURACION DE LAS ACTUACIONES ADMINISTRATIVAS QUE CURSAN EN LA ALCALDIA LOCAL. NO HAY 14565.","Inversión",45,{"$f":"IF(ISERROR(VLOOKUP(I204,[1]Eje_Pilar!$C$2:$E$47,2,FALSE)),\" \",VLOOKUP(I204,[1]Eje_Pilar!$C$2:$E$47,2,FALSE))","v":"Gobernanza e influencia local, regional e internacional"},{"$f":"IF(ISERROR(VLOOKUP(I204,[1]Eje_Pilar!$C$2:$E$47,3,FALSE)),\" \",VLOOKUP(I204,[1]Eje_Pilar!$C$2:$E$47,3,FALSE))","v":"Eje Transversal 4 Gobierno Legitimo, Fortalecimiento Local y Eficiencia"},"3-3-1-15-07-45-1478-000",53910450,"YUDY MARCELA SALGADO RODRIGUEZ",50600000,null,0,null,0,50600000,42933333,"2019-02-14","2019-02-14","2019-12-31",330,null,null,null,null,"X",null,84.848484189723322,{"$f":"IF(SUMPRODUCT((A$14:A204=A204)*(B$14:B204=B204)*(C$14:C204=C204))>1,0,1)","v":1},0,0,0,1,0,"Contratos de prestación de servicios profesionales y de apoyo a la gestión","Contratación directa",{"$f":"IFERROR(VLOOKUP(F204,[1]Tipo!$C$12:$C$27,1,FALSE),\"NO\")","v":"Prestación de servicios profesionales y de apoyo a la gestión, o para la ejecución de trabajos artísticos que sólo puedan encomendarse a determinadas personas naturales;"},"Inversión",45]
[150,2019,"FDLSUBA-CPS-150-2019","Contratos de prestación de servicios profesionales y de apoyo a la gestión","Contratación directa","Prestación de servicios profesionales y de apoyo a la gestión, o para la ejecución de trabajos artísticos que sólo puedan encomendarse a determinadas personas naturales;","PRESTAR SERVICIOS AL AREA DE GESTION DEL DESARROLLO LOCAL DE LA ALCALDIA LOCAL DE SUBA, ESPECIALMENTE COMO APOYO EN EL ALMACEN. NO HAY 14851.","Inversión",45,{"$f":"IF(ISERROR(VLOOKUP(I205,[1]Eje_Pilar!$C$2:$E$47,2,FALSE)),\" \",VLOOKUP(I205,[1]Eje_Pilar!$C$2:$E$47,2,FALSE))","v":"Gobernanza e influencia local, regional e internacional"},{"$f":"IF(ISERROR(VLOOKUP(I205,[1]Eje_Pilar!$C$2:$E$47,3,FALSE)),\" \",VLOOKUP(I205,[1]Eje_Pilar!$C$2:$E$47,3,FALSE))","v":"Eje Transversal 4 Gobierno Legitimo, Fortalecimiento Local y Eficiencia"},"3-3-1-15-07-45-1478-000",53910450,"JOHN JAIRO TORO RESTREPO",33000000,null,0,1,600000,33600000,28200000,"2019-02-15","2019-02-15","2020-01-21",330,21,null,null,null,"X",null,83.928571428571431,{"$f":"IF(SUMPRODUCT((A$14:A205=A205)*(B$14:B205=B205)*(C$14:C205=C205))>1,0,1)","v":1},0,0,0,1,0,"Contratos de prestación de servicios profesionales y de apoyo a la gestión","Contratación directa",{"$f":"IFERROR(VLOOKUP(F205,[1]Tipo!$C$12:$C$27,1,FALSE),\"NO\")","v":"Prestación de servicios profesionales y de apoyo a la gestión, o para la ejecución de trabajos artísticos que sólo puedan encomendarse a determinadas personas naturales;"},"Inversión",45]
[151,2019,"FDLSUBA-CPS-151-2019","Contratos de prestación de servicios profesionales y de apoyo a la gestión","Contratación directa","Prestación de servicios profesionales y de apoyo a la gestión, o para la ejecución de trabajos artísticos que sólo puedan encomendarse a determinadas personas naturales;","PRESTAR SERVICIOS PROFESIONALES EN EL AREA DE GESTION DEL DESARROLLO LOCAL DE LA ALCALDIA LOCAL DE SUBA, EN EL PROCESO DE FORMULACION, EJECUCION, SEGUIMIENTO Y EVALUACION DE LAS POLITICAS, PLANES, PROGRAMAS Y PROYECTOS DE DESARROLLO LOCAL PARA LOGRAR EL CUMPLIMIENTO DEL PLAN DE DESARROLLO LOCAL DE LA VIGENCIA. NO HAY 14849.","Inversión",45,{"$f":"IF(ISERROR(VLOOKUP(I206,[1]Eje_Pilar!$C$2:$E$47,2,FALSE)),\" \",VLOOKUP(I206,[1]Eje_Pilar!$C$2:$E$47,2,FALSE))","v":"Gobernanza e influencia local, regional e internacional"},{"$f":"IF(ISERROR(VLOOKUP(I206,[1]Eje_Pilar!$C$2:$E$47,3,FALSE)),\" \",VLOOKUP(I206,[1]Eje_Pilar!$C$2:$E$47,3,FALSE))","v":"Eje Transversal 4 Gobierno Legitimo, Fortalecimiento Local y Eficiencia"},"3-3-1-15-07-45-1478-000",1032451555,"CRISTHIAN BRAINER PEÑA ORTIZ",50600000,null,0,1,1073333,51673333,43393333,"2019-02-15","2019-02-15","2020-01-21",330,21,null,null,null,"X",null,83.976261024230809,{"$f":"IF(SUMPRODUCT((A$14:A206=A206)*(B$14:B206=B206)*(C$14:C206=C206))>1,0,1)","v":1},0,0,0,1,0,"Contratos de prestación de servicios profesionales y de apoyo a la gestión","Contratación directa",{"$f":"IFERROR(VLOOKUP(F206,[1]Tipo!$C$12:$C$27,1,FALSE),\"NO\")","v":"Prestación de servicios profesionales y de apoyo a la gestión, o para la ejecución de trabajos artísticos que sólo puedan encomendarse a determinadas personas naturales;"},"Inversión",45]
[152,2019,"FDLSUBA-CPS-152-2019","Contratos de prestación de servicios profesionales y de apoyo a la gestión","Contratación directa","Prestación de servicios profesionales y de apoyo a la gestión, o para la ejecución de trabajos artísticos que sólo puedan encomendarse a determinadas personas naturales;","PRESTAR LOS SERVICIOS PROFESIONALES COMO ABOGADO EN LA ALCALDIA LOCAL DE SUBA, PRINCIPALMENTE EN LA REVISION DE LOS IMPULSOS Y PROYECTOS DE ACTOS ADMINISTRATIVOS QUE SE PRODUZCAN DENTRO DE LAS ACTUACIONES ADMINISTRATIVAS QUE CURSAN EN LA ALCALDIA LOCAL. NO HAY 14844.","Inversión",45,{"$f":"IF(ISERROR(VLOOKUP(I207,[1]Eje_Pilar!$C$2:$E$47,2,FALSE)),\" \",VLOOKUP(I207,[1]Eje_Pilar!$C$2:$E$47,2,FALSE))","v":"Gobernanza e influencia local, regional e internacional"},{"$f":"IF(ISERROR(VLOOKUP(I207,[1]Eje_Pilar!$C$2:$E$47,3,FALSE)),\" \",VLOOKUP(I207,[1]Eje_Pilar!$C$2:$E$47,3,FALSE))","v":"Eje Transversal 4 Gobierno Legitimo, Fortalecimiento Local y Eficiencia"},"3-3-1-15-07-45-1481-000",12275921,"JUAN ANGEL TRUJILLO CANDELA",50600000,null,0,1,460000,51060000,42780000,"2019-02-18","2019-02-18","2020-01-21",330,21,null,null,null,"X",null,{"$f":"(IF(ISERROR(U207/T207),\"-\",(U207/T207)))*100","v":83.78378378378379},{"$f":"IF(SUMPRODUCT((A$14:A207=A207)*(B$14:B207=B207)*(C$14:C207=C207))>1,0,1)","v":1},{"$f":"IF(AND(AA207=\"X\",AG207=1 ),1,0)","v":0},{"$f":"IF(AND(AB207=\"X\",AG207=1 ),1,0)","v":0},{"$f":"IF(AND(AC207=\"X\",AG207=1 ),1,0)","v":0},{"$f":"IF(AND(AD207=\"X\",AG207=1 ),1,0)","v":1},{"$f":"IF(AND(AE207=\"X\",AG207=1 ),1,0)","v":0},"Contratos de prestación de servicios profesionales y de apoyo a la gestión","Contratación directa",{"$f":"IFERROR(VLOOKUP(F207,[1]Tipo!$C$12:$C$27,1,FALSE),\"NO\")","v":"Prestación de servicios profesionales y de apoyo a la gestión, o para la ejecución de trabajos artísticos que sólo puedan encomendarse a determinadas personas naturales;"},"Inversión",45]
[153,2019,"FDLSUBA-CPS-153-2019","Contratos de prestación de servicios profesionales y de apoyo a la gestión","Contratación directa","Prestación de servicios profesionales y de apoyo a la gestión, o para la ejecución de trabajos artísticos que sólo puedan encomendarse a determinadas personas naturales;","APOYAR JURIDICAMENTE LA EJECUCION DE LAS ACCIONES REQUERIDAS PARA LA DEPURACION DE LAS ACTUACIONES ADMINISTRATIVAS QUE CURSAN EN LA ALCALDIA LOCAL. NO HAY 14565.","Inversión",45,{"$f":"IF(ISERROR(VLOOKUP(I208,[1]Eje_Pilar!$C$2:$E$47,2,FALSE)),\" \",VLOOKUP(I208,[1]Eje_Pilar!$C$2:$E$47,2,FALSE))","v":"Gobernanza e influencia local, regional e internacional"},{"$f":"IF(ISERROR(VLOOKUP(I208,[1]Eje_Pilar!$C$2:$E$47,3,FALSE)),\" \",VLOOKUP(I208,[1]Eje_Pilar!$C$2:$E$47,3,FALSE))","v":"Eje Transversal 4 Gobierno Legitimo, Fortalecimiento Local y Eficiencia"},"3-3-1-15-07-45-1478-000",1019100490,"YUCELLY EDITH RUBIO MOLINA",50600000,null,0,null,0,50600000,43393333,"2019-02-15","2019-02-15","2019-12-31",330,null,null,null,null,"X",null,85.757575098814229,{"$f":"IF(SUMPRODUCT((A$14:A208=A208)*(B$14:B208=B208)*(C$14:C208=C208))>1,0,1)","v":1},0,0,0,1,0,"Contratos de prestación de servicios profesionales y de apoyo a la gestión","Contratación directa",{"$f":"IFERROR(VLOOKUP(F208,[1]Tipo!$C$12:$C$27,1,FALSE),\"NO\")","v":"Prestación de servicios profesionales y de apoyo a la gestión, o para la ejecución de trabajos artísticos que sólo puedan encomendarse a determinadas personas naturales;"},"Inversión",45]
[154,2019,"FDLSUBA-CPS-154-2019","Contratos de prestación de servicios profesionales y de apoyo a la gestión","Contratación directa","Prestación de servicios profesionales y de apoyo a la gestión, o para la ejecución de trabajos artísticos que sólo puedan encomendarse a determinadas personas naturales;","PRESTAR SERVICIOS PROFESIONALES PARA LA OPERACION, PRESTACION Y SEGUIMIENTO Y CUMPLIMIENTO DE LOS PROCEDIMIENTOS ADMINISTRATIVOS, OPERATIVOS Y PROGRAMATICOS DE LOS SERVICIOS SOCIALES DEL PROYECTO DE SUBSIDIO / APOYO ECONOMICO TIPO C, QUE CONTRIBUYAN A LA GARANTIA DE LOS DERECHOS DE LA POBLACION MAYOR EN EL MARCO DE LA POLITICA PUBLICA SOCIAL PARA EL ENVEJECIMIENTO Y LA VEJEZ EN EL DISTRITO CAPITAL A CARGO DE LA ALCALDIA LOCAL DE SUBA. NO HAY 14803.","Inversión",3,{"$f":"IF(ISERROR(VLOOKUP(I209,[1]Eje_Pilar!$C$2:$E$47,2,FALSE)),\" \",VLOOKUP(I209,[1]Eje_Pilar!$C$2:$E$47,2,FALSE))","v":"Igualdad y autonomía para una Bogotá incluyente"},{"$f":"IF(ISERROR(VLOOKUP(I209,[1]Eje_Pilar!$C$2:$E$47,3,FALSE)),\" \",VLOOKUP(I209,[1]Eje_Pilar!$C$2:$E$47,3,FALSE))","v":"Pilar 1 Igualdad de Calidad de Vida"},"3-3-1-15-01-03-1427-000",1019003873,"SANDRA LILIANA CASTILLO BARRERO",50600000,null,0,null,0,50600000,43853333,"2019-02-14","2019-02-14","2019-12-31",330,null,null,null,null,"X",null,86.666666007905135,{"$f":"IF(SUMPRODUCT((A$14:A209=A209)*(B$14:B209=B209)*(C$14:C209=C209))>1,0,1)","v":1},0,0,0,1,0,"Contratos de prestación de servicios profesionales y de apoyo a la gestión","Contratación directa",{"$f":"IFERROR(VLOOKUP(F209,[1]Tipo!$C$12:$C$27,1,FALSE),\"NO\")","v":"Prestación de servicios profesionales y de apoyo a la gestión, o para la ejecución de trabajos artísticos que sólo puedan encomendarse a determinadas personas naturales;"},"Inversión",3]
[155,2019,"FDLSUBA-CPS-155-2019","Contratos de prestación de servicios profesionales y de apoyo a la gestión","Contratación directa","Prestación de servicios profesionales y de apoyo a la gestión, o para la ejecución de trabajos artísticos que sólo puedan encomendarse a determinadas personas naturales;","¿Prestar los servicios profesionales como abogado en la Alcaldía Local de Suba, principalmente en todas las gestiones jurídicas y administrativas en materia de Propiedad Horizontal.¿. NO HAY 14589.","Inversión",45,{"$f":"IF(ISERROR(VLOOKUP(I210,[1]Eje_Pilar!$C$2:$E$47,2,FALSE)),\" \",VLOOKUP(I210,[1]Eje_Pilar!$C$2:$E$47,2,FALSE))","v":"Gobernanza e influencia local, regional e internacional"},{"$f":"IF(ISERROR(VLOOKUP(I210,[1]Eje_Pilar!$C$2:$E$47,3,FALSE)),\" \",VLOOKUP(I210,[1]Eje_Pilar!$C$2:$E$47,3,FALSE))","v":"Eje Transversal 4 Gobierno Legitimo, Fortalecimiento Local y Eficiencia"},"3-3-1-15-07-45-1481-000",80261338,"SANTIAGO  CRUZ VALERO",50600000,null,0,null,0,50600000,42933333,"2019-02-15","2019-02-15","2019-12-31",330,null,null,null,null,"X",null,84.848484189723322,{"$f":"IF(SUMPRODUCT((A$14:A210=A210)*(B$14:B210=B210)*(C$14:C210=C210))>1,0,1)","v":1},0,0,0,1,0,"Contratos de prestación de servicios profesionales y de apoyo a la gestión","Contratación directa",{"$f":"IFERROR(VLOOKUP(F210,[1]Tipo!$C$12:$C$27,1,FALSE),\"NO\")","v":"Prestación de servicios profesionales y de apoyo a la gestión, o para la ejecución de trabajos artísticos que sólo puedan encomendarse a determinadas personas naturales;"},"Inversión",45]
[156,2019,"FDLSUBA-CPS-156-2019","Contratos de prestación de servicios profesionales y de apoyo a la gestión","Contratación directa","Prestación de servicios profesionales y de apoyo a la gestión, o para la ejecución de trabajos artísticos que sólo puedan encomendarse a determinadas personas naturales;","APOYAR JURIDICAMENTE LA EJECUCION DE LAS ACCIONES REQUERIDAS PARA LA DEPURACION DE LAS ACTUACIONES ADMINISTRATIVAS QUE CURSAN EN LA ALCALDIA LOCAL. NO HAY 14565.","Inversión",45,{"$f":"IF(ISERROR(VLOOKUP(I211,[1]Eje_Pilar!$C$2:$E$47,2,FALSE)),\" \",VLOOKUP(I211,[1]Eje_Pilar!$C$2:$E$47,2,FALSE))","v":"Gobernanza e influencia local, regional e internacional"},{"$f":"IF(ISERROR(VLOOKUP(I211,[1]Eje_Pilar!$C$2:$E$47,3,FALSE)),\" \",VLOOKUP(I211,[1]Eje_Pilar!$C$2:$E$47,3,FALSE))","v":"Eje Transversal 4 Gobierno Legitimo, Fortalecimiento Local y Eficiencia"},"3-3-1-15-07-45-1478-000",80900825,"EDGAR ANDRES GIRALDO BRICEÑO",50600000,null,0,null,0,50600000,36646666,"2019-02-15","2019-02-15","2019-12-31",330,null,null,null,null,"X",null,72.424241106719364,{"$f":"IF(SUMPRODUCT((A$14:A211=A211)*(B$14:B211=B211)*(C$14:C211=C211))>1,0,1)","v":1},0,0,0,1,0,"Contratos de prestación de servicios profesionales y de apoyo a la gestión","Contratación directa",{"$f":"IFERROR(VLOOKUP(F211,[1]Tipo!$C$12:$C$27,1,FALSE),\"NO\")","v":"Prestación de servicios profesionales y de apoyo a la gestión, o para la ejecución de trabajos artísticos que sólo puedan encomendarse a determinadas personas naturales;"},"Inversión",45]
[157,2019,"FDLSUBA-CPS-157-2019","Contratos de prestación de servicios profesionales y de apoyo a la gestión","Contratación directa","Prestación de servicios profesionales y de apoyo a la gestión, o para la ejecución de trabajos artísticos que sólo puedan encomendarse a determinadas personas naturales;","APOYAR LA FORMULACION, GESTION Y SEGUIMIENTO DE ACTIVIDADES ENFOCADAS A LA GESTION AMBIENTAL EXTERNA, ENCAMINADAS A LA MITIGACION DE LOS DIFERENTES IMPACTOS AMBIENTALES Y LA CONSERVACION DE LOS RECURSOS NATURALES DE LA LOCALIDAD. NO HAY 15927.","Inversión",38,{"$f":"IF(ISERROR(VLOOKUP(I212,[1]Eje_Pilar!$C$2:$E$47,2,FALSE)),\" \",VLOOKUP(I212,[1]Eje_Pilar!$C$2:$E$47,2,FALSE))","v":"Recuperación y manejo de la Estructura Ecológica Principal"},{"$f":"IF(ISERROR(VLOOKUP(I212,[1]Eje_Pilar!$C$2:$E$47,3,FALSE)),\" \",VLOOKUP(I212,[1]Eje_Pilar!$C$2:$E$47,3,FALSE))","v":"Eje Transversal 3 Sostenibilidad Ambiental basada en la eficiencia energética"},"3-3-1-15-06-38-1472-000",1032398698,"LAURA MARIA BAUTISTA ALVAREZ",69300000,null,0,null,0,69300000,16380000,"2019-02-15","2019-02-15","2019-12-31",330,null,null,null,null,"X",null,23.636363636363637,{"$f":"IF(SUMPRODUCT((A$14:A212=A212)*(B$14:B212=B212)*(C$14:C212=C212))>1,0,1)","v":1},0,0,0,1,0,"Contratos de prestación de servicios profesionales y de apoyo a la gestión","Contratación directa",{"$f":"IFERROR(VLOOKUP(F212,[1]Tipo!$C$12:$C$27,1,FALSE),\"NO\")","v":"Prestación de servicios profesionales y de apoyo a la gestión, o para la ejecución de trabajos artísticos que sólo puedan encomendarse a determinadas personas naturales;"},"Inversión",38]
[159,2019,"FDLSUBA-CPS-159-2019","Contratos de prestación de servicios profesionales y de apoyo a la gestión","Contratación directa","Prestación de servicios profesionales y de apoyo a la gestión, o para la ejecución de trabajos artísticos que sólo puedan encomendarse a determinadas personas naturales;","PRESTAR SUS SERVICIOS PROFESIONALES PARA APOYAR LOS PROCESOS DE MANEJO DEL PRESUPUESTO DISTRITAL LOCAL QUE SE ENCUENTRAN A CARGO DE LA OFICINA DE PRESUPUESTO DEL FONDO DE DESARROLLO LOCAL DE SUBA.","Inversión",45,{"$f":"IF(ISERROR(VLOOKUP(I213,[1]Eje_Pilar!$C$2:$E$47,2,FALSE)),\" \",VLOOKUP(I213,[1]Eje_Pilar!$C$2:$E$47,2,FALSE))","v":"Gobernanza e influencia local, regional e internacional"},{"$f":"IF(ISERROR(VLOOKUP(I213,[1]Eje_Pilar!$C$2:$E$47,3,FALSE)),\" \",VLOOKUP(I213,[1]Eje_Pilar!$C$2:$E$47,3,FALSE))","v":"Eje Transversal 4 Gobierno Legitimo, Fortalecimiento Local y Eficiencia"},"3-3-1-15-07-45-1478-000",41637669,"AMPARO ADIELA CONTRERAS VILLAMIL",69300000,null,0,1,1470000,70770000,59430000,"2019-02-15","2019-02-15","2020-01-21",330,21,null,null,null,"X",null,83.976261127596445,{"$f":"IF(SUMPRODUCT((A$14:A213=A213)*(B$14:B213=B213)*(C$14:C213=C213))>1,0,1)","v":1},0,0,0,1,0,"Contratos de prestación de servicios profesionales y de apoyo a la gestión","Contratación directa",{"$f":"IFERROR(VLOOKUP(F213,[1]Tipo!$C$12:$C$27,1,FALSE),\"NO\")","v":"Prestación de servicios profesionales y de apoyo a la gestión, o para la ejecución de trabajos artísticos que sólo puedan encomendarse a determinadas personas naturales;"},"Inversión",45]
[160,2019,"FDLSUBA-CPS-160-2019","Contratos de prestación de servicios profesionales y de apoyo a la gestión","Contratación directa","Prestación de servicios profesionales y de apoyo a la gestión, o para la ejecución de trabajos artísticos que sólo puedan encomendarse a determinadas personas naturales;","APOYAR JURIDICAMENTE LA EJECUCION DE LAS ACCIONES REQUERIDAS PARA LA DEPURACION DE LAS ACTUACIONES ADMINISTRATIVAS QUE CURSAN EN LA ALCALDIA LOCAL. NO HAY 14565.","Inversión",45,{"$f":"IF(ISERROR(VLOOKUP(I214,[1]Eje_Pilar!$C$2:$E$47,2,FALSE)),\" \",VLOOKUP(I214,[1]Eje_Pilar!$C$2:$E$47,2,FALSE))","v":"Gobernanza e influencia local, regional e internacional"},{"$f":"IF(ISERROR(VLOOKUP(I214,[1]Eje_Pilar!$C$2:$E$47,3,FALSE)),\" \",VLOOKUP(I214,[1]Eje_Pilar!$C$2:$E$47,3,FALSE))","v":"Eje Transversal 4 Gobierno Legitimo, Fortalecimiento Local y Eficiencia"},"3-3-1-15-07-45-1478-000",1032450714,"PAULA ALEXANDRA LUGO REINA",50600000,null,0,1,766667,51366667,43086666,"2019-02-15","2019-02-15","2020-01-21",330,21,null,null,null,"X",null,83.88059517274111,{"$f":"IF(SUMPRODUCT((A$14:A214=A214)*(B$14:B214=B214)*(C$14:C214=C214))>1,0,1)","v":1},0,0,0,1,0,"Contratos de prestación de servicios profesionales y de apoyo a la gestión","Contratación directa",{"$f":"IFERROR(VLOOKUP(F214,[1]Tipo!$C$12:$C$27,1,FALSE),\"NO\")","v":"Prestación de servicios profesionales y de apoyo a la gestión, o para la ejecución de trabajos artísticos que sólo puedan encomendarse a determinadas personas naturales;"},"Inversión",45]
[161,2019,"FDLSUBA-CPS-161-2019","Contratos de prestación de servicios profesionales y de apoyo a la gestión","Contratación directa","Prestación de servicios profesionales y de apoyo a la gestión, o para la ejecución de trabajos artísticos que sólo puedan encomendarse a determinadas personas naturales;","¿Prestar los servicios profesionales para apoyar jurídicamente la ejecución de las acciones requeridas para la depuración de las actuaciones administrativas que cursan en la Alcaldía Local.¿.","Inversión",45,{"$f":"IF(ISERROR(VLOOKUP(I215,[1]Eje_Pilar!$C$2:$E$47,2,FALSE)),\" \",VLOOKUP(I215,[1]Eje_Pilar!$C$2:$E$47,2,FALSE))","v":"Gobernanza e influencia local, regional e internacional"},{"$f":"IF(ISERROR(VLOOKUP(I215,[1]Eje_Pilar!$C$2:$E$47,3,FALSE)),\" \",VLOOKUP(I215,[1]Eje_Pilar!$C$2:$E$47,3,FALSE))","v":"Eje Transversal 4 Gobierno Legitimo, Fortalecimiento Local y Eficiencia"},"3-3-1-15-07-45-1478-000",1019091203,"NATALIA  CAICEDO ARIAS",50600000,null,0,1,1533333,52133333,43853333,"2019-02-15","2019-02-15","2020-01-21",330,21,null,null,null,"X",null,84.117646957273962,{"$f":"IF(SUMPRODUCT((A$14:A215=A215)*(B$14:B215=B215)*(C$14:C215=C215))>1,0,1)","v":1},0,0,0,1,0,"Contratos de prestación de servicios profesionales y de apoyo a la gestión","Contratación directa",{"$f":"IFERROR(VLOOKUP(F215,[1]Tipo!$C$12:$C$27,1,FALSE),\"NO\")","v":"Prestación de servicios profesionales y de apoyo a la gestión, o para la ejecución de trabajos artísticos que sólo puedan encomendarse a determinadas personas naturales;"},"Inversión",45]
[162,2019,"FDLSUBA-CPS-162-2019","Contratos de prestación de servicios profesionales y de apoyo a la gestión","Contratación directa","Prestación de servicios profesionales y de apoyo a la gestión, o para la ejecución de trabajos artísticos que sólo puedan encomendarse a determinadas personas naturales;","¿Prestar los servicios profesionales para apoyar jurídicamente la ejecución de las acciones requeridas para la depuración de las actuaciones administrativas que cursan en la Alcaldía Local.¿. NO HAY 14569.","Inversión",45,{"$f":"IF(ISERROR(VLOOKUP(I216,[1]Eje_Pilar!$C$2:$E$47,2,FALSE)),\" \",VLOOKUP(I216,[1]Eje_Pilar!$C$2:$E$47,2,FALSE))","v":"Gobernanza e influencia local, regional e internacional"},{"$f":"IF(ISERROR(VLOOKUP(I216,[1]Eje_Pilar!$C$2:$E$47,3,FALSE)),\" \",VLOOKUP(I216,[1]Eje_Pilar!$C$2:$E$47,3,FALSE))","v":"Eje Transversal 4 Gobierno Legitimo, Fortalecimiento Local y Eficiencia"},"3-3-1-15-07-45-1478-000",1032429314,"FRANCISCO  CANOSSA CHAVEZ",50600000,null,0,1,1533333,52133333,43853333,"2019-02-15","2019-02-15","2020-01-21",330,21,null,null,null,"X",null,84.117646957273962,{"$f":"IF(SUMPRODUCT((A$14:A216=A216)*(B$14:B216=B216)*(C$14:C216=C216))>1,0,1)","v":1},0,0,0,1,0,"Contratos de prestación de servicios profesionales y de apoyo a la gestión","Contratación directa",{"$f":"IFERROR(VLOOKUP(F216,[1]Tipo!$C$12:$C$27,1,FALSE),\"NO\")","v":"Prestación de servicios profesionales y de apoyo a la gestión, o para la ejecución de trabajos artísticos que sólo puedan encomendarse a determinadas personas naturales;"},"Inversión",45]
[163,2019,"FDLSUBA-CPS-163-2019","Contratos de prestación de servicios profesionales y de apoyo a la gestión","Contratación directa","Prestación de servicios profesionales y de apoyo a la gestión, o para la ejecución de trabajos artísticos que sólo puedan encomendarse a determinadas personas naturales;","¿Prestar los servicios profesionales como abogado en la Alcaldía Local de Suba, principalmente en todas las gestiones jurídicas y administrativas en materia de Propiedad Horizontal.¿. NO HAY 14589.","Inversión",45,{"$f":"IF(ISERROR(VLOOKUP(I217,[1]Eje_Pilar!$C$2:$E$47,2,FALSE)),\" \",VLOOKUP(I217,[1]Eje_Pilar!$C$2:$E$47,2,FALSE))","v":"Gobernanza e influencia local, regional e internacional"},{"$f":"IF(ISERROR(VLOOKUP(I217,[1]Eje_Pilar!$C$2:$E$47,3,FALSE)),\" \",VLOOKUP(I217,[1]Eje_Pilar!$C$2:$E$47,3,FALSE))","v":"Eje Transversal 4 Gobierno Legitimo, Fortalecimiento Local y Eficiencia"},"3-3-1-15-07-45-1481-000",13350649,"JESUS HEMEL PACHECO ARDILA",50600000,null,0,1,1073333,51673333,43393333,"2019-02-15","2019-02-15","2020-01-21",330,21,null,null,null,"X",null,83.976261024230809,{"$f":"IF(SUMPRODUCT((A$14:A217=A217)*(B$14:B217=B217)*(C$14:C217=C217))>1,0,1)","v":1},0,0,0,1,0,"Contratos de prestación de servicios profesionales y de apoyo a la gestión","Contratación directa",{"$f":"IFERROR(VLOOKUP(F217,[1]Tipo!$C$12:$C$27,1,FALSE),\"NO\")","v":"Prestación de servicios profesionales y de apoyo a la gestión, o para la ejecución de trabajos artísticos que sólo puedan encomendarse a determinadas personas naturales;"},"Inversión",45]
[164,2019,"FDLSUBA-CPS-164-2019","Contratos de prestación de servicios profesionales y de apoyo a la gestión","Contratación directa","Prestación de servicios profesionales y de apoyo a la gestión, o para la ejecución de trabajos artísticos que sólo puedan encomendarse a determinadas personas naturales;","PRESTAR SERVICIOS PROFESIONALES PARA LA OPERACION, PRESTACION Y SEGUIMIENTO Y CUMPLIMIENTO DE LOS PROCEDIMIENTOS ADMINISTRATIVOS, OPERATIVOS Y PROGRAMATICOS DE LOS SERVICIOS SOCIALES DEL PROYECTO DE SUBSIDIO / APOYO ECONOMICO TIPO C, QUE CONTRIBUYAN A LA GARANTIA DE LOS DERECHOS DE LA POBLACION MAYOR EN EL MARCO DE LA POLITICA PUBLICA SOCIAL PARA EL ENVEJECIMIENTO Y LA VEJEZ EN EL DISTRITO CAPITAL A CARGO DE LA ALCALDIA LOCAL DE SUBA. NO HAY 14803.","Inversión",3,{"$f":"IF(ISERROR(VLOOKUP(I218,[1]Eje_Pilar!$C$2:$E$47,2,FALSE)),\" \",VLOOKUP(I218,[1]Eje_Pilar!$C$2:$E$47,2,FALSE))","v":"Igualdad y autonomía para una Bogotá incluyente"},{"$f":"IF(ISERROR(VLOOKUP(I218,[1]Eje_Pilar!$C$2:$E$47,3,FALSE)),\" \",VLOOKUP(I218,[1]Eje_Pilar!$C$2:$E$47,3,FALSE))","v":"Pilar 1 Igualdad de Calidad de Vida"},"3-3-1-15-01-03-1427-000",1110450731,"ANA MARIA SARMIENTO LEON",50600000,null,0,1,1073333,51673333,43393333,"2019-02-15","2019-02-15","2020-01-21",330,21,null,null,null,"X",null,83.976261024230809,{"$f":"IF(SUMPRODUCT((A$14:A218=A218)*(B$14:B218=B218)*(C$14:C218=C218))>1,0,1)","v":1},0,0,0,1,0,"Contratos de prestación de servicios profesionales y de apoyo a la gestión","Contratación directa",{"$f":"IFERROR(VLOOKUP(F218,[1]Tipo!$C$12:$C$27,1,FALSE),\"NO\")","v":"Prestación de servicios profesionales y de apoyo a la gestión, o para la ejecución de trabajos artísticos que sólo puedan encomendarse a determinadas personas naturales;"},"Inversión",3]
[165,2019,"FDLSUBA-CPS-165-2019","Contratos de prestación de servicios profesionales y de apoyo a la gestión","Contratación directa","Prestación de servicios profesionales y de apoyo a la gestión, o para la ejecución de trabajos artísticos que sólo puedan encomendarse a determinadas personas naturales;","Prestar servicios profesionales en materia social para impulsar los procesos de participación ciudadana y fomentar las actividades institucionales para el cumplimiento de las metas de plan de desarrollo local. NO HAY 15902.","Inversión",45,{"$f":"IF(ISERROR(VLOOKUP(I219,[1]Eje_Pilar!$C$2:$E$47,2,FALSE)),\" \",VLOOKUP(I219,[1]Eje_Pilar!$C$2:$E$47,2,FALSE))","v":"Gobernanza e influencia local, regional e internacional"},{"$f":"IF(ISERROR(VLOOKUP(I219,[1]Eje_Pilar!$C$2:$E$47,3,FALSE)),\" \",VLOOKUP(I219,[1]Eje_Pilar!$C$2:$E$47,3,FALSE))","v":"Eje Transversal 4 Gobierno Legitimo, Fortalecimiento Local y Eficiencia"},"3-3-1-15-07-45-1483-000",1032459869,"ERIKA BEATRIZ CUBILLOS QUINTERO",50600000,null,0,1,1073333,51673333,42320000,"2019-02-18","2019-02-18","2020-01-21",345,21,null,null,null,"X",null,81.899110320598055,{"$f":"IF(SUMPRODUCT((A$14:A219=A219)*(B$14:B219=B219)*(C$14:C219=C219))>1,0,1)","v":1},0,0,0,1,0,"Contratos de prestación de servicios profesionales y de apoyo a la gestión","Contratación directa",{"$f":"IFERROR(VLOOKUP(F219,[1]Tipo!$C$12:$C$27,1,FALSE),\"NO\")","v":"Prestación de servicios profesionales y de apoyo a la gestión, o para la ejecución de trabajos artísticos que sólo puedan encomendarse a determinadas personas naturales;"},"Inversión",45]
[166,2019,"FDLSUBA-CPS-166-2019","Contratos de prestación de servicios profesionales y de apoyo a la gestión","Contratación directa","Prestación de servicios profesionales y de apoyo a la gestión, o para la ejecución de trabajos artísticos que sólo puedan encomendarse a determinadas personas naturales;","APOYAR JURIDICAMENTE LA EJECUCION DE LAS ACCIONES REQUERIDAS PARA LA DEPURACION DE LAS ACTUACIONES ADMINISTRATIVAS QUE CURSAN EN LA ALCALDIA LOCAL. NO HAY 14565.","Inversión",45,{"$f":"IF(ISERROR(VLOOKUP(I220,[1]Eje_Pilar!$C$2:$E$47,2,FALSE)),\" \",VLOOKUP(I220,[1]Eje_Pilar!$C$2:$E$47,2,FALSE))","v":"Gobernanza e influencia local, regional e internacional"},{"$f":"IF(ISERROR(VLOOKUP(I220,[1]Eje_Pilar!$C$2:$E$47,3,FALSE)),\" \",VLOOKUP(I220,[1]Eje_Pilar!$C$2:$E$47,3,FALSE))","v":"Eje Transversal 4 Gobierno Legitimo, Fortalecimiento Local y Eficiencia"},"3-3-1-15-07-45-1478-000",52307691,"PAULA JOHANA VARGAS LEGUIZAMO",50600000,null,0,1,920000,51520000,43240000,"2019-02-15","2019-02-15","2020-01-21",330,21,null,null,null,"X",null,83.928571428571431,{"$f":"IF(SUMPRODUCT((A$14:A220=A220)*(B$14:B220=B220)*(C$14:C220=C220))>1,0,1)","v":1},0,0,0,1,0,"Contratos de prestación de servicios profesionales y de apoyo a la gestión","Contratación directa",{"$f":"IFERROR(VLOOKUP(F220,[1]Tipo!$C$12:$C$27,1,FALSE),\"NO\")","v":"Prestación de servicios profesionales y de apoyo a la gestión, o para la ejecución de trabajos artísticos que sólo puedan encomendarse a determinadas personas naturales;"},"Inversión",45]
[167,2019,"FDLSUBA-CPS-167-2019","Contratos de prestación de servicios profesionales y de apoyo a la gestión","Contratación directa","Prestación de servicios profesionales y de apoyo a la gestión, o para la ejecución de trabajos artísticos que sólo puedan encomendarse a determinadas personas naturales;","APOYAR JURIDICAMENTE LA EJECUCION DE LAS ACCIONES REQUERIDAS PARA LA DEPURACION DE LAS ACTUACIONES ADMINISTRATIVAS QUE CURSAN EN LA ALCALDIA LOCAL. NO HAY 14565.","Inversión",45,{"$f":"IF(ISERROR(VLOOKUP(I221,[1]Eje_Pilar!$C$2:$E$47,2,FALSE)),\" \",VLOOKUP(I221,[1]Eje_Pilar!$C$2:$E$47,2,FALSE))","v":"Gobernanza e influencia local, regional e internacional"},{"$f":"IF(ISERROR(VLOOKUP(I221,[1]Eje_Pilar!$C$2:$E$47,3,FALSE)),\" \",VLOOKUP(I221,[1]Eje_Pilar!$C$2:$E$47,3,FALSE))","v":"Eje Transversal 4 Gobierno Legitimo, Fortalecimiento Local y Eficiencia"},"3-3-1-15-07-45-1478-000",88216554,"MARCO LEONARDO PEREZ PABLOS",50600000,null,0,1,1073333,51673333,43393333,"2019-02-15","2019-02-15","2020-01-21",330,21,null,null,null,"X",null,83.976261024230809,{"$f":"IF(SUMPRODUCT((A$14:A221=A221)*(B$14:B221=B221)*(C$14:C221=C221))>1,0,1)","v":1},0,0,0,1,0,"Contratos de prestación de servicios profesionales y de apoyo a la gestión","Contratación directa",{"$f":"IFERROR(VLOOKUP(F221,[1]Tipo!$C$12:$C$27,1,FALSE),\"NO\")","v":"Prestación de servicios profesionales y de apoyo a la gestión, o para la ejecución de trabajos artísticos que sólo puedan encomendarse a determinadas personas naturales;"},"Inversión",45]
[168,2019,"FDLSUBA-CPS-168-2019","Contratos de prestación de servicios profesionales y de apoyo a la gestión","Contratación directa","Prestación de servicios profesionales y de apoyo a la gestión, o para la ejecución de trabajos artísticos que sólo puedan encomendarse a determinadas personas naturales;","APOYAR JURIDICAMENTE LA EJECUCION DE LAS ACCIONES REQUERIDAS PARA LA DEPURACION DE LAS ACTUACIONES ADMINISTRATIVAS QUE CURSAN EN LA ALCALDIA LOCAL. NO HAY 14565.","Inversión",45,{"$f":"IF(ISERROR(VLOOKUP(I222,[1]Eje_Pilar!$C$2:$E$47,2,FALSE)),\" \",VLOOKUP(I222,[1]Eje_Pilar!$C$2:$E$47,2,FALSE))","v":"Gobernanza e influencia local, regional e internacional"},{"$f":"IF(ISERROR(VLOOKUP(I222,[1]Eje_Pilar!$C$2:$E$47,3,FALSE)),\" \",VLOOKUP(I222,[1]Eje_Pilar!$C$2:$E$47,3,FALSE))","v":"Eje Transversal 4 Gobierno Legitimo, Fortalecimiento Local y Eficiencia"},"3-3-1-15-07-45-1478-000",46385065,"ROSALBA  CHAPARRO CHAPARRO",50600000,null,0,null,0,50600000,43393333,"2019-02-15","2019-02-15","2019-12-31",330,null,null,null,null,"X",null,85.757575098814229,{"$f":"IF(SUMPRODUCT((A$14:A222=A222)*(B$14:B222=B222)*(C$14:C222=C222))>1,0,1)","v":1},0,0,0,1,0,"Contratos de prestación de servicios profesionales y de apoyo a la gestión","Contratación directa",{"$f":"IFERROR(VLOOKUP(F222,[1]Tipo!$C$12:$C$27,1,FALSE),\"NO\")","v":"Prestación de servicios profesionales y de apoyo a la gestión, o para la ejecución de trabajos artísticos que sólo puedan encomendarse a determinadas personas naturales;"},"Inversión",45]
[169,2019,"FDLSUBA-CPS-169-2019","Contratos de prestación de servicios profesionales y de apoyo a la gestión","Contratación directa","Prestación de servicios profesionales y de apoyo a la gestión, o para la ejecución de trabajos artísticos que sólo puedan encomendarse a determinadas personas naturales;","APOYAR JURIDICAMENTE LA EJECUCION DE LAS ACCIONES REQUERIDAS PARA LA DEPURACION DE LAS ACTUACIONES ADMINISTRATIVAS QUE CURSAN EN LA ALCALDIA LOCAL. NO HAY 14565.","Inversión",45,{"$f":"IF(ISERROR(VLOOKUP(I223,[1]Eje_Pilar!$C$2:$E$47,2,FALSE)),\" \",VLOOKUP(I223,[1]Eje_Pilar!$C$2:$E$47,2,FALSE))","v":"Gobernanza e influencia local, regional e internacional"},{"$f":"IF(ISERROR(VLOOKUP(I223,[1]Eje_Pilar!$C$2:$E$47,3,FALSE)),\" \",VLOOKUP(I223,[1]Eje_Pilar!$C$2:$E$47,3,FALSE))","v":"Eje Transversal 4 Gobierno Legitimo, Fortalecimiento Local y Eficiencia"},"3-3-1-15-07-45-1478-000",8775717,"JUAN CARLOS GONZALEZ LEAL",50600000,null,0,null,0,50600000,43393333,"2019-02-15","2019-02-15","2019-12-31",330,null,null,null,null,"X",null,85.757575098814229,{"$f":"IF(SUMPRODUCT((A$14:A223=A223)*(B$14:B223=B223)*(C$14:C223=C223))>1,0,1)","v":1},0,0,0,1,0,"Contratos de prestación de servicios profesionales y de apoyo a la gestión","Contratación directa",{"$f":"IFERROR(VLOOKUP(F223,[1]Tipo!$C$12:$C$27,1,FALSE),\"NO\")","v":"Prestación de servicios profesionales y de apoyo a la gestión, o para la ejecución de trabajos artísticos que sólo puedan encomendarse a determinadas personas naturales;"},"Inversión",45]
[170,2019,"FDLSUBA-CPS-170-2019","Contratos de prestación de servicios profesionales y de apoyo a la gestión","Contratación directa","Prestación de servicios profesionales y de apoyo a la gestión, o para la ejecución de trabajos artísticos que sólo puedan encomendarse a determinadas personas naturales;","APOYAR JURIDICAMENTE LA EJECUCION DE LAS ACCIONES REQUERIDAS PARA LA DEPURACION DE LAS ACTUACIONES ADMINISTRATIVAS QUE CURSAN EN LA ALCALDIA LOCAL. NO HAY 14565.","Inversión",45,{"$f":"IF(ISERROR(VLOOKUP(I224,[1]Eje_Pilar!$C$2:$E$47,2,FALSE)),\" \",VLOOKUP(I224,[1]Eje_Pilar!$C$2:$E$47,2,FALSE))","v":"Gobernanza e influencia local, regional e internacional"},{"$f":"IF(ISERROR(VLOOKUP(I224,[1]Eje_Pilar!$C$2:$E$47,3,FALSE)),\" \",VLOOKUP(I224,[1]Eje_Pilar!$C$2:$E$47,3,FALSE))","v":"Eje Transversal 4 Gobierno Legitimo, Fortalecimiento Local y Eficiencia"},"3-3-1-15-07-45-1478-000",8775717,"SANDRA NOHELIA PINZON CARDENAS",50600000,null,0,null,0,50600000,42320000,"2019-02-18","2019-02-18","2019-12-31",330,null,null,null,null,"X",null,83.636363636363626,{"$f":"IF(SUMPRODUCT((A$14:A224=A224)*(B$14:B224=B224)*(C$14:C224=C224))>1,0,1)","v":1},0,0,0,1,0,"Contratos de prestación de servicios profesionales y de apoyo a la gestión","Contratación directa",{"$f":"IFERROR(VLOOKUP(F224,[1]Tipo!$C$12:$C$27,1,FALSE),\"NO\")","v":"Prestación de servicios profesionales y de apoyo a la gestión, o para la ejecución de trabajos artísticos que sólo puedan encomendarse a determinadas personas naturales;"},"Inversión",45]
[171,2019,"FDLSUBA-CPS-1710-2019","Contratos de prestación de servicios profesionales y de apoyo a la gestión","Contratación directa","Prestación de servicios profesionales y de apoyo a la gestión, o para la ejecución de trabajos artísticos que sólo puedan encomendarse a determinadas personas naturales;","PRESTAR SERVICIOS PROFESIONALES PARA APOYAR AL EQUIPO DE PRENSA Y COMUNICACIONES DE LA ALCALDIA LOCAL EN LA CREACION, REALIZACION Y PRODUCCION DE VIDEOS QUE TRANSMITAN UN MENSAJE EN LA COMUNICACION INTERNA Y EXTERNA.. NO HAY 15005.","Inversión",45,{"$f":"IF(ISERROR(VLOOKUP(I225,[1]Eje_Pilar!$C$2:$E$47,2,FALSE)),\" \",VLOOKUP(I225,[1]Eje_Pilar!$C$2:$E$47,2,FALSE))","v":"Gobernanza e influencia local, regional e internacional"},{"$f":"IF(ISERROR(VLOOKUP(I225,[1]Eje_Pilar!$C$2:$E$47,3,FALSE)),\" \",VLOOKUP(I225,[1]Eje_Pilar!$C$2:$E$47,3,FALSE))","v":"Eje Transversal 4 Gobierno Legitimo, Fortalecimiento Local y Eficiencia"},"3-3-1-15-07-45-1478-000",1015443211,"KAREM ANGELICA HERRERA SANCHEZ",48300000,null,0,1,3066667,51366667,43086667,"2019-02-18","2019-02-18","2020-01-21",330,21,null,null,null,"X",null,83.8805971195289,{"$f":"IF(SUMPRODUCT((A$14:A225=A225)*(B$14:B225=B225)*(C$14:C225=C225))>1,0,1)","v":1},0,0,0,1,0,"Contratos de prestación de servicios profesionales y de apoyo a la gestión","Contratación directa",{"$f":"IFERROR(VLOOKUP(F225,[1]Tipo!$C$12:$C$27,1,FALSE),\"NO\")","v":"Prestación de servicios profesionales y de apoyo a la gestión, o para la ejecución de trabajos artísticos que sólo puedan encomendarse a determinadas personas naturales;"},"Inversión",45]
[172,2019,"FDLSUBA-CPS-172-2019","Contratos de prestación de servicios profesionales y de apoyo a la gestión","Contratación directa","Prestación de servicios profesionales y de apoyo a la gestión, o para la ejecución de trabajos artísticos que sólo puedan encomendarse a determinadas personas naturales;","¿Prestar servicios profesionales en el Área de Gestión del Desarrollo Local de la Alcaldía Local de Suba en el área de planeación, para lograr el cumplimiento de las metas del plan de desarrollo local de la vigencia¿. NO HAY 14605.","Inversión",45,{"$f":"IF(ISERROR(VLOOKUP(I226,[1]Eje_Pilar!$C$2:$E$47,2,FALSE)),\" \",VLOOKUP(I226,[1]Eje_Pilar!$C$2:$E$47,2,FALSE))","v":"Gobernanza e influencia local, regional e internacional"},{"$f":"IF(ISERROR(VLOOKUP(I226,[1]Eje_Pilar!$C$2:$E$47,3,FALSE)),\" \",VLOOKUP(I226,[1]Eje_Pilar!$C$2:$E$47,3,FALSE))","v":"Eje Transversal 4 Gobierno Legitimo, Fortalecimiento Local y Eficiencia"},"3-3-1-15-07-45-1478-000",91274561,"VICTOR HUGO AGUILERA PINEDA",69300000,null,0,1,1260000,70560000,57750000,"2019-02-15","2019-02-15","2020-01-21",330,21,null,null,null,"X",null,81.845238095238088,{"$f":"IF(SUMPRODUCT((A$14:A226=A226)*(B$14:B226=B226)*(C$14:C226=C226))>1,0,1)","v":1},0,0,0,1,0,"Contratos de prestación de servicios profesionales y de apoyo a la gestión","Contratación directa",{"$f":"IFERROR(VLOOKUP(F226,[1]Tipo!$C$12:$C$27,1,FALSE),\"NO\")","v":"Prestación de servicios profesionales y de apoyo a la gestión, o para la ejecución de trabajos artísticos que sólo puedan encomendarse a determinadas personas naturales;"},"Inversión",45]
[173,2019,"FDLSUBA-CPS-173-2019","Contratos de prestación de servicios profesionales y de apoyo a la gestión","Contratación directa","Prestación de servicios profesionales y de apoyo a la gestión, o para la ejecución de trabajos artísticos que sólo puedan encomendarse a determinadas personas naturales;","PRESTAR SERVICIOS DE APOYO A LOS ARCHIVOS DE GESTION DE LA ENTIDAD EN LA IMPLEMENTACION DE LOS PROCESOS DE CLASIFICACION, ORDENACION, SELECCION NATURAL, FOLIACION, IDENTIFICACION, LEVANTAMIENTO DE INVENTARIOS, ALMACENAMIENTO Y APLICACION DE PROTOCOLOS DE ELIMINACION Y TRANSFERENCIAS DOCUMENTALES. NO HAY 15414.","Inversión",45,{"$f":"IF(ISERROR(VLOOKUP(I227,[1]Eje_Pilar!$C$2:$E$47,2,FALSE)),\" \",VLOOKUP(I227,[1]Eje_Pilar!$C$2:$E$47,2,FALSE))","v":"Gobernanza e influencia local, regional e internacional"},{"$f":"IF(ISERROR(VLOOKUP(I227,[1]Eje_Pilar!$C$2:$E$47,3,FALSE)),\" \",VLOOKUP(I227,[1]Eje_Pilar!$C$2:$E$47,3,FALSE))","v":"Eje Transversal 4 Gobierno Legitimo, Fortalecimiento Local y Eficiencia"},"3-3-1-15-07-45-1478-000",80165689,"JOHN RICARDO CANTILLO MONSALVE",24024000,null,0,null,0,24024000,20602400,"2019-02-18","2019-02-18","2019-12-31",330,null,null,null,null,"X",null,85.757575757575751,{"$f":"IF(SUMPRODUCT((A$14:A227=A227)*(B$14:B227=B227)*(C$14:C227=C227))>1,0,1)","v":1},0,0,0,1,0,"Contratos de prestación de servicios profesionales y de apoyo a la gestión","Contratación directa",{"$f":"IFERROR(VLOOKUP(F227,[1]Tipo!$C$12:$C$27,1,FALSE),\"NO\")","v":"Prestación de servicios profesionales y de apoyo a la gestión, o para la ejecución de trabajos artísticos que sólo puedan encomendarse a determinadas personas naturales;"},"Inversión",45]
[174,2019,"FDLSUBA-CPS-174-2019","Contratos de prestación de servicios profesionales y de apoyo a la gestión","Contratación directa","Prestación de servicios profesionales y de apoyo a la gestión, o para la ejecución de trabajos artísticos que sólo puedan encomendarse a determinadas personas naturales;","PRESTAR LOS SERVICOS PROFESIONALES EN EL AREA GESTION DEL DESARROLLO, PARA EL APOYO A LA EJECUCION INTEGRAL DE LOS DIFERENTES PROYECTOS DE INVERSION DESTINADOS A LA INTERVENCION DE LA MALLA VIAL, ESPACIO PUBLICO Y PARQUES DE LA LOCALIDAD DE SUBA. NO HAY 14780.","Inversión",18,{"$f":"IF(ISERROR(VLOOKUP(I228,[1]Eje_Pilar!$C$2:$E$47,2,FALSE)),\" \",VLOOKUP(I228,[1]Eje_Pilar!$C$2:$E$47,2,FALSE))","v":"Mejor movilidad para todos"},{"$f":"IF(ISERROR(VLOOKUP(I228,[1]Eje_Pilar!$C$2:$E$47,3,FALSE)),\" \",VLOOKUP(I228,[1]Eje_Pilar!$C$2:$E$47,3,FALSE))","v":"Pilar 2 Democracía Urbana"},"3-3-1-15-02-18-1506-000",52089196,"YADI MILENA CORREA NAVA",66150000,null,0,null,0,66150000,57960000,"2019-02-15","2019-02-15","2019-12-31",330,null,null,null,null,"X",null,87.61904761904762,{"$f":"IF(SUMPRODUCT((A$14:A228=A228)*(B$14:B228=B228)*(C$14:C228=C228))>1,0,1)","v":1},0,0,0,1,0,"Contratos de prestación de servicios profesionales y de apoyo a la gestión","Contratación directa",{"$f":"IFERROR(VLOOKUP(F228,[1]Tipo!$C$12:$C$27,1,FALSE),\"NO\")","v":"Prestación de servicios profesionales y de apoyo a la gestión, o para la ejecución de trabajos artísticos que sólo puedan encomendarse a determinadas personas naturales;"},"Inversión",18]
[175,2019,"FDLSUBA-CPS-175-2019","Contratos de prestación de servicios profesionales y de apoyo a la gestión","Contratación directa","Prestación de servicios profesionales y de apoyo a la gestión, o para la ejecución de trabajos artísticos que sólo puedan encomendarse a determinadas personas naturales;","PRESTAR LOS SERVICOS PROFESIONALES EN EL AREA GESTION DEL DESARROLLO, PARA EL APOYO A LA EJECUCION INTEGRAL DE LOS DIFERENTES PROYECTOS DE INVERSION DESTINADOS A LA INTERVENCION DE LA MALLA VIAL, ESPACIO PUBLICO Y PARQUES DE LA LOCALIDAD DE SUBA. NO HAY 14780.","Inversión",18,{"$f":"IF(ISERROR(VLOOKUP(I229,[1]Eje_Pilar!$C$2:$E$47,2,FALSE)),\" \",VLOOKUP(I229,[1]Eje_Pilar!$C$2:$E$47,2,FALSE))","v":"Mejor movilidad para todos"},{"$f":"IF(ISERROR(VLOOKUP(I229,[1]Eje_Pilar!$C$2:$E$47,3,FALSE)),\" \",VLOOKUP(I229,[1]Eje_Pilar!$C$2:$E$47,3,FALSE))","v":"Pilar 2 Democracía Urbana"},"3-3-1-15-02-18-1506-000",52777821,"EMMA VIVIANA BERMUDEZ GARZON",66150000,null,0,1,4200000,70350000,59010000,"2019-02-18","2019-02-18","2020-01-21",330,21,null,null,null,"X",null,83.880597014925371,{"$f":"IF(SUMPRODUCT((A$14:A229=A229)*(B$14:B229=B229)*(C$14:C229=C229))>1,0,1)","v":1},0,0,0,1,0,"Contratos de prestación de servicios profesionales y de apoyo a la gestión","Contratación directa",{"$f":"IFERROR(VLOOKUP(F229,[1]Tipo!$C$12:$C$27,1,FALSE),\"NO\")","v":"Prestación de servicios profesionales y de apoyo a la gestión, o para la ejecución de trabajos artísticos que sólo puedan encomendarse a determinadas personas naturales;"},"Inversión",18]
[176,2019,"FDLSUBA-CPS-176-2019","Contratos de prestación de servicios profesionales y de apoyo a la gestión","Contratación directa","Prestación de servicios profesionales y de apoyo a la gestión, o para la ejecución de trabajos artísticos que sólo puedan encomendarse a determinadas personas naturales;","Prestar servicios de apoyo en las actividades de seguridad y convivencia ciudadana y recuperación del espacio público para el logro de las metas de gestión de la vigencia. NO HAY 15926.","Inversión",19,{"$f":"IF(ISERROR(VLOOKUP(I230,[1]Eje_Pilar!$C$2:$E$47,2,FALSE)),\" \",VLOOKUP(I230,[1]Eje_Pilar!$C$2:$E$47,2,FALSE))","v":"Seguridad y convivencia para todos"},{"$f":"IF(ISERROR(VLOOKUP(I230,[1]Eje_Pilar!$C$2:$E$47,3,FALSE)),\" \",VLOOKUP(I230,[1]Eje_Pilar!$C$2:$E$47,3,FALSE))","v":"Pilar 3 Construcción de Comunidad y Cultura Ciudadana"},"3-3-1-15-03-19-1469-000",1014265695,"DIANA ALEJANDRA RIOS CARANTON",19448000,null,0,1,412533,19860533,16678133,"2019-02-15","2019-02-15","2020-01-21",330,21,null,null,null,"X",null,83.976260858658719,{"$f":"IF(SUMPRODUCT((A$14:A230=A230)*(B$14:B230=B230)*(C$14:C230=C230))>1,0,1)","v":1},0,0,0,1,0,"Contratos de prestación de servicios profesionales y de apoyo a la gestión","Contratación directa",{"$f":"IFERROR(VLOOKUP(F230,[1]Tipo!$C$12:$C$27,1,FALSE),\"NO\")","v":"Prestación de servicios profesionales y de apoyo a la gestión, o para la ejecución de trabajos artísticos que sólo puedan encomendarse a determinadas personas naturales;"},"Inversión",19]
[177,2019,"FDLSUBA-CPS-177-2019","Contratos de prestación de servicios profesionales y de apoyo a la gestión","Contratación directa","Prestación de servicios profesionales y de apoyo a la gestión, o para la ejecución de trabajos artísticos que sólo puedan encomendarse a determinadas personas naturales;","Prestar servicios de apoyo en las actividades de seguridad y convivencia ciudadana y recuperación del espacio público para el logro de las metas de gestión de la vigencia. NO HAY 15926.","Inversión",19,{"$f":"IF(ISERROR(VLOOKUP(I231,[1]Eje_Pilar!$C$2:$E$47,2,FALSE)),\" \",VLOOKUP(I231,[1]Eje_Pilar!$C$2:$E$47,2,FALSE))","v":"Seguridad y convivencia para todos"},{"$f":"IF(ISERROR(VLOOKUP(I231,[1]Eje_Pilar!$C$2:$E$47,3,FALSE)),\" \",VLOOKUP(I231,[1]Eje_Pilar!$C$2:$E$47,3,FALSE))","v":"Pilar 3 Construcción de Comunidad y Cultura Ciudadana"},"3-3-1-15-03-19-1469-000",1019028698,"NICOLAS  LINARES ARRIETA",19448000,null,0,1,547333,19995333,17245067,"2019-02-15","2019-02-15","2020-01-21",330,21,null,null,null,"X",null,86.245460378179246,{"$f":"IF(SUMPRODUCT((A$14:A231=A231)*(B$14:B231=B231)*(C$14:C231=C231))>1,0,1)","v":1},0,0,0,1,0,"Contratos de prestación de servicios profesionales y de apoyo a la gestión","Contratación directa",{"$f":"IFERROR(VLOOKUP(F231,[1]Tipo!$C$12:$C$27,1,FALSE),\"NO\")","v":"Prestación de servicios profesionales y de apoyo a la gestión, o para la ejecución de trabajos artísticos que sólo puedan encomendarse a determinadas personas naturales;"},"Inversión",19]
[178,2019,"FDLSUBA-CPS-178-2019","Contratos de prestación de servicios profesionales y de apoyo a la gestión","Contratación directa","Prestación de servicios profesionales y de apoyo a la gestión, o para la ejecución de trabajos artísticos que sólo puedan encomendarse a determinadas personas naturales;","PRESTAR SERVICIOS PROFESIONALES PARA LA OPERACION, PRESTACION Y SEGUIMIENTO Y CUMPLIMIENTO DE LOS PROCEDIMIENTOS ADMINISTRATIVOS, OPERATIVOS Y PROGRAMATICOS DE LOS SERVICIOS SOCIALES DEL PROYECTO DE SUBSIDIO / APOYO ECONOMICO TIPO C, QUE CONTRIBUYAN A LA GARANTIA DE LOS DERECHOS DE LA POBLACION MAYOR EN EL MARCO DE LA POLITICA PUBLICA SOCIAL PARA EL ENVEJECIMIENTO Y LA VEJEZ EN EL DISTRITO CAPITAL A CARGO DE LA ALCALDIA LOCAL DE SUBA. NO HAY 14803.","Inversión",3,{"$f":"IF(ISERROR(VLOOKUP(I232,[1]Eje_Pilar!$C$2:$E$47,2,FALSE)),\" \",VLOOKUP(I232,[1]Eje_Pilar!$C$2:$E$47,2,FALSE))","v":"Igualdad y autonomía para una Bogotá incluyente"},{"$f":"IF(ISERROR(VLOOKUP(I232,[1]Eje_Pilar!$C$2:$E$47,3,FALSE)),\" \",VLOOKUP(I232,[1]Eje_Pilar!$C$2:$E$47,3,FALSE))","v":"Pilar 1 Igualdad de Calidad de Vida"},"3-3-1-15-01-03-1427-000",41667592,"MARTHA LUCIA CAYCEDO DIAZ",50600000,null,0,null,0,50600000,43393333,"2019-02-15","2019-02-15","2019-12-31",330,null,null,null,null,"X",null,85.757575098814229,{"$f":"IF(SUMPRODUCT((A$14:A232=A232)*(B$14:B232=B232)*(C$14:C232=C232))>1,0,1)","v":1},0,0,0,1,0,"Contratos de prestación de servicios profesionales y de apoyo a la gestión","Contratación directa",{"$f":"IFERROR(VLOOKUP(F232,[1]Tipo!$C$12:$C$27,1,FALSE),\"NO\")","v":"Prestación de servicios profesionales y de apoyo a la gestión, o para la ejecución de trabajos artísticos que sólo puedan encomendarse a determinadas personas naturales;"},"Inversión",3]
[179,2019,"FDLSUBA-CPS-179-2019","Contratos de prestación de servicios profesionales y de apoyo a la gestión","Contratación directa","Prestación de servicios profesionales y de apoyo a la gestión, o para la ejecución de trabajos artísticos que sólo puedan encomendarse a determinadas personas naturales;","PRESTAR SERVICIOS PROFESIONALES PARA LA OPERACION, PRESTACION Y SEGUIMIENTO Y CUMPLIMIENTO DE LOS PROCEDIMIENTOS ADMINISTRATIVOS, OPERATIVOS Y PROGRAMATICOS DE LOS SERVICIOS SOCIALES DEL PROYECTO DE SUBSIDIO / APOYO ECONOMICO TIPO C, QUE CONTRIBUYAN A LA GARANTIA DE LOS DERECHOS DE LA POBLACION MAYOR EN EL MARCO DE LA POLITICA PUBLICA SOCIAL PARA EL ENVEJECIMIENTO Y LA VEJEZ EN EL DISTRITO CAPITAL A CARGO DE LA ALCALDIA LOCAL DE SUBA. NO HAY 14803.","Inversión",3,{"$f":"IF(ISERROR(VLOOKUP(I233,[1]Eje_Pilar!$C$2:$E$47,2,FALSE)),\" \",VLOOKUP(I233,[1]Eje_Pilar!$C$2:$E$47,2,FALSE))","v":"Igualdad y autonomía para una Bogotá incluyente"},{"$f":"IF(ISERROR(VLOOKUP(I233,[1]Eje_Pilar!$C$2:$E$47,3,FALSE)),\" \",VLOOKUP(I233,[1]Eje_Pilar!$C$2:$E$47,3,FALSE))","v":"Pilar 1 Igualdad de Calidad de Vida"},"3-3-1-15-01-03-1427-000",52792274,"DIANA ROCIO ALBA GRIMALDOS",50600000,null,0,1,1073333,51673333,43393333,"2019-02-18","2019-02-18","2020-01-21",330,21,null,null,null,"X",null,83.976261024230809,{"$f":"IF(SUMPRODUCT((A$14:A233=A233)*(B$14:B233=B233)*(C$14:C233=C233))>1,0,1)","v":1},0,0,0,1,0,{"$f":"IFERROR(VLOOKUP(D233,tipo,1,FALSE),\"NO\")","v":"Contratos de prestación de servicios profesionales y de apoyo a la gestión"},{"$f":"IFERROR(VLOOKUP(E233,modal,1,FALSE),\"NO\")","v":"Contratación directa"},{"$f":"IFERROR(VLOOKUP(F233,[1]Tipo!$C$12:$C$27,1,FALSE),\"NO\")","v":"Prestación de servicios profesionales y de apoyo a la gestión, o para la ejecución de trabajos artísticos que sólo puedan encomendarse a determinadas personas naturales;"},{"$f":"IFERROR(VLOOKUP(H233,afectacion,1,FALSE),\"NO\")","v":"Inversión"},{"$f":"IFERROR(VLOOKUP(I233,programa,1,FALSE),\"NO\")","v":3}]
[180,2019,"FDLSUBA-CPS-180-2019","Contratos de prestación de servicios profesionales y de apoyo a la gestión","Contratación directa","Prestación de servicios profesionales y de apoyo a la gestión, o para la ejecución de trabajos artísticos que sólo puedan encomendarse a determinadas personas naturales;","Prestar servicios profesionales en el Área de Gestión del Desarrollo Local de la Alcaldía Local de Suba, para el apoyo a la ejecución integral de los diferentes proyectos de inversión destinados a la intervención de la malla vial, espacio público, parques y gestión compartida en la Localidad De Suba¿. NO HAY 14610.|66150000|0|0|66150000|59010000|7140000","Inversión",18,{"$f":"IF(ISERROR(VLOOKUP(I234,[1]Eje_Pilar!$C$2:$E$47,2,FALSE)),\" \",VLOOKUP(I234,[1]Eje_Pilar!$C$2:$E$47,2,FALSE))","v":"Mejor movilidad para todos"},{"$f":"IF(ISERROR(VLOOKUP(I234,[1]Eje_Pilar!$C$2:$E$47,3,FALSE)),\" \",VLOOKUP(I234,[1]Eje_Pilar!$C$2:$E$47,3,FALSE))","v":"Pilar 2 Democracía Urbana"},"3-3-1-15-02-18-1506-000",1020775711,"JUAN MANUEL GRIEGO FUENTES",66150000,null,0,1,4410000,70560000,59010000,"2019-02-18","2019-02-18","2020-01-21",330,21,null,null,null,"X",null,83.63095238095238,{"$f":"IF(SUMPRODUCT((A$14:A234=A234)*(B$14:B234=B234)*(C$14:C234=C234))>1,0,1)","v":1},0,0,0,1,0,"Contratos de prestación de servicios profesionales y de apoyo a la gestión","Contratación directa",{"$f":"IFERROR(VLOOKUP(F234,[1]Tipo!$C$12:$C$27,1,FALSE),\"NO\")","v":"Prestación de servicios profesionales y de apoyo a la gestión, o para la ejecución de trabajos artísticos que sólo puedan encomendarse a determinadas personas naturales;"},"Inversión",18]
[181,2019,"FDLSUBA-CPS-181-2019","Contratos de prestación de servicios profesionales y de apoyo a la gestión","Contratación directa","Prestación de servicios profesionales y de apoyo a la gestión, o para la ejecución de trabajos artísticos que sólo puedan encomendarse a determinadas personas naturales;","¿Prestar los servicios asistenciales en la Alcaldía Local de Suba, especialmente para apoyar la gestión documental del área de Gestión Policiva, acompañando al equipo jurídico de Depuración en las labores operativas que genera el proceso de impulso de las actuaciones administrativas existentes en la localidad.¿. NO HAY 14571.","Inversión",45,{"$f":"IF(ISERROR(VLOOKUP(I235,[1]Eje_Pilar!$C$2:$E$47,2,FALSE)),\" \",VLOOKUP(I235,[1]Eje_Pilar!$C$2:$E$47,2,FALSE))","v":"Gobernanza e influencia local, regional e internacional"},{"$f":"IF(ISERROR(VLOOKUP(I235,[1]Eje_Pilar!$C$2:$E$47,3,FALSE)),\" \",VLOOKUP(I235,[1]Eje_Pilar!$C$2:$E$47,3,FALSE))","v":"Eje Transversal 4 Gobierno Legitimo, Fortalecimiento Local y Eficiencia"},"3-3-1-15-07-45-1481-000",1030638603,"LAIS SASYURI MURCIA NIETO",24024000,null,0,null,0,24024000,20020000,"2019-02-20","2019-02-20","2019-12-31",330,null,null,null,null,"X",null,83.333333333333343,{"$f":"IF(SUMPRODUCT((A$14:A235=A235)*(B$14:B235=B235)*(C$14:C235=C235))>1,0,1)","v":1},0,0,0,1,0,"Contratos de prestación de servicios profesionales y de apoyo a la gestión","Contratación directa",{"$f":"IFERROR(VLOOKUP(F235,[1]Tipo!$C$12:$C$27,1,FALSE),\"NO\")","v":"Prestación de servicios profesionales y de apoyo a la gestión, o para la ejecución de trabajos artísticos que sólo puedan encomendarse a determinadas personas naturales;"},"Inversión",45]
[182,2019,"FDLSUBA-CPS-182-2019","Contratos de prestación de servicios profesionales y de apoyo a la gestión","Contratación directa","Prestación de servicios profesionales y de apoyo a la gestión, o para la ejecución de trabajos artísticos que sólo puedan encomendarse a determinadas personas naturales;","¿Prestar los servicios como operario de maquinaria amarilla del Área Gestión del Desarrollo De la Alcaldía local de Suba¿. NO HAY 14560.","Inversión",18,{"$f":"IF(ISERROR(VLOOKUP(I236,[1]Eje_Pilar!$C$2:$E$47,2,FALSE)),\" \",VLOOKUP(I236,[1]Eje_Pilar!$C$2:$E$47,2,FALSE))","v":"Mejor movilidad para todos"},{"$f":"IF(ISERROR(VLOOKUP(I236,[1]Eje_Pilar!$C$2:$E$47,3,FALSE)),\" \",VLOOKUP(I236,[1]Eje_Pilar!$C$2:$E$47,3,FALSE))","v":"Pilar 2 Democracía Urbana"},"3-3-1-15-02-18-1506-000",80497864,"JOSE ALFREDO MORA GARCES",24024000,null,0,1,436800,24460800,20529600,"2019-02-19","2019-02-19","2020-01-21",330,21,null,null,null,"X",null,83.928571428571431,{"$f":"IF(SUMPRODUCT((A$14:A236=A236)*(B$14:B236=B236)*(C$14:C236=C236))>1,0,1)","v":1},0,0,0,1,0,"Contratos de prestación de servicios profesionales y de apoyo a la gestión","Contratación directa",{"$f":"IFERROR(VLOOKUP(F236,[1]Tipo!$C$12:$C$27,1,FALSE),\"NO\")","v":"Prestación de servicios profesionales y de apoyo a la gestión, o para la ejecución de trabajos artísticos que sólo puedan encomendarse a determinadas personas naturales;"},"Inversión",18]
[183,2019,"FDLSUBA-CPS-183-2019","Contratos de prestación de servicios profesionales y de apoyo a la gestión","Contratación directa","Prestación de servicios profesionales y de apoyo a la gestión, o para la ejecución de trabajos artísticos que sólo puedan encomendarse a determinadas personas naturales;","¿Prestar los servicios de apoyo para realizar el levantamiento, toma física, identificación y verificación del inventario de los bienes muebles propiedad de la Alcaldía Local de Suba¿. NO HAY 15859.","Inversión",45,{"$f":"IF(ISERROR(VLOOKUP(I237,[1]Eje_Pilar!$C$2:$E$47,2,FALSE)),\" \",VLOOKUP(I237,[1]Eje_Pilar!$C$2:$E$47,2,FALSE))","v":"Gobernanza e influencia local, regional e internacional"},{"$f":"IF(ISERROR(VLOOKUP(I237,[1]Eje_Pilar!$C$2:$E$47,3,FALSE)),\" \",VLOOKUP(I237,[1]Eje_Pilar!$C$2:$E$47,3,FALSE))","v":"Eje Transversal 4 Gobierno Legitimo, Fortalecimiento Local y Eficiencia"},"3-3-1-15-07-45-1478-000",1019005957,"MARIO FERNANDO LOZADA VARGAS",33000000,null,0,null,null,33000000,28100000,"2019-02-19","2019-02-19","2019-12-31",330,null,null,null,null,"X",null,85.151515151515156,{"$f":"IF(SUMPRODUCT((A$14:A237=A237)*(B$14:B237=B237)*(C$14:C237=C237))>1,0,1)","v":1},0,0,0,1,0,"Contratos de prestación de servicios profesionales y de apoyo a la gestión","Contratación directa",{"$f":"IFERROR(VLOOKUP(F237,[1]Tipo!$C$12:$C$27,1,FALSE),\"NO\")","v":"Prestación de servicios profesionales y de apoyo a la gestión, o para la ejecución de trabajos artísticos que sólo puedan encomendarse a determinadas personas naturales;"},"Inversión",45]
[184,2019,"FDLSUBA-CPS-184-2019","Contratos de prestación de servicios profesionales y de apoyo a la gestión","Contratación directa","Prestación de servicios profesionales y de apoyo a la gestión, o para la ejecución de trabajos artísticos que sólo puedan encomendarse a determinadas personas naturales;","PRESTAR SERVICIOS DE APOYO A LOS ARCHIVOS DE GESTION DE LA ENTIDAD EN LA IMPLEMENTACION DE LOS PROCESOS DE CLASIFICACION, ORDENACION, SELECCION NATURAL, FOLIACION, IDENTIFICACION, LEVANTAMIENTO DE INVENTARIOS, ALMACENAMIENTO Y APLICACION DE PROTOCOLOS DE ELIMINACION Y TRANSFERENCIAS DOCUMENTALES. NO HAY 15414.","Inversión",45,{"$f":"IF(ISERROR(VLOOKUP(I238,[1]Eje_Pilar!$C$2:$E$47,2,FALSE)),\" \",VLOOKUP(I238,[1]Eje_Pilar!$C$2:$E$47,2,FALSE))","v":"Gobernanza e influencia local, regional e internacional"},{"$f":"IF(ISERROR(VLOOKUP(I238,[1]Eje_Pilar!$C$2:$E$47,3,FALSE)),\" \",VLOOKUP(I238,[1]Eje_Pilar!$C$2:$E$47,3,FALSE))","v":"Eje Transversal 4 Gobierno Legitimo, Fortalecimiento Local y Eficiencia"},"3-3-1-15-07-45-1478-000",1019047851,"KAREN MARCELA NIÑO RINCON",24024000,null,-1092000,1,364000,23296000,20456800,"2019-02-20","2019-02-20","2020-01-21",330,21,null,null,null,"X",null,87.8125,{"$f":"IF(SUMPRODUCT((A$14:A238=A238)*(B$14:B238=B238)*(C$14:C238=C238))>1,0,1)","v":1},0,0,0,1,0,"Contratos de prestación de servicios profesionales y de apoyo a la gestión","Contratación directa",{"$f":"IFERROR(VLOOKUP(F238,[1]Tipo!$C$12:$C$27,1,FALSE),\"NO\")","v":"Prestación de servicios profesionales y de apoyo a la gestión, o para la ejecución de trabajos artísticos que sólo puedan encomendarse a determinadas personas naturales;"},"Inversión",45]
[185,2019,"FDLSUBA-CPS-185-2019","Contratos de prestación de servicios profesionales y de apoyo a la gestión","Contratación directa","Prestación de servicios profesionales y de apoyo a la gestión, o para la ejecución de trabajos artísticos que sólo puedan encomendarse a determinadas personas naturales;","PRESTAR SERVICIOS DE APOYO A LOS ARCHIVOS DE GESTION DE LA ENTIDAD EN LA IMPLEMENTACION DE LOS PROCESOS DE CLASIFICACION, ORDENACION, SELECCION NATURAL, FOLIACION, IDENTIFICACION, LEVANTAMIENTO DE INVENTARIOS, ALMACENAMIENTO Y APLICACION DE PROTOCOLOS DE ELIMINACION Y TRANSFERENCIAS DOCUMENTALES. NO HAY 15414.","Inversión",45,{"$f":"IF(ISERROR(VLOOKUP(I239,[1]Eje_Pilar!$C$2:$E$47,2,FALSE)),\" \",VLOOKUP(I239,[1]Eje_Pilar!$C$2:$E$47,2,FALSE))","v":"Gobernanza e influencia local, regional e internacional"},{"$f":"IF(ISERROR(VLOOKUP(I239,[1]Eje_Pilar!$C$2:$E$47,3,FALSE)),\" \",VLOOKUP(I239,[1]Eje_Pilar!$C$2:$E$47,3,FALSE))","v":"Eje Transversal 4 Gobierno Legitimo, Fortalecimiento Local y Eficiencia"},"3-3-1-15-07-45-1478-000",52807061,"LUISA FERNANDA MARTINEZ ORJUELA",24024000,null,-1092000,null,null,22932000,20456800,"2019-02-19","2019-02-19","2019-12-31",330,null,null,null,null,"X",null,89.206349206349216,{"$f":"IF(SUMPRODUCT((A$14:A239=A239)*(B$14:B239=B239)*(C$14:C239=C239))>1,0,1)","v":1},0,0,0,1,0,"Contratos de prestación de servicios profesionales y de apoyo a la gestión","Contratación directa",{"$f":"IFERROR(VLOOKUP(F239,[1]Tipo!$C$12:$C$27,1,FALSE),\"NO\")","v":"Prestación de servicios profesionales y de apoyo a la gestión, o para la ejecución de trabajos artísticos que sólo puedan encomendarse a determinadas personas naturales;"},"Inversión",45]
[186,2019,"FDLSUBA-CPS-186-2019","Contratos de prestación de servicios profesionales y de apoyo a la gestión","Contratación directa","Prestación de servicios profesionales y de apoyo a la gestión, o para la ejecución de trabajos artísticos que sólo puedan encomendarse a determinadas personas naturales;","Apoyar técnicamente las distintas etapas de los procesos de competencia de la Alcaldía Local para la depuración de actuaciones administrativas. NO HAY 15912.","Inversión",45,{"$f":"IF(ISERROR(VLOOKUP(I240,[1]Eje_Pilar!$C$2:$E$47,2,FALSE)),\" \",VLOOKUP(I240,[1]Eje_Pilar!$C$2:$E$47,2,FALSE))","v":"Gobernanza e influencia local, regional e internacional"},{"$f":"IF(ISERROR(VLOOKUP(I240,[1]Eje_Pilar!$C$2:$E$47,3,FALSE)),\" \",VLOOKUP(I240,[1]Eje_Pilar!$C$2:$E$47,3,FALSE))","v":"Eje Transversal 4 Gobierno Legitimo, Fortalecimiento Local y Eficiencia"},"3-3-1-15-07-45-1481-000",79636340,"REINALDO  PUENTES VASQUEZ",66150000,null,0,null,null,{"$f":"+O240+Q240+S240","v":66150000},57750000,"2019-02-19","2019-02-19","2019-12-31",330,null,null,null,null,"X",null,87.301587301587304,{"$f":"IF(SUMPRODUCT((A$14:A240=A240)*(B$14:B240=B240)*(C$14:C240=C240))>1,0,1)","v":1},0,0,0,1,0,"Contratos de prestación de servicios profesionales y de apoyo a la gestión","Contratación directa",{"$f":"IFERROR(VLOOKUP(F240,[1]Tipo!$C$12:$C$27,1,FALSE),\"NO\")","v":"Prestación de servicios profesionales y de apoyo a la gestión, o para la ejecución de trabajos artísticos que sólo puedan encomendarse a determinadas personas naturales;"},"Inversión",45]
[187,2019,"FDLSUBA-CPS-187-2019","Contratos de prestación de servicios profesionales y de apoyo a la gestión","Contratación directa","Prestación de servicios profesionales y de apoyo a la gestión, o para la ejecución de trabajos artísticos que sólo puedan encomendarse a determinadas personas naturales;","PRESTAR SERVICIOS DE APOYO A LOS ARCHIVOS DE GESTION DE LA ENTIDAD EN LA IMPLEMENTACION DE LOS PROCESOS DE CLASIFICACION, ORDENACION, SELECCION NATURAL, FOLIACION, IDENTIFICACION, LEVANTAMIENTO DE INVENTARIOS, ALMACENAMIENTO Y APLICACION DE PROTOCOLOS DE ELIMINACION Y TRANSFERENCIAS DOCUMENTALES. NO HAY 15414.","Inversión",45,{"$f":"IF(ISERROR(VLOOKUP(I241,[1]Eje_Pilar!$C$2:$E$47,2,FALSE)),\" \",VLOOKUP(I241,[1]Eje_Pilar!$C$2:$E$47,2,FALSE))","v":"Gobernanza e influencia local, regional e internacional"},{"$f":"IF(ISERROR(VLOOKUP(I241,[1]Eje_Pilar!$C$2:$E$47,3,FALSE)),\" \",VLOOKUP(I241,[1]Eje_Pilar!$C$2:$E$47,3,FALSE))","v":"Eje Transversal 4 Gobierno Legitimo, Fortalecimiento Local y Eficiencia"},"3-3-1-15-07-45-1478-000",1019059707,"NEIVIS ELIZABETH MUÑOZ VARGAS",24024000,null,-1092000,null,null,22932000,20456800,"2019-02-19","2019-02-19","2019-12-31",330,null,null,null,null,"X",null,89.206349206349216,{"$f":"IF(SUMPRODUCT((A$14:A241=A241)*(B$14:B241=B241)*(C$14:C241=C241))>1,0,1)","v":1},0,0,0,1,0,"Contratos de prestación de servicios profesionales y de apoyo a la gestión","Contratación directa",{"$f":"IFERROR(VLOOKUP(F241,[1]Tipo!$C$12:$C$27,1,FALSE),\"NO\")","v":"Prestación de servicios profesionales y de apoyo a la gestión, o para la ejecución de trabajos artísticos que sólo puedan encomendarse a determinadas personas naturales;"},"Inversión",45]
[188,2019,"FDLSUBA-CPS-188-2019","Contratos de prestación de servicios profesionales y de apoyo a la gestión","Contratación directa","Prestación de servicios profesionales y de apoyo a la gestión, o para la ejecución de trabajos artísticos que sólo puedan encomendarse a determinadas personas naturales;","PRESTAR SERVICIOS DE APOYO TECNICO EN EL AREA DE GESTION DEL DESARROLLO LOCAL REALIZANDO LAS LABORES ASISTENCIALES PARA LAS ACTIVIDADES DE LA OFICINA DE INFRAESTRUCTURA EN CUMPLIMIENTO DE LAS METAS DEL PLAN DE GESTION DE LA VIGENCIA. NO HAY 15909.","Inversión",18,{"$f":"IF(ISERROR(VLOOKUP(I242,[1]Eje_Pilar!$C$2:$E$47,2,FALSE)),\" \",VLOOKUP(I242,[1]Eje_Pilar!$C$2:$E$47,2,FALSE))","v":"Mejor movilidad para todos"},{"$f":"IF(ISERROR(VLOOKUP(I242,[1]Eje_Pilar!$C$2:$E$47,3,FALSE)),\" \",VLOOKUP(I242,[1]Eje_Pilar!$C$2:$E$47,3,FALSE))","v":"Pilar 2 Democracía Urbana"},"3-3-1-15-02-18-1506-000",24870491,"GLORIA ESTHER MEJIA BOTELLO",36750000,null,0,1,2216667,38966667,32666660,"2019-02-21","2019-02-21","2020-01-21",330,21,null,null,null,"X",null,83.832317503572995,{"$f":"IF(SUMPRODUCT((A$14:A242=A242)*(B$14:B242=B242)*(C$14:C242=C242))>1,0,1)","v":1},0,0,0,1,0,"Contratos de prestación de servicios profesionales y de apoyo a la gestión","Contratación directa",{"$f":"IFERROR(VLOOKUP(F242,[1]Tipo!$C$12:$C$27,1,FALSE),\"NO\")","v":"Prestación de servicios profesionales y de apoyo a la gestión, o para la ejecución de trabajos artísticos que sólo puedan encomendarse a determinadas personas naturales;"},"Inversión",18]
[189,2019,"FDLSUBA-CPS-189-2019","Contratos de prestación de servicios profesionales y de apoyo a la gestión","Contratación directa","Prestación de servicios profesionales y de apoyo a la gestión, o para la ejecución de trabajos artísticos que sólo puedan encomendarse a determinadas personas naturales;","PRESTAR SERVICIOS DE APOYO A LOS ARCHIVOS DE GESTION DE LA ENTIDAD EN LA IMPLEMENTACION DE LOS PROCESOS DE CLASIFICACION, ORDENACION, SELECCION NATURAL, FOLIACION, IDENTIFICACION, LEVANTAMIENTO DE INVENTARIOS, ALMACENAMIENTO Y APLICACION DE PROTOCOLOS DE ELIMINACION Y TRANSFERENCIAS DOCUMENTALES. NO HAY 15414.","Inversión",45,{"$f":"IF(ISERROR(VLOOKUP(I243,[1]Eje_Pilar!$C$2:$E$47,2,FALSE)),\" \",VLOOKUP(I243,[1]Eje_Pilar!$C$2:$E$47,2,FALSE))","v":"Gobernanza e influencia local, regional e internacional"},{"$f":"IF(ISERROR(VLOOKUP(I243,[1]Eje_Pilar!$C$2:$E$47,3,FALSE)),\" \",VLOOKUP(I243,[1]Eje_Pilar!$C$2:$E$47,3,FALSE))","v":"Eje Transversal 4 Gobierno Legitimo, Fortalecimiento Local y Eficiencia"},"3-3-1-15-07-45-1478-000",1014193885,"JONATAN  OVALLE DIAZ",24024000,null,-1092000,1,218400,23150400,20311200,"2019-02-20","2019-02-20","2020-01-21",330,21,null,null,null,"X",null,87.735849056603783,{"$f":"IF(SUMPRODUCT((A$14:A243=A243)*(B$14:B243=B243)*(C$14:C243=C243))>1,0,1)","v":1},0,0,0,1,0,"Contratos de prestación de servicios profesionales y de apoyo a la gestión","Contratación directa",{"$f":"IFERROR(VLOOKUP(F243,[1]Tipo!$C$12:$C$27,1,FALSE),\"NO\")","v":"Prestación de servicios profesionales y de apoyo a la gestión, o para la ejecución de trabajos artísticos que sólo puedan encomendarse a determinadas personas naturales;"},"Inversión",45]
[190,2019,"FDLSUBA-CPS-190-2019","Contratos de prestación de servicios profesionales y de apoyo a la gestión","Contratación directa","Prestación de servicios profesionales y de apoyo a la gestión, o para la ejecución de trabajos artísticos que sólo puedan encomendarse a determinadas personas naturales;","PRESTAR EL SERVICIO COMO CONDUCTOR DE LOS VEHICULOS LIVIANOS QUE INTEGRAN EL PARQUE AUTOMOTOR DE LA ALCALDIA LOCAL DE SUBA. NO HAY 14853.","Inversión",45,{"$f":"IF(ISERROR(VLOOKUP(I244,[1]Eje_Pilar!$C$2:$E$47,2,FALSE)),\" \",VLOOKUP(I244,[1]Eje_Pilar!$C$2:$E$47,2,FALSE))","v":"Gobernanza e influencia local, regional e internacional"},{"$f":"IF(ISERROR(VLOOKUP(I244,[1]Eje_Pilar!$C$2:$E$47,3,FALSE)),\" \",VLOOKUP(I244,[1]Eje_Pilar!$C$2:$E$47,3,FALSE))","v":"Eje Transversal 4 Gobierno Legitimo, Fortalecimiento Local y Eficiencia"},"3-3-1-15-07-45-1478-000",1019046455,"HERNAN REYNALDO ALVARADO URREGO",22932000,null,0,1,1456000,24388000,20456800,"2019-02-19","2019-02-19","2020-01-21",300,21,null,null,null,"X",null,83.880597014925371,{"$f":"IF(SUMPRODUCT((A$14:A244=A244)*(B$14:B244=B244)*(C$14:C244=C244))>1,0,1)","v":1},0,0,0,1,0,"Contratos de prestación de servicios profesionales y de apoyo a la gestión","Contratación directa",{"$f":"IFERROR(VLOOKUP(F244,[1]Tipo!$C$12:$C$27,1,FALSE),\"NO\")","v":"Prestación de servicios profesionales y de apoyo a la gestión, o para la ejecución de trabajos artísticos que sólo puedan encomendarse a determinadas personas naturales;"},"Inversión",45]
[191,2019,"FDLSUBA-CPS-191-2019","Contratos de prestación de servicios profesionales y de apoyo a la gestión","Contratación directa","Prestación de servicios profesionales y de apoyo a la gestión, o para la ejecución de trabajos artísticos que sólo puedan encomendarse a determinadas personas naturales;","PRESTAR SERVICIOS DE APOYO A LOS ARCHIVOS DE GESTION DE LA ENTIDAD EN LA IMPLEMENTACION DE LOS PROCESOS DE CLASIFICACION, ORDENACION, SELECCION NATURAL, FOLIACION, IDENTIFICACION, LEVANTAMIENTO DE INVENTARIOS, ALMACENAMIENTO Y APLICACION DE PROTOCOLOS DE ELIMINACION Y TRANSFERENCIAS DOCUMENTALES. NO HAY 15414.","Inversión",45,{"$f":"IF(ISERROR(VLOOKUP(I245,[1]Eje_Pilar!$C$2:$E$47,2,FALSE)),\" \",VLOOKUP(I245,[1]Eje_Pilar!$C$2:$E$47,2,FALSE))","v":"Gobernanza e influencia local, regional e internacional"},{"$f":"IF(ISERROR(VLOOKUP(I245,[1]Eje_Pilar!$C$2:$E$47,3,FALSE)),\" \",VLOOKUP(I245,[1]Eje_Pilar!$C$2:$E$47,3,FALSE))","v":"Eje Transversal 4 Gobierno Legitimo, Fortalecimiento Local y Eficiencia"},"3-3-1-15-07-45-1478-000",1030608996,"ROBINSON LEONARDO ESPINOSA MORENO",24024000,null,-1092000,1,1092000,24024000,20092800,"2019-02-20","2019-02-20","2020-01-21",330,21,null,null,null,"X",null,83.636363636363626,{"$f":"IF(SUMPRODUCT((A$14:A245=A245)*(B$14:B245=B245)*(C$14:C245=C245))>1,0,1)","v":1},0,0,0,1,0,"Contratos de prestación de servicios profesionales y de apoyo a la gestión","Contratación directa",{"$f":"IFERROR(VLOOKUP(F245,[1]Tipo!$C$12:$C$27,1,FALSE),\"NO\")","v":"Prestación de servicios profesionales y de apoyo a la gestión, o para la ejecución de trabajos artísticos que sólo puedan encomendarse a determinadas personas naturales;"},"Inversión",45]
[192,2019,"FDLSUBA-CPS-192-2019","Contratos de prestación de servicios profesionales y de apoyo a la gestión","Contratación directa","Prestación de servicios profesionales y de apoyo a la gestión, o para la ejecución de trabajos artísticos que sólo puedan encomendarse a determinadas personas naturales;","EL CONTRATO QUE SE PRETENDE CELEBRAR, TENDRA POR OBJETO: PRESTAR LOS SERVICIOS TECNICOS PARA LA OPERACION, SEGUIMIENTO Y CUMPLIMIENTO DE LOS PROCESOS Y PROCEDIMIENTOS DEL SERVICIO SOCIAL APOYOS PARA LA SEGURIDAD ECONOMICA TIPO C, REQUERIDOS PARA EL OPORTUNO Y ADECUADO REGISTRO, CRUCE Y REPORTE DE LOS DATOS EN EL SISTEMA DE INFORMACION Y REGISTRO DE BENEFICIARIOS SIRBE, QUE CONTRIBUYAN A LA GARANTIA DE LOS DERECHOS DE LA POBLACION MAYOR EN EL MARCO DE LA POLITICA PUBLICA SOCIAL PARA EL ENVEJECIMIENTO Y LA VEJEZ EN EL DISTRITO CAPITAL A CARGO DE LA ALCALDIA LOCAL. NO HAY 15008.","Inversión",3,{"$f":"IF(ISERROR(VLOOKUP(I246,[1]Eje_Pilar!$C$2:$E$47,2,FALSE)),\" \",VLOOKUP(I246,[1]Eje_Pilar!$C$2:$E$47,2,FALSE))","v":"Igualdad y autonomía para una Bogotá incluyente"},{"$f":"IF(ISERROR(VLOOKUP(I246,[1]Eje_Pilar!$C$2:$E$47,3,FALSE)),\" \",VLOOKUP(I246,[1]Eje_Pilar!$C$2:$E$47,3,FALSE))","v":"Pilar 1 Igualdad de Calidad de Vida"},"3-3-1-15-01-03-1427-000",1012379147,"ELIANA MARCELA PINZON FORERO",31500000,null,0,null,null,31500000,28000000,"2019-02-21","2019-02-21","2019-12-31",330,null,null,null,null,"X",null,88.888888888888886,{"$f":"IF(SUMPRODUCT((A$14:A246=A246)*(B$14:B246=B246)*(C$14:C246=C246))>1,0,1)","v":1},0,0,0,1,0,"Contratos de prestación de servicios profesionales y de apoyo a la gestión","Contratación directa",{"$f":"IFERROR(VLOOKUP(F246,[1]Tipo!$C$12:$C$27,1,FALSE),\"NO\")","v":"Prestación de servicios profesionales y de apoyo a la gestión, o para la ejecución de trabajos artísticos que sólo puedan encomendarse a determinadas personas naturales;"},"Inversión",3]
[193,2019,"FDLSUBA-CPS-193-2019","Contratos de prestación de servicios profesionales y de apoyo a la gestión","Contratación directa","Prestación de servicios profesionales y de apoyo a la gestión, o para la ejecución de trabajos artísticos que sólo puedan encomendarse a determinadas personas naturales;","PRESTAR SERVICIOS PROFESIONALES PARA LA OPERACION, SEGUIMIENTO Y CUMPLIMIENTO DE LOS PROCESOS Y PROCEDIMIENTOS DEL SERVICIO SOCIAL APOYO ECONOMICO TIPO C, REQUERIDOS PARA EL OPORTUNO Y ADECUADO REGISTRO, CRUCE Y REPORTE DE LOS DATOS EN EL SISTEMA DE INFORMACION Y REGISTRO DE BENEFICIARIOS SIRBE, QUE CONTRIBUYAN A LA GARANTIA DE LOS DERECHOS DE LA POBLACION MAYOR EN EL MARCO DE LA POLITICA PUBLICA SOCIAL PARA EL ENVEJECIMIENTO Y LA VEJEZ EN EL DISTRITO CAPITAL A CARGO DE LA ALCALDIA LOCAL. NO HAY 15009.","Inversión",3,{"$f":"IF(ISERROR(VLOOKUP(I247,[1]Eje_Pilar!$C$2:$E$47,2,FALSE)),\" \",VLOOKUP(I247,[1]Eje_Pilar!$C$2:$E$47,2,FALSE))","v":"Igualdad y autonomía para una Bogotá incluyente"},{"$f":"IF(ISERROR(VLOOKUP(I247,[1]Eje_Pilar!$C$2:$E$47,3,FALSE)),\" \",VLOOKUP(I247,[1]Eje_Pilar!$C$2:$E$47,3,FALSE))","v":"Pilar 1 Igualdad de Calidad de Vida"},"3-3-1-15-01-03-1427-000",52182739,"LYTZA  DIAZ GOMEZ",50600000,null,0,null,null,50600000,42933333,"2019-02-21","2019-02-21","2019-12-31",330,null,null,null,null,"X",null,84.848484189723322,{"$f":"IF(SUMPRODUCT((A$14:A247=A247)*(B$14:B247=B247)*(C$14:C247=C247))>1,0,1)","v":1},0,0,0,1,0,"Contratos de prestación de servicios profesionales y de apoyo a la gestión","Contratación directa",{"$f":"IFERROR(VLOOKUP(F247,[1]Tipo!$C$12:$C$27,1,FALSE),\"NO\")","v":"Prestación de servicios profesionales y de apoyo a la gestión, o para la ejecución de trabajos artísticos que sólo puedan encomendarse a determinadas personas naturales;"},"Inversión",3]
[194,2019,"FDLSUBA-CPS-194-2019","Contratos de prestación de servicios profesionales y de apoyo a la gestión","Contratación directa","Prestación de servicios profesionales y de apoyo a la gestión, o para la ejecución de trabajos artísticos que sólo puedan encomendarse a determinadas personas naturales;","PRESTAR SERVICIOS PROFESIONALES PARA LA OPERACION, SEGUIMIENTO Y CUMPLIMIENTO DE LOS PROCESOS Y PROCEDIMIENTOS DEL SERVICIO SOCIAL APOYO ECONOMICO TIPO C, REQUERIDOS PARA EL OPORTUNO Y ADECUADO REGISTRO, CRUCE Y REPORTE DE LOS DATOS EN EL SISTEMA DE INFORMACION Y REGISTRO DE BENEFICIARIOS SIRBE, QUE CONTRIBUYAN A LA GARANTIA DE LOS DERECHOS DE LA POBLACION MAYOR EN EL MARCO DE LA POLITICA PUBLICA SOCIAL PARA EL ENVEJECIMIENTO Y LA VEJEZ EN EL DISTRITO CAPITAL A CARGO DE LA ALCALDIA LOCAL. NO HAY 15009.","Inversión",3,{"$f":"IF(ISERROR(VLOOKUP(I248,[1]Eje_Pilar!$C$2:$E$47,2,FALSE)),\" \",VLOOKUP(I248,[1]Eje_Pilar!$C$2:$E$47,2,FALSE))","v":"Igualdad y autonomía para una Bogotá incluyente"},{"$f":"IF(ISERROR(VLOOKUP(I248,[1]Eje_Pilar!$C$2:$E$47,3,FALSE)),\" \",VLOOKUP(I248,[1]Eje_Pilar!$C$2:$E$47,3,FALSE))","v":"Pilar 1 Igualdad de Calidad de Vida"},"3-3-1-15-01-03-1427-000",51691565,"ALBA CAROLINA BERNAL ZARATE",50600000,null,0,1,460000,51060000,42780000,"2019-02-22","2019-02-22","2020-01-21",330,21,null,null,null,"X",null,83.78378378378379,{"$f":"IF(SUMPRODUCT((A$14:A248=A248)*(B$14:B248=B248)*(C$14:C248=C248))>1,0,1)","v":1},0,0,0,1,0,"Contratos de prestación de servicios profesionales y de apoyo a la gestión","Contratación directa",{"$f":"IFERROR(VLOOKUP(F248,[1]Tipo!$C$12:$C$27,1,FALSE),\"NO\")","v":"Prestación de servicios profesionales y de apoyo a la gestión, o para la ejecución de trabajos artísticos que sólo puedan encomendarse a determinadas personas naturales;"},"Inversión",3]
[195,2019,"FDLSUBA-CPS-195-2019","Contratos de prestación de servicios profesionales y de apoyo a la gestión","Contratación directa","Prestación de servicios profesionales y de apoyo a la gestión, o para la ejecución de trabajos artísticos que sólo puedan encomendarse a determinadas personas naturales;","Apoyar jurídicamente la ejecución de las acciones requeridas para la depuración de las actuaciones administrativas que cursan en la Alcaldía Local. NO HAY 15929.","Inversión",45,{"$f":"IF(ISERROR(VLOOKUP(I249,[1]Eje_Pilar!$C$2:$E$47,2,FALSE)),\" \",VLOOKUP(I249,[1]Eje_Pilar!$C$2:$E$47,2,FALSE))","v":"Gobernanza e influencia local, regional e internacional"},{"$f":"IF(ISERROR(VLOOKUP(I249,[1]Eje_Pilar!$C$2:$E$47,3,FALSE)),\" \",VLOOKUP(I249,[1]Eje_Pilar!$C$2:$E$47,3,FALSE))","v":"Eje Transversal 4 Gobierno Legitimo, Fortalecimiento Local y Eficiencia"},"3-3-1-15-07-45-1478-000",52261144,"ELBA JOHANA FUENTES VALBUENA",48300000,null,0,null,null,48300000,42166666,"2019-02-26","2019-02-26","2019-12-31",330,null,null,null,null,"X",null,87.301585921325056,{"$f":"IF(SUMPRODUCT((A$14:A249=A249)*(B$14:B249=B249)*(C$14:C249=C249))>1,0,1)","v":1},0,0,0,1,0,"Contratos de prestación de servicios profesionales y de apoyo a la gestión","Contratación directa",{"$f":"IFERROR(VLOOKUP(F249,[1]Tipo!$C$12:$C$27,1,FALSE),\"NO\")","v":"Prestación de servicios profesionales y de apoyo a la gestión, o para la ejecución de trabajos artísticos que sólo puedan encomendarse a determinadas personas naturales;"},"Inversión",45]
[196,2019,"FDLSUBA-CPS-196-2019","Contratos de prestación de servicios profesionales y de apoyo a la gestión","Contratación directa","Prestación de servicios profesionales y de apoyo a la gestión, o para la ejecución de trabajos artísticos que sólo puedan encomendarse a determinadas personas naturales;","PRESTAR SERVICIOS PROFESIONALES EN EL AREA DE GESTION DEL DESARROLLO LOCAL DE LA ALCALDIA LOCAL DE SUBA PARA EL DESARROLLO DE ACTIVIDADES RELACIONADAS CON LA POLITICA PUBLICA DISTRITAL DE MUJER Y EQUIDAD DE GENERO E IMPULSAR LOS PROCESOS DE PARTICIPACION CIUDADANA Y FOMENTAR LAS ACTIVIDADES INSTITUCIONALES PARA EL CUMPLIMIENTO DE LAS METAS DEL PLAN DE DESARROLLO LOCAL. NO HAY 14990.","Inversión",45,{"$f":"IF(ISERROR(VLOOKUP(I250,[1]Eje_Pilar!$C$2:$E$47,2,FALSE)),\" \",VLOOKUP(I250,[1]Eje_Pilar!$C$2:$E$47,2,FALSE))","v":"Gobernanza e influencia local, regional e internacional"},{"$f":"IF(ISERROR(VLOOKUP(I250,[1]Eje_Pilar!$C$2:$E$47,3,FALSE)),\" \",VLOOKUP(I250,[1]Eje_Pilar!$C$2:$E$47,3,FALSE))","v":"Eje Transversal 4 Gobierno Legitimo, Fortalecimiento Local y Eficiencia"},"3-3-1-15-07-45-1483-000",1063481920,"BLANCARLIS GUILLEN VILLALOBOS",48300000,null,0,1,2300000,50600000,42320000,"2019-02-25","2019-02-25","2020-01-21",309,21,null,null,null,"X",null,83.636363636363626,{"$f":"IF(SUMPRODUCT((A$14:A250=A250)*(B$14:B250=B250)*(C$14:C250=C250))>1,0,1)","v":1},0,0,0,1,0,"Contratos de prestación de servicios profesionales y de apoyo a la gestión","Contratación directa",{"$f":"IFERROR(VLOOKUP(F250,[1]Tipo!$C$12:$C$27,1,FALSE),\"NO\")","v":"Prestación de servicios profesionales y de apoyo a la gestión, o para la ejecución de trabajos artísticos que sólo puedan encomendarse a determinadas personas naturales;"},"Inversión",45]
[197,2019,"FDLSUBA-CPS-197-2019","Contratos de prestación de servicios profesionales y de apoyo a la gestión","Contratación directa","Prestación de servicios profesionales y de apoyo a la gestión, o para la ejecución de trabajos artísticos que sólo puedan encomendarse a determinadas personas naturales;","Apoyar técnicamente las distintas etapas de los procesos de competencia de la Alcaldía Local para la depuración de actuaciones administrativas. NO HAY 15912.","Inversión",45,{"$f":"IF(ISERROR(VLOOKUP(I251,[1]Eje_Pilar!$C$2:$E$47,2,FALSE)),\" \",VLOOKUP(I251,[1]Eje_Pilar!$C$2:$E$47,2,FALSE))","v":"Gobernanza e influencia local, regional e internacional"},{"$f":"IF(ISERROR(VLOOKUP(I251,[1]Eje_Pilar!$C$2:$E$47,3,FALSE)),\" \",VLOOKUP(I251,[1]Eje_Pilar!$C$2:$E$47,3,FALSE))","v":"Eje Transversal 4 Gobierno Legitimo, Fortalecimiento Local y Eficiencia"},"3-3-1-15-07-45-1481-000",19403369,"JORGE ALFONSO RAMOS PAEZ",66150000,null,0,null,null,66150000,57750000,"2019-02-26","2019-02-26","2019-12-31",308,null,null,null,null,"X",null,87.301587301587304,{"$f":"IF(SUMPRODUCT((A$14:A251=A251)*(B$14:B251=B251)*(C$14:C251=C251))>1,0,1)","v":1},0,0,0,1,0,"Contratos de prestación de servicios profesionales y de apoyo a la gestión","Contratación directa",{"$f":"IFERROR(VLOOKUP(F251,[1]Tipo!$C$12:$C$27,1,FALSE),\"NO\")","v":"Prestación de servicios profesionales y de apoyo a la gestión, o para la ejecución de trabajos artísticos que sólo puedan encomendarse a determinadas personas naturales;"},"Inversión",45]
[198,2019,"FDLSUBA-CPS-198-2019","Contratos de prestación de servicios profesionales y de apoyo a la gestión","Contratación directa","Prestación de servicios profesionales y de apoyo a la gestión, o para la ejecución de trabajos artísticos que sólo puedan encomendarse a determinadas personas naturales;","Apoyar técnicamente las distintas etapas de los procesos de competencia de las Inspecciones de Policía de la Localidad, según reparto. NO HAY 15963.","Inversión",45,{"$f":"IF(ISERROR(VLOOKUP(I252,[1]Eje_Pilar!$C$2:$E$47,2,FALSE)),\" \",VLOOKUP(I252,[1]Eje_Pilar!$C$2:$E$47,2,FALSE))","v":"Gobernanza e influencia local, regional e internacional"},{"$f":"IF(ISERROR(VLOOKUP(I252,[1]Eje_Pilar!$C$2:$E$47,3,FALSE)),\" \",VLOOKUP(I252,[1]Eje_Pilar!$C$2:$E$47,3,FALSE))","v":"Eje Transversal 4 Gobierno Legitimo, Fortalecimiento Local y Eficiencia"},"3-3-1-15-07-45-1481-000",41668119,"DORA ELISA LAVERDE GONZALEZ",66150000,null,0,1,3780000,69930000,58590000,"2019-02-21","2019-02-21","2020-01-21",313,21,null,null,null,"X",null,83.78378378378379,{"$f":"IF(SUMPRODUCT((A$14:A252=A252)*(B$14:B252=B252)*(C$14:C252=C252))>1,0,1)","v":1},0,0,0,1,0,"Contratos de prestación de servicios profesionales y de apoyo a la gestión","Contratación directa",{"$f":"IFERROR(VLOOKUP(F252,[1]Tipo!$C$12:$C$27,1,FALSE),\"NO\")","v":"Prestación de servicios profesionales y de apoyo a la gestión, o para la ejecución de trabajos artísticos que sólo puedan encomendarse a determinadas personas naturales;"},"Inversión",45]
[199,2019,"FDLSUBA-CPS-199-2019","Contratos de prestación de servicios profesionales y de apoyo a la gestión","Contratación directa","Prestación de servicios profesionales y de apoyo a la gestión, o para la ejecución de trabajos artísticos que sólo puedan encomendarse a determinadas personas naturales;","Apoyar técnicamente las distintas etapas de los procesos de competencia de las Inspecciones de Policía de la Localidad, según reparto. NO HAY 15963.","Inversión",45,{"$f":"IF(ISERROR(VLOOKUP(I253,[1]Eje_Pilar!$C$2:$E$47,2,FALSE)),\" \",VLOOKUP(I253,[1]Eje_Pilar!$C$2:$E$47,2,FALSE))","v":"Gobernanza e influencia local, regional e internacional"},{"$f":"IF(ISERROR(VLOOKUP(I253,[1]Eje_Pilar!$C$2:$E$47,3,FALSE)),\" \",VLOOKUP(I253,[1]Eje_Pilar!$C$2:$E$47,3,FALSE))","v":"Eje Transversal 4 Gobierno Legitimo, Fortalecimiento Local y Eficiencia"},"3-3-1-15-07-45-1481-000",52152211,"DORA ALIX HERNANDEZ CEBALLOS",66150000,null,0,1,3780000,69930000,58590000,"2019-02-21","2019-02-21","2020-01-21",313,21,null,null,null,"X",null,83.78378378378379,{"$f":"IF(SUMPRODUCT((A$14:A253=A253)*(B$14:B253=B253)*(C$14:C253=C253))>1,0,1)","v":1},0,0,0,1,0,"Contratos de prestación de servicios profesionales y de apoyo a la gestión","Contratación directa",{"$f":"IFERROR(VLOOKUP(F253,[1]Tipo!$C$12:$C$27,1,FALSE),\"NO\")","v":"Prestación de servicios profesionales y de apoyo a la gestión, o para la ejecución de trabajos artísticos que sólo puedan encomendarse a determinadas personas naturales;"},"Inversión",45]
[200,2019,"FDLSUBA-CPS-200-2019","Contratos de prestación de servicios profesionales y de apoyo a la gestión","Contratación directa","Prestación de servicios profesionales y de apoyo a la gestión, o para la ejecución de trabajos artísticos que sólo puedan encomendarse a determinadas personas naturales;","Apoyar técnicamente las distintas etapas de los procesos de competencia de las Inspecciones de Policía de la Localidad, según reparto. NO HAY 15963.","Inversión",45,{"$f":"IF(ISERROR(VLOOKUP(I254,[1]Eje_Pilar!$C$2:$E$47,2,FALSE)),\" \",VLOOKUP(I254,[1]Eje_Pilar!$C$2:$E$47,2,FALSE))","v":"Gobernanza e influencia local, regional e internacional"},{"$f":"IF(ISERROR(VLOOKUP(I254,[1]Eje_Pilar!$C$2:$E$47,3,FALSE)),\" \",VLOOKUP(I254,[1]Eje_Pilar!$C$2:$E$47,3,FALSE))","v":"Eje Transversal 4 Gobierno Legitimo, Fortalecimiento Local y Eficiencia"},"3-3-1-15-07-45-1481-000",79772238,"FABIAN ANDRES LOPEZ HERRERA",66150000,null,0,1,3780000,69930000,58590000,"2019-02-22","2019-02-22","2020-01-21",312,21,null,null,null,"X",null,83.78378378378379,{"$f":"IF(SUMPRODUCT((A$14:A254=A254)*(B$14:B254=B254)*(C$14:C254=C254))>1,0,1)","v":1},0,0,0,1,0,"Contratos de prestación de servicios profesionales y de apoyo a la gestión","Contratación directa",{"$f":"IFERROR(VLOOKUP(F254,[1]Tipo!$C$12:$C$27,1,FALSE),\"NO\")","v":"Prestación de servicios profesionales y de apoyo a la gestión, o para la ejecución de trabajos artísticos que sólo puedan encomendarse a determinadas personas naturales;"},"Inversión",45]
[201,2019,"FDLSUBA-CPS-201-2019","Contratos de prestación de servicios profesionales y de apoyo a la gestión","Contratación directa","Prestación de servicios profesionales y de apoyo a la gestión, o para la ejecución de trabajos artísticos que sólo puedan encomendarse a determinadas personas naturales;","PRESTAR SERVICIOS PROFESIONALES PARA APOYAR EL GRUPO DE TRABAJO DE APOYO A LA RED NACIONAL DE PROTECCION AL CONSUMIDOR, EN TODAS LAS ACTUACIONES TECNICAS Y ADMINISTRATIVAS ADELANTADAS EN LAS VISITAS, ACOMPAÑAMIENTO, CAPACITACION, SOCIALIZACION Y/O SENSIBILIZACION PARA EL CONTROL Y VERIFICACION DE REGLAMENTOS TECNICOS Y METROLOGIA LEGAL. NO HAY 14878.","Inversión",45,{"$f":"IF(ISERROR(VLOOKUP(I255,[1]Eje_Pilar!$C$2:$E$47,2,FALSE)),\" \",VLOOKUP(I255,[1]Eje_Pilar!$C$2:$E$47,2,FALSE))","v":"Gobernanza e influencia local, regional e internacional"},{"$f":"IF(ISERROR(VLOOKUP(I255,[1]Eje_Pilar!$C$2:$E$47,3,FALSE)),\" \",VLOOKUP(I255,[1]Eje_Pilar!$C$2:$E$47,3,FALSE))","v":"Eje Transversal 4 Gobierno Legitimo, Fortalecimiento Local y Eficiencia"},"3-3-1-15-07-45-1481-000",23494132,"MARTHA EMILCE VILLAMIL AVILA",48300000,null,0,1,3986667,52286667,42166667,"2019-02-26","2019-02-26","2020-01-21",308,21,null,null,null,"X",null,80.645161413711847,{"$f":"IF(SUMPRODUCT((A$14:A255=A255)*(B$14:B255=B255)*(C$14:C255=C255))>1,0,1)","v":1},0,0,0,1,0,"Contratos de prestación de servicios profesionales y de apoyo a la gestión","Contratación directa",{"$f":"IFERROR(VLOOKUP(F255,[1]Tipo!$C$12:$C$27,1,FALSE),\"NO\")","v":"Prestación de servicios profesionales y de apoyo a la gestión, o para la ejecución de trabajos artísticos que sólo puedan encomendarse a determinadas personas naturales;"},"Inversión",45]
[202,2019,"FDLSUBA-CPS-202-2019","Contratos de prestación de servicios profesionales y de apoyo a la gestión","Contratación directa","Prestación de servicios profesionales y de apoyo a la gestión, o para la ejecución de trabajos artísticos que sólo puedan encomendarse a determinadas personas naturales;","PRESTAR SERVICIOS DE APOYO A LOS ARCHIVOS DE GESTION DE LA ENTIDAD EN LA IMPLEMENTACION DE LOS PROCESOS DE CLASIFICACION, ORDENACION, SELECCION NATURAL, FOLIACION, IDENTIFICACION, LEVANTAMIENTO DE INVENTARIOS, ALMACENAMIENTO Y APLICACION DE PROTOCOLOS DE ELIMINACION Y TRANSFERENCIAS DOCUMENTALES. NO HAY 15414.","Inversión",45,{"$f":"IF(ISERROR(VLOOKUP(I256,[1]Eje_Pilar!$C$2:$E$47,2,FALSE)),\" \",VLOOKUP(I256,[1]Eje_Pilar!$C$2:$E$47,2,FALSE))","v":"Gobernanza e influencia local, regional e internacional"},{"$f":"IF(ISERROR(VLOOKUP(I256,[1]Eje_Pilar!$C$2:$E$47,3,FALSE)),\" \",VLOOKUP(I256,[1]Eje_Pilar!$C$2:$E$47,3,FALSE))","v":"Eje Transversal 4 Gobierno Legitimo, Fortalecimiento Local y Eficiencia"},"3-3-1-15-07-45-1478-000",1020781915,"ANGGIE ROXANA ESCOBAR GARCIA",22932000,null,0,1,1310400,24242400,20311200,"2019-02-22","2019-02-22","2020-01-21",312,21,null,null,null,"X",null,83.78378378378379,{"$f":"IF(SUMPRODUCT((A$14:A256=A256)*(B$14:B256=B256)*(C$14:C256=C256))>1,0,1)","v":1},0,0,0,1,0,"Contratos de prestación de servicios profesionales y de apoyo a la gestión","Contratación directa",{"$f":"IFERROR(VLOOKUP(F256,[1]Tipo!$C$12:$C$27,1,FALSE),\"NO\")","v":"Prestación de servicios profesionales y de apoyo a la gestión, o para la ejecución de trabajos artísticos que sólo puedan encomendarse a determinadas personas naturales;"},"Inversión",45]
[203,2019,"FDLSUBA-CPS-203-2019","Contratos de prestación de servicios profesionales y de apoyo a la gestión","Contratación directa","Prestación de servicios profesionales y de apoyo a la gestión, o para la ejecución de trabajos artísticos que sólo puedan encomendarse a determinadas personas naturales;","Apoyar técnicamente las distintas etapas de los procesos de competencia de la Alcaldía Local para la depuración de actuaciones administrativas. NO HAY 15912.","Inversión",45,{"$f":"IF(ISERROR(VLOOKUP(I257,[1]Eje_Pilar!$C$2:$E$47,2,FALSE)),\" \",VLOOKUP(I257,[1]Eje_Pilar!$C$2:$E$47,2,FALSE))","v":"Gobernanza e influencia local, regional e internacional"},{"$f":"IF(ISERROR(VLOOKUP(I257,[1]Eje_Pilar!$C$2:$E$47,3,FALSE)),\" \",VLOOKUP(I257,[1]Eje_Pilar!$C$2:$E$47,3,FALSE))","v":"Eje Transversal 4 Gobierno Legitimo, Fortalecimiento Local y Eficiencia"},"3-3-1-15-07-45-1481-000",86058835,"ANDRES MAURICIO BARRERA HERNANDEZ",66150000,null,0,null,null,66150000,57960000,"2019-02-22","2019-02-22","2019-12-31",312,null,null,null,null,"X",null,87.61904761904762,{"$f":"IF(SUMPRODUCT((A$14:A257=A257)*(B$14:B257=B257)*(C$14:C257=C257))>1,0,1)","v":1},0,0,0,1,0,"Contratos de prestación de servicios profesionales y de apoyo a la gestión","Contratación directa",{"$f":"IFERROR(VLOOKUP(F257,[1]Tipo!$C$12:$C$27,1,FALSE),\"NO\")","v":"Prestación de servicios profesionales y de apoyo a la gestión, o para la ejecución de trabajos artísticos que sólo puedan encomendarse a determinadas personas naturales;"},"Inversión",45]
[204,2019,"FDLSUBA-CPS-204-2019","Contratos de prestación de servicios profesionales y de apoyo a la gestión","Contratación directa","Prestación de servicios profesionales y de apoyo a la gestión, o para la ejecución de trabajos artísticos que sólo puedan encomendarse a determinadas personas naturales;","Apoyar técnicamente las distintas etapas de los procesos de competencia de la Alcaldía Local para la depuración de actuaciones administrativas. NO HAY 15930.","Inversión",45,{"$f":"IF(ISERROR(VLOOKUP(I258,[1]Eje_Pilar!$C$2:$E$47,2,FALSE)),\" \",VLOOKUP(I258,[1]Eje_Pilar!$C$2:$E$47,2,FALSE))","v":"Gobernanza e influencia local, regional e internacional"},{"$f":"IF(ISERROR(VLOOKUP(I258,[1]Eje_Pilar!$C$2:$E$47,3,FALSE)),\" \",VLOOKUP(I258,[1]Eje_Pilar!$C$2:$E$47,3,FALSE))","v":"Eje Transversal 4 Gobierno Legitimo, Fortalecimiento Local y Eficiencia"},"3-3-1-15-07-45-1481-000",7304906,"JULIO HERNAN GONZALEZ GONZALEZ",66150000,null,0,1,2940000,69090000,57750000,"2019-02-26","2019-02-26","2020-01-21",308,21,null,null,null,"X",null,83.586626139817639,{"$f":"IF(SUMPRODUCT((A$14:A258=A258)*(B$14:B258=B258)*(C$14:C258=C258))>1,0,1)","v":1},0,0,0,1,0,"Contratos de prestación de servicios profesionales y de apoyo a la gestión","Contratación directa",{"$f":"IFERROR(VLOOKUP(F258,[1]Tipo!$C$12:$C$27,1,FALSE),\"NO\")","v":"Prestación de servicios profesionales y de apoyo a la gestión, o para la ejecución de trabajos artísticos que sólo puedan encomendarse a determinadas personas naturales;"},"Inversión",45]
[205,2019,"FDLSUBA-CPS-205-2019","Contratos de prestación de servicios profesionales y de apoyo a la gestión","Contratación directa","Prestación de servicios profesionales y de apoyo a la gestión, o para la ejecución de trabajos artísticos que sólo puedan encomendarse a determinadas personas naturales;","Apoyar jurídicamente la ejecución de las acciones requeridas para el trámite e impulso procesal de las actuaciones contravencionales y/o querellas que cursen en las Inspecciones de Policía de la Localidad. NO HAY 15858.","Inversión",45,{"$f":"IF(ISERROR(VLOOKUP(I259,[1]Eje_Pilar!$C$2:$E$47,2,FALSE)),\" \",VLOOKUP(I259,[1]Eje_Pilar!$C$2:$E$47,2,FALSE))","v":"Gobernanza e influencia local, regional e internacional"},{"$f":"IF(ISERROR(VLOOKUP(I259,[1]Eje_Pilar!$C$2:$E$47,3,FALSE)),\" \",VLOOKUP(I259,[1]Eje_Pilar!$C$2:$E$47,3,FALSE))","v":"Eje Transversal 4 Gobierno Legitimo, Fortalecimiento Local y Eficiencia"},"3-3-1-15-07-45-1481-000",52267035,"ANA JEANNEETT MORENO RODRIGUEZ",48300000,null,0,null,null,48300000,41860000,"2019-02-26","2019-02-26","2019-12-31",308,null,null,null,null,"X",null,86.666666666666671,{"$f":"IF(SUMPRODUCT((A$14:A259=A259)*(B$14:B259=B259)*(C$14:C259=C259))>1,0,1)","v":1},0,0,0,1,0,"Contratos de prestación de servicios profesionales y de apoyo a la gestión","Contratación directa",{"$f":"IFERROR(VLOOKUP(F259,[1]Tipo!$C$12:$C$27,1,FALSE),\"NO\")","v":"Prestación de servicios profesionales y de apoyo a la gestión, o para la ejecución de trabajos artísticos que sólo puedan encomendarse a determinadas personas naturales;"},"Inversión",45]
[206,2019,"FDLSUBA-CPS-206-2019","Contratos de prestación de servicios profesionales y de apoyo a la gestión","Contratación directa","Prestación de servicios profesionales y de apoyo a la gestión, o para la ejecución de trabajos artísticos que sólo puedan encomendarse a determinadas personas naturales;","Apoyar técnicamente las distintas etapas de los procesos de competencia de la Alcaldía Local para la depuración de actuaciones administrativas. NO HAY 15930.","Inversión",45,{"$f":"IF(ISERROR(VLOOKUP(I260,[1]Eje_Pilar!$C$2:$E$47,2,FALSE)),\" \",VLOOKUP(I260,[1]Eje_Pilar!$C$2:$E$47,2,FALSE))","v":"Gobernanza e influencia local, regional e internacional"},{"$f":"IF(ISERROR(VLOOKUP(I260,[1]Eje_Pilar!$C$2:$E$47,3,FALSE)),\" \",VLOOKUP(I260,[1]Eje_Pilar!$C$2:$E$47,3,FALSE))","v":"Eje Transversal 4 Gobierno Legitimo, Fortalecimiento Local y Eficiencia"},"3-3-1-15-07-45-1481-000",80849789,"ALEXANDER  ROJAS CRUZ",66150000,null,0,null,null,66150000,38430000,"2019-02-26","2019-02-26","2019-12-31",308,null,null,null,null,"X",null,58.095238095238102,{"$f":"IF(SUMPRODUCT((A$14:A260=A260)*(B$14:B260=B260)*(C$14:C260=C260))>1,0,1)","v":1},0,0,0,1,0,"Contratos de prestación de servicios profesionales y de apoyo a la gestión","Contratación directa",{"$f":"IFERROR(VLOOKUP(F260,[1]Tipo!$C$12:$C$27,1,FALSE),\"NO\")","v":"Prestación de servicios profesionales y de apoyo a la gestión, o para la ejecución de trabajos artísticos que sólo puedan encomendarse a determinadas personas naturales;"},"Inversión",45]
[207,2019,"FDLSUBA-CPS-207-2019","Contratos de prestación de servicios profesionales y de apoyo a la gestión","Contratación directa","Prestación de servicios profesionales y de apoyo a la gestión, o para la ejecución de trabajos artísticos que sólo puedan encomendarse a determinadas personas naturales;","Apoyar jurídicamente la ejecución de las acciones requeridas para el trámite e impulso procesal de las actuaciones contravencionales y/o querellas que cursen en las Inspecciones de Policía de la Localidad. NO HAY 15858.","Inversión",45,{"$f":"IF(ISERROR(VLOOKUP(I261,[1]Eje_Pilar!$C$2:$E$47,2,FALSE)),\" \",VLOOKUP(I261,[1]Eje_Pilar!$C$2:$E$47,2,FALSE))","v":"Gobernanza e influencia local, regional e internacional"},{"$f":"IF(ISERROR(VLOOKUP(I261,[1]Eje_Pilar!$C$2:$E$47,3,FALSE)),\" \",VLOOKUP(I261,[1]Eje_Pilar!$C$2:$E$47,3,FALSE))","v":"Eje Transversal 4 Gobierno Legitimo, Fortalecimiento Local y Eficiencia"},"3-3-1-15-07-45-1481-000",1026288655,"NOHORA RESTREPO AGUDELO",48300000,null,0,null,null,48300000,41400000,"2019-02-26","2019-02-26","2019-12-31",308,null,null,null,null,"X",null,85.714285714285708,{"$f":"IF(SUMPRODUCT((A$14:A261=A261)*(B$14:B261=B261)*(C$14:C261=C261))>1,0,1)","v":1},0,0,0,1,0,"Contratos de prestación de servicios profesionales y de apoyo a la gestión","Contratación directa",{"$f":"IFERROR(VLOOKUP(F261,[1]Tipo!$C$12:$C$27,1,FALSE),\"NO\")","v":"Prestación de servicios profesionales y de apoyo a la gestión, o para la ejecución de trabajos artísticos que sólo puedan encomendarse a determinadas personas naturales;"},"Inversión",45]
[208,2019,"FDLSUBA-CPS-208-2019","Contratos de prestación de servicios profesionales y de apoyo a la gestión","Contratación directa","Prestación de servicios profesionales y de apoyo a la gestión, o para la ejecución de trabajos artísticos que sólo puedan encomendarse a determinadas personas naturales;","PRESTAR SERVICIOS ASISTENCIALES A LA ALCALDIA DE SUBA EN VIRTUD DEL PRINCIPIO DE COLABORACION, EN ESPECIAL LA TRANSCRIPCION DE ACTAS, GRABACION DE SESIONES Y GESTION DOCUMENTAL, ASI COMO LAS ACTIVIDADES QUE SE DESIGNEN DE PARTE DEL DESPACHO EN EJERCICIO DE LA FUNCION ADMINISTRATIVA PROPIA DE SU COMPETENCIA.","Inversión",45,{"$f":"IF(ISERROR(VLOOKUP(I262,[1]Eje_Pilar!$C$2:$E$47,2,FALSE)),\" \",VLOOKUP(I262,[1]Eje_Pilar!$C$2:$E$47,2,FALSE))","v":"Gobernanza e influencia local, regional e internacional"},{"$f":"IF(ISERROR(VLOOKUP(I262,[1]Eje_Pilar!$C$2:$E$47,3,FALSE)),\" \",VLOOKUP(I262,[1]Eje_Pilar!$C$2:$E$47,3,FALSE))","v":"Eje Transversal 4 Gobierno Legitimo, Fortalecimiento Local y Eficiencia"},"3-3-1-15-07-45-1478-000",1065664057,"SANDY DE JESUS MADERO DAZA",21840000,null,0,null,null,21840000,19656000,"2019-02-27","2019-02-27","2019-12-31",300,null,null,null,null,"X",null,90,{"$f":"IF(SUMPRODUCT((A$14:A262=A262)*(B$14:B262=B262)*(C$14:C262=C262))>1,0,1)","v":1},0,0,0,1,0,"Contratos de prestación de servicios profesionales y de apoyo a la gestión","Contratación directa",{"$f":"IFERROR(VLOOKUP(F262,[1]Tipo!$C$12:$C$27,1,FALSE),\"NO\")","v":"Prestación de servicios profesionales y de apoyo a la gestión, o para la ejecución de trabajos artísticos que sólo puedan encomendarse a determinadas personas naturales;"},"Inversión",45]
[209,2019,"FDLSUBA-CPS-209-2019","Contratos de prestación de servicios profesionales y de apoyo a la gestión","Contratación directa","Prestación de servicios profesionales y de apoyo a la gestión, o para la ejecución de trabajos artísticos que sólo puedan encomendarse a determinadas personas naturales;","Apoyar jurídicamente la ejecución de las acciones requeridas para el trámite e impulso procesal de las actuaciones contravencionales y/o querellas que cursen en las Inspecciones de Policía de la Localidad. NO HAY 15858.","Inversión",45,{"$f":"IF(ISERROR(VLOOKUP(I263,[1]Eje_Pilar!$C$2:$E$47,2,FALSE)),\" \",VLOOKUP(I263,[1]Eje_Pilar!$C$2:$E$47,2,FALSE))","v":"Gobernanza e influencia local, regional e internacional"},{"$f":"IF(ISERROR(VLOOKUP(I263,[1]Eje_Pilar!$C$2:$E$47,3,FALSE)),\" \",VLOOKUP(I263,[1]Eje_Pilar!$C$2:$E$47,3,FALSE))","v":"Eje Transversal 4 Gobierno Legitimo, Fortalecimiento Local y Eficiencia"},"3-3-1-15-07-45-1481-000",51875873,"NOHORA RESTREPO AGUDELO",48300000,null,0,null,null,48300000,41400000,"2019-03-01","2019-03-01","2019-12-31",305,null,null,null,null,"X",null,85.714285714285708,{"$f":"IF(SUMPRODUCT((A$14:A263=A263)*(B$14:B263=B263)*(C$14:C263=C263))>1,0,1)","v":1},0,0,0,1,0,"Contratos de prestación de servicios profesionales y de apoyo a la gestión","Contratación directa",{"$f":"IFERROR(VLOOKUP(F263,[1]Tipo!$C$12:$C$27,1,FALSE),\"NO\")","v":"Prestación de servicios profesionales y de apoyo a la gestión, o para la ejecución de trabajos artísticos que sólo puedan encomendarse a determinadas personas naturales;"},"Inversión",45]
[210,2019,"FDLSUBA-CPS-210-2019","Contratos de prestación de servicios profesionales y de apoyo a la gestión","Contratación directa","Prestación de servicios profesionales y de apoyo a la gestión, o para la ejecución de trabajos artísticos que sólo puedan encomendarse a determinadas personas naturales;","Prestar los servicios como operario de volqueta, en el Área Gestión del Desarrollo de Suba¿. NO HAY 15908.|21840000|0|0|21840000|19437600|2402400","Inversión",18,{"$f":"IF(ISERROR(VLOOKUP(I264,[1]Eje_Pilar!$C$2:$E$47,2,FALSE)),\" \",VLOOKUP(I264,[1]Eje_Pilar!$C$2:$E$47,2,FALSE))","v":"Mejor movilidad para todos"},{"$f":"IF(ISERROR(VLOOKUP(I264,[1]Eje_Pilar!$C$2:$E$47,3,FALSE)),\" \",VLOOKUP(I264,[1]Eje_Pilar!$C$2:$E$47,3,FALSE))","v":"Pilar 2 Democracía Urbana"},"3-3-1-15-02-18-1506-000",79870166,"LEONEL  GONZALEZ MORENO",21840000,null,null,1,218400,22058400,19437600,"2019-03-01","2019-03-01","2020-01-21",300,21,null,null,null,"X",null,88.118811881188122,{"$f":"IF(SUMPRODUCT((A$14:A264=A264)*(B$14:B264=B264)*(C$14:C264=C264))>1,0,1)","v":1},0,0,0,1,0,"Contratos de prestación de servicios profesionales y de apoyo a la gestión","Contratación directa",{"$f":"IFERROR(VLOOKUP(F264,[1]Tipo!$C$12:$C$27,1,FALSE),\"NO\")","v":"Prestación de servicios profesionales y de apoyo a la gestión, o para la ejecución de trabajos artísticos que sólo puedan encomendarse a determinadas personas naturales;"},"Inversión",18]
[211,2019,"FDLSUBA-CPS-211-2019","Contratos de prestación de servicios profesionales y de apoyo a la gestión","Contratación directa","Prestación de servicios profesionales y de apoyo a la gestión, o para la ejecución de trabajos artísticos que sólo puedan encomendarse a determinadas personas naturales;","APOYAR TECNICAMENTE A LA ALCALDIA LOCAL DE SUBA, ESPECIALMENTE EN LAS DISTINTAS ETAPAS DE LOS PROCESOS DE COMPETENCIA DE LA ALCALDIA LOCAL PARA LA DEPURACION DE ACTUACIONES ADMINISTRATIVAS. NO HAY 15924.","Inversión",45,{"$f":"IF(ISERROR(VLOOKUP(I265,[1]Eje_Pilar!$C$2:$E$47,2,FALSE)),\" \",VLOOKUP(I265,[1]Eje_Pilar!$C$2:$E$47,2,FALSE))","v":"Gobernanza e influencia local, regional e internacional"},{"$f":"IF(ISERROR(VLOOKUP(I265,[1]Eje_Pilar!$C$2:$E$47,3,FALSE)),\" \",VLOOKUP(I265,[1]Eje_Pilar!$C$2:$E$47,3,FALSE))","v":"Eje Transversal 4 Gobierno Legitimo, Fortalecimiento Local y Eficiencia"},"3-3-1-15-07-45-1481-000",1018407205,"ESTIBALIZ  BAQUERO BORDA",66150000,null,0,1,2310000,68460000,56700000,"2019-03-01","2019-03-01","2019-12-31",305,null,null,null,null,"X",null,82.822085889570545,{"$f":"IF(SUMPRODUCT((A$14:A265=A265)*(B$14:B265=B265)*(C$14:C265=C265))>1,0,1)","v":1},0,0,0,1,0,"Contratos de prestación de servicios profesionales y de apoyo a la gestión","Contratación directa",{"$f":"IFERROR(VLOOKUP(F265,[1]Tipo!$C$12:$C$27,1,FALSE),\"NO\")","v":"Prestación de servicios profesionales y de apoyo a la gestión, o para la ejecución de trabajos artísticos que sólo puedan encomendarse a determinadas personas naturales;"},"Inversión",45]
[212,2019,"FDLSUBA-CPS-212-2019","Contratos de prestación de servicios profesionales y de apoyo a la gestión","Contratación directa","Prestación de servicios profesionales y de apoyo a la gestión, o para la ejecución de trabajos artísticos que sólo puedan encomendarse a determinadas personas naturales;","APOYAR TECNICAMENTE A LA ALCALDIA LOCAL DE SUBA, ESPECIALMENTE EN LAS DISTINTAS ETAPAS DE LOS PROCESOS DE COMPETENCIA DE LA ALCALDIA LOCAL PARA LA DEPURACION DE ACTUACIONES ADMINISTRATIVAS. NO HAY 15924.","Inversión",45,{"$f":"IF(ISERROR(VLOOKUP(I266,[1]Eje_Pilar!$C$2:$E$47,2,FALSE)),\" \",VLOOKUP(I266,[1]Eje_Pilar!$C$2:$E$47,2,FALSE))","v":"Gobernanza e influencia local, regional e internacional"},{"$f":"IF(ISERROR(VLOOKUP(I266,[1]Eje_Pilar!$C$2:$E$47,3,FALSE)),\" \",VLOOKUP(I266,[1]Eje_Pilar!$C$2:$E$47,3,FALSE))","v":"Eje Transversal 4 Gobierno Legitimo, Fortalecimiento Local y Eficiencia"},"3-3-1-15-07-45-1481-000",79543764,"FREDY ARMANDO MARTIN GUANTIVAR",66150000,null,0,null,null,66150000,56070000,"2019-03-04","2019-03-04","2019-12-31",302,null,null,null,null,"X",null,84.761904761904759,{"$f":"IF(SUMPRODUCT((A$14:A266=A266)*(B$14:B266=B266)*(C$14:C266=C266))>1,0,1)","v":1},0,0,0,1,0,"Contratos de prestación de servicios profesionales y de apoyo a la gestión","Contratación directa",{"$f":"IFERROR(VLOOKUP(F266,[1]Tipo!$C$12:$C$27,1,FALSE),\"NO\")","v":"Prestación de servicios profesionales y de apoyo a la gestión, o para la ejecución de trabajos artísticos que sólo puedan encomendarse a determinadas personas naturales;"},"Inversión",45]
[213,2019,"FDLSUBA-CPS-213-2019","Contratos de prestación de servicios profesionales y de apoyo a la gestión","Contratación directa","Prestación de servicios profesionales y de apoyo a la gestión, o para la ejecución de trabajos artísticos que sólo puedan encomendarse a determinadas personas naturales;","Apoyar jurídicamente la ejecución de las acciones requeridas para el trámite e impulso procesal de las actuaciones contravencionales y/o querellas que cursen en las Inspecciones de Policía de la Localidad. NO HAY 15858.","Inversión",45,{"$f":"IF(ISERROR(VLOOKUP(I267,[1]Eje_Pilar!$C$2:$E$47,2,FALSE)),\" \",VLOOKUP(I267,[1]Eje_Pilar!$C$2:$E$47,2,FALSE))","v":"Gobernanza e influencia local, regional e internacional"},{"$f":"IF(ISERROR(VLOOKUP(I267,[1]Eje_Pilar!$C$2:$E$47,3,FALSE)),\" \",VLOOKUP(I267,[1]Eje_Pilar!$C$2:$E$47,3,FALSE))","v":"Eje Transversal 4 Gobierno Legitimo, Fortalecimiento Local y Eficiencia"},"3-3-1-15-07-45-1481-000",1069729082,"ANGEL ALEJANDRO ROMERO DAVILA",48300000,null,0,1,1686667,49986667,34193333,"2019-02-28","2019-02-28","2020-01-21",300,21,null,null,null,"X",null,68.404906852461281,{"$f":"IF(SUMPRODUCT((A$14:A267=A267)*(B$14:B267=B267)*(C$14:C267=C267))>1,0,1)","v":1},0,0,0,1,0,"Contratos de prestación de servicios profesionales y de apoyo a la gestión","Contratación directa",{"$f":"IFERROR(VLOOKUP(F267,[1]Tipo!$C$12:$C$27,1,FALSE),\"NO\")","v":"Prestación de servicios profesionales y de apoyo a la gestión, o para la ejecución de trabajos artísticos que sólo puedan encomendarse a determinadas personas naturales;"},"Inversión",45]
[214,2019,"FDLSUBA-CPS-214-2019","Contratos de prestación de servicios profesionales y de apoyo a la gestión","Contratación directa","Prestación de servicios profesionales y de apoyo a la gestión, o para la ejecución de trabajos artísticos que sólo puedan encomendarse a determinadas personas naturales;","APOYAR TECNICAMENTE A LA ALCALDIA LOCAL DE SUBA, ESPECIALMENTE EN LAS DISTINTAS ETAPAS DE LOS PROCESOS DE COMPETENCIA DE LA ALCALDIA LOCAL PARA LA DEPURACION DE ACTUACIONES ADMINISTRATIVAS. NO HAY 15924.","Inversión",45,{"$f":"IF(ISERROR(VLOOKUP(I268,[1]Eje_Pilar!$C$2:$E$47,2,FALSE)),\" \",VLOOKUP(I268,[1]Eje_Pilar!$C$2:$E$47,2,FALSE))","v":"Gobernanza e influencia local, regional e internacional"},{"$f":"IF(ISERROR(VLOOKUP(I268,[1]Eje_Pilar!$C$2:$E$47,3,FALSE)),\" \",VLOOKUP(I268,[1]Eje_Pilar!$C$2:$E$47,3,FALSE))","v":"Eje Transversal 4 Gobierno Legitimo, Fortalecimiento Local y Eficiencia"},"3-3-1-15-07-45-1481-000",80216745,"OMAR RODRIGO URREA ROZO",66150000,null,0,null,null,66150000,56700000,"2019-03-01","2019-03-01","2019-12-31",305,null,null,null,null,"X",null,85.714285714285708,{"$f":"IF(SUMPRODUCT((A$14:A268=A268)*(B$14:B268=B268)*(C$14:C268=C268))>1,0,1)","v":1},0,0,0,1,0,"Contratos de prestación de servicios profesionales y de apoyo a la gestión","Contratación directa",{"$f":"IFERROR(VLOOKUP(F268,[1]Tipo!$C$12:$C$27,1,FALSE),\"NO\")","v":"Prestación de servicios profesionales y de apoyo a la gestión, o para la ejecución de trabajos artísticos que sólo puedan encomendarse a determinadas personas naturales;"},"Inversión",45]
[215,2019,"FDLSUBA-CPS-215-2091","Contratos de prestación de servicios profesionales y de apoyo a la gestión","Contratación directa","Prestación de servicios profesionales y de apoyo a la gestión, o para la ejecución de trabajos artísticos que sólo puedan encomendarse a determinadas personas naturales;","Apoyar jurídicamente la ejecución de las acciones requeridas para la depuración de las actuaciones administrativas que cursan en la Alcaldía Local. NO HAY 15929.","Inversión",45,{"$f":"IF(ISERROR(VLOOKUP(I269,[1]Eje_Pilar!$C$2:$E$47,2,FALSE)),\" \",VLOOKUP(I269,[1]Eje_Pilar!$C$2:$E$47,2,FALSE))","v":"Gobernanza e influencia local, regional e internacional"},{"$f":"IF(ISERROR(VLOOKUP(I269,[1]Eje_Pilar!$C$2:$E$47,3,FALSE)),\" \",VLOOKUP(I269,[1]Eje_Pilar!$C$2:$E$47,3,FALSE))","v":"Eje Transversal 4 Gobierno Legitimo, Fortalecimiento Local y Eficiencia"},"3-3-1-15-07-45-1478-000",52249104,"SANDRA EDITH PARRA CARDENAS",48300000,null,0,null,null,48300000,40940000,"2019-03-01","2019-03-01","2019-12-31",305,null,null,null,null,"X",null,84.761904761904759,{"$f":"IF(SUMPRODUCT((A$14:A269=A269)*(B$14:B269=B269)*(C$14:C269=C269))>1,0,1)","v":1},0,0,0,1,0,"Contratos de prestación de servicios profesionales y de apoyo a la gestión","Contratación directa",{"$f":"IFERROR(VLOOKUP(F269,[1]Tipo!$C$12:$C$27,1,FALSE),\"NO\")","v":"Prestación de servicios profesionales y de apoyo a la gestión, o para la ejecución de trabajos artísticos que sólo puedan encomendarse a determinadas personas naturales;"},"Inversión",45]
[216,2019,"FDLSUBA-CPS-216-2019","Contratos de prestación de servicios profesionales y de apoyo a la gestión","Contratación directa","Prestación de servicios profesionales y de apoyo a la gestión, o para la ejecución de trabajos artísticos que sólo puedan encomendarse a determinadas personas naturales;","Apoyar jurídicamente la ejecución de las acciones requeridas para la depuración de las actuaciones administrativas que cursan en la Alcaldía Local. NO HAY 15929.","Inversión",45,{"$f":"IF(ISERROR(VLOOKUP(I270,[1]Eje_Pilar!$C$2:$E$47,2,FALSE)),\" \",VLOOKUP(I270,[1]Eje_Pilar!$C$2:$E$47,2,FALSE))","v":"Gobernanza e influencia local, regional e internacional"},{"$f":"IF(ISERROR(VLOOKUP(I270,[1]Eje_Pilar!$C$2:$E$47,3,FALSE)),\" \",VLOOKUP(I270,[1]Eje_Pilar!$C$2:$E$47,3,FALSE))","v":"Eje Transversal 4 Gobierno Legitimo, Fortalecimiento Local y Eficiencia"},"3-3-1-15-07-45-1478-000",1124169,"HUMBERTO ISRAEL CASTILLO RIOS",48300000,null,0,null,null,48300000,36186666,"2019-03-01","2019-03-01","2019-12-31",315,null,null,null,null,"X",null,74.920633540372677,{"$f":"IF(SUMPRODUCT((A$14:A270=A270)*(B$14:B270=B270)*(C$14:C270=C270))>1,0,1)","v":1},0,0,0,1,0,"Contratos de prestación de servicios profesionales y de apoyo a la gestión","Contratación directa",{"$f":"IFERROR(VLOOKUP(F270,[1]Tipo!$C$12:$C$27,1,FALSE),\"NO\")","v":"Prestación de servicios profesionales y de apoyo a la gestión, o para la ejecución de trabajos artísticos que sólo puedan encomendarse a determinadas personas naturales;"},"Inversión",45]
[217,2019,"FDLSUBA-CPS-217-2019","Contratos de prestación de servicios profesionales y de apoyo a la gestión","Contratación directa","Prestación de servicios profesionales y de apoyo a la gestión, o para la ejecución de trabajos artísticos que sólo puedan encomendarse a determinadas personas naturales;","Prestar servicios de apoyo en las actividades de seguridad y convivencia ciudadana y recuperación del espacio público para el logro de las metas de gestión de la vigencia. NO HAY 15926.","Inversión",19,{"$f":"IF(ISERROR(VLOOKUP(I271,[1]Eje_Pilar!$C$2:$E$47,2,FALSE)),\" \",VLOOKUP(I271,[1]Eje_Pilar!$C$2:$E$47,2,FALSE))","v":"Seguridad y convivencia para todos"},{"$f":"IF(ISERROR(VLOOKUP(I271,[1]Eje_Pilar!$C$2:$E$47,3,FALSE)),\" \",VLOOKUP(I271,[1]Eje_Pilar!$C$2:$E$47,3,FALSE))","v":"Pilar 3 Construcción de Comunidad y Cultura Ciudadana"},"3-3-1-15-03-19-1469-000",1019035357,"JOSE DAVID AVILA BERRIOS",19448000,null,0,null,null,19448000,15735200,"2019-03-04","2019-03-04","2019-12-31",330,null,null,null,null,"X",null,{"$f":"(IF(ISERROR(U271/T271),\"-\",(U271/T271)))*100","v":80.909090909090907},{"$f":"IF(SUMPRODUCT((A$14:A271=A271)*(B$14:B271=B271)*(C$14:C271=C271))>1,0,1)","v":1},{"$f":"IF(AND(AA271=\"X\",AG271=1 ),1,0)","v":0},{"$f":"IF(AND(AB271=\"X\",AG271=1 ),1,0)","v":0},{"$f":"IF(AND(AC271=\"X\",AG271=1 ),1,0)","v":0},{"$f":"IF(AND(AD271=\"X\",AG271=1 ),1,0)","v":1},{"$f":"IF(AND(AE271=\"X\",AG271=1 ),1,0)","v":0},"Contratos de prestación de servicios profesionales y de apoyo a la gestión","Contratación directa",{"$f":"IFERROR(VLOOKUP(F271,[1]Tipo!$C$12:$C$27,1,FALSE),\"NO\")","v":"Prestación de servicios profesionales y de apoyo a la gestión, o para la ejecución de trabajos artísticos que sólo puedan encomendarse a determinadas personas naturales;"},"Inversión",19]
[218,2019,"FDLSUBA-CPS-218-2019","Contratos de prestación de servicios profesionales y de apoyo a la gestión","Contratación directa","Prestación de servicios profesionales y de apoyo a la gestión, o para la ejecución de trabajos artísticos que sólo puedan encomendarse a determinadas personas naturales;","Prestar servicios de apoyo en las actividades de seguridad y convivencia ciudadana y recuperación del espacio público para el logro de las metas de gestión de la vigencia. NO HAY 15926.","Inversión",19,{"$f":"IF(ISERROR(VLOOKUP(I272,[1]Eje_Pilar!$C$2:$E$47,2,FALSE)),\" \",VLOOKUP(I272,[1]Eje_Pilar!$C$2:$E$47,2,FALSE))","v":"Seguridad y convivencia para todos"},{"$f":"IF(ISERROR(VLOOKUP(I272,[1]Eje_Pilar!$C$2:$E$47,3,FALSE)),\" \",VLOOKUP(I272,[1]Eje_Pilar!$C$2:$E$47,3,FALSE))","v":"Pilar 3 Construcción de Comunidad y Cultura Ciudadana"},"3-3-1-15-03-19-1469-000",1022927669,"ALBERSI YOLIMA AREVALO MARTINEZ",19448000,null,0,null,null,19448000,15735200,"2019-03-01","2019-03-01","2019-12-31",330,null,null,null,null,"X",null,80.909090909090907,{"$f":"IF(SUMPRODUCT((A$14:A272=A272)*(B$14:B272=B272)*(C$14:C272=C272))>1,0,1)","v":1},0,0,0,1,0,"Contratos de prestación de servicios profesionales y de apoyo a la gestión","Contratación directa",{"$f":"IFERROR(VLOOKUP(F272,[1]Tipo!$C$12:$C$27,1,FALSE),\"NO\")","v":"Prestación de servicios profesionales y de apoyo a la gestión, o para la ejecución de trabajos artísticos que sólo puedan encomendarse a determinadas personas naturales;"},"Inversión",19]
[219,2019,"FDLSUBA-CPS-219-2019","Contratos de prestación de servicios profesionales y de apoyo a la gestión","Contratación directa","Prestación de servicios profesionales y de apoyo a la gestión, o para la ejecución de trabajos artísticos que sólo puedan encomendarse a determinadas personas naturales;","PRESTAR LOS SERVICIOS PROFESIONALES EN LA ALCALDIA LOCAL DE SUBA, EN LOS TEMAS RELACIONADOS CON EL AREA DE SISTEMAS, GESTION DE TICS Y TODO LO RELACIONADO CON EL RECURSO TECNOLOGICO DE LA ALCALDIA LOCAL DE SUBA.","Inversión",45,{"$f":"IF(ISERROR(VLOOKUP(I273,[1]Eje_Pilar!$C$2:$E$47,2,FALSE)),\" \",VLOOKUP(I273,[1]Eje_Pilar!$C$2:$E$47,2,FALSE))","v":"Gobernanza e influencia local, regional e internacional"},{"$f":"IF(ISERROR(VLOOKUP(I273,[1]Eje_Pilar!$C$2:$E$47,3,FALSE)),\" \",VLOOKUP(I273,[1]Eje_Pilar!$C$2:$E$47,3,FALSE))","v":"Eje Transversal 4 Gobierno Legitimo, Fortalecimiento Local y Eficiencia"},"3-3-1-15-07-45-1478-000",1030557277,"DANNY JOEL CUBILLO VELASQUEZ",43700000,null,0,1,3066667,46766667,38180000,"2019-03-20","2019-03-20","2020-01-21",285,21,null,null,null,"X",null,81.639343680403826,{"$f":"IF(SUMPRODUCT((A$14:A273=A273)*(B$14:B273=B273)*(C$14:C273=C273))>1,0,1)","v":1},0,0,0,1,0,"Contratos de prestación de servicios profesionales y de apoyo a la gestión","Contratación directa",{"$f":"IFERROR(VLOOKUP(F273,[1]Tipo!$C$12:$C$27,1,FALSE),\"NO\")","v":"Prestación de servicios profesionales y de apoyo a la gestión, o para la ejecución de trabajos artísticos que sólo puedan encomendarse a determinadas personas naturales;"},"Inversión",45]
[220,2019,"FDLSUBA-CPS-220-2019","Contratos de prestación de servicios profesionales y de apoyo a la gestión","Contratación directa","Prestación de servicios profesionales y de apoyo a la gestión, o para la ejecución de trabajos artísticos que sólo puedan encomendarse a determinadas personas naturales;","PRESTAR SERVICIOS PROFESIONALES AL AREA DE GESTION DEL DESARROLLO LOCAL DE LA ALCALDIA LOCAL DE SUBA, PARA APOYAR LA SUPERVISION DE CONTRATOS DE LOS PROYECTOS QUE LE SEAN ASIGNADOS.","Inversión",45,{"$f":"IF(ISERROR(VLOOKUP(I274,[1]Eje_Pilar!$C$2:$E$47,2,FALSE)),\" \",VLOOKUP(I274,[1]Eje_Pilar!$C$2:$E$47,2,FALSE))","v":"Gobernanza e influencia local, regional e internacional"},{"$f":"IF(ISERROR(VLOOKUP(I274,[1]Eje_Pilar!$C$2:$E$47,3,FALSE)),\" \",VLOOKUP(I274,[1]Eje_Pilar!$C$2:$E$47,3,FALSE))","v":"Eje Transversal 4 Gobierno Legitimo, Fortalecimiento Local y Eficiencia"},"3-3-1-15-07-45-1478-000",79398471,"CARLOS JULIO PIEDRA ZAMORA",59850000,null,0,1,4410000,64260000,51450000,"2019-03-22","2019-03-22","2020-01-21",285,21,null,null,null,"X",null,80.06535947712419,{"$f":"IF(SUMPRODUCT((A$14:A274=A274)*(B$14:B274=B274)*(C$14:C274=C274))>1,0,1)","v":1},0,0,0,1,0,"Contratos de prestación de servicios profesionales y de apoyo a la gestión","Contratación directa",{"$f":"IFERROR(VLOOKUP(F274,[1]Tipo!$C$12:$C$27,1,FALSE),\"NO\")","v":"Prestación de servicios profesionales y de apoyo a la gestión, o para la ejecución de trabajos artísticos que sólo puedan encomendarse a determinadas personas naturales;"},"Inversión",45]
[221,2019,"FDLSUBA-CPS-221-2019","Contratos de prestación de servicios profesionales y de apoyo a la gestión","Contratación directa","Prestación de servicios profesionales y de apoyo a la gestión, o para la ejecución de trabajos artísticos que sólo puedan encomendarse a determinadas personas naturales;","PRESTAR SERVICIOS PROFESIONALES AL AREA DE GESTION DEL DESARROLLO LOCAL DE LA ALCALDIA LOCAL DE SUBA, PARA APOYAR LA SUPERVISION DE CONTRATOS DE LOS PROYECTOS QUE LE SEAN ASIGNADOS.","Inversión",45,{"$f":"IF(ISERROR(VLOOKUP(I275,[1]Eje_Pilar!$C$2:$E$47,2,FALSE)),\" \",VLOOKUP(I275,[1]Eje_Pilar!$C$2:$E$47,2,FALSE))","v":"Gobernanza e influencia local, regional e internacional"},{"$f":"IF(ISERROR(VLOOKUP(I275,[1]Eje_Pilar!$C$2:$E$47,3,FALSE)),\" \",VLOOKUP(I275,[1]Eje_Pilar!$C$2:$E$47,3,FALSE))","v":"Eje Transversal 4 Gobierno Legitimo, Fortalecimiento Local y Eficiencia"},"3-3-1-15-07-45-1478-000",1072466516,"OMAR JAVIER GAMBOA BOHORQUEZ",59850000,null,0,null,null,59850000,46830000,"2019-03-22","2019-03-22","2019-12-31",285,null,null,null,null,"X",null,78.245614035087712,{"$f":"IF(SUMPRODUCT((A$14:A275=A275)*(B$14:B275=B275)*(C$14:C275=C275))>1,0,1)","v":1},0,0,0,1,0,"Contratos de prestación de servicios profesionales y de apoyo a la gestión","Contratación directa",{"$f":"IFERROR(VLOOKUP(F275,[1]Tipo!$C$12:$C$27,1,FALSE),\"NO\")","v":"Prestación de servicios profesionales y de apoyo a la gestión, o para la ejecución de trabajos artísticos que sólo puedan encomendarse a determinadas personas naturales;"},"Inversión",45]
[222,2018,"FDL SUBA -SA 01 DE 2018 ","Contratos de prestación de servicios","Selección abreviada","Selección abreviada por menor cuantía ","ADICION AL CONTRATO 222 DE 2018 CON OBJETO: PRESTAR LOS SERVICIOS ESPECIALIZADOS DE VIGILANCIA Y SEGURIDAD PRIVADA PARA LA PROTECCION Y CUSTODIA DE LAS PERSONAS Y LOS BIENES MUEBLES E INMUEBLES SOBRE LOS QUE LEGALMENTE ES O LLEGUE A SER RESPONSABLE LA ALCALDIA LOCAL DE SUBA, CON LOS RECURSOS TECNICOS, TECNOLOGICOS Y EL PERSONAL IDONEO.","Funcionamiento","No aplica",{"$f":"IF(ISERROR(VLOOKUP(I276,[1]Eje_Pilar!$C$2:$E$47,2,FALSE)),\" \",VLOOKUP(I276,[1]Eje_Pilar!$C$2:$E$47,2,FALSE))","v":" "},{"$f":"IF(ISERROR(VLOOKUP(I276,[1]Eje_Pilar!$C$2:$E$47,3,FALSE)),\" \",VLOOKUP(I276,[1]Eje_Pilar!$C$2:$E$47,3,FALSE))","v":" "},"3-1-2-02-02-03-0005-001",800213173,"CUIDAR LIMITADA",0,null,0,1,196150657,196150657,185918291,"2019-04-12","2019-04-12","2019-12-31",null,79,null,null,null,"X",null,94.783414872783226,{"$f":"IF(SUMPRODUCT((A$14:A276=A276)*(B$14:B276=B276)*(C$14:C276=C276))>1,0,1)","v":1},0,0,0,1,0,{"$f":"IFERROR(VLOOKUP(D276,tipo,1,FALSE),\"NO\")","v":"Contratos de prestación de servicios"},{"$f":"IFERROR(VLOOKUP(E276,modal,1,FALSE),\"NO\")","v":"Selección abreviada"},{"$f":"IFERROR(VLOOKUP(F276,[1]Tipo!$C$12:$C$27,1,FALSE),\"NO\")","v":"Selección abreviada por menor cuantía "},{"$f":"IFERROR(VLOOKUP(H276,afectacion,1,FALSE),\"NO\")","v":"Funcionamiento"},{"$f":"IFERROR(VLOOKUP(I276,programa,1,FALSE),\"NO\")","v":"NO"}]
[222,2019,"FDLSUBA-CPS-222-2019","Contratos de prestación de servicios profesionales y de apoyo a la gestión","Contratación directa","Prestación de servicios profesionales y de apoyo a la gestión, o para la ejecución de trabajos artísticos que sólo puedan encomendarse a determinadas personas naturales;","PRESTAR SERVICIOS AL AREA DE GESTION DEL DESARROLLO LOCAL DE LA ALCALDIA LOCAL DE SUBA, ESPECIALMENTE COMO APOYO EN EL ALMACEN.","Inversión",45,{"$f":"IF(ISERROR(VLOOKUP(I277,[1]Eje_Pilar!$C$2:$E$47,2,FALSE)),\" \",VLOOKUP(I277,[1]Eje_Pilar!$C$2:$E$47,2,FALSE))","v":"Gobernanza e influencia local, regional e internacional"},{"$f":"IF(ISERROR(VLOOKUP(I277,[1]Eje_Pilar!$C$2:$E$47,3,FALSE)),\" \",VLOOKUP(I277,[1]Eje_Pilar!$C$2:$E$47,3,FALSE))","v":"Eje Transversal 4 Gobierno Legitimo, Fortalecimiento Local y Eficiencia"},"3-3-1-15-07-45-1478-000",51745862,"MARIA EULALIA ARIAS ZUBIETA",28500000,null,0,1,1600000,30100000,24500000,"2019-03-22","2019-03-22","2020-01-21",285,21,null,null,null,"X",null,81.395348837209298,{"$f":"IF(SUMPRODUCT((A$14:A277=A277)*(B$14:B277=B277)*(C$14:C277=C277))>1,0,1)","v":1},0,0,0,1,0,"Contratos de prestación de servicios profesionales y de apoyo a la gestión","Contratación directa",{"$f":"IFERROR(VLOOKUP(F277,[1]Tipo!$C$12:$C$27,1,FALSE),\"NO\")","v":"Prestación de servicios profesionales y de apoyo a la gestión, o para la ejecución de trabajos artísticos que sólo puedan encomendarse a determinadas personas naturales;"},"Inversión",45]
[223,2019,"FDLSUBA-CPS-223-2019","Contratos de prestación de servicios profesionales y de apoyo a la gestión","Contratación directa","Prestación de servicios profesionales y de apoyo a la gestión, o para la ejecución de trabajos artísticos que sólo puedan encomendarse a determinadas personas naturales;","PRESTAR LOS SERVICIOS PROFESIONALES EN EL AREA GESTION DEL DESARROLLO, PARA EL APOYO A LA EJECUCION INTEGRAL DE LOS DIFERENTES PROYECTOS DE INVERSION DESTINADOS A LA INTERVENCION DE LA MALLA VIAL, ESPACIO PUBLICO Y PARQUES DE LA LOCALIDAD DE SUBA.","Inversión",18,{"$f":"IF(ISERROR(VLOOKUP(I278,[1]Eje_Pilar!$C$2:$E$47,2,FALSE)),\" \",VLOOKUP(I278,[1]Eje_Pilar!$C$2:$E$47,2,FALSE))","v":"Mejor movilidad para todos"},{"$f":"IF(ISERROR(VLOOKUP(I278,[1]Eje_Pilar!$C$2:$E$47,3,FALSE)),\" \",VLOOKUP(I278,[1]Eje_Pilar!$C$2:$E$47,3,FALSE))","v":"Pilar 2 Democracía Urbana"},"3-3-1-15-02-18-1506-000",1098672831,"DIEGO FELIPE JIMENEZ ZAPATA",59850000,null,0,1,4410000,64260000,52500000,"2019-03-21","2019-03-21","2020-01-21",285,21,null,null,null,"X",null,81.699346405228752,{"$f":"IF(SUMPRODUCT((A$14:A278=A278)*(B$14:B278=B278)*(C$14:C278=C278))>1,0,1)","v":1},0,0,0,1,0,"Contratos de prestación de servicios profesionales y de apoyo a la gestión","Contratación directa",{"$f":"IFERROR(VLOOKUP(F278,[1]Tipo!$C$12:$C$27,1,FALSE),\"NO\")","v":"Prestación de servicios profesionales y de apoyo a la gestión, o para la ejecución de trabajos artísticos que sólo puedan encomendarse a determinadas personas naturales;"},"Inversión",18]
[225,2019,"FDLSUBA-CPS-225-2019","Contratos de prestación de servicios profesionales y de apoyo a la gestión","Contratación directa","Prestación de servicios profesionales y de apoyo a la gestión, o para la ejecución de trabajos artísticos que sólo puedan encomendarse a determinadas personas naturales;","PRESTAR SERVICIOS PROFESIONALES AL AREA DE GESTION DEL DESARROLLO LOCAL DE LA ALCALDIA LOCAL DE SUBA, PARA APOYAR LA SUPERVISION DE CONTRATOS DE LOS PROYECTOS QUE LE SEAN ASIGNADOS.","Inversión",45,{"$f":"IF(ISERROR(VLOOKUP(I279,[1]Eje_Pilar!$C$2:$E$47,2,FALSE)),\" \",VLOOKUP(I279,[1]Eje_Pilar!$C$2:$E$47,2,FALSE))","v":"Gobernanza e influencia local, regional e internacional"},{"$f":"IF(ISERROR(VLOOKUP(I279,[1]Eje_Pilar!$C$2:$E$47,3,FALSE)),\" \",VLOOKUP(I279,[1]Eje_Pilar!$C$2:$E$47,3,FALSE))","v":"Eje Transversal 4 Gobierno Legitimo, Fortalecimiento Local y Eficiencia"},"3-3-1-15-07-45-1478-000",12435682,"FAISAL  URRUTIA JALILIE",59850000,null,0,1,4410000,64260000,50820000,"2019-03-28","2019-03-28","2020-01-21",278,21,null,null,null,"X",null,79.084967320261441,{"$f":"IF(SUMPRODUCT((A$14:A279=A279)*(B$14:B279=B279)*(C$14:C279=C279))>1,0,1)","v":1},0,0,0,1,0,"Contratos de prestación de servicios profesionales y de apoyo a la gestión","Contratación directa",{"$f":"IFERROR(VLOOKUP(F279,[1]Tipo!$C$12:$C$27,1,FALSE),\"NO\")","v":"Prestación de servicios profesionales y de apoyo a la gestión, o para la ejecución de trabajos artísticos que sólo puedan encomendarse a determinadas personas naturales;"},"Inversión",45]
[226,2019,"FDLSUBA-CPS-226-2019","Contratos de prestación de servicios profesionales y de apoyo a la gestión","Contratación directa","Prestación de servicios profesionales y de apoyo a la gestión, o para la ejecución de trabajos artísticos que sólo puedan encomendarse a determinadas personas naturales;","PRESTAR LOS SERVICIOS PROFESIONALES PARA LA OPERACION, PRESTACION Y SEGUIMIENTO Y CUMPLIMIENTO DE LOS PROCEDIMIENTOS ADMINISTRATIVOS, OPERATIVOS Y PROGRAMATICOS DE LOS SERVICIOS SOCIALES DEL PROYECTO DE SUBSIDIO/APOYO ECONOMICO TIPO C, QUE CONTRIBUYAN A LA GARANTIA DE LOS DERECHOS DE LA POBLACION MAYOR EN EL MARCO DE LA POLITICA PUBLICA SOCIAL PARA EL ENVEJECIMIENTO Y LA VEJEZ EN EL DISTRITO CAPITAL A CARGO DE LA ALCALDIA LOCAL DE SUBA.","Inversión",3,{"$f":"IF(ISERROR(VLOOKUP(I280,[1]Eje_Pilar!$C$2:$E$47,2,FALSE)),\" \",VLOOKUP(I280,[1]Eje_Pilar!$C$2:$E$47,2,FALSE))","v":"Igualdad y autonomía para una Bogotá incluyente"},{"$f":"IF(ISERROR(VLOOKUP(I280,[1]Eje_Pilar!$C$2:$E$47,3,FALSE)),\" \",VLOOKUP(I280,[1]Eje_Pilar!$C$2:$E$47,3,FALSE))","v":"Pilar 1 Igualdad de Calidad de Vida"},"3-3-1-15-01-03-1427-000",517633774,"YESENIA CECILIA ECHAVARRIA ZULETA",43700000,null,0,null,null,43700000,37566666,"2019-03-22","2019-03-22","2019-12-31",284,null,null,null,null,"X",null,85.964910755148736,{"$f":"IF(SUMPRODUCT((A$14:A280=A280)*(B$14:B280=B280)*(C$14:C280=C280))>1,0,1)","v":1},0,0,0,1,0,"Contratos de prestación de servicios profesionales y de apoyo a la gestión","Contratación directa",{"$f":"IFERROR(VLOOKUP(F280,[1]Tipo!$C$12:$C$27,1,FALSE),\"NO\")","v":"Prestación de servicios profesionales y de apoyo a la gestión, o para la ejecución de trabajos artísticos que sólo puedan encomendarse a determinadas personas naturales;"},"Inversión",3]
[null,2019,null,"Otros gastos",null,null,"RESOLUCION NO. 032 DEL 6 DE FEBRERO DE 2019. \"POR LA CUAL SE ORDENAEXPEDIR CERTIFICADOS DE DISPONIBILIDAD PRESUPUESTAL, CERTIFICADOS DE REGISTRO PRESUPUESTAL Y EL PAGO DE LAS OBLIGACIONES CONTRAIDAS MEDIANTE ALGUNOS CONTRATOS CON CARGO AL PRESUPUESTO DE LA VIGENCIA 2019\". CONTRATO NO. 226 DE 2018. DORA ALIX HERNANDEZ CEBALLOS C.C. 52.152.211.","Inversión",45,{"$f":"IF(ISERROR(VLOOKUP(I281,[1]Eje_Pilar!$C$2:$E$47,2,FALSE)),\" \",VLOOKUP(I281,[1]Eje_Pilar!$C$2:$E$47,2,FALSE))","v":"Gobernanza e influencia local, regional e internacional"},{"$f":"IF(ISERROR(VLOOKUP(I281,[1]Eje_Pilar!$C$2:$E$47,3,FALSE)),\" \",VLOOKUP(I281,[1]Eje_Pilar!$C$2:$E$47,3,FALSE))","v":"Eje Transversal 4 Gobierno Legitimo, Fortalecimiento Local y Eficiencia"},"3-3-1-15-07-45-1481-000",52152211,"DORA ALIX HERNANDEZ CEBALLOS",3150000,null,0,null,null,3150000,3150000,"2019-02-12","2019-02-12","2019-12-31",null,null,null,null,null,"X",null,100,{"$f":"IF(SUMPRODUCT((A$14:A281=A281)*(B$14:B281=B281)*(C$14:C281=C281))>1,0,1)","v":0},0,0,0,0,0,"Otros gastos","NO",{"$f":"IFERROR(VLOOKUP(F281,[1]Tipo!$C$12:$C$27,1,FALSE),\"NO\")","v":"NO"},"Inversión",45]
[227,2019,"FDLSUBA-CPS-227-2019","Contratos de prestación de servicios profesionales y de apoyo a la gestión","Contratación directa","Prestación de servicios profesionales y de apoyo a la gestión, o para la ejecución de trabajos artísticos que sólo puedan encomendarse a determinadas personas naturales;","APOYAR JURIDICAMENTE LA EJECUCION DE LAS ACCIONES REQUERIDAS PARA LA DEPURACION DE LAS ACTUACIONES ADMINISTRATIVAS QUE CURSAN EN LA ALCALDIA LOCAL.","Inversión",45,{"$f":"IF(ISERROR(VLOOKUP(I282,[1]Eje_Pilar!$C$2:$E$47,2,FALSE)),\" \",VLOOKUP(I282,[1]Eje_Pilar!$C$2:$E$47,2,FALSE))","v":"Gobernanza e influencia local, regional e internacional"},{"$f":"IF(ISERROR(VLOOKUP(I282,[1]Eje_Pilar!$C$2:$E$47,3,FALSE)),\" \",VLOOKUP(I282,[1]Eje_Pilar!$C$2:$E$47,3,FALSE))","v":"Eje Transversal 4 Gobierno Legitimo, Fortalecimiento Local y Eficiencia"},"3-3-1-15-07-45-1478-000",80901733,"DIDIER ANDRES DUCUARA MORA",43700000,null,0,1,2453333,46153333,37566666,"2019-03-21","2019-03-21","2020-01-21",285,21,null,null,null,"X",null,81.395347980610637,{"$f":"IF(SUMPRODUCT((A$14:A282=A282)*(B$14:B282=B282)*(C$14:C282=C282))>1,0,1)","v":1},0,0,0,1,0,"Contratos de prestación de servicios profesionales y de apoyo a la gestión","Contratación directa",{"$f":"IFERROR(VLOOKUP(F282,[1]Tipo!$C$12:$C$27,1,FALSE),\"NO\")","v":"Prestación de servicios profesionales y de apoyo a la gestión, o para la ejecución de trabajos artísticos que sólo puedan encomendarse a determinadas personas naturales;"},"Inversión",45]
[null,2019,null,"Otros gastos",null,null,"RESOLUCION NO. 032 DEL 6 DE FEBRERO DE 2019. \"POR LA CUAL SE ORDENAEXPEDIR CERTIFICADOS DE DISPONIBILIDAD PRESUPUESTAL, CERTIFICADOS DE REGISTRO PRESUPUESTAL Y EL PAGO DE LAS OBLIGACIONES CONTRAIDAS MEDIANTE ALGUNOS CONTRATOS CON CARGO AL PRESUPUESTO DE LA VIGENCIA 2019\". CONTRATO NO. 227 DE 2018. ANDRES MAURICIO BARRERA HERNANDEZ C.C. 86.058.835.","Inversión",45,{"$f":"IF(ISERROR(VLOOKUP(I283,[1]Eje_Pilar!$C$2:$E$47,2,FALSE)),\" \",VLOOKUP(I283,[1]Eje_Pilar!$C$2:$E$47,2,FALSE))","v":"Gobernanza e influencia local, regional e internacional"},{"$f":"IF(ISERROR(VLOOKUP(I283,[1]Eje_Pilar!$C$2:$E$47,3,FALSE)),\" \",VLOOKUP(I283,[1]Eje_Pilar!$C$2:$E$47,3,FALSE))","v":"Eje Transversal 4 Gobierno Legitimo, Fortalecimiento Local y Eficiencia"},"3-3-1-15-07-45-1481-000",86058835,"ANDRES MAURICIO BARRERA HERNANDEZ",3150000,null,0,null,null,3150000,3150000,"2019-02-12","2019-02-12","2019-12-31",null,null,null,null,null,"X",null,100,{"$f":"IF(SUMPRODUCT((A$14:A283=A283)*(B$14:B283=B283)*(C$14:C283=C283))>1,0,1)","v":0},0,0,0,0,0,"Otros gastos","NO",{"$f":"IFERROR(VLOOKUP(F283,[1]Tipo!$C$12:$C$27,1,FALSE),\"NO\")","v":"NO"},"Inversión",45]
[228,2019,"FDLSUBA-CPS-228-2019","Contratos de prestación de servicios profesionales y de apoyo a la gestión","Contratación directa","Prestación de servicios profesionales y de apoyo a la gestión, o para la ejecución de trabajos artísticos que sólo puedan encomendarse a determinadas personas naturales;","PRESTAR SERVICIOS PROFESIONALES AL AREA DE GESTION DEL DESARROLLO LOCAL Y APOYAR EN LA ATENCION DE ACTIVIDADES AMBIENTALES ESPECIALMENTE EN LA OFICINA DE INFRAESTRUCTURA DE LA ALCALDIA LOCAL DE SUBA PARA LOGRAR CON EL CUMPLIMIENTO DE LAS METAS DEL PLAN DE DESARROLLO LOCAL DE LA VIGENCIA.","Inversión",18,{"$f":"IF(ISERROR(VLOOKUP(I284,[1]Eje_Pilar!$C$2:$E$47,2,FALSE)),\" \",VLOOKUP(I284,[1]Eje_Pilar!$C$2:$E$47,2,FALSE))","v":"Mejor movilidad para todos"},{"$f":"IF(ISERROR(VLOOKUP(I284,[1]Eje_Pilar!$C$2:$E$47,3,FALSE)),\" \",VLOOKUP(I284,[1]Eje_Pilar!$C$2:$E$47,3,FALSE))","v":"Pilar 2 Democracía Urbana"},"3-3-1-15-02-18-1506-000",53081880,"KALINA MARILIN LOPEZ BLANCO",59850000,null,0,1,3150000,63000000,51240000,"2019-03-27","2019-03-27","2020-01-21",279,21,null,null,null,"X",null,81.333333333333329,{"$f":"IF(SUMPRODUCT((A$14:A284=A284)*(B$14:B284=B284)*(C$14:C284=C284))>1,0,1)","v":1},0,0,0,1,0,"Contratos de prestación de servicios profesionales y de apoyo a la gestión","Contratación directa",{"$f":"IFERROR(VLOOKUP(F284,[1]Tipo!$C$12:$C$27,1,FALSE),\"NO\")","v":"Prestación de servicios profesionales y de apoyo a la gestión, o para la ejecución de trabajos artísticos que sólo puedan encomendarse a determinadas personas naturales;"},"Inversión",18]
[null,2019,null,"Otros gastos",null,null,"RESOLUCION NO. 032 DEL 6 DE FEBRERO DE 2019. \"POR LA CUAL SE ORDENAEXPEDIR CERTIFICADOS DE DISPONIBILIDAD PRESUPUESTAL, CERTIFICADOS DE REGISTRO PRESUPUESTAL Y EL PAGO DE LAS OBLIGACIONES CONTRAIDAS MEDIANTE ALGUNOS CONTRATOS CON CARGO AL PRESUPUESTO DE LA VIGENCIA 2019\". CONTRATO 228 DE 2018. DORA ELISA LAVERDE GONZALEZ C.C. 41.668.119.","Inversión",45,{"$f":"IF(ISERROR(VLOOKUP(I285,[1]Eje_Pilar!$C$2:$E$47,2,FALSE)),\" \",VLOOKUP(I285,[1]Eje_Pilar!$C$2:$E$47,2,FALSE))","v":"Gobernanza e influencia local, regional e internacional"},{"$f":"IF(ISERROR(VLOOKUP(I285,[1]Eje_Pilar!$C$2:$E$47,3,FALSE)),\" \",VLOOKUP(I285,[1]Eje_Pilar!$C$2:$E$47,3,FALSE))","v":"Eje Transversal 4 Gobierno Legitimo, Fortalecimiento Local y Eficiencia"},"3-3-1-15-07-45-1481-000",41668119,"DORA ELISA LAVERDE GONZALEZ",6300000,null,0,null,null,6300000,0,"2019-02-12","2019-02-12","2019-12-31",null,null,null,null,null,"X",null,0,{"$f":"IF(SUMPRODUCT((A$14:A285=A285)*(B$14:B285=B285)*(C$14:C285=C285))>1,0,1)","v":0},0,0,0,0,0,"Otros gastos","NO",{"$f":"IFERROR(VLOOKUP(F285,[1]Tipo!$C$12:$C$27,1,FALSE),\"NO\")","v":"NO"},"Inversión",45]
[null,2019,null,"Otros gastos",null,null,"PAGO ARL CONTRATISTAS DEL FONDO DE DESARROLLO  LOCAL DE SUBA VIGENCIA 2019, SEGUN RESOLUCION No. 229 DEL 06 DE MAYO DE 2019 DE LA ALCALDIA LOCAL DE SUBA.","Inversión",18,{"$f":"IF(ISERROR(VLOOKUP(I286,[1]Eje_Pilar!$C$2:$E$47,2,FALSE)),\" \",VLOOKUP(I286,[1]Eje_Pilar!$C$2:$E$47,2,FALSE))","v":"Mejor movilidad para todos"},{"$f":"IF(ISERROR(VLOOKUP(I286,[1]Eje_Pilar!$C$2:$E$47,3,FALSE)),\" \",VLOOKUP(I286,[1]Eje_Pilar!$C$2:$E$47,3,FALSE))","v":"Pilar 2 Democracía Urbana"},"3-3-1-15-02-18-1506-000",null,"POSITIVA COMPAÑIA DE SEGUROS SA",1096200,null,0,null,null,1096200,1096200,"2019-05-22","2019-05-22","2019-12-31",null,null,null,null,null,"X",null,100,{"$f":"IF(SUMPRODUCT((A$14:A286=A286)*(B$14:B286=B286)*(C$14:C286=C286))>1,0,1)","v":0},0,0,0,0,0,"Otros gastos","NO",{"$f":"IFERROR(VLOOKUP(F286,[1]Tipo!$C$12:$C$27,1,FALSE),\"NO\")","v":"NO"},"Inversión",18]
[null,2019,null,"Otros gastos",null,null,"PAGO ARL CONTRATISTAS DEL FONDO DE DESARROLLO  LOCAL DE SUBA VIGENCIA 2019, SEGUN RESOLUCION No. 229 DEL 06 DE MAYO DE 2019 DE LA ALCALDIA LOCAL DE SUBA.","Inversión",19,{"$f":"IF(ISERROR(VLOOKUP(I287,[1]Eje_Pilar!$C$2:$E$47,2,FALSE)),\" \",VLOOKUP(I287,[1]Eje_Pilar!$C$2:$E$47,2,FALSE))","v":"Seguridad y convivencia para todos"},{"$f":"IF(ISERROR(VLOOKUP(I287,[1]Eje_Pilar!$C$2:$E$47,3,FALSE)),\" \",VLOOKUP(I287,[1]Eje_Pilar!$C$2:$E$47,3,FALSE))","v":"Pilar 3 Construcción de Comunidad y Cultura Ciudadana"},"3-3-1-15-03-19-1469-000",null,"POSITIVA COMPAÑIA DE SEGUROS SA",2767500,null,0,null,null,2767500,2767500,"2019-05-22","2019-05-22","2019-12-31",null,null,null,null,null,"X",null,100,{"$f":"IF(SUMPRODUCT((A$14:A287=A287)*(B$14:B287=B287)*(C$14:C287=C287))>1,0,1)","v":0},0,0,0,0,0,"Otros gastos","NO",{"$f":"IFERROR(VLOOKUP(F287,[1]Tipo!$C$12:$C$27,1,FALSE),\"NO\")","v":"NO"},"Inversión",19]
[null,2019,null,"Otros gastos",null,null,"PAGO ARL CONTRATISTAS DEL FONDO DE DESARROLLO  LOCAL DE SUBA VIGENCIA 2019, SEGUN RESOLUCION No. 229 DEL 06 DE MAYO DE 2019 DE LA ALCALDIA LOCAL DE SUBA.","Inversión",45,{"$f":"IF(ISERROR(VLOOKUP(I288,[1]Eje_Pilar!$C$2:$E$47,2,FALSE)),\" \",VLOOKUP(I288,[1]Eje_Pilar!$C$2:$E$47,2,FALSE))","v":"Gobernanza e influencia local, regional e internacional"},{"$f":"IF(ISERROR(VLOOKUP(I288,[1]Eje_Pilar!$C$2:$E$47,3,FALSE)),\" \",VLOOKUP(I288,[1]Eje_Pilar!$C$2:$E$47,3,FALSE))","v":"Eje Transversal 4 Gobierno Legitimo, Fortalecimiento Local y Eficiencia"},"3-3-1-15-07-45-1478-000",null,"POSITIVA COMPAÑIA DE SEGUROS SA",576900,null,0,null,null,576900,576900,"2019-05-22","2019-05-22","2019-12-31",null,null,null,null,null,"X",null,100,{"$f":"IF(SUMPRODUCT((A$14:A288=A288)*(B$14:B288=B288)*(C$14:C288=C288))>1,0,1)","v":0},0,0,0,0,0,"Otros gastos","NO",{"$f":"IFERROR(VLOOKUP(F288,[1]Tipo!$C$12:$C$27,1,FALSE),\"NO\")","v":"NO"},"Inversión",45]
[null,2019,null,"Otros gastos",null,null,"RESOLUCION NO. 032 DEL 6 DE FEBRERO DE 2019. \"POR LA CUAL SE ORDENAEXPEDIR CERTIFICADOS DE DISPONIBILIDAD PRESUPUESTAL, CERTIFICADOS DE REGISTRO PRESUPUESTAL Y EL PAGO DE LAS OBLIGACIONES CONTRAIDAS MEDIANTE ALGUNOS CONTRATOS CON CARGO AL PRESUPUESTO DE LA VIGENCIA 2019\". CONTRATO NO. 229 DE 2018. JULIO DANIEL GONZALEZ ASCENCIO C.C. 1.026.552.471.","Inversión",45,{"$f":"IF(ISERROR(VLOOKUP(I289,[1]Eje_Pilar!$C$2:$E$47,2,FALSE)),\" \",VLOOKUP(I289,[1]Eje_Pilar!$C$2:$E$47,2,FALSE))","v":"Gobernanza e influencia local, regional e internacional"},{"$f":"IF(ISERROR(VLOOKUP(I289,[1]Eje_Pilar!$C$2:$E$47,3,FALSE)),\" \",VLOOKUP(I289,[1]Eje_Pilar!$C$2:$E$47,3,FALSE))","v":"Eje Transversal 4 Gobierno Legitimo, Fortalecimiento Local y Eficiencia"},"3-3-1-15-07-45-1481-000",null,"JULIO DANIEL GONZALEZ ASCENCIO",2200000,null,0,null,null,2200000,2200000,"2019-02-12","2019-02-12","2019-12-31",null,null,null,null,null,"X",null,100,{"$f":"IF(SUMPRODUCT((A$14:A289=A289)*(B$14:B289=B289)*(C$14:C289=C289))>1,0,1)","v":0},0,0,0,0,0,"Otros gastos","NO",{"$f":"IFERROR(VLOOKUP(F289,[1]Tipo!$C$12:$C$27,1,FALSE),\"NO\")","v":"NO"},"Inversión",45]
[null,2019,null,"Otros gastos",null,null,"PAGO ARL CONTRATISTAS DEL FONDO DE DESARROLLO LOCAL DE SUB AVIGENCIA 2019, SEGUN RESOLUCION No. 229 DEL 06 DE MAYO DE 2019 DE LA ALCALDIA LOCAL DE SUBA.","Inversión",45,{"$f":"IF(ISERROR(VLOOKUP(I290,[1]Eje_Pilar!$C$2:$E$47,2,FALSE)),\" \",VLOOKUP(I290,[1]Eje_Pilar!$C$2:$E$47,2,FALSE))","v":"Gobernanza e influencia local, regional e internacional"},{"$f":"IF(ISERROR(VLOOKUP(I290,[1]Eje_Pilar!$C$2:$E$47,3,FALSE)),\" \",VLOOKUP(I290,[1]Eje_Pilar!$C$2:$E$47,3,FALSE))","v":"Eje Transversal 4 Gobierno Legitimo, Fortalecimiento Local y Eficiencia"},"3-3-1-15-07-45-1481-000",null,"POSITIVA COMPAÑIA DE SEGUROS SA",1096200,null,0,null,null,1096200,1096200,"2019-05-14","2019-05-14","2019-12-31",null,null,null,null,null,"X",null,100,{"$f":"IF(SUMPRODUCT((A$14:A290=A290)*(B$14:B290=B290)*(C$14:C290=C290))>1,0,1)","v":0},0,0,0,0,0,"Otros gastos","NO",{"$f":"IFERROR(VLOOKUP(F290,[1]Tipo!$C$12:$C$27,1,FALSE),\"NO\")","v":"NO"},"Inversión",45]
[229,2019,"FDLSUBA-CPS-229-2019","Contratos de prestación de servicios profesionales y de apoyo a la gestión","Contratación directa","Prestación de servicios profesionales y de apoyo a la gestión, o para la ejecución de trabajos artísticos que sólo puedan encomendarse a determinadas personas naturales;","PRESTAR SEVICIOS PROFESIONALES EN MATERIA SOCIAL PARA IMPULSAR LOS PROCESOS  DE PARTICIPACION CIUDADANA Y FOMENTAR LAS ACTIVIDADES INSTITUCIONALES PARA EL CUMPLIMIENTO DE LAS METAS DE PLAN DE DESARROLLO LOCAL.","Inversión",45,{"$f":"IF(ISERROR(VLOOKUP(I291,[1]Eje_Pilar!$C$2:$E$47,2,FALSE)),\" \",VLOOKUP(I291,[1]Eje_Pilar!$C$2:$E$47,2,FALSE))","v":"Gobernanza e influencia local, regional e internacional"},{"$f":"IF(ISERROR(VLOOKUP(I291,[1]Eje_Pilar!$C$2:$E$47,3,FALSE)),\" \",VLOOKUP(I291,[1]Eje_Pilar!$C$2:$E$47,3,FALSE))","v":"Eje Transversal 4 Gobierno Legitimo, Fortalecimiento Local y Eficiencia"},"3-3-1-15-07-45-1483-000",1010197375,"ANDREA CAROLINA BUSTILLO PUERTA",43700000,null,0,null,null,43700000,36033333,"2019-03-22","2019-03-22","2019-12-31",284,null,null,null,null,"X",null,82.456139588100683,{"$f":"IF(SUMPRODUCT((A$14:A291=A291)*(B$14:B291=B291)*(C$14:C291=C291))>1,0,1)","v":1},0,0,0,1,0,"Contratos de prestación de servicios profesionales y de apoyo a la gestión","Contratación directa",{"$f":"IFERROR(VLOOKUP(F291,[1]Tipo!$C$12:$C$27,1,FALSE),\"NO\")","v":"Prestación de servicios profesionales y de apoyo a la gestión, o para la ejecución de trabajos artísticos que sólo puedan encomendarse a determinadas personas naturales;"},"Inversión",45]
[230,2019,"FDLSUBA-CPS-230-2019","Contratos de prestación de servicios profesionales y de apoyo a la gestión","Contratación directa","Prestación de servicios profesionales y de apoyo a la gestión, o para la ejecución de trabajos artísticos que sólo puedan encomendarse a determinadas personas naturales;","PRESTAR SEVICIOS PROFESIONALES EN MATERIA SOCIAL PARA IMPULSAR LOS PROCESOS  DE PARTICIPACION CIUDADANA Y FOMENTAR LAS ACTIVIDADES INSTITUCIONALES PARA EL CUMPLIMIENTO DE LAS METAS DE PLAN DE DESARROLLO LOCAL.","Inversión",45,{"$f":"IF(ISERROR(VLOOKUP(I292,[1]Eje_Pilar!$C$2:$E$47,2,FALSE)),\" \",VLOOKUP(I292,[1]Eje_Pilar!$C$2:$E$47,2,FALSE))","v":"Gobernanza e influencia local, regional e internacional"},{"$f":"IF(ISERROR(VLOOKUP(I292,[1]Eje_Pilar!$C$2:$E$47,3,FALSE)),\" \",VLOOKUP(I292,[1]Eje_Pilar!$C$2:$E$47,3,FALSE))","v":"Eje Transversal 4 Gobierno Legitimo, Fortalecimiento Local y Eficiencia"},"3-3-1-15-07-45-1483-000",52844099,"DORA ELBA GUTIERREZ GUTIERREZ",43700000,null,0,null,null,43700000,37260000,"2019-03-27","2019-03-27","2019-12-31",279,null,null,null,null,"X",null,85.263157894736835,{"$f":"IF(SUMPRODUCT((A$14:A292=A292)*(B$14:B292=B292)*(C$14:C292=C292))>1,0,1)","v":1},0,0,0,1,0,"Contratos de prestación de servicios profesionales y de apoyo a la gestión","Contratación directa",{"$f":"IFERROR(VLOOKUP(F292,[1]Tipo!$C$12:$C$27,1,FALSE),\"NO\")","v":"Prestación de servicios profesionales y de apoyo a la gestión, o para la ejecución de trabajos artísticos que sólo puedan encomendarse a determinadas personas naturales;"},"Inversión",45]
[null,2019,null,"Otros gastos",null,null,"RESOLUCION NO. 032 DEL 6 DE FEBRERO DE 2019. \"POR LA CUAL SE ORDENAEXPEDIR CERTIFICADOS DE DISPONIBILIDAD PRESUPUESTAL, CERTIFICADOS DE REGISTRO PRESUPUESTAL Y EL PAGO DE LAS OBLIGACIONES CONTRAIDAS MEDIANTE ALGUNOS CONTRATOS CON CARGO AL PRESUPUESTO DE LA VIGENCIA 2019\". CONTRATO NO. 231 DE 2018 DIEGO FERNANDO PULIDO CHICA C.C. 1.032.418.847.","Inversión",45,{"$f":"IF(ISERROR(VLOOKUP(I293,[1]Eje_Pilar!$C$2:$E$47,2,FALSE)),\" \",VLOOKUP(I293,[1]Eje_Pilar!$C$2:$E$47,2,FALSE))","v":"Gobernanza e influencia local, regional e internacional"},{"$f":"IF(ISERROR(VLOOKUP(I293,[1]Eje_Pilar!$C$2:$E$47,3,FALSE)),\" \",VLOOKUP(I293,[1]Eje_Pilar!$C$2:$E$47,3,FALSE))","v":"Eje Transversal 4 Gobierno Legitimo, Fortalecimiento Local y Eficiencia"},"3-3-1-15-07-45-1481-000",null,"DIEGO FERNANDO PULIDO CHICA",2200000,null,0,null,null,2200000,2200000,"2019-02-12","2019-02-12","2019-12-31",null,null,null,null,null,"X",null,100,{"$f":"IF(SUMPRODUCT((A$14:A293=A293)*(B$14:B293=B293)*(C$14:C293=C293))>1,0,1)","v":0},0,0,0,0,0,"Otros gastos","NO",{"$f":"IFERROR(VLOOKUP(F293,[1]Tipo!$C$12:$C$27,1,FALSE),\"NO\")","v":"NO"},"Inversión",45]
[231,2019,"FDLSUBA-CPS-231-2019","Contratos de prestación de servicios profesionales y de apoyo a la gestión","Contratación directa","Prestación de servicios profesionales y de apoyo a la gestión, o para la ejecución de trabajos artísticos que sólo puedan encomendarse a determinadas personas naturales;","PRESTAR LOS SERVICIOS JURIDICOS EN LA ALCALDIA LOCAL DE SUBA, ESPECIALMENTE EN TODO LO RELACIONADO CON LA GESTION DE MULTAS IMPUESTAS DENTRO DE LAS ACTUACIONES ADMINISTRATIVAS QUE SURJAN EN LA LOCALIDAD.","Inversión",45,{"$f":"IF(ISERROR(VLOOKUP(I294,[1]Eje_Pilar!$C$2:$E$47,2,FALSE)),\" \",VLOOKUP(I294,[1]Eje_Pilar!$C$2:$E$47,2,FALSE))","v":"Gobernanza e influencia local, regional e internacional"},{"$f":"IF(ISERROR(VLOOKUP(I294,[1]Eje_Pilar!$C$2:$E$47,3,FALSE)),\" \",VLOOKUP(I294,[1]Eje_Pilar!$C$2:$E$47,3,FALSE))","v":"Eje Transversal 4 Gobierno Legitimo, Fortalecimiento Local y Eficiencia"},"3-3-1-15-07-45-1481-000",49744172,"LEYDA MARGARITA AMAYA ARIAS",43700000,null,0,null,null,43700000,35420000,"2019-04-09","2019-04-09","2019-12-31",266,null,null,null,null,"X",null,81.05263157894737,{"$f":"IF(SUMPRODUCT((A$14:A294=A294)*(B$14:B294=B294)*(C$14:C294=C294))>1,0,1)","v":1},0,0,0,1,0,"Contratos de prestación de servicios profesionales y de apoyo a la gestión","Contratación directa",{"$f":"IFERROR(VLOOKUP(F294,[1]Tipo!$C$12:$C$27,1,FALSE),\"NO\")","v":"Prestación de servicios profesionales y de apoyo a la gestión, o para la ejecución de trabajos artísticos que sólo puedan encomendarse a determinadas personas naturales;"},"Inversión",45]
[null,2019,null,"Otros gastos",null,null,"RESOLUCION NO. 032 DEL 6 DE FEBRERO DE 2019. \"POR LA CUAL SE ORDENAEXPEDIR CERTIFICADOS DE DISPONIBILIDAD PRESUPUESTAL, CERTIFICADOS DE REGISTRO PRESUPUESTAL Y EL PAGO DE LAS OBLIGACIONES CONTRAIDAS MEDIANTE ALGUNOS CONTRATOS CON CARGO AL PRESUPUESTO DE LA VIGENCIA 2019\". CONTRATO NO. 232 DE 2018 NEIDER FARID CASTILLO BORJA C.C. 1.019.131.782.","Inversión",45,{"$f":"IF(ISERROR(VLOOKUP(I295,[1]Eje_Pilar!$C$2:$E$47,2,FALSE)),\" \",VLOOKUP(I295,[1]Eje_Pilar!$C$2:$E$47,2,FALSE))","v":"Gobernanza e influencia local, regional e internacional"},{"$f":"IF(ISERROR(VLOOKUP(I295,[1]Eje_Pilar!$C$2:$E$47,3,FALSE)),\" \",VLOOKUP(I295,[1]Eje_Pilar!$C$2:$E$47,3,FALSE))","v":"Eje Transversal 4 Gobierno Legitimo, Fortalecimiento Local y Eficiencia"},"3-3-1-15-07-45-1481-000",null,"NEIDER FARID CASTILLO BORJA",1050000,null,0,null,null,1050000,1050000,"2019-02-12","2019-02-12","2019-12-31",null,null,null,null,null,"X",null,100,{"$f":"IF(SUMPRODUCT((A$14:A295=A295)*(B$14:B295=B295)*(C$14:C295=C295))>1,0,1)","v":0},0,0,0,0,0,"Otros gastos","NO",{"$f":"IFERROR(VLOOKUP(F295,[1]Tipo!$C$12:$C$27,1,FALSE),\"NO\")","v":"NO"},"Inversión",45]
[232,2019,"FDLSUBA-CPS-232-2019","Contratos de prestación de servicios profesionales y de apoyo a la gestión","Contratación directa","Prestación de servicios profesionales y de apoyo a la gestión, o para la ejecución de trabajos artísticos que sólo puedan encomendarse a determinadas personas naturales;","APOYAR TECNICAMENTE LAS DISTINTAS ETAPAS DE LOS PROCESOS DE COMPETENCIA DE LAS INSPECCIONES DE POLICIA DE LA LOCALIDAD, SEGUN REPARTO.","Inversión",45,{"$f":"IF(ISERROR(VLOOKUP(I296,[1]Eje_Pilar!$C$2:$E$47,2,FALSE)),\" \",VLOOKUP(I296,[1]Eje_Pilar!$C$2:$E$47,2,FALSE))","v":"Gobernanza e influencia local, regional e internacional"},{"$f":"IF(ISERROR(VLOOKUP(I296,[1]Eje_Pilar!$C$2:$E$47,3,FALSE)),\" \",VLOOKUP(I296,[1]Eje_Pilar!$C$2:$E$47,3,FALSE))","v":"Eje Transversal 4 Gobierno Legitimo, Fortalecimiento Local y Eficiencia"},"3-3-1-15-07-45-1481-000",80657559,"VICTOR EDUARDO FONSECA BARRAMTES",59850000,null,0,1,2730000,62580000,50820000,"2019-03-29","2019-03-29","2020-01-21",277,21,null,null,null,"X",null,81.208053691275168,{"$f":"IF(SUMPRODUCT((A$14:A296=A296)*(B$14:B296=B296)*(C$14:C296=C296))>1,0,1)","v":1},0,0,0,1,0,"Contratos de prestación de servicios profesionales y de apoyo a la gestión","Contratación directa",{"$f":"IFERROR(VLOOKUP(F296,[1]Tipo!$C$12:$C$27,1,FALSE),\"NO\")","v":"Prestación de servicios profesionales y de apoyo a la gestión, o para la ejecución de trabajos artísticos que sólo puedan encomendarse a determinadas personas naturales;"},"Inversión",45]
[446,2019,"FDLSUBA-CPS-446-2019","Contratos de prestación de servicios","Contratación directa","Contratos interadministrativos","AUNAR ESFUERZOS ENTRE EL FONDO DE DESARROLLO LOCAL DE SUBA Y LA SECRETARUIA DISTRITAL DE CULTURA, RECREACION Y DEPORTE PARA LA PROMOCION Y FORTALECIMIENTO DE INICIATIVAS DE INTERES CULTURAL Y ARTISTICO EN LA LOCALIDAD DE SUBA A TRAVES DEL PROGRAMA DISTRITAL DE ESTIMULOS.","Inversión",11,{"$f":"IF(ISERROR(VLOOKUP(I297,[1]Eje_Pilar!$C$2:$E$47,2,FALSE)),\" \",VLOOKUP(I297,[1]Eje_Pilar!$C$2:$E$47,2,FALSE))","v":"Mejores oportunidades para el desarrollo a través de la cultura, la recreación y el deporte"},{"$f":"IF(ISERROR(VLOOKUP(I297,[1]Eje_Pilar!$C$2:$E$47,3,FALSE)),\" \",VLOOKUP(I297,[1]Eje_Pilar!$C$2:$E$47,3,FALSE))","v":"Pilar 1 Igualdad de Calidad de Vida"},"3-3-1-15-01-11-1459-000","899999061-9","SECRETARIA DISTRITAL DE CULTURA RECREACION Y DEPORTE",1144512906,null,0,null,null,1144512906,0,"2019-12-31","2019-12-31","2019-12-31",330,null,null,null,"X",null,null,0,{"$f":"IF(SUMPRODUCT((A$14:A297=A297)*(B$14:B297=B297)*(C$14:C297=C297))>1,0,1)","v":1},0,0,1,0,0,"Contratos de prestación de servicios","Contratación directa",{"$f":"IFERROR(VLOOKUP(F297,[1]Tipo!$C$12:$C$27,1,FALSE),\"NO\")","v":"Contratos interadministrativos"},"Inversión",11]
[233,2019,"FDLSUBA-CPS-233-2019","Contratos de prestación de servicios profesionales y de apoyo a la gestión","Contratación directa","Prestación de servicios profesionales y de apoyo a la gestión, o para la ejecución de trabajos artísticos que sólo puedan encomendarse a determinadas personas naturales;","PRESTAR SERVICIOS PROFESIONALES EN EL AREA DE GESTION DEL DESARROLLO LOCAL DE LA ALCALDIA LOCAL DE SUBA, PARA EL APOYO A LA EJECUCION INTEGRAL DE LOS DIFERENTES PROYECTOS DE INVERSION DESTINADOS A LA INTERVENCION DE LA MALLA VIAL, ESPACIO PUBLICO Y PARQUES DE LA LOCALIDAD DE SUBA.","Inversión",18,{"$f":"IF(ISERROR(VLOOKUP(I298,[1]Eje_Pilar!$C$2:$E$47,2,FALSE)),\" \",VLOOKUP(I298,[1]Eje_Pilar!$C$2:$E$47,2,FALSE))","v":"Mejor movilidad para todos"},{"$f":"IF(ISERROR(VLOOKUP(I298,[1]Eje_Pilar!$C$2:$E$47,3,FALSE)),\" \",VLOOKUP(I298,[1]Eje_Pilar!$C$2:$E$47,3,FALSE))","v":"Pilar 2 Democracía Urbana"},"3-3-1-15-02-18-1506-000",79958684,"JAMESSON JESUS SOSA RODRIGUEZ",43700000,null,0,null,null,43700000,37106667,"2019-03-29","2019-03-29","2019-12-31",277,null,null,null,null,"X",null,84.912281464530892,{"$f":"IF(SUMPRODUCT((A$14:A298=A298)*(B$14:B298=B298)*(C$14:C298=C298))>1,0,1)","v":1},0,0,0,1,0,"Contratos de prestación de servicios profesionales y de apoyo a la gestión","Contratación directa",{"$f":"IFERROR(VLOOKUP(F298,[1]Tipo!$C$12:$C$27,1,FALSE),\"NO\")","v":"Prestación de servicios profesionales y de apoyo a la gestión, o para la ejecución de trabajos artísticos que sólo puedan encomendarse a determinadas personas naturales;"},"Inversión",18]
[null,2019,null,"Otros gastos",null,null,"RESOLUCION NO. 032 DEL 6 DE FEBRERO DE 2019. \"POR LA CUAL SE ORDENAEXPEDIR CERTIFICADOS DE DISPONIBILIDAD PRESUPUESTAL, CERTIFICADOS DE REGISTRO PRESUPUESTAL Y EL PAGO DE LAS OBLIGACIONES CONTRAIDAS MEDIANTE ALGUNOS CONTRATOS CON CARGO AL PRESUPUESTO DE LA VIGENCIA 2019\". CONTRATO NO. 234 DE 2018. SAUL TORRES DUEÑAS C.C. 19.489.509.","Inversión",45,{"$f":"IF(ISERROR(VLOOKUP(I299,[1]Eje_Pilar!$C$2:$E$47,2,FALSE)),\" \",VLOOKUP(I299,[1]Eje_Pilar!$C$2:$E$47,2,FALSE))","v":"Gobernanza e influencia local, regional e internacional"},{"$f":"IF(ISERROR(VLOOKUP(I299,[1]Eje_Pilar!$C$2:$E$47,3,FALSE)),\" \",VLOOKUP(I299,[1]Eje_Pilar!$C$2:$E$47,3,FALSE))","v":"Eje Transversal 4 Gobierno Legitimo, Fortalecimiento Local y Eficiencia"},"3-3-1-15-07-45-1481-000",null,"SAUL  TORRES DUEÑAS",3150000,null,0,null,null,3150000,3150000,"2019-02-12","2019-02-12","2019-12-31",null,null,null,null,null,"X",null,100,{"$f":"IF(SUMPRODUCT((A$14:A299=A299)*(B$14:B299=B299)*(C$14:C299=C299))>1,0,1)","v":0},0,0,0,0,0,"Otros gastos","NO",{"$f":"IFERROR(VLOOKUP(F299,[1]Tipo!$C$12:$C$27,1,FALSE),\"NO\")","v":"NO"},"Inversión",45]
[234,2019,"FDLSUBA-CPS-234-2019","Contratos de prestación de servicios profesionales y de apoyo a la gestión","Contratación directa","Prestación de servicios profesionales y de apoyo a la gestión, o para la ejecución de trabajos artísticos que sólo puedan encomendarse a determinadas personas naturales;","APOYAR TECNICAMENTE LAS DISTINTAS ETAPAS DE LOS PROCESOS DE COMPETENCIA DE LAS INSPECCIONES DE POLICIA DE LA LOCALIDAD, SEGUN REPARTO.","Inversión",45,{"$f":"IF(ISERROR(VLOOKUP(I300,[1]Eje_Pilar!$C$2:$E$47,2,FALSE)),\" \",VLOOKUP(I300,[1]Eje_Pilar!$C$2:$E$47,2,FALSE))","v":"Gobernanza e influencia local, regional e internacional"},{"$f":"IF(ISERROR(VLOOKUP(I300,[1]Eje_Pilar!$C$2:$E$47,3,FALSE)),\" \",VLOOKUP(I300,[1]Eje_Pilar!$C$2:$E$47,3,FALSE))","v":"Eje Transversal 4 Gobierno Legitimo, Fortalecimiento Local y Eficiencia"},"3-3-1-15-07-45-1481-000",74323203,"EPIFANIO  MELO VALERO",59850000,null,0,null,2940000,62790000,51030000,"2019-03-28","2019-03-28","2019-12-31",278,21,null,null,null,"X",null,81.27090301003345,{"$f":"IF(SUMPRODUCT((A$14:A300=A300)*(B$14:B300=B300)*(C$14:C300=C300))>1,0,1)","v":1},0,0,0,1,0,"Contratos de prestación de servicios profesionales y de apoyo a la gestión","Contratación directa",{"$f":"IFERROR(VLOOKUP(F300,[1]Tipo!$C$12:$C$27,1,FALSE),\"NO\")","v":"Prestación de servicios profesionales y de apoyo a la gestión, o para la ejecución de trabajos artísticos que sólo puedan encomendarse a determinadas personas naturales;"},"Inversión",45]
[235,2019,"FDLSUBA-CPS-235-2019","Contratos de prestación de servicios profesionales y de apoyo a la gestión","Contratación directa","Prestación de servicios profesionales y de apoyo a la gestión, o para la ejecución de trabajos artísticos que sólo puedan encomendarse a determinadas personas naturales;","PRESTAR LOS SERVICIOS COMO OPERARIO DE VOLQUETA, EN EL AREA GESTION DEL DESARROLLO DE SUBA.","Inversión",18,{"$f":"IF(ISERROR(VLOOKUP(I301,[1]Eje_Pilar!$C$2:$E$47,2,FALSE)),\" \",VLOOKUP(I301,[1]Eje_Pilar!$C$2:$E$47,2,FALSE))","v":"Mejor movilidad para todos"},{"$f":"IF(ISERROR(VLOOKUP(I301,[1]Eje_Pilar!$C$2:$E$47,3,FALSE)),\" \",VLOOKUP(I301,[1]Eje_Pilar!$C$2:$E$47,3,FALSE))","v":"Pilar 2 Democracía Urbana"},"3-3-1-15-02-18-1506-000",80373851,"RICARDO  GARZON SAAVEDRA",20748000,null,0,null,null,20748000,17617600,"2019-03-28","2019-03-28","2019-12-31",278,null,null,null,null,"X",null,84.912280701754383,{"$f":"IF(SUMPRODUCT((A$14:A301=A301)*(B$14:B301=B301)*(C$14:C301=C301))>1,0,1)","v":1},0,0,0,1,0,"Contratos de prestación de servicios profesionales y de apoyo a la gestión","Contratación directa",{"$f":"IFERROR(VLOOKUP(F301,[1]Tipo!$C$12:$C$27,1,FALSE),\"NO\")","v":"Prestación de servicios profesionales y de apoyo a la gestión, o para la ejecución de trabajos artísticos que sólo puedan encomendarse a determinadas personas naturales;"},"Inversión",18]
[236,2019,"FDLSUBA-CPS-236-2019","Contratos de prestación de servicios profesionales y de apoyo a la gestión","Contratación directa","Prestación de servicios profesionales y de apoyo a la gestión, o para la ejecución de trabajos artísticos que sólo puedan encomendarse a determinadas personas naturales;","APOYAR TECNICAMENTE LAS DISTINTAS ETAPAS DE LOS PROCESOS DE COMPETENCIA DE LAS INSPECCIONES DE POLICIA DE LA LOCALIDAD, SEGUN REPARTO.","Inversión",45,{"$f":"IF(ISERROR(VLOOKUP(I302,[1]Eje_Pilar!$C$2:$E$47,2,FALSE)),\" \",VLOOKUP(I302,[1]Eje_Pilar!$C$2:$E$47,2,FALSE))","v":"Gobernanza e influencia local, regional e internacional"},{"$f":"IF(ISERROR(VLOOKUP(I302,[1]Eje_Pilar!$C$2:$E$47,3,FALSE)),\" \",VLOOKUP(I302,[1]Eje_Pilar!$C$2:$E$47,3,FALSE))","v":"Eje Transversal 4 Gobierno Legitimo, Fortalecimiento Local y Eficiencia"},"3-3-1-15-07-45-1481-000",12615388,"HAROLD DE JESUS GONZALEZ MOSCARELLA",59850000,null,0,null,null,59850000,50400000,"2019-03-28","2019-03-28","2019-12-31",278,null,null,null,null,"X",null,84.210526315789465,{"$f":"IF(SUMPRODUCT((A$14:A302=A302)*(B$14:B302=B302)*(C$14:C302=C302))>1,0,1)","v":1},0,0,0,1,0,"Contratos de prestación de servicios profesionales y de apoyo a la gestión","Contratación directa",{"$f":"IFERROR(VLOOKUP(F302,[1]Tipo!$C$12:$C$27,1,FALSE),\"NO\")","v":"Prestación de servicios profesionales y de apoyo a la gestión, o para la ejecución de trabajos artísticos que sólo puedan encomendarse a determinadas personas naturales;"},"Inversión",45]
[237,2019,"FDLSUBA-CPS-237-2019","Contratos de prestación de servicios profesionales y de apoyo a la gestión","Contratación directa","Prestación de servicios profesionales y de apoyo a la gestión, o para la ejecución de trabajos artísticos que sólo puedan encomendarse a determinadas personas naturales;","APOYAR JURIDICAMENTE LA EJECUCION DE LAS ACCIONES REQUERIDAS PARA LA DEPURACION DE LAS ACTUACIONES ADMINISTRATIVAS QUE CURSAN EN LA ALCALDIA LOCAL.","Inversión",45,{"$f":"IF(ISERROR(VLOOKUP(I303,[1]Eje_Pilar!$C$2:$E$47,2,FALSE)),\" \",VLOOKUP(I303,[1]Eje_Pilar!$C$2:$E$47,2,FALSE))","v":"Gobernanza e influencia local, regional e internacional"},{"$f":"IF(ISERROR(VLOOKUP(I303,[1]Eje_Pilar!$C$2:$E$47,3,FALSE)),\" \",VLOOKUP(I303,[1]Eje_Pilar!$C$2:$E$47,3,FALSE))","v":"Eje Transversal 4 Gobierno Legitimo, Fortalecimiento Local y Eficiencia"},"3-3-1-15-07-45-1478-000",35514678,"YOLIMA  CANDELA SALINAS",43700000,null,0,null,null,43700000,32506667,"2019-03-27","2019-03-27","2019-12-31",279,null,null,null,null,"X",null,74.385965675057207,{"$f":"IF(SUMPRODUCT((A$14:A303=A303)*(B$14:B303=B303)*(C$14:C303=C303))>1,0,1)","v":1},0,0,0,1,0,"Contratos de prestación de servicios profesionales y de apoyo a la gestión","Contratación directa",{"$f":"IFERROR(VLOOKUP(F303,[1]Tipo!$C$12:$C$27,1,FALSE),\"NO\")","v":"Prestación de servicios profesionales y de apoyo a la gestión, o para la ejecución de trabajos artísticos que sólo puedan encomendarse a determinadas personas naturales;"},"Inversión",45]
[238,2019,"FDLSUBA-CPS-238-2019","Contratos de prestación de servicios profesionales y de apoyo a la gestión","Contratación directa","Prestación de servicios profesionales y de apoyo a la gestión, o para la ejecución de trabajos artísticos que sólo puedan encomendarse a determinadas personas naturales;","APOYAR JURIDICAMENTE LA EJECUCION DE LAS ACCIONES REQUERIDAS PARA LA DEPURACION DE LAS ACTUACIONES ADMINISTRATIVAS QUE CURSAN EN LA ALCALDIA LOCAL.","Inversión",45,{"$f":"IF(ISERROR(VLOOKUP(I304,[1]Eje_Pilar!$C$2:$E$47,2,FALSE)),\" \",VLOOKUP(I304,[1]Eje_Pilar!$C$2:$E$47,2,FALSE))","v":"Gobernanza e influencia local, regional e internacional"},{"$f":"IF(ISERROR(VLOOKUP(I304,[1]Eje_Pilar!$C$2:$E$47,3,FALSE)),\" \",VLOOKUP(I304,[1]Eje_Pilar!$C$2:$E$47,3,FALSE))","v":"Eje Transversal 4 Gobierno Legitimo, Fortalecimiento Local y Eficiencia"},"3-3-1-15-07-45-1478-000",69007565,"PAULA JIMENA SOLARTE CHAPAL",40940000,null,0,null,null,{"$f":"+O304+Q304+S304","v":40940000},35573333,"2019-04-09","2019-04-09","2019-12-31",266,null,null,null,null,"X",null,86.891384953590617,{"$f":"IF(SUMPRODUCT((A$14:A304=A304)*(B$14:B304=B304)*(C$14:C304=C304))>1,0,1)","v":1},0,0,0,1,0,"Contratos de prestación de servicios profesionales y de apoyo a la gestión","Contratación directa",{"$f":"IFERROR(VLOOKUP(F304,[1]Tipo!$C$12:$C$27,1,FALSE),\"NO\")","v":"Prestación de servicios profesionales y de apoyo a la gestión, o para la ejecución de trabajos artísticos que sólo puedan encomendarse a determinadas personas naturales;"},"Inversión",45]
[239,2019,"FDLSUBA-CPS-239-2019","Contratos de prestación de servicios profesionales y de apoyo a la gestión","Contratación directa","Prestación de servicios profesionales y de apoyo a la gestión, o para la ejecución de trabajos artísticos que sólo puedan encomendarse a determinadas personas naturales;","PRESTAR SERVICIOS PROFESIONALES EN EL AREA DE GESTION DEL DESARROLLO LOCAL DE LA ALCALDIA LOCAL DE SUBA, PARA EL APOYO A LA EJECUCION INTEGRAL DE LOS DIFERENTES PROYECTOS DE INVERSION DESTINADOS A LA INTERVENCION DE LA MALLA VIAL, ESPACIO PUBLICO Y PARQUES DE LA LOCALIDAD DE SUBA.","Inversión",18,{"$f":"IF(ISERROR(VLOOKUP(I305,[1]Eje_Pilar!$C$2:$E$47,2,FALSE)),\" \",VLOOKUP(I305,[1]Eje_Pilar!$C$2:$E$47,2,FALSE))","v":"Mejor movilidad para todos"},{"$f":"IF(ISERROR(VLOOKUP(I305,[1]Eje_Pilar!$C$2:$E$47,3,FALSE)),\" \",VLOOKUP(I305,[1]Eje_Pilar!$C$2:$E$47,3,FALSE))","v":"Pilar 2 Democracía Urbana"},"3-3-1-15-02-18-1506-000",52588841,"RUTHMERY  ROMERO RUBIO",41800000,null,0,null,null,41800000,34026667,"2019-04-02","2019-04-02","2019-12-31",270,null,null,null,null,"X",null,81.403509569377988,{"$f":"IF(SUMPRODUCT((A$14:A305=A305)*(B$14:B305=B305)*(C$14:C305=C305))>1,0,1)","v":1},0,0,0,1,0,"Contratos de prestación de servicios profesionales y de apoyo a la gestión","Contratación directa",{"$f":"IFERROR(VLOOKUP(F305,[1]Tipo!$C$12:$C$27,1,FALSE),\"NO\")","v":"Prestación de servicios profesionales y de apoyo a la gestión, o para la ejecución de trabajos artísticos que sólo puedan encomendarse a determinadas personas naturales;"},"Inversión",18]
[240,2019,"FDLSUBA-CPS-240-2019","Contratos de prestación de servicios profesionales y de apoyo a la gestión","Contratación directa","Prestación de servicios profesionales y de apoyo a la gestión, o para la ejecución de trabajos artísticos que sólo puedan encomendarse a determinadas personas naturales;","APOYAR JURIDICAMENTE LA EJECUCION DE LAS ACCIONES REQUERIDAS PARA LA DEPURACION DE LAS ACTUACIONES ADMINISTRATIVAS QUE CURSAN EN LA ALCALDIA LOCAL.","Inversión",45,{"$f":"IF(ISERROR(VLOOKUP(I306,[1]Eje_Pilar!$C$2:$E$47,2,FALSE)),\" \",VLOOKUP(I306,[1]Eje_Pilar!$C$2:$E$47,2,FALSE))","v":"Gobernanza e influencia local, regional e internacional"},{"$f":"IF(ISERROR(VLOOKUP(I306,[1]Eje_Pilar!$C$2:$E$47,3,FALSE)),\" \",VLOOKUP(I306,[1]Eje_Pilar!$C$2:$E$47,3,FALSE))","v":"Eje Transversal 4 Gobierno Legitimo, Fortalecimiento Local y Eficiencia"},"3-3-1-15-07-45-1478-000",1129564879,"ARTURO JOSE GUZMAN RODRIGUEZ",43700000,null,0,1,1993333,45693333,36800000,"2019-03-29","2019-03-29","2019-12-31",277,null,null,null,null,"X",null,80.536913339195465,{"$f":"IF(SUMPRODUCT((A$14:A306=A306)*(B$14:B306=B306)*(C$14:C306=C306))>1,0,1)","v":1},0,0,0,1,0,"Contratos de prestación de servicios profesionales y de apoyo a la gestión","Contratación directa",{"$f":"IFERROR(VLOOKUP(F306,[1]Tipo!$C$12:$C$27,1,FALSE),\"NO\")","v":"Prestación de servicios profesionales y de apoyo a la gestión, o para la ejecución de trabajos artísticos que sólo puedan encomendarse a determinadas personas naturales;"},"Inversión",45]
[241,2018,"FDLSUBA-CD-001-2018","Arrendamiento de bienes inmuebles","Contratación directa","El arrendamiento o adquisición de inmuebles","ADICION AL CONTRATO 241 DE 2018 \"ARRENDAMIENTO DE UN BIEN INMUEBLE (PATIO-BODEGA) PARA EL ALMACENAMIENTO DE MATERIALES PETREOS Y PREFABRICADOS COMO PRODUCTO DE LOS CONTRATOS DE SUMINISTRO, ACOPIO DE MATERIAL FRESADO COMO PRODUCTO DE LOS CONVENIOS O ACUERDOS CON OTRAS ENTIDADES SUSCRITOS POR LA ENTIDAD Y PARQUEO DE MAQUINARIA VEHICULOS DE CARGUE Y LIVIANOS DEL FONDO DE DESARROLLO LOCAL DE SUBA\".","Funcionamiento","No aplica",{"$f":"IF(ISERROR(VLOOKUP(I307,[1]Eje_Pilar!$C$2:$E$47,2,FALSE)),\" \",VLOOKUP(I307,[1]Eje_Pilar!$C$2:$E$47,2,FALSE))","v":" "},{"$f":"IF(ISERROR(VLOOKUP(I307,[1]Eje_Pilar!$C$2:$E$47,3,FALSE)),\" \",VLOOKUP(I307,[1]Eje_Pilar!$C$2:$E$47,3,FALSE))","v":" "},"3-1-2-02-02-02-0002-001",860353174,"INVERSIONES Y CONSTRUCCIONES RODRIGUEZ REYES Y CIA S EN C",0,null,0,1,101750000,101750000,61050000,"2019-07-19","2019-07-19","2019-12-31",165,null,null,null,null,"X",null,60,{"$f":"IF(SUMPRODUCT((A$14:A307=A307)*(B$14:B307=B307)*(C$14:C307=C307))>1,0,1)","v":1},0,0,0,1,0,"Arrendamiento de bienes inmuebles","Contratación directa",{"$f":"IFERROR(VLOOKUP(F307,[1]Tipo!$C$12:$C$27,1,FALSE),\"NO\")","v":"El arrendamiento o adquisición de inmuebles"},"Funcionamiento","NO"]
[241,2019,"FDLSUBA-CPS-241-2019","Contratos de prestación de servicios profesionales y de apoyo a la gestión","Contratación directa","Prestación de servicios profesionales y de apoyo a la gestión, o para la ejecución de trabajos artísticos que sólo puedan encomendarse a determinadas personas naturales;","APOYAR TECNICAMENTE LAS DISTINTAS ETAPAS DE LOS PROCESOS DE COMPETENCIA DE LA ALCALDIA LOCAL PARA LA DEPURACION DE ACTUACIONES ADMINISTRATIVAS.","Inversión",45,{"$f":"IF(ISERROR(VLOOKUP(I308,[1]Eje_Pilar!$C$2:$E$47,2,FALSE)),\" \",VLOOKUP(I308,[1]Eje_Pilar!$C$2:$E$47,2,FALSE))","v":"Gobernanza e influencia local, regional e internacional"},{"$f":"IF(ISERROR(VLOOKUP(I308,[1]Eje_Pilar!$C$2:$E$47,3,FALSE)),\" \",VLOOKUP(I308,[1]Eje_Pilar!$C$2:$E$47,3,FALSE))","v":"Eje Transversal 4 Gobierno Legitimo, Fortalecimiento Local y Eficiencia"},"3-3-1-15-07-45-1481-000",1026264243,"VERONICA ANDREA CHAPARRO PULIDO",56700000,null,0,null,null,56700000,43680000,"2019-04-03","2019-04-03","2019-12-31",270,null,null,null,null,"X",null,77.037037037037038,{"$f":"IF(SUMPRODUCT((A$14:A308=A308)*(B$14:B308=B308)*(C$14:C308=C308))>1,0,1)","v":1},0,0,0,1,0,"Contratos de prestación de servicios profesionales y de apoyo a la gestión","Contratación directa",{"$f":"IFERROR(VLOOKUP(F308,[1]Tipo!$C$12:$C$27,1,FALSE),\"NO\")","v":"Prestación de servicios profesionales y de apoyo a la gestión, o para la ejecución de trabajos artísticos que sólo puedan encomendarse a determinadas personas naturales;"},"Inversión",45]
[242,2019,"FDLSUBA-CPS-242-2019","Contratos de prestación de servicios profesionales y de apoyo a la gestión","Contratación directa","Prestación de servicios profesionales y de apoyo a la gestión, o para la ejecución de trabajos artísticos que sólo puedan encomendarse a determinadas personas naturales;","PRESTAR SERVICIOS DE APOYO EN LAS ACTIVIDADES DE SEGURIDAD Y CONVIVENCIA CIUDADANA Y RECUPERACION DEL ESPACIO PUBLICO PARA EL LOGRO DE LAS METAS DE GESTION DE LA VIGENCIA.","Inversión",19,{"$f":"IF(ISERROR(VLOOKUP(I309,[1]Eje_Pilar!$C$2:$E$47,2,FALSE)),\" \",VLOOKUP(I309,[1]Eje_Pilar!$C$2:$E$47,2,FALSE))","v":"Seguridad y convivencia para todos"},{"$f":"IF(ISERROR(VLOOKUP(I309,[1]Eje_Pilar!$C$2:$E$47,3,FALSE)),\" \",VLOOKUP(I309,[1]Eje_Pilar!$C$2:$E$47,3,FALSE))","v":"Pilar 3 Construcción de Comunidad y Cultura Ciudadana"},"3-3-1-15-03-19-1469-000",19196188,"SIGIFREDO  DIAZ FERNANDEZ",15735200,null,0,1,1237600,16972800,13967200,"2019-04-03","2019-04-03","2020-01-21",272,21,null,null,null,"X",null,82.291666666666657,{"$f":"IF(SUMPRODUCT((A$14:A309=A309)*(B$14:B309=B309)*(C$14:C309=C309))>1,0,1)","v":1},0,0,0,1,0,"Contratos de prestación de servicios profesionales y de apoyo a la gestión","Contratación directa",{"$f":"IFERROR(VLOOKUP(F309,[1]Tipo!$C$12:$C$27,1,FALSE),\"NO\")","v":"Prestación de servicios profesionales y de apoyo a la gestión, o para la ejecución de trabajos artísticos que sólo puedan encomendarse a determinadas personas naturales;"},"Inversión",19]
[243,2019,"FDLSUBA-CPS-243-2019","Contratos de prestación de servicios profesionales y de apoyo a la gestión","Contratación directa","Prestación de servicios profesionales y de apoyo a la gestión, o para la ejecución de trabajos artísticos que sólo puedan encomendarse a determinadas personas naturales;","PRESTAR LOS SERVICIOS PROFESIONALES EN EL AREA GESTION DEL DESARROLLO, PARA EL APOYO A LA EJECUCION INTEGRAL DE LOS DIFERENTES PROYECTOS DE INVERSION DESTINADOS A LA INTERVENCION DE LA MALLA VIAL, ESPACIO PUBLICO Y PARQUES DE LA LOCALIDAD DE SUBA.","Inversión",18,{"$f":"IF(ISERROR(VLOOKUP(I310,[1]Eje_Pilar!$C$2:$E$47,2,FALSE)),\" \",VLOOKUP(I310,[1]Eje_Pilar!$C$2:$E$47,2,FALSE))","v":"Mejor movilidad para todos"},{"$f":"IF(ISERROR(VLOOKUP(I310,[1]Eje_Pilar!$C$2:$E$47,3,FALSE)),\" \",VLOOKUP(I310,[1]Eje_Pilar!$C$2:$E$47,3,FALSE))","v":"Pilar 2 Democracía Urbana"},"3-3-1-15-02-18-1506-000",88258533,"JEAN MARLON PALENCIA ACEVEDO",56070000,null,0,1,4410000,60480000,49560000,"2019-04-05","2019-04-05","2020-01-21",270,21,null,null,null,"X",null,81.944444444444443,{"$f":"IF(SUMPRODUCT((A$14:A310=A310)*(B$14:B310=B310)*(C$14:C310=C310))>1,0,1)","v":1},0,0,0,1,0,"Contratos de prestación de servicios profesionales y de apoyo a la gestión","Contratación directa",{"$f":"IFERROR(VLOOKUP(F310,[1]Tipo!$C$12:$C$27,1,FALSE),\"NO\")","v":"Prestación de servicios profesionales y de apoyo a la gestión, o para la ejecución de trabajos artísticos que sólo puedan encomendarse a determinadas personas naturales;"},"Inversión",18]
[null,2019,null,"Otros gastos",null,null,"RESOLUCION NO. 032 DEL 6 DE FEBRERO DE 2019. \"POR LA CUAL SE ORDENAEXPEDIR CERTIFICADOS DE DISPONIBILIDAD PRESUPUESTAL, CERTIFICADOS DE REGISTRO PRESUPUESTAL Y EL PAGO DE LAS OBLIGACIONES CONTRAIDAS MEDIANTE ALGUNOS CONTRATOS CON CARGO AL PRESUPUESTO DE LA VIGENCIA 2019\". CONTRATO 244 DE 2018. FABIAN ANDRES LOPEZ HERRERA C.C. 79.772.238.","Inversión",45,{"$f":"IF(ISERROR(VLOOKUP(I311,[1]Eje_Pilar!$C$2:$E$47,2,FALSE)),\" \",VLOOKUP(I311,[1]Eje_Pilar!$C$2:$E$47,2,FALSE))","v":"Gobernanza e influencia local, regional e internacional"},{"$f":"IF(ISERROR(VLOOKUP(I311,[1]Eje_Pilar!$C$2:$E$47,3,FALSE)),\" \",VLOOKUP(I311,[1]Eje_Pilar!$C$2:$E$47,3,FALSE))","v":"Eje Transversal 4 Gobierno Legitimo, Fortalecimiento Local y Eficiencia"},"3-3-1-15-07-45-1481-000",null,"FABIAN ANDRES LOPEZ HERRERA",3150000,null,0,null,null,3150000,3150000,"2019-02-12","2019-02-12","2019-12-31",null,null,null,null,null,"X",null,100,{"$f":"IF(SUMPRODUCT((A$14:A311=A311)*(B$14:B311=B311)*(C$14:C311=C311))>1,0,1)","v":0},0,0,0,0,0,"Otros gastos","NO",{"$f":"IFERROR(VLOOKUP(F311,[1]Tipo!$C$12:$C$27,1,FALSE),\"NO\")","v":"NO"},"Inversión",45]
[244,2019,"FDLSUBA-CPS-244-2019","Contratos de prestación de servicios profesionales y de apoyo a la gestión","Contratación directa","Prestación de servicios profesionales y de apoyo a la gestión, o para la ejecución de trabajos artísticos que sólo puedan encomendarse a determinadas personas naturales;","PRESTAR LOS SERVICIOS PROFESIONALES EN LA ALCALDIA LOCAL DE SUBA, PRINCIPALMENTE PARA REALIZAR ACCIONES PEDAGOGICAS PREVENTIVAS Y DE SENSIBILIZACION PARA EL ACATAMIENTO VOLUNTARIO DE LAS NORMAS EN LA LOCALIDAD.","Inversión",45,{"$f":"IF(ISERROR(VLOOKUP(I312,[1]Eje_Pilar!$C$2:$E$47,2,FALSE)),\" \",VLOOKUP(I312,[1]Eje_Pilar!$C$2:$E$47,2,FALSE))","v":"Gobernanza e influencia local, regional e internacional"},{"$f":"IF(ISERROR(VLOOKUP(I312,[1]Eje_Pilar!$C$2:$E$47,3,FALSE)),\" \",VLOOKUP(I312,[1]Eje_Pilar!$C$2:$E$47,3,FALSE))","v":"Eje Transversal 4 Gobierno Legitimo, Fortalecimiento Local y Eficiencia"},"3-3-1-15-07-45-1481-000",14213037,"VICTOR JULIO MORA LEGRO",40173333,null,0,null,null,40173333,35573333,"2019-04-09","2019-04-09","2019-12-31",266,null,null,null,null,"X",null,88.549618225602543,{"$f":"IF(SUMPRODUCT((A$14:A312=A312)*(B$14:B312=B312)*(C$14:C312=C312))>1,0,1)","v":1},0,0,0,1,0,"Contratos de prestación de servicios profesionales y de apoyo a la gestión","Contratación directa",{"$f":"IFERROR(VLOOKUP(F312,[1]Tipo!$C$12:$C$27,1,FALSE),\"NO\")","v":"Prestación de servicios profesionales y de apoyo a la gestión, o para la ejecución de trabajos artísticos que sólo puedan encomendarse a determinadas personas naturales;"},"Inversión",45]
[245,2019,"FDLSUBA-CPS-245-2019","Contratos de prestación de servicios profesionales y de apoyo a la gestión","Contratación directa","Prestación de servicios profesionales y de apoyo a la gestión, o para la ejecución de trabajos artísticos que sólo puedan encomendarse a determinadas personas naturales;","PRESTAR SERVICIOS DE APOYO EN LAS ACTIVIDADES DE SEGURIDAD Y CONVIVENCIA CIUDADANA Y RECUPERACION DEL ESPACIO PUBLICO PARA EL LOGRO DE LAS METAS DE GESTION DE LA VIGENCIA.","Inversión",19,{"$f":"IF(ISERROR(VLOOKUP(I313,[1]Eje_Pilar!$C$2:$E$47,2,FALSE)),\" \",VLOOKUP(I313,[1]Eje_Pilar!$C$2:$E$47,2,FALSE))","v":"Seguridad y convivencia para todos"},{"$f":"IF(ISERROR(VLOOKUP(I313,[1]Eje_Pilar!$C$2:$E$47,3,FALSE)),\" \",VLOOKUP(I313,[1]Eje_Pilar!$C$2:$E$47,3,FALSE))","v":"Pilar 3 Construcción de Comunidad y Cultura Ciudadana"},"3-3-1-15-03-19-1469-000",19412023,"ALVARO RAFAEL CABRERA FONTALVO",15735200,null,0,null,null,15735200,13731467,"2019-04-05","2019-04-05","2019-12-31",270,null,null,null,null,"X",null,87.265919721388983,{"$f":"IF(SUMPRODUCT((A$14:A313=A313)*(B$14:B313=B313)*(C$14:C313=C313))>1,0,1)","v":1},0,0,0,1,0,"Contratos de prestación de servicios profesionales y de apoyo a la gestión","Contratación directa",{"$f":"IFERROR(VLOOKUP(F313,[1]Tipo!$C$12:$C$27,1,FALSE),\"NO\")","v":"Prestación de servicios profesionales y de apoyo a la gestión, o para la ejecución de trabajos artísticos que sólo puedan encomendarse a determinadas personas naturales;"},"Inversión",19]
[null,2019,null,"Otros gastos",null,null,"RESOLUCION NO. 032 DEL 6 DE FEBRERO DE 2019. \"POR LA CUAL SE ORDENAEXPEDIR CERTIFICADOS DE DISPONIBILIDAD PRESUPUESTAL, CERTIFICADOS DE REGISTRO PRESUPUESTAL Y EL PAGO DE LAS OBLIGACIONES CONTRAIDAS MEDIANTE ALGUNOS CONTRATOS CON CARGO AL PRESUPUESTO DE LA VIGENCIA 2019\". CONTRATO 246 DE 2018. MARTHA EMILCE VILLAMIL AVILA C.C. 23.494.132.","Inversión",45,{"$f":"IF(ISERROR(VLOOKUP(I314,[1]Eje_Pilar!$C$2:$E$47,2,FALSE)),\" \",VLOOKUP(I314,[1]Eje_Pilar!$C$2:$E$47,2,FALSE))","v":"Gobernanza e influencia local, regional e internacional"},{"$f":"IF(ISERROR(VLOOKUP(I314,[1]Eje_Pilar!$C$2:$E$47,3,FALSE)),\" \",VLOOKUP(I314,[1]Eje_Pilar!$C$2:$E$47,3,FALSE))","v":"Eje Transversal 4 Gobierno Legitimo, Fortalecimiento Local y Eficiencia"},"3-3-1-15-07-45-1481-000",null,"MARTHA EMILCE VILLAMIL AVILA",2200000,null,0,null,null,2200000,2200000,"2019-02-12","2019-02-12","2019-12-31",null,null,null,null,null,"X",null,100,{"$f":"IF(SUMPRODUCT((A$14:A314=A314)*(B$14:B314=B314)*(C$14:C314=C314))>1,0,1)","v":0},0,0,0,0,0,"Otros gastos","NO",{"$f":"IFERROR(VLOOKUP(F314,[1]Tipo!$C$12:$C$27,1,FALSE),\"NO\")","v":"NO"},"Inversión",45]
[246,2019,"FDLSUBA-CPS-246-2019","Contratos de prestación de servicios profesionales y de apoyo a la gestión","Contratación directa","Prestación de servicios profesionales y de apoyo a la gestión, o para la ejecución de trabajos artísticos que sólo puedan encomendarse a determinadas personas naturales;","APOYAR ADMINISTRATIVA Y ASISTENCIALMENTE A LA ALCALDIA LOCAL DE SUBA EN LAS DIFERENTES DEPENDENCIAS CON LA OPORTUNIDAD Y CONFIDENCIALIDAD REQUERIDA.","Inversión",45,{"$f":"IF(ISERROR(VLOOKUP(I315,[1]Eje_Pilar!$C$2:$E$47,2,FALSE)),\" \",VLOOKUP(I315,[1]Eje_Pilar!$C$2:$E$47,2,FALSE))","v":"Gobernanza e influencia local, regional e internacional"},{"$f":"IF(ISERROR(VLOOKUP(I315,[1]Eje_Pilar!$C$2:$E$47,3,FALSE)),\" \",VLOOKUP(I315,[1]Eje_Pilar!$C$2:$E$47,3,FALSE))","v":"Eje Transversal 4 Gobierno Legitimo, Fortalecimiento Local y Eficiencia"},"3-3-1-15-07-45-1481-000",1014253485,"JORGE LUIS OSPINA LEGARDA",19656000,null,0,null,null,19656000,16816800,"2019-04-09","2019-04-09","2019-12-31",270,null,null,null,null,"X",null,85.555555555555557,{"$f":"IF(SUMPRODUCT((A$14:A315=A315)*(B$14:B315=B315)*(C$14:C315=C315))>1,0,1)","v":1},0,0,0,1,0,"Contratos de prestación de servicios profesionales y de apoyo a la gestión","Contratación directa",{"$f":"IFERROR(VLOOKUP(F315,[1]Tipo!$C$12:$C$27,1,FALSE),\"NO\")","v":"Prestación de servicios profesionales y de apoyo a la gestión, o para la ejecución de trabajos artísticos que sólo puedan encomendarse a determinadas personas naturales;"},"Inversión",45]
[247,2019,"FDLSUBA-CPS-247-2019","Contratos de prestación de servicios profesionales y de apoyo a la gestión","Contratación directa","Prestación de servicios profesionales y de apoyo a la gestión, o para la ejecución de trabajos artísticos que sólo puedan encomendarse a determinadas personas naturales;","PRESTAR LOS SERVICOS DE APOYO AL AREA GESTION DE DESARROLLO LOCAL POR SUS PROPIOS MEDIOS PARA LA DISTRIBUCION DE LA CORRESPONDENCIA EXTERNA QUE TIENE ORIGEN EN LAS DIFERENTES DEPENDENCIAS DE LA ALCALDIA LOCAL.","Inversión",45,{"$f":"IF(ISERROR(VLOOKUP(I316,[1]Eje_Pilar!$C$2:$E$47,2,FALSE)),\" \",VLOOKUP(I316,[1]Eje_Pilar!$C$2:$E$47,2,FALSE))","v":"Gobernanza e influencia local, regional e internacional"},{"$f":"IF(ISERROR(VLOOKUP(I316,[1]Eje_Pilar!$C$2:$E$47,3,FALSE)),\" \",VLOOKUP(I316,[1]Eje_Pilar!$C$2:$E$47,3,FALSE))","v":"Eje Transversal 4 Gobierno Legitimo, Fortalecimiento Local y Eficiencia"},"3-3-1-15-07-45-1481-000",80542186,"FRAN  BELTRAN MONTERO",19146400,null,0,1,1528800,20675200,16671200,"2019-04-11","2019-04-11","2020-01-21",264,21,null,null,null,"X",null,80.633802816901408,{"$f":"IF(SUMPRODUCT((A$14:A316=A316)*(B$14:B316=B316)*(C$14:C316=C316))>1,0,1)","v":1},0,0,0,1,0,"Contratos de prestación de servicios profesionales y de apoyo a la gestión","Contratación directa",{"$f":"IFERROR(VLOOKUP(F316,[1]Tipo!$C$12:$C$27,1,FALSE),\"NO\")","v":"Prestación de servicios profesionales y de apoyo a la gestión, o para la ejecución de trabajos artísticos que sólo puedan encomendarse a determinadas personas naturales;"},"Inversión",45]
[248,2019,"FDLSUBA-CPS-248-2019","Contratos de prestación de servicios profesionales y de apoyo a la gestión","Contratación directa","Prestación de servicios profesionales y de apoyo a la gestión, o para la ejecución de trabajos artísticos que sólo puedan encomendarse a determinadas personas naturales;","APOYAR EL (LA) ALCALDE(SA) LOCAL EN LA GESTION DE LOS ASUNTOS RELACIONADOS CON SEGURIDAD CIUDADANA, CONVIVENCIA Y PREVENCION DE CONFLICTIVIDADES, VIOLENCIAS Y DELITOS EN LA LOCALIDAD, DE CONFORMIDAD CON EL MARCO NORMATIVO APLICABLE EN LA MATERIA.","Inversión",19,{"$f":"IF(ISERROR(VLOOKUP(I317,[1]Eje_Pilar!$C$2:$E$47,2,FALSE)),\" \",VLOOKUP(I317,[1]Eje_Pilar!$C$2:$E$47,2,FALSE))","v":"Seguridad y convivencia para todos"},{"$f":"IF(ISERROR(VLOOKUP(I317,[1]Eje_Pilar!$C$2:$E$47,3,FALSE)),\" \",VLOOKUP(I317,[1]Eje_Pilar!$C$2:$E$47,3,FALSE))","v":"Pilar 3 Construcción de Comunidad y Cultura Ciudadana"},"3-3-1-15-03-19-1469-000",1032380161,"JUAN MANUEL CORTES DUEÑAS",59800000,null,0,1,3220000,63020000,50370000,"2019-04-15","2019-04-15","2020-01-21",260,21,null,null,null,"X",null,79.927007299270073,{"$f":"IF(SUMPRODUCT((A$14:A317=A317)*(B$14:B317=B317)*(C$14:C317=C317))>1,0,1)","v":1},0,0,0,1,0,"Contratos de prestación de servicios profesionales y de apoyo a la gestión","Contratación directa",{"$f":"IFERROR(VLOOKUP(F317,[1]Tipo!$C$12:$C$27,1,FALSE),\"NO\")","v":"Prestación de servicios profesionales y de apoyo a la gestión, o para la ejecución de trabajos artísticos que sólo puedan encomendarse a determinadas personas naturales;"},"Inversión",19]
[249,2019,"FDLSUBA-CPS-249-2019","Contratos de prestación de servicios profesionales y de apoyo a la gestión","Contratación directa","Prestación de servicios profesionales y de apoyo a la gestión, o para la ejecución de trabajos artísticos que sólo puedan encomendarse a determinadas personas naturales;","PRESTAR LOS SERVICOS DE APOYO AL AREA GESTION DE DESARROLLO LOCAL POR SUS PROPIOS MEDIOS PARA LA DISTRIBUCION DE LA CORRESPONDENCIA EXTERNA QUE TIENE ORIGEN EN LAS DIFERENTES DEPENDENCIAS DE LA ALCALDIA LOCAL.","Inversión",45,{"$f":"IF(ISERROR(VLOOKUP(I318,[1]Eje_Pilar!$C$2:$E$47,2,FALSE)),\" \",VLOOKUP(I318,[1]Eje_Pilar!$C$2:$E$47,2,FALSE))","v":"Gobernanza e influencia local, regional e internacional"},{"$f":"IF(ISERROR(VLOOKUP(I318,[1]Eje_Pilar!$C$2:$E$47,3,FALSE)),\" \",VLOOKUP(I318,[1]Eje_Pilar!$C$2:$E$47,3,FALSE))","v":"Eje Transversal 4 Gobierno Legitimo, Fortalecimiento Local y Eficiencia"},"3-3-1-15-07-45-1481-000",1038436509,"ANTONIS JESUS MEJIA MENDOZA",19146400,null,0,null,null,19146400,1164800,"2019-04-11","2019-04-11","2019-12-31",264,null,null,null,null,"X",null,6.083650190114068,{"$f":"IF(SUMPRODUCT((A$14:A318=A318)*(B$14:B318=B318)*(C$14:C318=C318))>1,0,1)","v":1},0,0,0,1,0,"Contratos de prestación de servicios profesionales y de apoyo a la gestión","Contratación directa",{"$f":"IFERROR(VLOOKUP(F318,[1]Tipo!$C$12:$C$27,1,FALSE),\"NO\")","v":"Prestación de servicios profesionales y de apoyo a la gestión, o para la ejecución de trabajos artísticos que sólo puedan encomendarse a determinadas personas naturales;"},"Inversión",45]
[250,2019,"FDLSUBA-CPS-250-2019","Contratos de prestación de servicios profesionales y de apoyo a la gestión","Contratación directa","Prestación de servicios profesionales y de apoyo a la gestión, o para la ejecución de trabajos artísticos que sólo puedan encomendarse a determinadas personas naturales;","PRESTAR LOS SERVICIOS DE APOYO EN LAS ACTIVIDADES ADMINISTRATIVAS PROPIAS EN EL AREA GESTION DEL DESARROLLO LOCAL Y APOYO A LAS DIFERENTES ACTIVIDADES QUE SE GENERAN EN EL DESPACHO.","Inversión",45,{"$f":"IF(ISERROR(VLOOKUP(I319,[1]Eje_Pilar!$C$2:$E$47,2,FALSE)),\" \",VLOOKUP(I319,[1]Eje_Pilar!$C$2:$E$47,2,FALSE))","v":"Gobernanza e influencia local, regional e internacional"},{"$f":"IF(ISERROR(VLOOKUP(I319,[1]Eje_Pilar!$C$2:$E$47,3,FALSE)),\" \",VLOOKUP(I319,[1]Eje_Pilar!$C$2:$E$47,3,FALSE))","v":"Eje Transversal 4 Gobierno Legitimo, Fortalecimiento Local y Eficiencia"},"3-3-1-15-07-45-1478-000",1018493757,"ALIX GERALDINE MORA ROA",30450000,null,0,1,2216666,32666666,26716667,"2019-04-10","2019-04-10","2020-01-21",265,21,null,null,null,"X",null,81.785716975218719,{"$f":"IF(SUMPRODUCT((A$14:A319=A319)*(B$14:B319=B319)*(C$14:C319=C319))>1,0,1)","v":1},0,0,0,1,0,"Contratos de prestación de servicios profesionales y de apoyo a la gestión","Contratación directa",{"$f":"IFERROR(VLOOKUP(F319,[1]Tipo!$C$12:$C$27,1,FALSE),\"NO\")","v":"Prestación de servicios profesionales y de apoyo a la gestión, o para la ejecución de trabajos artísticos que sólo puedan encomendarse a determinadas personas naturales;"},"Inversión",45]
[252,2019,"FDLSUBA-CPS-252-2019","Contratos de prestación de servicios profesionales y de apoyo a la gestión","Contratación directa","Prestación de servicios profesionales y de apoyo a la gestión, o para la ejecución de trabajos artísticos que sólo puedan encomendarse a determinadas personas naturales;","PRESTAR SERVICIOS PROFESIONALES, PARA LOGRAR EL CUMPLIMIENTO DE LAS METAS DEL PLAN DE DESARROLLO LOCAL DE LA VIGENCIA ESPECIALMENTE PARA ATENDER LAS COMPETENCIAS AMBIENTALES PROPIAS DE LA ADMINISTRACION LOCAL, EN TEMAS RELACIONADOS CON EL MANTENIMIENTO Y MONITOREO DE LA MALLA ARBOREA DE LA LOCALIDAD.","Inversión",38,{"$f":"IF(ISERROR(VLOOKUP(I320,[1]Eje_Pilar!$C$2:$E$47,2,FALSE)),\" \",VLOOKUP(I320,[1]Eje_Pilar!$C$2:$E$47,2,FALSE))","v":"Recuperación y manejo de la Estructura Ecológica Principal"},{"$f":"IF(ISERROR(VLOOKUP(I320,[1]Eje_Pilar!$C$2:$E$47,3,FALSE)),\" \",VLOOKUP(I320,[1]Eje_Pilar!$C$2:$E$47,3,FALSE))","v":"Eje Transversal 3 Sostenibilidad Ambiental basada en la eficiencia energética"},"3-3-1-15-06-38-1472-000",1110535384,"JEFFREY ALEXANDER CASTAÑEDA FIERRO",39866666,null,0,null,null,39866666,33580000,"2019-04-11","2019-04-11","2019-12-31",264,null,null,null,null,"X",null,84.230770639310549,{"$f":"IF(SUMPRODUCT((A$14:A320=A320)*(B$14:B320=B320)*(C$14:C320=C320))>1,0,1)","v":1},0,0,0,1,0,"Contratos de prestación de servicios profesionales y de apoyo a la gestión","Contratación directa",{"$f":"IFERROR(VLOOKUP(F320,[1]Tipo!$C$12:$C$27,1,FALSE),\"NO\")","v":"Prestación de servicios profesionales y de apoyo a la gestión, o para la ejecución de trabajos artísticos que sólo puedan encomendarse a determinadas personas naturales;"},"Inversión",38]
[253,2019,"FDLSUBA-CPS-253-2019","Contratos de prestación de servicios profesionales y de apoyo a la gestión","Contratación directa","Prestación de servicios profesionales y de apoyo a la gestión, o para la ejecución de trabajos artísticos que sólo puedan encomendarse a determinadas personas naturales;","PRESTAR SERVICIOS PROFESIONALES EN EL DESPACHO PARA LINEAMIENTOS JURIDICOS Y EN LA ORIENTACION EN TEMAS PRIORITARIOS EN EL AREA DE GESTION DE DESARROLLO LOCAL DE LA ALCALDIA LOCAL DE SUBA.","Inversión",45,{"$f":"IF(ISERROR(VLOOKUP(I321,[1]Eje_Pilar!$C$2:$E$47,2,FALSE)),\" \",VLOOKUP(I321,[1]Eje_Pilar!$C$2:$E$47,2,FALSE))","v":"Gobernanza e influencia local, regional e internacional"},{"$f":"IF(ISERROR(VLOOKUP(I321,[1]Eje_Pilar!$C$2:$E$47,3,FALSE)),\" \",VLOOKUP(I321,[1]Eje_Pilar!$C$2:$E$47,3,FALSE))","v":"Eje Transversal 4 Gobierno Legitimo, Fortalecimiento Local y Eficiencia"},"3-3-1-15-07-45-1478-000",1019026658,"MARCELA  ORTIZ ROLDAN",54810000,null,0,1,1050000,55860000,39480000,"2019-04-15","2019-04-15","2020-01-21",260,21,null,null,null,"X",null,70.676691729323309,{"$f":"IF(SUMPRODUCT((A$14:A321=A321)*(B$14:B321=B321)*(C$14:C321=C321))>1,0,1)","v":1},0,0,0,1,0,"Contratos de prestación de servicios profesionales y de apoyo a la gestión","Contratación directa",{"$f":"IFERROR(VLOOKUP(F321,[1]Tipo!$C$12:$C$27,1,FALSE),\"NO\")","v":"Prestación de servicios profesionales y de apoyo a la gestión, o para la ejecución de trabajos artísticos que sólo puedan encomendarse a determinadas personas naturales;"},"Inversión",45]
[254,2019,"FDLSUBA-CPS-254-2019","Contratos de prestación de servicios profesionales y de apoyo a la gestión","Contratación directa","Prestación de servicios profesionales y de apoyo a la gestión, o para la ejecución de trabajos artísticos que sólo puedan encomendarse a determinadas personas naturales;","APOYAR ADMINISTRATIVA Y ASISTENCIALMENTE A LA ALCALDIA LOCAL DE SUBA EN LAS DIFERENTES DEPENDENCIAS CON LA OPORTUNIDAD Y CONFIDENCIALIDAD REQUERIDA.","Inversión",45,{"$f":"IF(ISERROR(VLOOKUP(I322,[1]Eje_Pilar!$C$2:$E$47,2,FALSE)),\" \",VLOOKUP(I322,[1]Eje_Pilar!$C$2:$E$47,2,FALSE))","v":"Gobernanza e influencia local, regional e internacional"},{"$f":"IF(ISERROR(VLOOKUP(I322,[1]Eje_Pilar!$C$2:$E$47,3,FALSE)),\" \",VLOOKUP(I322,[1]Eje_Pilar!$C$2:$E$47,3,FALSE))","v":"Eje Transversal 4 Gobierno Legitimo, Fortalecimiento Local y Eficiencia"},"3-3-1-15-07-45-1481-000",12538860,"JAIRO ALFREDO ORTEGA QUIROZ",19437600,null,0,null,null,19437600,15870400,"2019-04-15","2019-04-15","2019-12-31",270,null,null,null,null,"X",null,81.647940074906373,{"$f":"IF(SUMPRODUCT((A$14:A322=A322)*(B$14:B322=B322)*(C$14:C322=C322))>1,0,1)","v":1},0,0,0,1,0,"Contratos de prestación de servicios profesionales y de apoyo a la gestión","Contratación directa",{"$f":"IFERROR(VLOOKUP(F322,[1]Tipo!$C$12:$C$27,1,FALSE),\"NO\")","v":"Prestación de servicios profesionales y de apoyo a la gestión, o para la ejecución de trabajos artísticos que sólo puedan encomendarse a determinadas personas naturales;"},"Inversión",45]
[255,2019,"FDLSUBA-CPS-255-2019","Contratos de prestación de servicios profesionales y de apoyo a la gestión","Contratación directa","Prestación de servicios profesionales y de apoyo a la gestión, o para la ejecución de trabajos artísticos que sólo puedan encomendarse a determinadas personas naturales;","PRESTAR LOS SERVICIOS COMO OPERARIO DE MAQUINARIA AMARILLA DEL AREA GESTION DEL DESARROLLO DE LA ALCALDIA LOCAL DE SUBA.","Inversión",18,{"$f":"IF(ISERROR(VLOOKUP(I323,[1]Eje_Pilar!$C$2:$E$47,2,FALSE)),\" \",VLOOKUP(I323,[1]Eje_Pilar!$C$2:$E$47,2,FALSE))","v":"Mejor movilidad para todos"},{"$f":"IF(ISERROR(VLOOKUP(I323,[1]Eje_Pilar!$C$2:$E$47,3,FALSE)),\" \",VLOOKUP(I323,[1]Eje_Pilar!$C$2:$E$47,3,FALSE))","v":"Pilar 2 Democracía Urbana"},"3-3-1-15-02-18-1506-000",79307259,"MANUEL ANTONIO ANGULO GONZALEZ",18855200,null,0,null,null,18855200,15724800,"2019-04-25","2019-04-25","2019-12-31",250,null,null,null,null,"X",null,83.397683397683394,{"$f":"IF(SUMPRODUCT((A$14:A323=A323)*(B$14:B323=B323)*(C$14:C323=C323))>1,0,1)","v":1},0,0,0,1,0,"Contratos de prestación de servicios profesionales y de apoyo a la gestión","Contratación directa",{"$f":"IFERROR(VLOOKUP(F323,[1]Tipo!$C$12:$C$27,1,FALSE),\"NO\")","v":"Prestación de servicios profesionales y de apoyo a la gestión, o para la ejecución de trabajos artísticos que sólo puedan encomendarse a determinadas personas naturales;"},"Inversión",18]
[256,2019,"FDLSUBA-CPS-256-2019","Contratos de prestación de servicios profesionales y de apoyo a la gestión","Contratación directa","Prestación de servicios profesionales y de apoyo a la gestión, o para la ejecución de trabajos artísticos que sólo puedan encomendarse a determinadas personas naturales;","PRESTAR LOS SERVICOS DE APOYO AL AREA GESTION DE DESARROLLO LOCAL ESPECIALMENTE EN EL CENTRO DE DOCUMENTACION E INFORMACION CDI DE LA ALCALDIA LOCAL DE SUBA, GESTION POLCIVA.","Inversión",45,{"$f":"IF(ISERROR(VLOOKUP(I324,[1]Eje_Pilar!$C$2:$E$47,2,FALSE)),\" \",VLOOKUP(I324,[1]Eje_Pilar!$C$2:$E$47,2,FALSE))","v":"Gobernanza e influencia local, regional e internacional"},{"$f":"IF(ISERROR(VLOOKUP(I324,[1]Eje_Pilar!$C$2:$E$47,3,FALSE)),\" \",VLOOKUP(I324,[1]Eje_Pilar!$C$2:$E$47,3,FALSE))","v":"Eje Transversal 4 Gobierno Legitimo, Fortalecimiento Local y Eficiencia"},"3-3-1-15-07-45-1481-000",52076673,"NUBIA YANETH SANCHEZ SANABRIA",18054400,null,0,1,1310400,19364800,15360800,"2019-04-30","2019-04-30","2020-01-21",250,21,null,null,null,"X",null,79.323308270676691,{"$f":"IF(SUMPRODUCT((A$14:A324=A324)*(B$14:B324=B324)*(C$14:C324=C324))>1,0,1)","v":1},0,0,0,1,0,"Contratos de prestación de servicios profesionales y de apoyo a la gestión","Contratación directa",{"$f":"IFERROR(VLOOKUP(F324,[1]Tipo!$C$12:$C$27,1,FALSE),\"NO\")","v":"Prestación de servicios profesionales y de apoyo a la gestión, o para la ejecución de trabajos artísticos que sólo puedan encomendarse a determinadas personas naturales;"},"Inversión",45]
[257,2019,"FDLSUBA-CPS-257-2019","Contratos de prestación de servicios profesionales y de apoyo a la gestión","Contratación directa","Prestación de servicios profesionales y de apoyo a la gestión, o para la ejecución de trabajos artísticos que sólo puedan encomendarse a determinadas personas naturales;","PRESTAR LOS SERVICOS DE APOYO AL AREA GESTION DE DESARROLLO LOCAL ESPECIALMENTE EN EL CENTRO DE DOCUMENTACION E INFORMACION CDI DE LA ALCALDIA LOCAL DE SUBA.","Inversión",45,{"$f":"IF(ISERROR(VLOOKUP(I325,[1]Eje_Pilar!$C$2:$E$47,2,FALSE)),\" \",VLOOKUP(I325,[1]Eje_Pilar!$C$2:$E$47,2,FALSE))","v":"Gobernanza e influencia local, regional e internacional"},{"$f":"IF(ISERROR(VLOOKUP(I325,[1]Eje_Pilar!$C$2:$E$47,3,FALSE)),\" \",VLOOKUP(I325,[1]Eje_Pilar!$C$2:$E$47,3,FALSE))","v":"Eje Transversal 4 Gobierno Legitimo, Fortalecimiento Local y Eficiencia"},"3-3-1-15-07-45-1478-000",52586062,"ELIZABETH  BECERRA TORRES",18054400,null,0,null,null,18054400,15724800,"2019-04-25","2019-04-25","2019-12-31",250,null,null,null,null,"X",null,87.096774193548384,{"$f":"IF(SUMPRODUCT((A$14:A325=A325)*(B$14:B325=B325)*(C$14:C325=C325))>1,0,1)","v":1},0,0,0,1,0,"Contratos de prestación de servicios profesionales y de apoyo a la gestión","Contratación directa",{"$f":"IFERROR(VLOOKUP(F325,[1]Tipo!$C$12:$C$27,1,FALSE),\"NO\")","v":"Prestación de servicios profesionales y de apoyo a la gestión, o para la ejecución de trabajos artísticos que sólo puedan encomendarse a determinadas personas naturales;"},"Inversión",45]
[258,2019,"FDLSUBA-CPS-258-2019","Contratos de prestación de servicios profesionales y de apoyo a la gestión","Contratación directa","Prestación de servicios profesionales y de apoyo a la gestión, o para la ejecución de trabajos artísticos que sólo puedan encomendarse a determinadas personas naturales;","PRESTAR SERVICIOS PROFESIONALES EN EL AREA DE GESTION DEL DESARROLLO LOCAL DE LA ALCADIA LOCAL DE SUBA EN EL AREA DE PLANEACION, PARA LOGRAR EL CUMPLIMIENTO DE LAS METAS DEL PLAN DE DESARROLLO LOCAL DE LA VIGENCIA.","Inversión",45,{"$f":"IF(ISERROR(VLOOKUP(I326,[1]Eje_Pilar!$C$2:$E$47,2,FALSE)),\" \",VLOOKUP(I326,[1]Eje_Pilar!$C$2:$E$47,2,FALSE))","v":"Gobernanza e influencia local, regional e internacional"},{"$f":"IF(ISERROR(VLOOKUP(I326,[1]Eje_Pilar!$C$2:$E$47,3,FALSE)),\" \",VLOOKUP(I326,[1]Eje_Pilar!$C$2:$E$47,3,FALSE))","v":"Eje Transversal 4 Gobierno Legitimo, Fortalecimiento Local y Eficiencia"},"3-3-1-15-07-45-1478-000",52438410,"YAZMIN  ARIZA ULLOA",52080000,null,0,null,null,52080000,43050000,"2019-04-25","2019-04-25","2019-12-31",250,null,null,null,null,"X",null,82.661290322580655,{"$f":"IF(SUMPRODUCT((A$14:A326=A326)*(B$14:B326=B326)*(C$14:C326=C326))>1,0,1)","v":1},0,0,0,1,0,"Contratos de prestación de servicios profesionales y de apoyo a la gestión","Contratación directa",{"$f":"IFERROR(VLOOKUP(F326,[1]Tipo!$C$12:$C$27,1,FALSE),\"NO\")","v":"Prestación de servicios profesionales y de apoyo a la gestión, o para la ejecución de trabajos artísticos que sólo puedan encomendarse a determinadas personas naturales;"},"Inversión",45]
[259,2019,"FDLSUBA-MC-001-2019","Contratos de prestación de servicios","Contratación mínima cuantia","No aplica","PRESTAR SERVICOS DE LOGISTICA Y APOYO PARA LA RENDICION DE CUENTAS DE LA VIGENCIA 2018 DE LA ALCALDIA LOCAL DE SUBA.","Inversión",45,{"$f":"IF(ISERROR(VLOOKUP(I327,[1]Eje_Pilar!$C$2:$E$47,2,FALSE)),\" \",VLOOKUP(I327,[1]Eje_Pilar!$C$2:$E$47,2,FALSE))","v":"Gobernanza e influencia local, regional e internacional"},{"$f":"IF(ISERROR(VLOOKUP(I327,[1]Eje_Pilar!$C$2:$E$47,3,FALSE)),\" \",VLOOKUP(I327,[1]Eje_Pilar!$C$2:$E$47,3,FALSE))","v":"Eje Transversal 4 Gobierno Legitimo, Fortalecimiento Local y Eficiencia"},"3-3-1-15-07-45-1478-000","901.179.458-7","T&R SOLUTIONS ROBRI SAS",16160556,null,0,null,null,16160556,16160556,"2019-04-25","2019-04-25","2019-12-31",270,null,null,null,null,"X",null,100,{"$f":"IF(SUMPRODUCT((A$14:A327=A327)*(B$14:B327=B327)*(C$14:C327=C327))>1,0,1)","v":1},0,0,0,1,0,"Contratos de prestación de servicios","Contratación mínima cuantia",{"$f":"IFERROR(VLOOKUP(F327,[1]Tipo!$C$12:$C$27,1,FALSE),\"NO\")","v":"NO"},"Inversión",45]
[260,2019,"FDLSUBA-CPS-260-2019","Contratos de prestación de servicios profesionales y de apoyo a la gestión","Contratación directa","Prestación de servicios profesionales y de apoyo a la gestión, o para la ejecución de trabajos artísticos que sólo puedan encomendarse a determinadas personas naturales;","CONTRATAR EL SUMINISTRO DE REFRIGERIOS A PRECIOS UNITARIOS Y A MONTO AGOTABLE, DE ACUERDO A LAS ESPECIFICACIONES REQUERIDAS POR EL FONDO DE DESARROLLO LOCAL DE SUBA EN EL MARCO DE LAS ACTIVIDADES QUE SE LLEVAN A CABO EN LA LOCALIDAD POR PARTE DE LA ALCALDIA LOCAL EN EL CUMPLIMIENTO DE SU MISION INSTITUCIONAL.","Inversión",45,{"$f":"IF(ISERROR(VLOOKUP(I328,[1]Eje_Pilar!$C$2:$E$47,2,FALSE)),\" \",VLOOKUP(I328,[1]Eje_Pilar!$C$2:$E$47,2,FALSE))","v":"Gobernanza e influencia local, regional e internacional"},{"$f":"IF(ISERROR(VLOOKUP(I328,[1]Eje_Pilar!$C$2:$E$47,3,FALSE)),\" \",VLOOKUP(I328,[1]Eje_Pilar!$C$2:$E$47,3,FALSE))","v":"Eje Transversal 4 Gobierno Legitimo, Fortalecimiento Local y Eficiencia"},"3-3-1-15-07-45-1478-000","800081700-6","FRUPYS LTDA",23000000,null,0,1,7000000,30000000,22766800,"2019-04-30","2019-04-30","2019-12-31",245,null,null,null,"X",null,null,75.889333333333326,{"$f":"IF(SUMPRODUCT((A$14:A328=A328)*(B$14:B328=B328)*(C$14:C328=C328))>1,0,1)","v":1},0,0,1,0,0,"Contratos de prestación de servicios profesionales y de apoyo a la gestión","Contratación directa",{"$f":"IFERROR(VLOOKUP(F328,[1]Tipo!$C$12:$C$27,1,FALSE),\"NO\")","v":"Prestación de servicios profesionales y de apoyo a la gestión, o para la ejecución de trabajos artísticos que sólo puedan encomendarse a determinadas personas naturales;"},"Inversión",45]
[261,2019,"FDLSUBA-CPS-261-2019","Contratos de prestación de servicios profesionales y de apoyo a la gestión","Contratación directa","Prestación de servicios profesionales y de apoyo a la gestión, o para la ejecución de trabajos artísticos que sólo puedan encomendarse a determinadas personas naturales;","PRESTAR SERVICIOS PROFESIONALES EN EL AREA DE GESTION DEL DESARROLLO LOCAL DE LA ALCALDIA LOCAL DE SUBA, PARA EL APOYO A LA EJECUCION INTEGRAL DE LOS DIFERENTES PROYECTOS DE INVERSION DESTINADOS A LA INTERVENCION DE LA MALLA VIAL, ESPACIO PUBLICO Y PARQUES DE LA LOCALIDAD DE SUBA. NO HAY 16620.","Inversión",18,{"$f":"IF(ISERROR(VLOOKUP(I329,[1]Eje_Pilar!$C$2:$E$47,2,FALSE)),\" \",VLOOKUP(I329,[1]Eje_Pilar!$C$2:$E$47,2,FALSE))","v":"Mejor movilidad para todos"},{"$f":"IF(ISERROR(VLOOKUP(I329,[1]Eje_Pilar!$C$2:$E$47,3,FALSE)),\" \",VLOOKUP(I329,[1]Eje_Pilar!$C$2:$E$47,3,FALSE))","v":"Pilar 2 Democracía Urbana"},"3-3-1-15-02-18-1506-000",1014192545,"CARLOS ROBERTO SUAREZ OLAYA",32266660,null,0,1,2786666,35053326,26986666,"2019-05-24","2019-05-24","2020-01-21",220,21,null,null,null,"X",null,76.987461903044519,{"$f":"IF(SUMPRODUCT((A$14:A329=A329)*(B$14:B329=B329)*(C$14:C329=C329))>1,0,1)","v":1},0,0,0,1,0,"Contratos de prestación de servicios profesionales y de apoyo a la gestión","Contratación directa",{"$f":"IFERROR(VLOOKUP(F329,[1]Tipo!$C$12:$C$27,1,FALSE),\"NO\")","v":"Prestación de servicios profesionales y de apoyo a la gestión, o para la ejecución de trabajos artísticos que sólo puedan encomendarse a determinadas personas naturales;"},"Inversión",18]
[262,2019,"FDLSUBA-CPS-262-2019","Contratos de prestación de servicios profesionales y de apoyo a la gestión","Contratación directa","Prestación de servicios profesionales y de apoyo a la gestión, o para la ejecución de trabajos artísticos que sólo puedan encomendarse a determinadas personas naturales;","SERVICIOS DE APOYO AL AREA GESTION DE DESARROLLO LOCAL EN EL CENTRO DE DOCUMENTACION E INFORMACION - CDI, EN LA RECEPCION PARA LA ATENCION DEL CONMUTADOR DE LA ALCALDIA LOCAL DE SUBA.","Inversión",45,{"$f":"IF(ISERROR(VLOOKUP(I330,[1]Eje_Pilar!$C$2:$E$47,2,FALSE)),\" \",VLOOKUP(I330,[1]Eje_Pilar!$C$2:$E$47,2,FALSE))","v":"Gobernanza e influencia local, regional e internacional"},{"$f":"IF(ISERROR(VLOOKUP(I330,[1]Eje_Pilar!$C$2:$E$47,3,FALSE)),\" \",VLOOKUP(I330,[1]Eje_Pilar!$C$2:$E$47,3,FALSE))","v":"Eje Transversal 4 Gobierno Legitimo, Fortalecimiento Local y Eficiencia"},"3-3-1-15-07-45-1478-000",53167628,"FRANCY ALEJANDRA BULLA BAJONERO",16016000,null,0,null,null,16016000,13613600,"2019-05-23","2019-05-23","2019-12-31",220,null,null,null,null,"X",null,85,{"$f":"IF(SUMPRODUCT((A$14:A330=A330)*(B$14:B330=B330)*(C$14:C330=C330))>1,0,1)","v":1},0,0,0,1,0,"Contratos de prestación de servicios profesionales y de apoyo a la gestión","Contratación directa",{"$f":"IFERROR(VLOOKUP(F330,[1]Tipo!$C$12:$C$27,1,FALSE),\"NO\")","v":"Prestación de servicios profesionales y de apoyo a la gestión, o para la ejecución de trabajos artísticos que sólo puedan encomendarse a determinadas personas naturales;"},"Inversión",45]
[263,2019,"FDLSUBA-MC-002-2019","Contratos de prestación de servicios","Contratación mínima cuantia","No aplica","CONTRATAR LA RECARGA, MANTENIMIENTO PREVENTIVO Y CORRECTIVO DE 102 EXTINTORES DE PROPIEDAD DE LA ALCALDIA LOCAL DE SUBA.","Funcionamiento","No aplica",{"$f":"IF(ISERROR(VLOOKUP(I331,[1]Eje_Pilar!$C$2:$E$47,2,FALSE)),\" \",VLOOKUP(I331,[1]Eje_Pilar!$C$2:$E$47,2,FALSE))","v":" "},{"$f":"IF(ISERROR(VLOOKUP(I331,[1]Eje_Pilar!$C$2:$E$47,3,FALSE)),\" \",VLOOKUP(I331,[1]Eje_Pilar!$C$2:$E$47,3,FALSE))","v":" "},"3-1-2-02-01-02-0005-000","900.303.789-8","EXTINTORES PROTECCION Y SEÑALIZACIONES DE COLOMBIA SAS",5843000,null,0,null,null,5843000,5843000,"2019-05-27","2019-05-27","2019-12-31",15,null,null,null,null,"X",null,100,{"$f":"IF(SUMPRODUCT((A$14:A331=A331)*(B$14:B331=B331)*(C$14:C331=C331))>1,0,1)","v":1},0,0,0,1,0,"Contratos de prestación de servicios","Contratación mínima cuantia",{"$f":"IFERROR(VLOOKUP(F331,[1]Tipo!$C$12:$C$27,1,FALSE),\"NO\")","v":"NO"},"Funcionamiento","NO"]
[264,2019,"FDLSUBA-CPS-264-2019","Contratos de prestación de servicios profesionales y de apoyo a la gestión","Contratación directa","Prestación de servicios profesionales y de apoyo a la gestión, o para la ejecución de trabajos artísticos que sólo puedan encomendarse a determinadas personas naturales;","APOYAR ADMINISTRATIVA Y ASISTENCIALMENTE A LA ALCALDIA LOCAL DE SUBA EN LAS DIFERENTES DEPENDENCIAS CON LA OPORTUNIDAD Y CONFIDENCIALIDAD REQUERIDA. NO HAY 16678.","Inversión",45,{"$f":"IF(ISERROR(VLOOKUP(I332,[1]Eje_Pilar!$C$2:$E$47,2,FALSE)),\" \",VLOOKUP(I332,[1]Eje_Pilar!$C$2:$E$47,2,FALSE))","v":"Gobernanza e influencia local, regional e internacional"},{"$f":"IF(ISERROR(VLOOKUP(I332,[1]Eje_Pilar!$C$2:$E$47,3,FALSE)),\" \",VLOOKUP(I332,[1]Eje_Pilar!$C$2:$E$47,3,FALSE))","v":"Eje Transversal 4 Gobierno Legitimo, Fortalecimiento Local y Eficiencia"},"3-3-1-15-07-45-1478-000",1019154351,"JESSYCA JINETH AVELLA FIGUEROA",15870400,null,0,null,null,15870400,13176800,"2019-05-28","2019-05-28","2019-12-31",218,null,null,null,null,"X",null,83.027522935779814,{"$f":"IF(SUMPRODUCT((A$14:A332=A332)*(B$14:B332=B332)*(C$14:C332=C332))>1,0,1)","v":1},0,0,0,1,0,"Contratos de prestación de servicios profesionales y de apoyo a la gestión","Contratación directa",{"$f":"IFERROR(VLOOKUP(F332,[1]Tipo!$C$12:$C$27,1,FALSE),\"NO\")","v":"Prestación de servicios profesionales y de apoyo a la gestión, o para la ejecución de trabajos artísticos que sólo puedan encomendarse a determinadas personas naturales;"},"Inversión",45]
[265,2019,"FDLSUBA-CPS-265-2019","Contratos de prestación de servicios profesionales y de apoyo a la gestión","Contratación directa","Prestación de servicios profesionales y de apoyo a la gestión, o para la ejecución de trabajos artísticos que sólo puedan encomendarse a determinadas personas naturales;","APOYAR AL (A) ALCALDE (SA) LOCAL EN EL FORTALECIMIENTO E INCLUSION DE LAS COMUNIDADES NEGRAS, AFROCOLOMBIANAS Y PALANQUERAS EN EL MARCO DE LA POLITICA PUBLICA DISTRITAL AFRODESCENDIENTES Y LOS ESPACIOS DE PARTICIPACION.","Inversión",45,{"$f":"IF(ISERROR(VLOOKUP(I333,[1]Eje_Pilar!$C$2:$E$47,2,FALSE)),\" \",VLOOKUP(I333,[1]Eje_Pilar!$C$2:$E$47,2,FALSE))","v":"Gobernanza e influencia local, regional e internacional"},{"$f":"IF(ISERROR(VLOOKUP(I333,[1]Eje_Pilar!$C$2:$E$47,3,FALSE)),\" \",VLOOKUP(I333,[1]Eje_Pilar!$C$2:$E$47,3,FALSE))","v":"Eje Transversal 4 Gobierno Legitimo, Fortalecimiento Local y Eficiencia"},"3-3-1-15-07-45-1483-000",11800501,"GLEN HARLEY LOPEZ MURILLO",36186666,null,0,null,null,36186666,27753333,"2019-05-28","2019-05-28","2020-01-21",236,21,null,null,null,"X",null,76.694915746037509,{"$f":"IF(SUMPRODUCT((A$14:A333=A333)*(B$14:B333=B333)*(C$14:C333=C333))>1,0,1)","v":1},0,0,0,1,0,"Contratos de prestación de servicios profesionales y de apoyo a la gestión","Contratación directa",{"$f":"IFERROR(VLOOKUP(F333,[1]Tipo!$C$12:$C$27,1,FALSE),\"NO\")","v":"Prestación de servicios profesionales y de apoyo a la gestión, o para la ejecución de trabajos artísticos que sólo puedan encomendarse a determinadas personas naturales;"},"Inversión",45]
[266,2019,"FDLSUBA-CPS-266-2019","Contratos de prestación de servicios profesionales y de apoyo a la gestión","Contratación directa","Prestación de servicios profesionales y de apoyo a la gestión, o para la ejecución de trabajos artísticos que sólo puedan encomendarse a determinadas personas naturales;","APOYAR TECNICAMENTE LAS DISTINTAS ETAPAS DE LOS PROCESOS DE COMPETENCIA DE LA ALCALDIA LOCAL PARA LA DEPURACION DE ACTUACIONES ADMINISTRATIVAS. NO HAY 16679.","Inversión",45,{"$f":"IF(ISERROR(VLOOKUP(I334,[1]Eje_Pilar!$C$2:$E$47,2,FALSE)),\" \",VLOOKUP(I334,[1]Eje_Pilar!$C$2:$E$47,2,FALSE))","v":"Gobernanza e influencia local, regional e internacional"},{"$f":"IF(ISERROR(VLOOKUP(I334,[1]Eje_Pilar!$C$2:$E$47,3,FALSE)),\" \",VLOOKUP(I334,[1]Eje_Pilar!$C$2:$E$47,3,FALSE))","v":"Eje Transversal 4 Gobierno Legitimo, Fortalecimiento Local y Eficiencia"},"3-3-1-15-07-45-1481-000",79535331,"VICTOR ANDRES VILLA MURILLO",45780000,null,0,null,null,45780000,31710000,"2019-05-29","2019-05-29","2019-12-31",216,null,null,null,null,"X",null,69.266055045871553,{"$f":"IF(SUMPRODUCT((A$14:A334=A334)*(B$14:B334=B334)*(C$14:C334=C334))>1,0,1)","v":1},0,0,0,1,0,"Contratos de prestación de servicios profesionales y de apoyo a la gestión","Contratación directa",{"$f":"IFERROR(VLOOKUP(F334,[1]Tipo!$C$12:$C$27,1,FALSE),\"NO\")","v":"Prestación de servicios profesionales y de apoyo a la gestión, o para la ejecución de trabajos artísticos que sólo puedan encomendarse a determinadas personas naturales;"},"Inversión",45]
[267,2019,"FDLSUBA-CPS-267-2019","Contratos de prestación de servicios profesionales y de apoyo a la gestión","Contratación directa","Prestación de servicios profesionales y de apoyo a la gestión, o para la ejecución de trabajos artísticos que sólo puedan encomendarse a determinadas personas naturales;","PRESTAR LOS SERVICIOS DE APOYO PARA EL FORTALECIMIENTO A LA GESTION LOCAL DE PROCESOS INSTITUCIONALES Y SOCIALES DE INTERES PUBLICO ARTICULADA POR EL FONDO DE DESARROLLO LOCAL DE SUBA EN COMPAÑIA DE SECTORES ADMINISTRATIVOS DEL DISTRITO, INSTANCIAS Y ORGANIZACIONES SOCIALES EN LA LOCALIDAD. NO HAY 16694.","Inversión",45,{"$f":"IF(ISERROR(VLOOKUP(I335,[1]Eje_Pilar!$C$2:$E$47,2,FALSE)),\" \",VLOOKUP(I335,[1]Eje_Pilar!$C$2:$E$47,2,FALSE))","v":"Gobernanza e influencia local, regional e internacional"},{"$f":"IF(ISERROR(VLOOKUP(I335,[1]Eje_Pilar!$C$2:$E$47,3,FALSE)),\" \",VLOOKUP(I335,[1]Eje_Pilar!$C$2:$E$47,3,FALSE))","v":"Eje Transversal 4 Gobierno Legitimo, Fortalecimiento Local y Eficiencia"},"3-3-1-15-07-45-1478-000",1065655557,"ANGELICA MARIA DIAZ FONSECA",12376000,null,0,null,null,12376000,10666933,"2019-05-31","2019-05-31","2019-12-31",218,null,null,null,null,"X",null,{"$f":"(IF(ISERROR(U335/T335),\"-\",(U335/T335)))*100","v":86.190473497091148},{"$f":"IF(SUMPRODUCT((A$14:A335=A335)*(B$14:B335=B335)*(C$14:C335=C335))>1,0,1)","v":1},{"$f":"IF(AND(AA335=\"X\",AG335=1 ),1,0)","v":0},{"$f":"IF(AND(AB335=\"X\",AG335=1 ),1,0)","v":0},{"$f":"IF(AND(AC335=\"X\",AG335=1 ),1,0)","v":0},{"$f":"IF(AND(AD335=\"X\",AG335=1 ),1,0)","v":1},{"$f":"IF(AND(AE335=\"X\",AG335=1 ),1,0)","v":0},"Contratos de prestación de servicios profesionales y de apoyo a la gestión","Contratación directa",{"$f":"IFERROR(VLOOKUP(F335,[1]Tipo!$C$12:$C$27,1,FALSE),\"NO\")","v":"Prestación de servicios profesionales y de apoyo a la gestión, o para la ejecución de trabajos artísticos que sólo puedan encomendarse a determinadas personas naturales;"},"Inversión",45]
[268,2019,"FDLSUBA-CPS-268-2019","Contratos de prestación de servicios profesionales y de apoyo a la gestión","Contratación directa","Prestación de servicios profesionales y de apoyo a la gestión, o para la ejecución de trabajos artísticos que sólo puedan encomendarse a determinadas personas naturales;","PRESTAR LOS SERVICIOS DE APOYO PARA EL FORTALECIMIENTO A LA GESTION LOCAL DE PROCESOS INSTITUCIONALES Y SOCIALES DE INTERES PUBLICO ARTICULADA POR EL FONDO DE DESARROLLO LOCAL DE SUBA EN COMPAÑIA DE SECTORES ADMINISTRATIVOS DEL DISTRITO, INSTANCIAS Y ORGANIZACIONES SOCIALES EN LA LOCALIDAD. NO HAY 16694.","Inversión",45,{"$f":"IF(ISERROR(VLOOKUP(I336,[1]Eje_Pilar!$C$2:$E$47,2,FALSE)),\" \",VLOOKUP(I336,[1]Eje_Pilar!$C$2:$E$47,2,FALSE))","v":"Gobernanza e influencia local, regional e internacional"},{"$f":"IF(ISERROR(VLOOKUP(I336,[1]Eje_Pilar!$C$2:$E$47,3,FALSE)),\" \",VLOOKUP(I336,[1]Eje_Pilar!$C$2:$E$47,3,FALSE))","v":"Eje Transversal 4 Gobierno Legitimo, Fortalecimiento Local y Eficiencia"},"3-3-1-15-07-45-1478-000",80226190,"RICHARD OSWALDO CRUZ ARIAS",12376000,null,0,null,null,12376000,10666933,"2019-05-30","2019-05-30","2019-12-31",210,null,null,null,null,"X",null,86.190473497091148,{"$f":"IF(SUMPRODUCT((A$14:A336=A336)*(B$14:B336=B336)*(C$14:C336=C336))>1,0,1)","v":1},0,0,0,1,0,"Contratos de prestación de servicios profesionales y de apoyo a la gestión","Contratación directa",{"$f":"IFERROR(VLOOKUP(F336,[1]Tipo!$C$12:$C$27,1,FALSE),\"NO\")","v":"Prestación de servicios profesionales y de apoyo a la gestión, o para la ejecución de trabajos artísticos que sólo puedan encomendarse a determinadas personas naturales;"},"Inversión",45]
[269,2019,"FDLSUBA-CPS-269-2019","Contratos de prestación de servicios profesionales y de apoyo a la gestión","Contratación directa","Prestación de servicios profesionales y de apoyo a la gestión, o para la ejecución de trabajos artísticos que sólo puedan encomendarse a determinadas personas naturales;","APOYAR JURIDICAMENTE LA EJECUCION DE LAS ACCIONES REQUERIDAS PARA LA DEPURACION DE LAS ACTUACIONES ADMINISTRATIVAS QUE CURSAN EN LA ALCALDIA LOCAL. NO HAY 16621.","Inversión",45,{"$f":"IF(ISERROR(VLOOKUP(I337,[1]Eje_Pilar!$C$2:$E$47,2,FALSE)),\" \",VLOOKUP(I337,[1]Eje_Pilar!$C$2:$E$47,2,FALSE))","v":"Gobernanza e influencia local, regional e internacional"},{"$f":"IF(ISERROR(VLOOKUP(I337,[1]Eje_Pilar!$C$2:$E$47,3,FALSE)),\" \",VLOOKUP(I337,[1]Eje_Pilar!$C$2:$E$47,3,FALSE))","v":"Eje Transversal 4 Gobierno Legitimo, Fortalecimiento Local y Eficiencia"},"3-3-1-15-07-45-1478-000",52495793,"MONICA JOHANA FUENTES USECHE",35726666,null,0,null,null,35726666,26680000,"2019-06-07","2019-06-07","2019-12-31",233,null,null,null,null,"X",null,74.678112981491196,{"$f":"IF(SUMPRODUCT((A$14:A337=A337)*(B$14:B337=B337)*(C$14:C337=C337))>1,0,1)","v":1},0,0,0,1,0,"Contratos de prestación de servicios profesionales y de apoyo a la gestión","Contratación directa",{"$f":"IFERROR(VLOOKUP(F337,[1]Tipo!$C$12:$C$27,1,FALSE),\"NO\")","v":"Prestación de servicios profesionales y de apoyo a la gestión, o para la ejecución de trabajos artísticos que sólo puedan encomendarse a determinadas personas naturales;"},"Inversión",45]
[270,2019,"FDLSUBA-CPS-270-2019","Contratos de prestación de servicios profesionales y de apoyo a la gestión","Contratación directa","Prestación de servicios profesionales y de apoyo a la gestión, o para la ejecución de trabajos artísticos que sólo puedan encomendarse a determinadas personas naturales;","PRESTAR LOS SERVICIOS DE APOYO PARA EL FORTALECIMIENTO A LA GESTION LOCAL DE PROCESOS INSTITUCIONALES Y SOCIALES DE INTERES PUBLICO ARTICULADA POR EL FONDO DE DESARROLLO LOCAL DE SUBA EN COMPAÑIA DE SECTORES ADMINISTRATIVOS DEL DISTRITO, INSTANCIAS Y ORGANIZACIONES SOCIALES EN LA LOCALIDAD. NO HAY 16694.","Inversión",45,{"$f":"IF(ISERROR(VLOOKUP(I338,[1]Eje_Pilar!$C$2:$E$47,2,FALSE)),\" \",VLOOKUP(I338,[1]Eje_Pilar!$C$2:$E$47,2,FALSE))","v":"Gobernanza e influencia local, regional e internacional"},{"$f":"IF(ISERROR(VLOOKUP(I338,[1]Eje_Pilar!$C$2:$E$47,3,FALSE)),\" \",VLOOKUP(I338,[1]Eje_Pilar!$C$2:$E$47,3,FALSE))","v":"Eje Transversal 4 Gobierno Legitimo, Fortalecimiento Local y Eficiencia"},"3-3-1-15-07-45-1478-000",1110544775,"ANGELICA YINED GUERRERO BOHORQUEZ",12376000,null,0,null,null,12376000,10313333,"2019-06-04","2019-06-04","2019-12-31",210,null,null,null,null,"X",null,83.333330639948286,{"$f":"IF(SUMPRODUCT((A$14:A338=A338)*(B$14:B338=B338)*(C$14:C338=C338))>1,0,1)","v":1},0,0,0,1,0,"Contratos de prestación de servicios profesionales y de apoyo a la gestión","Contratación directa",{"$f":"IFERROR(VLOOKUP(F338,[1]Tipo!$C$12:$C$27,1,FALSE),\"NO\")","v":"Prestación de servicios profesionales y de apoyo a la gestión, o para la ejecución de trabajos artísticos que sólo puedan encomendarse a determinadas personas naturales;"},"Inversión",45]
[271,2019,"FDLSUBA-CPS-271-2019","Contratos de prestación de servicios profesionales y de apoyo a la gestión","Contratación directa","Prestación de servicios profesionales y de apoyo a la gestión, o para la ejecución de trabajos artísticos que sólo puedan encomendarse a determinadas personas naturales;","PRESTAR LOS SERVICIOS DE APOYO PARA EL FORTALECIMIENTO A LA GESTION LOCAL DE PROCESOS INSTITUCIONALES Y SOCIALES DE INTERES PUBLICO ARTICULADA POR EL FONDO DE DESARROLLO LOCAL DE SUBA EN COMPAÑIA DE SECTORES ADMINISTRATIVOS DEL DISTRITO, INSTANCIAS Y ORGANIZACIONES SOCIALES EN LA LOCALIDAD. NO HAY 16694.","Inversión",45,{"$f":"IF(ISERROR(VLOOKUP(I339,[1]Eje_Pilar!$C$2:$E$47,2,FALSE)),\" \",VLOOKUP(I339,[1]Eje_Pilar!$C$2:$E$47,2,FALSE))","v":"Gobernanza e influencia local, regional e internacional"},{"$f":"IF(ISERROR(VLOOKUP(I339,[1]Eje_Pilar!$C$2:$E$47,3,FALSE)),\" \",VLOOKUP(I339,[1]Eje_Pilar!$C$2:$E$47,3,FALSE))","v":"Eje Transversal 4 Gobierno Legitimo, Fortalecimiento Local y Eficiencia"},"3-3-1-15-07-45-1478-000",79372964,"CARLOS ALBERTO LOZANO MIER",12376000,null,0,1,1060800,13436800,10254400,"2019-06-04","2019-06-04","2020-01-21",210,21,null,null,null,"X",null,76.31578947368422,{"$f":"IF(SUMPRODUCT((A$14:A339=A339)*(B$14:B339=B339)*(C$14:C339=C339))>1,0,1)","v":1},0,0,0,1,0,"Contratos de prestación de servicios profesionales y de apoyo a la gestión","Contratación directa",{"$f":"IFERROR(VLOOKUP(F339,[1]Tipo!$C$12:$C$27,1,FALSE),\"NO\")","v":"Prestación de servicios profesionales y de apoyo a la gestión, o para la ejecución de trabajos artísticos que sólo puedan encomendarse a determinadas personas naturales;"},"Inversión",45]
[272,2019,"FDLSUBA-CPS-272-2019","Contratos de prestación de servicios profesionales y de apoyo a la gestión","Contratación directa","Prestación de servicios profesionales y de apoyo a la gestión, o para la ejecución de trabajos artísticos que sólo puedan encomendarse a determinadas personas naturales;","PRESTAR LOS SERVICIOS PROFESIONALES COMO ABOGADO (A) PARA APOYAR LA GESTION CONTRACTUAL DEL AREA DE GESTION DEL DESARROLLO LOCAL DE LA ALCALDIA LOCAL DE SUBA, EN LOS DIFERENTES PROCESOS DE SELECCION EN SUS ETAPAS PRE-CONTRACTUAL, CONTRACTUAL Y POST-CONTRACTUAL.","Inversión",45,{"$f":"IF(ISERROR(VLOOKUP(I340,[1]Eje_Pilar!$C$2:$E$47,2,FALSE)),\" \",VLOOKUP(I340,[1]Eje_Pilar!$C$2:$E$47,2,FALSE))","v":"Gobernanza e influencia local, regional e internacional"},{"$f":"IF(ISERROR(VLOOKUP(I340,[1]Eje_Pilar!$C$2:$E$47,3,FALSE)),\" \",VLOOKUP(I340,[1]Eje_Pilar!$C$2:$E$47,3,FALSE))","v":"Eje Transversal 4 Gobierno Legitimo, Fortalecimiento Local y Eficiencia"},"3-3-1-15-07-45-1478-000",32876252,"ROSALIANA MERCEDES CORREA CANTILLO",44100000,null,0,1,3150000,47250000,35910000,"2019-06-07","2019-06-07","2020-01-21",210,21,null,null,null,"X",null,76,{"$f":"IF(SUMPRODUCT((A$14:A340=A340)*(B$14:B340=B340)*(C$14:C340=C340))>1,0,1)","v":1},0,0,0,1,0,"Contratos de prestación de servicios profesionales y de apoyo a la gestión","Contratación directa",{"$f":"IFERROR(VLOOKUP(F340,[1]Tipo!$C$12:$C$27,1,FALSE),\"NO\")","v":"Prestación de servicios profesionales y de apoyo a la gestión, o para la ejecución de trabajos artísticos que sólo puedan encomendarse a determinadas personas naturales;"},"Inversión",45]
[273,2019,"FDLSUBA-CPS-273-2019","Contratos de prestación de servicios profesionales y de apoyo a la gestión","Contratación directa","Prestación de servicios profesionales y de apoyo a la gestión, o para la ejecución de trabajos artísticos que sólo puedan encomendarse a determinadas personas naturales;","PRESTAR SERVICIOS DE APOYO A LOS ARCHIVOS DE GESTION DE LA ENTIDAD EN LA IMPLEMENTACION DE LOS PROCESOS DE CLASIFICACION, ORDENACION, SELECCION NATURAL, FOLIACION, IDENTIFICACION, LEVANTAMIENTO DE INVENTARIOS, ALMACENAMIENTO Y APLICACION DE PROTOCOLOS DE ELIMINACION Y TRANSFERENCIAS DOCUMENTALES. NO HAY 16690.","Inversión",45,{"$f":"IF(ISERROR(VLOOKUP(I341,[1]Eje_Pilar!$C$2:$E$47,2,FALSE)),\" \",VLOOKUP(I341,[1]Eje_Pilar!$C$2:$E$47,2,FALSE))","v":"Gobernanza e influencia local, regional e internacional"},{"$f":"IF(ISERROR(VLOOKUP(I341,[1]Eje_Pilar!$C$2:$E$47,3,FALSE)),\" \",VLOOKUP(I341,[1]Eje_Pilar!$C$2:$E$47,3,FALSE))","v":"Eje Transversal 4 Gobierno Legitimo, Fortalecimiento Local y Eficiencia"},"3-3-1-15-07-45-1478-000",24149355,"GLADIS LUCIA FERNANDEZ MONTAÑA",15943200,null,0,1,364000,16307200,12376000,"2019-06-11","2019-06-11","2020-01-21",219,21,null,null,null,"X",null,75.892857142857139,{"$f":"IF(SUMPRODUCT((A$14:A341=A341)*(B$14:B341=B341)*(C$14:C341=C341))>1,0,1)","v":1},0,0,0,1,0,"Contratos de prestación de servicios profesionales y de apoyo a la gestión","Contratación directa",{"$f":"IFERROR(VLOOKUP(F341,[1]Tipo!$C$12:$C$27,1,FALSE),\"NO\")","v":"Prestación de servicios profesionales y de apoyo a la gestión, o para la ejecución de trabajos artísticos que sólo puedan encomendarse a determinadas personas naturales;"},"Inversión",45]
[274,2019,"FDLSUBA-CPS-274-2019","Contratos de prestación de servicios profesionales y de apoyo a la gestión","Contratación directa","Prestación de servicios profesionales y de apoyo a la gestión, o para la ejecución de trabajos artísticos que sólo puedan encomendarse a determinadas personas naturales;","PRESTAR SERVICIOS PROFESIONALES ESPECIALIZADOS EN EL AREA DE GESTION DEL DESARROLLO LOCAL DE LA ALCALDIA LOCAL DE SUBA, PARA EL APOYO A LA EJECUCION INTEGRAL DE LOS DIFERENTES PROYECTOS DE INVERSION DESTINADOS A LA INTERVENCION DE LA MALLA VIAL, ESPACIO PUBLICO Y PARQUES DE LA LOCALIDAD DE SUBA.","Inversión",18,{"$f":"IF(ISERROR(VLOOKUP(I342,[1]Eje_Pilar!$C$2:$E$47,2,FALSE)),\" \",VLOOKUP(I342,[1]Eje_Pilar!$C$2:$E$47,2,FALSE))","v":"Mejor movilidad para todos"},{"$f":"IF(ISERROR(VLOOKUP(I342,[1]Eje_Pilar!$C$2:$E$47,3,FALSE)),\" \",VLOOKUP(I342,[1]Eje_Pilar!$C$2:$E$47,3,FALSE))","v":"Pilar 2 Democracía Urbana"},"3-3-1-15-02-18-1506-000",79423577,"CARLOS EDUARDO LONDONO NARANJO",49640000,null,0,null,null,49640000,41610000,"2019-06-07","2019-06-07","2019-12-31",207,null,null,null,null,"X",null,83.82352941176471,{"$f":"IF(SUMPRODUCT((A$14:A342=A342)*(B$14:B342=B342)*(C$14:C342=C342))>1,0,1)","v":1},0,0,0,1,0,"Contratos de prestación de servicios profesionales y de apoyo a la gestión","Contratación directa",{"$f":"IFERROR(VLOOKUP(F342,[1]Tipo!$C$12:$C$27,1,FALSE),\"NO\")","v":"Prestación de servicios profesionales y de apoyo a la gestión, o para la ejecución de trabajos artísticos que sólo puedan encomendarse a determinadas personas naturales;"},"Inversión",18]
[275,2019,"FDLSUBA-MC-004-2019","Contratos de prestación de servicios","Contratación mínima cuantia","No aplica","PRESTAR SERVICIOS DE LOGISTICA PARA LA SEMANA DE LA INNOVACION - SUBATIC 2019 EN LA LOCALIDAD DE SUBA.","Inversión",36,{"$f":"IF(ISERROR(VLOOKUP(I343,[1]Eje_Pilar!$C$2:$E$47,2,FALSE)),\" \",VLOOKUP(I343,[1]Eje_Pilar!$C$2:$E$47,2,FALSE))","v":"Bogotá, una ciudad digital"},{"$f":"IF(ISERROR(VLOOKUP(I343,[1]Eje_Pilar!$C$2:$E$47,3,FALSE)),\" \",VLOOKUP(I343,[1]Eje_Pilar!$C$2:$E$47,3,FALSE))","v":"Eje Transversal 2 Desarrollo Económico basado en el conocimiento"},"3-3-1-15-05-36-1504-000","901233668-8","INVERSIONES ISVEL SAS",7277000,null,0,null,null,7277000,7277000,"2019-06-06","2019-06-06","2019-12-31",15,null,null,null,null,"X",null,100,{"$f":"IF(SUMPRODUCT((A$14:A343=A343)*(B$14:B343=B343)*(C$14:C343=C343))>1,0,1)","v":1},0,0,0,1,0,"Contratos de prestación de servicios","Contratación mínima cuantia",{"$f":"IFERROR(VLOOKUP(F343,[1]Tipo!$C$12:$C$27,1,FALSE),\"NO\")","v":"NO"},"Inversión",36]
[276,2019,"FDLSUBA-SAMC-001-2019","Contratos de prestación de servicios","Selección abreviada","Selección abreviada por menor cuantía ","CONTRATAR LA PRESTACION DEL SERVICIO DE TRANSPORTE ESPECIAL TERRESTRE CON CONDUCTORES FIJOS, Y UNA BOLSA DE SERVICIOS DE TRANSPORTE QUE SERAN SOLICITADAS DE ACUERDO A LA NECESIDAD DEL FDLS A MONTO AGOTABLE, PARA APOYAR LAS ACTIVIDADES INHERENTES A LA ALCALDIA LOCAL DE SUBA, DANDO PRIORIDAD A LAS ACTIVIDADES DE INSPECCION, VIGILANCIA Y CONTROL.","Inversión",45,{"$f":"IF(ISERROR(VLOOKUP(I344,[1]Eje_Pilar!$C$2:$E$47,2,FALSE)),\" \",VLOOKUP(I344,[1]Eje_Pilar!$C$2:$E$47,2,FALSE))","v":"Gobernanza e influencia local, regional e internacional"},{"$f":"IF(ISERROR(VLOOKUP(I344,[1]Eje_Pilar!$C$2:$E$47,3,FALSE)),\" \",VLOOKUP(I344,[1]Eje_Pilar!$C$2:$E$47,3,FALSE))","v":"Eje Transversal 4 Gobierno Legitimo, Fortalecimiento Local y Eficiencia"},"3-3-1-15-07-45-1481-000","830.090.037-8","SERVITAC LTDA SERVICIOS DE ALQUILER Y TRANSPORTE ALVARADO Y CUESTA",150000000,null,0,null,null,150000000,109207733,"2019-06-13","2019-06-13","2019-12-31",210,null,null,null,null,"X",null,72.805155333333332,{"$f":"IF(SUMPRODUCT((A$14:A344=A344)*(B$14:B344=B344)*(C$14:C344=C344))>1,0,1)","v":1},0,0,0,1,0,"Contratos de prestación de servicios","Selección abreviada",{"$f":"IFERROR(VLOOKUP(F344,[1]Tipo!$C$12:$C$27,1,FALSE),\"NO\")","v":"Selección abreviada por menor cuantía "},"Inversión",45]
[277,2019,"FDLSUBA-CPS-277-2019","Contratos de prestación de servicios profesionales y de apoyo a la gestión","Contratación directa","Prestación de servicios profesionales y de apoyo a la gestión, o para la ejecución de trabajos artísticos que sólo puedan encomendarse a determinadas personas naturales;","PRESTAR LOS SERVICIOS DE APOYO PARA EL FORTALECIMIENTO A LA GESTION LOCAL DE PROCESOS INSTITUCIONALES Y SOCIALES DE INTERES PUBLICO ARTICULADA POR EL FONDO DE DESARROLLO LOCAL DE SUBA EN COMPAÑIA DE SECTORES ADMINISTRATIVOS DEL DISTRITO, INSTANCIAS Y ORGANIZACIONES SOCIALES EN LA LOCALIDAD. NO HAY 16694.","Inversión",45,{"$f":"IF(ISERROR(VLOOKUP(I345,[1]Eje_Pilar!$C$2:$E$47,2,FALSE)),\" \",VLOOKUP(I345,[1]Eje_Pilar!$C$2:$E$47,2,FALSE))","v":"Gobernanza e influencia local, regional e internacional"},{"$f":"IF(ISERROR(VLOOKUP(I345,[1]Eje_Pilar!$C$2:$E$47,3,FALSE)),\" \",VLOOKUP(I345,[1]Eje_Pilar!$C$2:$E$47,3,FALSE))","v":"Eje Transversal 4 Gobierno Legitimo, Fortalecimiento Local y Eficiencia"},"3-3-1-15-07-45-1478-000",79451072,"JOSE RICARDO BAQUERO OSORIO",12376000,null,0,1,648267,13024267,9841867,"2019-06-13","2019-06-13","2020-01-21",210,21,null,null,null,"X",null,75.565611485083963,{"$f":"IF(SUMPRODUCT((A$14:A345=A345)*(B$14:B345=B345)*(C$14:C345=C345))>1,0,1)","v":1},0,0,0,1,0,"Contratos de prestación de servicios profesionales y de apoyo a la gestión","Contratación directa",{"$f":"IFERROR(VLOOKUP(F345,[1]Tipo!$C$12:$C$27,1,FALSE),\"NO\")","v":"Prestación de servicios profesionales y de apoyo a la gestión, o para la ejecución de trabajos artísticos que sólo puedan encomendarse a determinadas personas naturales;"},"Inversión",45]
[278,2019,"FDLSUBA-CMA-001-2019","Interventoría","Concurso de méritos","No aplica","REALIZAR LA INTEVENTORIA ADMINISTRATIVA, TECNICA, FINANCIERA, CONTABLE Y JURIDICA AL CONTRATO DE CONSULTORIA NUMERO 345 DE 2018 QUE TIENE POR OBJETO \"REALIZAR SIN FORMULA DE REAJUSTE LOS ESTUDIOS Y DISEÑOS DE LA MALLA VIAL Y ESPACIO PUBLICO DE LA LOCALIDAD DE SUBA\".","Inversión",18,{"$f":"IF(ISERROR(VLOOKUP(I346,[1]Eje_Pilar!$C$2:$E$47,2,FALSE)),\" \",VLOOKUP(I346,[1]Eje_Pilar!$C$2:$E$47,2,FALSE))","v":"Mejor movilidad para todos"},{"$f":"IF(ISERROR(VLOOKUP(I346,[1]Eje_Pilar!$C$2:$E$47,3,FALSE)),\" \",VLOOKUP(I346,[1]Eje_Pilar!$C$2:$E$47,3,FALSE))","v":"Pilar 2 Democracía Urbana"},"3-3-1-15-02-18-1506-000",8300353988,"JPS INGENIERIA SOCIEDAD ANONIMA",426256464,null,0,null,null,426256464,0,"2019-06-25","2019-06-25","2019-12-31",300,null,null,null,"X",null,null,0,{"$f":"IF(SUMPRODUCT((A$14:A346=A346)*(B$14:B346=B346)*(C$14:C346=C346))>1,0,1)","v":1},0,0,1,0,0,"Interventoría","Concurso de méritos",{"$f":"IFERROR(VLOOKUP(F346,[1]Tipo!$C$12:$C$27,1,FALSE),\"NO\")","v":"NO"},"Inversión",18]
[280,2019,"FDLSUBA-CPS-280-2019","Contratos de prestación de servicios profesionales y de apoyo a la gestión","Contratación directa","Prestación de servicios profesionales y de apoyo a la gestión, o para la ejecución de trabajos artísticos que sólo puedan encomendarse a determinadas personas naturales;","PRESTAR LOS SERVICIOS DE APOYO PARA EL FORTALECIMIENTO A LA GESTION LOCAL DE PROCESOS INSTITUCIONALES Y SOCIALES DE INTERES PUBLICO ARTICULADA POR EL FONDO DE DESARROLLO LOCAL DE SUBA EN COMPAÑIA DE SECTORES ADMINISTRATIVOS DEL DISTRITO, INSTANCIAS Y ORGANIZACIONES SOCIALES EN LA LOCALIDAD. NO HAY 16694.","Inversión",45,{"$f":"IF(ISERROR(VLOOKUP(I347,[1]Eje_Pilar!$C$2:$E$47,2,FALSE)),\" \",VLOOKUP(I347,[1]Eje_Pilar!$C$2:$E$47,2,FALSE))","v":"Gobernanza e influencia local, regional e internacional"},{"$f":"IF(ISERROR(VLOOKUP(I347,[1]Eje_Pilar!$C$2:$E$47,3,FALSE)),\" \",VLOOKUP(I347,[1]Eje_Pilar!$C$2:$E$47,3,FALSE))","v":"Eje Transversal 4 Gobierno Legitimo, Fortalecimiento Local y Eficiencia"},"3-3-1-15-07-45-1478-000",1019059207,"MARIA PAULA ESPINOSA BOTERO",11197333,null,0,null,null,11197333,9134667,"2019-06-26","2019-06-26","2019-12-31",170,null,null,null,null,"X",null,81.578952773843554,{"$f":"IF(SUMPRODUCT((A$14:A347=A347)*(B$14:B347=B347)*(C$14:C347=C347))>1,0,1)","v":1},0,0,0,1,0,"Contratos de prestación de servicios profesionales y de apoyo a la gestión","Contratación directa",{"$f":"IFERROR(VLOOKUP(F347,[1]Tipo!$C$12:$C$27,1,FALSE),\"NO\")","v":"Prestación de servicios profesionales y de apoyo a la gestión, o para la ejecución de trabajos artísticos que sólo puedan encomendarse a determinadas personas naturales;"},"Inversión",45]
[281,2019,"FDLSUBA-CPS-281-2019","Contratos de prestación de servicios profesionales y de apoyo a la gestión","Contratación directa","Prestación de servicios profesionales y de apoyo a la gestión, o para la ejecución de trabajos artísticos que sólo puedan encomendarse a determinadas personas naturales;","PRESTAR SERVICIOS PARA APOYAR AL ALCALDE(SA) LOCAL EN LA PROMOCION, ACOMPAÑAMIENTO, COORDINACION Y ATENCION DE LAS INSTANCIAS DE COORDINACION INTERINSTITUCIONALES Y LAS INSTANCIAS DE PARTICIPACION LOCALES, ASI COMO LOS PROCESOS COMUNITARIOS EN LA LOCALIDAD.","Inversión",45,{"$f":"IF(ISERROR(VLOOKUP(I348,[1]Eje_Pilar!$C$2:$E$47,2,FALSE)),\" \",VLOOKUP(I348,[1]Eje_Pilar!$C$2:$E$47,2,FALSE))","v":"Gobernanza e influencia local, regional e internacional"},{"$f":"IF(ISERROR(VLOOKUP(I348,[1]Eje_Pilar!$C$2:$E$47,3,FALSE)),\" \",VLOOKUP(I348,[1]Eje_Pilar!$C$2:$E$47,3,FALSE))","v":"Eje Transversal 4 Gobierno Legitimo, Fortalecimiento Local y Eficiencia"},"3-3-1-15-07-45-1483-000",79297972,"JOSE GONZALO ROMERO ACOSTA",43700000,null,0,1,2990000,46690000,34270000,"2019-06-25","2019-06-25","2020-01-21",170,21,null,null,null,"X",null,73.399014778325125,{"$f":"IF(SUMPRODUCT((A$14:A348=A348)*(B$14:B348=B348)*(C$14:C348=C348))>1,0,1)","v":1},0,0,0,1,0,"Contratos de prestación de servicios profesionales y de apoyo a la gestión","Contratación directa",{"$f":"IFERROR(VLOOKUP(F348,[1]Tipo!$C$12:$C$27,1,FALSE),\"NO\")","v":"Prestación de servicios profesionales y de apoyo a la gestión, o para la ejecución de trabajos artísticos que sólo puedan encomendarse a determinadas personas naturales;"},"Inversión",45]
[282,2019,"FDLSUBA-CPS-282-2019","Contratos de prestación de servicios profesionales y de apoyo a la gestión","Contratación directa","Prestación de servicios profesionales y de apoyo a la gestión, o para la ejecución de trabajos artísticos que sólo puedan encomendarse a determinadas personas naturales;","PRESTAR SERVICIOS PROFESIONALES AL AREA DE GESTION DEL DESARROLLO LOCAL DE LA ALCALDIA LOCAL DE SUBA, PARA APOYAR LA SUPERVISION DE CONTRATOS DEL PROYECTO 1426 QUE LE SEAN ASIGNADOS. NO HAY 16692.","Inversión",2,{"$f":"IF(ISERROR(VLOOKUP(I349,[1]Eje_Pilar!$C$2:$E$47,2,FALSE)),\" \",VLOOKUP(I349,[1]Eje_Pilar!$C$2:$E$47,2,FALSE))","v":"Desarrollo integral desde la gestación hasta la adolescencia"},{"$f":"IF(ISERROR(VLOOKUP(I349,[1]Eje_Pilar!$C$2:$E$47,3,FALSE)),\" \",VLOOKUP(I349,[1]Eje_Pilar!$C$2:$E$47,3,FALSE))","v":"Pilar 1 Igualdad de Calidad de Vida"},"3-3-1-15-01-02-1426-000",18955516,"JORGE LUIS MEJIA BARROS",44100000,null,0,null,null,44100000,33600000,"2019-06-21","2019-06-21","2019-12-31",193,null,null,null,null,"X",null,76.19047619047619,{"$f":"IF(SUMPRODUCT((A$14:A349=A349)*(B$14:B349=B349)*(C$14:C349=C349))>1,0,1)","v":1},0,0,0,1,0,"Contratos de prestación de servicios profesionales y de apoyo a la gestión","Contratación directa",{"$f":"IFERROR(VLOOKUP(F349,[1]Tipo!$C$12:$C$27,1,FALSE),\"NO\")","v":"Prestación de servicios profesionales y de apoyo a la gestión, o para la ejecución de trabajos artísticos que sólo puedan encomendarse a determinadas personas naturales;"},"Inversión",2]
[283,2019,"FDLSUBA-CPS-283-2019","Contratos de prestación de servicios profesionales y de apoyo a la gestión","Contratación directa","Prestación de servicios profesionales y de apoyo a la gestión, o para la ejecución de trabajos artísticos que sólo puedan encomendarse a determinadas personas naturales;","PRESTAR LOS SERVICIOS DE APOYO PARA EL FORTALECIMIENTO A LA GESTION LOCAL DE PROCESOS INSTITUCIONALES Y SOCIALES DE INTERES PUBLICO ARTICULADA POR EL FONDO DE DESARROLLO LOCAL DE SUBA EN COMPAÑIA DE SECTORES ADMINISTRATIVOS DEL DISTRITO, INSTANCIAS Y ORGANIZACIONES SOCIALES EN LA LOCALIDAD. NO HAY 16694.","Inversión",45,{"$f":"IF(ISERROR(VLOOKUP(I350,[1]Eje_Pilar!$C$2:$E$47,2,FALSE)),\" \",VLOOKUP(I350,[1]Eje_Pilar!$C$2:$E$47,2,FALSE))","v":"Gobernanza e influencia local, regional e internacional"},{"$f":"IF(ISERROR(VLOOKUP(I350,[1]Eje_Pilar!$C$2:$E$47,3,FALSE)),\" \",VLOOKUP(I350,[1]Eje_Pilar!$C$2:$E$47,3,FALSE))","v":"Eje Transversal 4 Gobierno Legitimo, Fortalecimiento Local y Eficiencia"},"3-3-1-15-07-45-1478-000",1065828035,"MARIA LAURA QUIROZ HINOJOSA",12376000,null,0,null,null,12376000,9075733,"2019-06-26","2019-06-26","2019-12-31",188,null,null,null,null,"X",null,73.333330639948286,{"$f":"IF(SUMPRODUCT((A$14:A350=A350)*(B$14:B350=B350)*(C$14:C350=C350))>1,0,1)","v":1},0,0,0,1,0,{"$f":"IFERROR(VLOOKUP(D350,tipo,1,FALSE),\"NO\")","v":"Contratos de prestación de servicios profesionales y de apoyo a la gestión"},{"$f":"IFERROR(VLOOKUP(E350,modal,1,FALSE),\"NO\")","v":"Contratación directa"},{"$f":"IFERROR(VLOOKUP(F350,[1]Tipo!$C$12:$C$27,1,FALSE),\"NO\")","v":"Prestación de servicios profesionales y de apoyo a la gestión, o para la ejecución de trabajos artísticos que sólo puedan encomendarse a determinadas personas naturales;"},{"$f":"IFERROR(VLOOKUP(H350,afectacion,1,FALSE),\"NO\")","v":"Inversión"},{"$f":"IFERROR(VLOOKUP(I350,programa,1,FALSE),\"NO\")","v":45}]
[284,2019,"FDLSUBA-CPS-284-2019","Contratos de prestación de servicios profesionales y de apoyo a la gestión","Contratación directa","Prestación de servicios profesionales y de apoyo a la gestión, o para la ejecución de trabajos artísticos que sólo puedan encomendarse a determinadas personas naturales;","PRESTAR LOS SERVICIOS PROFESIONALES EN LA ALCALDIA LOCAL DE SUBA, PRINCIPALMENTE PARA RALIZAR ACCIONES PEDAGOGICAS PREVENTIVAS Y DE SENSIBILIZACION PARA EL ACATAMIENTO VOLUNTARIO DE LAS NORMAS EN LA LOCALIDAD.","Inversión",45,{"$f":"IF(ISERROR(VLOOKUP(I351,[1]Eje_Pilar!$C$2:$E$47,2,FALSE)),\" \",VLOOKUP(I351,[1]Eje_Pilar!$C$2:$E$47,2,FALSE))","v":"Gobernanza e influencia local, regional e internacional"},{"$f":"IF(ISERROR(VLOOKUP(I351,[1]Eje_Pilar!$C$2:$E$47,3,FALSE)),\" \",VLOOKUP(I351,[1]Eje_Pilar!$C$2:$E$47,3,FALSE))","v":"Eje Transversal 4 Gobierno Legitimo, Fortalecimiento Local y Eficiencia"},"3-3-1-15-07-45-1481-000",1019004199,"WILMER DANIEL GUTIERREZ PULIDO",30666666,null,0,null,null,30666666,23613333,"2019-06-21","2019-06-21","2019-12-31",180,null,null,null,null,"X",null,77.000000586956531,{"$f":"IF(SUMPRODUCT((A$14:A351=A351)*(B$14:B351=B351)*(C$14:C351=C351))>1,0,1)","v":1},0,0,0,1,0,"Contratos de prestación de servicios profesionales y de apoyo a la gestión","Contratación directa",{"$f":"IFERROR(VLOOKUP(F351,[1]Tipo!$C$12:$C$27,1,FALSE),\"NO\")","v":"Prestación de servicios profesionales y de apoyo a la gestión, o para la ejecución de trabajos artísticos que sólo puedan encomendarse a determinadas personas naturales;"},"Inversión",45]
[285,2018,"FDLSUBA-SAMC-02-2018 ","Seguros","Selección abreviada","Selección abreviada por menor cuantía ","ADICION AL CONTRATO DE SEGUROS ENTIDAD 285 DE 2018 PARA EXPEDIR NUEVE SOAT DE LOS VEHICULOS QUE TIENEN VENCIMIENTO EN EL AÑO 2019.","Funcionamiento","No aplica",{"$f":"IF(ISERROR(VLOOKUP(I352,[1]Eje_Pilar!$C$2:$E$47,2,FALSE)),\" \",VLOOKUP(I352,[1]Eje_Pilar!$C$2:$E$47,2,FALSE))","v":" "},{"$f":"IF(ISERROR(VLOOKUP(I352,[1]Eje_Pilar!$C$2:$E$47,3,FALSE)),\" \",VLOOKUP(I352,[1]Eje_Pilar!$C$2:$E$47,3,FALSE))","v":" "},"3-1-2-02-02-02-0001-008","860002400-2","LA PREVISORA S A COMPAÑIA DE SEGUROS",0,null,0,1,8664600,8664600,8582480,"2019-05-23","2019-05-23","2019-12-31",null,null,null,null,null,"X",null,99.052235533088663,{"$f":"IF(SUMPRODUCT((A$14:A352=A352)*(B$14:B352=B352)*(C$14:C352=C352))>1,0,1)","v":1},0,0,0,1,0,"Seguros","Selección abreviada",{"$f":"IFERROR(VLOOKUP(F352,[1]Tipo!$C$12:$C$27,1,FALSE),\"NO\")","v":"Selección abreviada por menor cuantía "},"Funcionamiento","NO"]
[285,2019,"FDLSUBA-CPS-285-2019","Contratos de prestación de servicios profesionales y de apoyo a la gestión","Contratación directa","Prestación de servicios profesionales y de apoyo a la gestión, o para la ejecución de trabajos artísticos que sólo puedan encomendarse a determinadas personas naturales;","PRESTAR LOS SERVICIOS DE APOYO PARA EL FORTALECIMIENTO A LA GESTION LOCAL DE PROCESOS INSTITUCIONALES Y SOCIALES DE INTERES PUBLICO ARTICULADA POR EL FONDO DE DESARROLLO LOCAL DE SUBA EN COMPAÑIA DE SECTORES ADMINISTRATIVOS DEL DISTRITO, INSTANCIAS Y ORGANIZACIONES SOCIALES EN LA LOCALIDAD. NO HAY 16694.","Inversión",45,{"$f":"IF(ISERROR(VLOOKUP(I353,[1]Eje_Pilar!$C$2:$E$47,2,FALSE)),\" \",VLOOKUP(I353,[1]Eje_Pilar!$C$2:$E$47,2,FALSE))","v":"Gobernanza e influencia local, regional e internacional"},{"$f":"IF(ISERROR(VLOOKUP(I353,[1]Eje_Pilar!$C$2:$E$47,3,FALSE)),\" \",VLOOKUP(I353,[1]Eje_Pilar!$C$2:$E$47,3,FALSE))","v":"Eje Transversal 4 Gobierno Legitimo, Fortalecimiento Local y Eficiencia"},"3-3-1-15-07-45-1478-000",79459883,"FRANCISCO  SUAVITA GARCIA",12376000,null,0,null,null,12376000,7013067,"2019-06-25","2019-06-25","2019-12-31",189,null,null,null,null,"X",null,56.666669360051714,{"$f":"IF(SUMPRODUCT((A$14:A353=A353)*(B$14:B353=B353)*(C$14:C353=C353))>1,0,1)","v":1},0,0,0,1,0,"Contratos de prestación de servicios profesionales y de apoyo a la gestión","Contratación directa",{"$f":"IFERROR(VLOOKUP(F353,[1]Tipo!$C$12:$C$27,1,FALSE),\"NO\")","v":"Prestación de servicios profesionales y de apoyo a la gestión, o para la ejecución de trabajos artísticos que sólo puedan encomendarse a determinadas personas naturales;"},"Inversión",45]
[286,2019,"FDLSUBA-CPS-286-2019","Contratos de prestación de servicios profesionales y de apoyo a la gestión","Contratación directa","Prestación de servicios profesionales y de apoyo a la gestión, o para la ejecución de trabajos artísticos que sólo puedan encomendarse a determinadas personas naturales;","PRESTAR SERVICIOS PROFESIONALES AL AREA DE GESTION DEL DESARROLLO LOCAL DE LA ALCALDIA LOCAL DE SUBA, PARA APOYAR LA SUPERVISION DE CONTRATOS DE LOS PROYECTOS QUE LE SEAN ASIGNADOS. NO HAY 16693.","Inversión",45,{"$f":"IF(ISERROR(VLOOKUP(I354,[1]Eje_Pilar!$C$2:$E$47,2,FALSE)),\" \",VLOOKUP(I354,[1]Eje_Pilar!$C$2:$E$47,2,FALSE))","v":"Gobernanza e influencia local, regional e internacional"},{"$f":"IF(ISERROR(VLOOKUP(I354,[1]Eje_Pilar!$C$2:$E$47,3,FALSE)),\" \",VLOOKUP(I354,[1]Eje_Pilar!$C$2:$E$47,3,FALSE))","v":"Eje Transversal 4 Gobierno Legitimo, Fortalecimiento Local y Eficiencia"},"3-3-1-15-07-45-1478-000",37626464,"ROSA LILIANA SUAREZ VELOSA",59850000,null,0,null,null,59850000,32340000,"2019-06-26","2019-06-26","2019-12-31",188,null,null,null,null,"X",null,54.035087719298247,{"$f":"IF(SUMPRODUCT((A$14:A354=A354)*(B$14:B354=B354)*(C$14:C354=C354))>1,0,1)","v":1},0,0,0,1,0,"Contratos de prestación de servicios profesionales y de apoyo a la gestión","Contratación directa",{"$f":"IFERROR(VLOOKUP(F354,[1]Tipo!$C$12:$C$27,1,FALSE),\"NO\")","v":"Prestación de servicios profesionales y de apoyo a la gestión, o para la ejecución de trabajos artísticos que sólo puedan encomendarse a determinadas personas naturales;"},"Inversión",45]
[null,2019,null,"Otros gastos",null,null,"RESOLUCION NO. 032 DEL 6 DE FEBRERO DE 2019. \"POR LA CUAL SE ORDENAEXPEDIR CERTIFICADOS DE DISPONIBILIDAD PRESUPUESTAL, CERTIFICADOS DE REGISTRO PRESUPUESTAL Y EL PAGO DE LAS OBLIGACIONES CONTRAIDAS MEDIANTE ALGUNOS CONTRATOS CON CARGO AL PRESUPUESTO DE LA VIGENCIA 2019\". CONTRATO NO. 287 DE 2018. GRUPO EMPRESARIAL E&T S.A.S. NIT. 900.412.065.","Inversión",45,{"$f":"IF(ISERROR(VLOOKUP(I355,[1]Eje_Pilar!$C$2:$E$47,2,FALSE)),\" \",VLOOKUP(I355,[1]Eje_Pilar!$C$2:$E$47,2,FALSE))","v":"Gobernanza e influencia local, regional e internacional"},{"$f":"IF(ISERROR(VLOOKUP(I355,[1]Eje_Pilar!$C$2:$E$47,3,FALSE)),\" \",VLOOKUP(I355,[1]Eje_Pilar!$C$2:$E$47,3,FALSE))","v":"Eje Transversal 4 Gobierno Legitimo, Fortalecimiento Local y Eficiencia"},"3-3-1-15-07-45-1481-000",null,"GRUPO EMPRESARIAL E&T SAS",10188000,null,0,null,null,10188000,10188000,"2019-02-12","2019-02-12","2019-12-31",null,null,null,null,null,null,null,100,{"$f":"IF(SUMPRODUCT((A$14:A355=A355)*(B$14:B355=B355)*(C$14:C355=C355))>1,0,1)","v":0},0,0,0,0,0,"Otros gastos","NO",{"$f":"IFERROR(VLOOKUP(F355,[1]Tipo!$C$12:$C$27,1,FALSE),\"NO\")","v":"NO"},"Inversión",45]
[287,2019,"FDLSUBA-CPS-287-2019","Contratos de prestación de servicios profesionales y de apoyo a la gestión","Contratación directa","Prestación de servicios profesionales y de apoyo a la gestión, o para la ejecución de trabajos artísticos que sólo puedan encomendarse a determinadas personas naturales;","PRESTAR LOS SERVICIOS DE APOYO PARA EL FORTALECIMIENTO A LA GESTION LOCAL DE PROCESOS INSTITUCIONALES Y SOCIALES DE INTERES PUBLICO ARTICULADA POR EL FONDO DE DESARROLLO LOCAL DE SUBA EN COMPAÑIA DE SECTORES ADMINISTRATIVOS DEL DISTRITO, INSTANCIAS Y ORGANIZACIONES SOCIALES EN LA LOCALIDAD. NO HAY 16694.","Inversión",45,{"$f":"IF(ISERROR(VLOOKUP(I356,[1]Eje_Pilar!$C$2:$E$47,2,FALSE)),\" \",VLOOKUP(I356,[1]Eje_Pilar!$C$2:$E$47,2,FALSE))","v":"Gobernanza e influencia local, regional e internacional"},{"$f":"IF(ISERROR(VLOOKUP(I356,[1]Eje_Pilar!$C$2:$E$47,3,FALSE)),\" \",VLOOKUP(I356,[1]Eje_Pilar!$C$2:$E$47,3,FALSE))","v":"Eje Transversal 4 Gobierno Legitimo, Fortalecimiento Local y Eficiencia"},"3-3-1-15-07-45-1478-000",34950205,"LORENA PATRICIA MEZA OJEDA",11197333,null,0,1,766133,11963466,8781067,"2019-06-25","2019-06-25","2020-01-21",170,21,null,null,null,"X",null,73.399021654761256,{"$f":"IF(SUMPRODUCT((A$14:A356=A356)*(B$14:B356=B356)*(C$14:C356=C356))>1,0,1)","v":1},0,0,0,1,0,"Contratos de prestación de servicios profesionales y de apoyo a la gestión","Contratación directa",{"$f":"IFERROR(VLOOKUP(F356,[1]Tipo!$C$12:$C$27,1,FALSE),\"NO\")","v":"Prestación de servicios profesionales y de apoyo a la gestión, o para la ejecución de trabajos artísticos que sólo puedan encomendarse a determinadas personas naturales;"},"Inversión",45]
[288,2019,"FDLSUBA-CPS-288-2019","Contratos de prestación de servicios profesionales y de apoyo a la gestión","Contratación directa","Prestación de servicios profesionales y de apoyo a la gestión, o para la ejecución de trabajos artísticos que sólo puedan encomendarse a determinadas personas naturales;","PRESTAR LOS SERVICIOS DE APOYO PARA EL FORTALECIMIENTO A LA GESTION LOCAL DE PROCESOS INSTITUCIONALES Y SOCIALES DE INTERES PUBLICO ARTICULADA POR EL FONDO DE DESARROLLO LOCAL DE SUBA EN COMPAÑIA DE SECTORES ADMINISTRATIVOS DEL DISTRITO, INSTANCIAS Y ORGANIZACIONES SOCIALES EN LA LOCALIDAD. NO HAY 16694.","Inversión",45,{"$f":"IF(ISERROR(VLOOKUP(I357,[1]Eje_Pilar!$C$2:$E$47,2,FALSE)),\" \",VLOOKUP(I357,[1]Eje_Pilar!$C$2:$E$47,2,FALSE))","v":"Gobernanza e influencia local, regional e internacional"},{"$f":"IF(ISERROR(VLOOKUP(I357,[1]Eje_Pilar!$C$2:$E$47,3,FALSE)),\" \",VLOOKUP(I357,[1]Eje_Pilar!$C$2:$E$47,3,FALSE))","v":"Eje Transversal 4 Gobierno Legitimo, Fortalecimiento Local y Eficiencia"},"3-3-1-15-07-45-1478-000",1136887819,"JULIO MARIO ALFONSO RODRIGUEZ",11197333,null,0,null,null,11197333,9193600,"2019-06-25","2019-06-25","2019-12-31",170,null,null,null,null,"X",null,82.10526560208578,{"$f":"IF(SUMPRODUCT((A$14:A357=A357)*(B$14:B357=B357)*(C$14:C357=C357))>1,0,1)","v":1},0,0,0,1,0,"Contratos de prestación de servicios profesionales y de apoyo a la gestión","Contratación directa",{"$f":"IFERROR(VLOOKUP(F357,[1]Tipo!$C$12:$C$27,1,FALSE),\"NO\")","v":"Prestación de servicios profesionales y de apoyo a la gestión, o para la ejecución de trabajos artísticos que sólo puedan encomendarse a determinadas personas naturales;"},"Inversión",45]
[289,2019,"FDLSUBA-CPS-289-2019","Contratos de prestación de servicios profesionales y de apoyo a la gestión","Contratación directa","Prestación de servicios profesionales y de apoyo a la gestión, o para la ejecución de trabajos artísticos que sólo puedan encomendarse a determinadas personas naturales;","PRESTAR LOS SERVICIOS DE APOYO PARA EL FORTALECIMIENTO A LA GESTION LOCAL DE PROCESOS INSTITUCIONALES Y SOCIALES DE INTERES PUBLICO ARTICULADA POR EL FONDO DE DESARROLLO LOCAL DE SUBA EN COMPAÑIA DE SECTORES ADMINISTRATIVOS DEL DISTRITO, INSTANCIAS Y ORGANIZACIONES SOCIALES EN LA LOCALIDAD. NO HAY 38077","Inversión",45,{"$f":"IF(ISERROR(VLOOKUP(I358,[1]Eje_Pilar!$C$2:$E$47,2,FALSE)),\" \",VLOOKUP(I358,[1]Eje_Pilar!$C$2:$E$47,2,FALSE))","v":"Gobernanza e influencia local, regional e internacional"},{"$f":"IF(ISERROR(VLOOKUP(I358,[1]Eje_Pilar!$C$2:$E$47,3,FALSE)),\" \",VLOOKUP(I358,[1]Eje_Pilar!$C$2:$E$47,3,FALSE))","v":"Eje Transversal 4 Gobierno Legitimo, Fortalecimiento Local y Eficiencia"},"3-3-1-15-07-45-1478-000",1014220626,"LAURA CATALINA SOTELO CRUZ",7661375,null,0,null,null,7661375,7661333,"2019-06-26","2019-06-26","2019-12-31",130,null,null,null,null,"X",null,99.999451795532792,{"$f":"IF(SUMPRODUCT((A$14:A358=A358)*(B$14:B358=B358)*(C$14:C358=C358))>1,0,1)","v":1},0,0,0,1,0,"Contratos de prestación de servicios profesionales y de apoyo a la gestión","Contratación directa",{"$f":"IFERROR(VLOOKUP(F358,[1]Tipo!$C$12:$C$27,1,FALSE),\"NO\")","v":"Prestación de servicios profesionales y de apoyo a la gestión, o para la ejecución de trabajos artísticos que sólo puedan encomendarse a determinadas personas naturales;"},"Inversión",45]
[299,2019,"FDLSUBA-CPS-299-2019","Contratos de prestación de servicios profesionales y de apoyo a la gestión","Contratación directa","Prestación de servicios profesionales y de apoyo a la gestión, o para la ejecución de trabajos artísticos que sólo puedan encomendarse a determinadas personas naturales;","APOYAR LA GESTION DOCUMENTAL DE LA ALCALDIA LOCAL EN LA IMPLEMENTACION DE LOS PROCESOS DE CLASIFICACION, ORDENACION, SELECCION NATURAL, FOLIACION, IDENTIFICACION, LEVANTAMIENTO DE INVENTARIOS, ALMACENAMIENTO Y APLICACION DE PROTOCOLOS DE ELIMINACION Y TRANSFERENCIAS DOCUMENTALES. NO HAY 38081.","Inversión",45,{"$f":"IF(ISERROR(VLOOKUP(I359,[1]Eje_Pilar!$C$2:$E$47,2,FALSE)),\" \",VLOOKUP(I359,[1]Eje_Pilar!$C$2:$E$47,2,FALSE))","v":"Gobernanza e influencia local, regional e internacional"},{"$f":"IF(ISERROR(VLOOKUP(I359,[1]Eje_Pilar!$C$2:$E$47,3,FALSE)),\" \",VLOOKUP(I359,[1]Eje_Pilar!$C$2:$E$47,3,FALSE))","v":"Eje Transversal 4 Gobierno Legitimo, Fortalecimiento Local y Eficiencia"},"3-3-1-15-07-45-1478-000",1019089171,"JENNIFFER STEPHANIA CASTILLO TORRES",7662000,null,0,1,3830666,11492666,8781067,"2019-06-26","2019-06-26","2020-01-21",130,21,null,null,null,"X",null,76.405831336262622,{"$f":"IF(SUMPRODUCT((A$14:A359=A359)*(B$14:B359=B359)*(C$14:C359=C359))>1,0,1)","v":1},0,0,0,1,0,"Contratos de prestación de servicios profesionales y de apoyo a la gestión","Contratación directa",{"$f":"IFERROR(VLOOKUP(F359,[1]Tipo!$C$12:$C$27,1,FALSE),\"NO\")","v":"Prestación de servicios profesionales y de apoyo a la gestión, o para la ejecución de trabajos artísticos que sólo puedan encomendarse a determinadas personas naturales;"},"Inversión",45]
[300,2019,"FDLSUBA-CPS-300-2019","Contratos de prestación de servicios profesionales y de apoyo a la gestión","Contratación directa","Prestación de servicios profesionales y de apoyo a la gestión, o para la ejecución de trabajos artísticos que sólo puedan encomendarse a determinadas personas naturales;","APOYAR LA GESTION DOCUMENTAL DE LA ALCALDIA LOCAL EN LA IMPLEMENTACION DE LOS PROCESOS DE CLASIFICACION, ORDENACION, SELECCION NATURAL, FOLIACION, IDENTIFICACION, LEVANTAMIENTO DE INVENTARIOS, ALMACENAMIENTO Y APLICACION DE PROTOCOLOS DE ELIMINACION Y TRANSFERENCIAS DOCUMENTALES. NO HAY 38081.","Inversión",45,{"$f":"IF(ISERROR(VLOOKUP(I360,[1]Eje_Pilar!$C$2:$E$47,2,FALSE)),\" \",VLOOKUP(I360,[1]Eje_Pilar!$C$2:$E$47,2,FALSE))","v":"Gobernanza e influencia local, regional e internacional"},{"$f":"IF(ISERROR(VLOOKUP(I360,[1]Eje_Pilar!$C$2:$E$47,3,FALSE)),\" \",VLOOKUP(I360,[1]Eje_Pilar!$C$2:$E$47,3,FALSE))","v":"Eje Transversal 4 Gobierno Legitimo, Fortalecimiento Local y Eficiencia"},"3-3-1-15-07-45-1478-000",19302858,"LUIS FERNANDO ECHEVERRY RUEDA",7662000,null,0,null,null,7662000,7013067,"2019-06-26","2019-06-26","2019-12-31",130,null,null,null,null,"X",null,91.530501174628029,{"$f":"IF(SUMPRODUCT((A$14:A360=A360)*(B$14:B360=B360)*(C$14:C360=C360))>1,0,1)","v":1},0,0,0,1,0,"Contratos de prestación de servicios profesionales y de apoyo a la gestión","Contratación directa",{"$f":"IFERROR(VLOOKUP(F360,[1]Tipo!$C$12:$C$27,1,FALSE),\"NO\")","v":"Prestación de servicios profesionales y de apoyo a la gestión, o para la ejecución de trabajos artísticos que sólo puedan encomendarse a determinadas personas naturales;"},"Inversión",45]
[301,2019,"FDLSUBA-CPS-301-2019","Contratos de prestación de servicios profesionales y de apoyo a la gestión","Contratación directa","Prestación de servicios profesionales y de apoyo a la gestión, o para la ejecución de trabajos artísticos que sólo puedan encomendarse a determinadas personas naturales;","APOYAR LA GESTION DOCUMENTAL DE LA ALCALDIA LOCAL EN LA IMPLEMENTACION DE LOS PROCESOS DE CLASIFICACION, ORDENACION, SELECCION NATURAL, FOLIACION, IDENTIFICACION, LEVANTAMIENTO DE INVENTARIOS, ALMACENAMIENTO Y APLICACION DE PROTOCOLOS DE ELIMINACION Y TRANSFERENCIAS DOCUMENTALES. NO HAY 38081.","Inversión",45,{"$f":"IF(ISERROR(VLOOKUP(I361,[1]Eje_Pilar!$C$2:$E$47,2,FALSE)),\" \",VLOOKUP(I361,[1]Eje_Pilar!$C$2:$E$47,2,FALSE))","v":"Gobernanza e influencia local, regional e internacional"},{"$f":"IF(ISERROR(VLOOKUP(I361,[1]Eje_Pilar!$C$2:$E$47,3,FALSE)),\" \",VLOOKUP(I361,[1]Eje_Pilar!$C$2:$E$47,3,FALSE))","v":"Eje Transversal 4 Gobierno Legitimo, Fortalecimiento Local y Eficiencia"},"3-3-1-15-07-45-1478-000",1019110239,"GUSTAVO ALEJANDRO RODELO GONZALEZ",7662000,null,0,null,null,7662000,7661334,"2019-06-26","2019-06-26","2019-12-31",130,null,null,null,null,"X",null,99.991307752545026,{"$f":"IF(SUMPRODUCT((A$14:A361=A361)*(B$14:B361=B361)*(C$14:C361=C361))>1,0,1)","v":1},0,0,0,1,0,"Contratos de prestación de servicios profesionales y de apoyo a la gestión","Contratación directa",{"$f":"IFERROR(VLOOKUP(F361,[1]Tipo!$C$12:$C$27,1,FALSE),\"NO\")","v":"Prestación de servicios profesionales y de apoyo a la gestión, o para la ejecución de trabajos artísticos que sólo puedan encomendarse a determinadas personas naturales;"},"Inversión",45]
[302,2019,"FDLSUBA-CPS-302-2019","Contratos de prestación de servicios profesionales y de apoyo a la gestión","Contratación directa","Prestación de servicios profesionales y de apoyo a la gestión, o para la ejecución de trabajos artísticos que sólo puedan encomendarse a determinadas personas naturales;","APOYAR LA GESTION DOCUMENTAL DE LA ALCALDIA LOCAL EN LA IMPLEMENTACION DE LOS PROCESOS DE CLASIFICACION, ORDENACION, SELECCION NATURAL, FOLIACION, IDENTIFICACION, LEVANTAMIENTO DE INVENTARIOS, ALMACENAMIENTO Y APLICACION DE PROTOCOLOS DE ELIMINACION Y TRANSFERENCIAS DOCUMENTALES. NO HAY 38081.","Inversión",45,{"$f":"IF(ISERROR(VLOOKUP(I362,[1]Eje_Pilar!$C$2:$E$47,2,FALSE)),\" \",VLOOKUP(I362,[1]Eje_Pilar!$C$2:$E$47,2,FALSE))","v":"Gobernanza e influencia local, regional e internacional"},{"$f":"IF(ISERROR(VLOOKUP(I362,[1]Eje_Pilar!$C$2:$E$47,3,FALSE)),\" \",VLOOKUP(I362,[1]Eje_Pilar!$C$2:$E$47,3,FALSE))","v":"Eje Transversal 4 Gobierno Legitimo, Fortalecimiento Local y Eficiencia"},"3-3-1-15-07-45-1478-000",52274626,"DIANA MILENA RODRIGUEZ MORENO",7662000,null,0,null,null,7662000,7661333,"2019-06-26","2019-06-26","2019-12-31",130,null,null,null,null,"X",null,99.991294701122428,{"$f":"IF(SUMPRODUCT((A$14:A362=A362)*(B$14:B362=B362)*(C$14:C362=C362))>1,0,1)","v":1},0,0,0,1,0,"Contratos de prestación de servicios profesionales y de apoyo a la gestión","Contratación directa",{"$f":"IFERROR(VLOOKUP(F362,[1]Tipo!$C$12:$C$27,1,FALSE),\"NO\")","v":"Prestación de servicios profesionales y de apoyo a la gestión, o para la ejecución de trabajos artísticos que sólo puedan encomendarse a determinadas personas naturales;"},"Inversión",45]
[303,2019,"FDLSUBA-CPS-303-2019","Contratos de prestación de servicios profesionales y de apoyo a la gestión","Contratación directa","Prestación de servicios profesionales y de apoyo a la gestión, o para la ejecución de trabajos artísticos que sólo puedan encomendarse a determinadas personas naturales;","PRESTAR LOS SERVICIOS DE APOYO PARA EL FORTALECIMIENTO A LA GESTION LOCAL DE PROCESOS INSTITUCIONALES Y SOCIALES DE INTERES PUBLICO ARTICULADA POR EL FONDO DE DESARROLLO LOCAL DE SUBA EN COMPAÑIA DE SECTORES ADMINISTRATIVOS DEL DISTRITO, INSTANCIAS Y ORGANIZACIONES SOCIALES EN LA LOCALIDAD. NO HAY 38077","Inversión",45,{"$f":"IF(ISERROR(VLOOKUP(I363,[1]Eje_Pilar!$C$2:$E$47,2,FALSE)),\" \",VLOOKUP(I363,[1]Eje_Pilar!$C$2:$E$47,2,FALSE))","v":"Gobernanza e influencia local, regional e internacional"},{"$f":"IF(ISERROR(VLOOKUP(I363,[1]Eje_Pilar!$C$2:$E$47,3,FALSE)),\" \",VLOOKUP(I363,[1]Eje_Pilar!$C$2:$E$47,3,FALSE))","v":"Eje Transversal 4 Gobierno Legitimo, Fortalecimiento Local y Eficiencia"},"3-3-1-15-07-45-1478-000",1014230186,"HUGO LEONARDO CRUZ GUACANEME",7661375,null,0,null,null,7661375,7661334,"2019-06-26","2019-06-26","2019-12-31",130,null,null,null,null,"X",null,99.999464848020096,{"$f":"IF(SUMPRODUCT((A$14:A363=A363)*(B$14:B363=B363)*(C$14:C363=C363))>1,0,1)","v":1},0,0,0,1,0,"Contratos de prestación de servicios profesionales y de apoyo a la gestión","Contratación directa",{"$f":"IFERROR(VLOOKUP(F363,[1]Tipo!$C$12:$C$27,1,FALSE),\"NO\")","v":"Prestación de servicios profesionales y de apoyo a la gestión, o para la ejecución de trabajos artísticos que sólo puedan encomendarse a determinadas personas naturales;"},"Inversión",45]
[304,2019,"FDLSUBA-CPS-304-2019","Contratos de prestación de servicios profesionales y de apoyo a la gestión","Contratación directa","Prestación de servicios profesionales y de apoyo a la gestión, o para la ejecución de trabajos artísticos que sólo puedan encomendarse a determinadas personas naturales;","PRESTAR LOS SERVICIOS PROFESIONALES PARA APOYAR EL LEVANTAMIENTO Y VERIFICACIÓN DEL INVENTARIO DE LOS BIENES MUEBLES PROPIEDAD DE LA ALCALDÍA LOCAL DE SUBA, NO HAY NO. 16799 DEL 19 DE JUNIO DE 2019.","Inversión",45,{"$f":"IF(ISERROR(VLOOKUP(I364,[1]Eje_Pilar!$C$2:$E$47,2,FALSE)),\" \",VLOOKUP(I364,[1]Eje_Pilar!$C$2:$E$47,2,FALSE))","v":"Gobernanza e influencia local, regional e internacional"},{"$f":"IF(ISERROR(VLOOKUP(I364,[1]Eje_Pilar!$C$2:$E$47,3,FALSE)),\" \",VLOOKUP(I364,[1]Eje_Pilar!$C$2:$E$47,3,FALSE))","v":"Eje Transversal 4 Gobierno Legitimo, Fortalecimiento Local y Eficiencia"},"3-3-1-15-07-45-1478-000",1018437448,"CAMILO ARMANDO RIVERA MELO",19070000,null,0,null,null,19070000,19066667,"2019-06-26","2019-06-26","2019-12-31",130,null,null,null,null,"X",null,99.982522286313582,{"$f":"IF(SUMPRODUCT((A$14:A364=A364)*(B$14:B364=B364)*(C$14:C364=C364))>1,0,1)","v":1},0,0,0,1,0,"Contratos de prestación de servicios profesionales y de apoyo a la gestión","Contratación directa",{"$f":"IFERROR(VLOOKUP(F364,[1]Tipo!$C$12:$C$27,1,FALSE),\"NO\")","v":"Prestación de servicios profesionales y de apoyo a la gestión, o para la ejecución de trabajos artísticos que sólo puedan encomendarse a determinadas personas naturales;"},"Inversión",45]
[305,2019,"FDLSUBA-CPS-305-2019","Contratos de prestación de servicios profesionales y de apoyo a la gestión","Contratación directa","Prestación de servicios profesionales y de apoyo a la gestión, o para la ejecución de trabajos artísticos que sólo puedan encomendarse a determinadas personas naturales;","PRESTAR LOS SERVICIOS DE APOYO PARA EL FORTALECIMIENTO A LA GESTION LOCAL DE PROCESOS INSTITUCIONALES Y SOCIALES DE INTERES PUBLICO ARTICULADA POR EL FONDO DE DESARROLLO LOCAL DE SUBA EN COMPAÑIA DE SECTORES ADMINISTRATIVOS DEL DISTRITO, INSTANCIAS Y ORGANIZACIONES SOCIALES EN LA LOCALIDAD. NO HAY 38077","Inversión",45,{"$f":"IF(ISERROR(VLOOKUP(I365,[1]Eje_Pilar!$C$2:$E$47,2,FALSE)),\" \",VLOOKUP(I365,[1]Eje_Pilar!$C$2:$E$47,2,FALSE))","v":"Gobernanza e influencia local, regional e internacional"},{"$f":"IF(ISERROR(VLOOKUP(I365,[1]Eje_Pilar!$C$2:$E$47,3,FALSE)),\" \",VLOOKUP(I365,[1]Eje_Pilar!$C$2:$E$47,3,FALSE))","v":"Eje Transversal 4 Gobierno Legitimo, Fortalecimiento Local y Eficiencia"},"3-3-1-15-07-45-1478-000",82360142,"ROSENDO  MOSQUERA MOSQUERA",7661375,null,0,null,null,7661375,7602400,"2019-06-26","2019-06-26","2019-12-31",130,null,null,null,null,"X",null,99.230229560620643,{"$f":"IF(SUMPRODUCT((A$14:A365=A365)*(B$14:B365=B365)*(C$14:C365=C365))>1,0,1)","v":1},0,0,0,1,0,"Contratos de prestación de servicios profesionales y de apoyo a la gestión","Contratación directa",{"$f":"IFERROR(VLOOKUP(F365,[1]Tipo!$C$12:$C$27,1,FALSE),\"NO\")","v":"Prestación de servicios profesionales y de apoyo a la gestión, o para la ejecución de trabajos artísticos que sólo puedan encomendarse a determinadas personas naturales;"},"Inversión",45]
[null,2019,null,"Otros gastos",null,null,"RESOLUCION NO. 032 DEL 6 DE FEBRERO DE 2019. \"POR LA CUAL SE ORDENAEXPEDIR CERTIFICADOS DE DISPONIBILIDAD PRESUPUESTAL, CERTIFICADOS DE REGISTRO PRESUPUESTAL Y EL PAGO DE LAS OBLIGACIONES CONTRAIDAS MEDIANTE ALGUNOS CONTRATOS CON CARGO AL PRESUPUESTO DE LA VIGENCIA 2019\". CONTRATO 305 DE 2018. VICTORIA HELENA DURAN RIVERA C.C. 52.056.553.","Inversión",45,{"$f":"IF(ISERROR(VLOOKUP(I366,[1]Eje_Pilar!$C$2:$E$47,2,FALSE)),\" \",VLOOKUP(I366,[1]Eje_Pilar!$C$2:$E$47,2,FALSE))","v":"Gobernanza e influencia local, regional e internacional"},{"$f":"IF(ISERROR(VLOOKUP(I366,[1]Eje_Pilar!$C$2:$E$47,3,FALSE)),\" \",VLOOKUP(I366,[1]Eje_Pilar!$C$2:$E$47,3,FALSE))","v":"Eje Transversal 4 Gobierno Legitimo, Fortalecimiento Local y Eficiencia"},"3-3-1-15-07-45-1481-000",null,"VICTORIA HELENA DURAN RIVERA",4400000,null,0,null,null,4400000,1760000,"2019-02-12","2019-02-12","2019-12-31",null,null,null,null,null,"X",null,40,{"$f":"IF(SUMPRODUCT((A$14:A366=A366)*(B$14:B366=B366)*(C$14:C366=C366))>1,0,1)","v":0},0,0,0,0,0,"Otros gastos","NO",{"$f":"IFERROR(VLOOKUP(F366,[1]Tipo!$C$12:$C$27,1,FALSE),\"NO\")","v":"NO"},"Inversión",45]
[306,2019,"FDLSUBA-CPS-306-2019","Contratos de prestación de servicios profesionales y de apoyo a la gestión","Contratación directa","Prestación de servicios profesionales y de apoyo a la gestión, o para la ejecución de trabajos artísticos que sólo puedan encomendarse a determinadas personas naturales;","APOYAR JURIDICAMENTE LA EJECUCION DE LAS ACCIONES REQUERIDAS PARA LA DEPURACION DE LAS ACTUACIONES ADMINISTRATIVAS QUE CURSAN EN LA ALCALDIA LOCAL. NO HAY 38080","Inversión",45,{"$f":"IF(ISERROR(VLOOKUP(I367,[1]Eje_Pilar!$C$2:$E$47,2,FALSE)),\" \",VLOOKUP(I367,[1]Eje_Pilar!$C$2:$E$47,2,FALSE))","v":"Gobernanza e influencia local, regional e internacional"},{"$f":"IF(ISERROR(VLOOKUP(I367,[1]Eje_Pilar!$C$2:$E$47,3,FALSE)),\" \",VLOOKUP(I367,[1]Eje_Pilar!$C$2:$E$47,3,FALSE))","v":"Eje Transversal 4 Gobierno Legitimo, Fortalecimiento Local y Eficiencia"},"3-3-1-15-07-45-1478-000",1098763123,"ANGIE LORENA RANGEL CORONEL",19940000,null,0,null,null,19940000,19013333,"2019-06-26","2019-06-26","2019-12-31",130,null,null,null,null,"X",null,95.352723169508522,{"$f":"IF(SUMPRODUCT((A$14:A367=A367)*(B$14:B367=B367)*(C$14:C367=C367))>1,0,1)","v":1},0,0,0,1,0,"Contratos de prestación de servicios profesionales y de apoyo a la gestión","Contratación directa",{"$f":"IFERROR(VLOOKUP(F367,[1]Tipo!$C$12:$C$27,1,FALSE),\"NO\")","v":"Prestación de servicios profesionales y de apoyo a la gestión, o para la ejecución de trabajos artísticos que sólo puedan encomendarse a determinadas personas naturales;"},"Inversión",45]
[307,2019,"FDLSUBA-CPS-307-2019","Contratos de prestación de servicios profesionales y de apoyo a la gestión","Contratación directa","Prestación de servicios profesionales y de apoyo a la gestión, o para la ejecución de trabajos artísticos que sólo puedan encomendarse a determinadas personas naturales;","APOYAR JURIDICAMENTE LA EJECUCION DE LAS ACCIONES REQUERIDAS PARA LA DEPURACION DE LAS ACTUACIONES ADMINISTRATIVAS QUE CURSAN EN LA ALCALDIA LOCAL. NO HAY 38080","Inversión",45,{"$f":"IF(ISERROR(VLOOKUP(I368,[1]Eje_Pilar!$C$2:$E$47,2,FALSE)),\" \",VLOOKUP(I368,[1]Eje_Pilar!$C$2:$E$47,2,FALSE))","v":"Gobernanza e influencia local, regional e internacional"},{"$f":"IF(ISERROR(VLOOKUP(I368,[1]Eje_Pilar!$C$2:$E$47,3,FALSE)),\" \",VLOOKUP(I368,[1]Eje_Pilar!$C$2:$E$47,3,FALSE))","v":"Eje Transversal 4 Gobierno Legitimo, Fortalecimiento Local y Eficiencia"},"3-3-1-15-07-45-1478-000",79384593,"WILLIAM AUGUSTO FRANCO REYES",19940000,null,0,null,null,19940000,9200000,"2019-06-26","2019-06-26","2019-12-31",130,null,null,null,null,"X",null,46.138415245737214,{"$f":"IF(SUMPRODUCT((A$14:A368=A368)*(B$14:B368=B368)*(C$14:C368=C368))>1,0,1)","v":1},0,0,0,1,0,"Contratos de prestación de servicios profesionales y de apoyo a la gestión","Contratación directa",{"$f":"IFERROR(VLOOKUP(F368,[1]Tipo!$C$12:$C$27,1,FALSE),\"NO\")","v":"Prestación de servicios profesionales y de apoyo a la gestión, o para la ejecución de trabajos artísticos que sólo puedan encomendarse a determinadas personas naturales;"},"Inversión",45]
[309,2019,"FDLSUBA-CPS-309-2019","Contratos de prestación de servicios profesionales y de apoyo a la gestión","Contratación directa","Prestación de servicios profesionales y de apoyo a la gestión, o para la ejecución de trabajos artísticos que sólo puedan encomendarse a determinadas personas naturales;","APOYAR JURIDICAMENTE LA EJECUCION DE LAS ACCIONES REQUERIDAS PARA LA DEPURACION DE LAS ACTUACIONES ADMINISTRATIVAS QUE CURSAN EN LA ALCALDIA LOCAL. NO HAY 38080","Inversión",45,{"$f":"IF(ISERROR(VLOOKUP(I369,[1]Eje_Pilar!$C$2:$E$47,2,FALSE)),\" \",VLOOKUP(I369,[1]Eje_Pilar!$C$2:$E$47,2,FALSE))","v":"Gobernanza e influencia local, regional e internacional"},{"$f":"IF(ISERROR(VLOOKUP(I369,[1]Eje_Pilar!$C$2:$E$47,3,FALSE)),\" \",VLOOKUP(I369,[1]Eje_Pilar!$C$2:$E$47,3,FALSE))","v":"Eje Transversal 4 Gobierno Legitimo, Fortalecimiento Local y Eficiencia"},"3-3-1-15-07-45-1478-000",1026269412,"JHOAN DE JESUS NADJAR CRUZ",19940000,null,0,null,null,19940000,18093333,"2019-06-28","2019-06-28","2019-12-31",130,null,null,null,null,"X",null,90.738881644934793,{"$f":"IF(SUMPRODUCT((A$14:A369=A369)*(B$14:B369=B369)*(C$14:C369=C369))>1,0,1)","v":1},0,0,0,1,0,"Contratos de prestación de servicios profesionales y de apoyo a la gestión","Contratación directa",{"$f":"IFERROR(VLOOKUP(F369,[1]Tipo!$C$12:$C$27,1,FALSE),\"NO\")","v":"Prestación de servicios profesionales y de apoyo a la gestión, o para la ejecución de trabajos artísticos que sólo puedan encomendarse a determinadas personas naturales;"},"Inversión",45]
[312,2019,"FDLSUBA-CPS-312-2019","Contratos de prestación de servicios profesionales y de apoyo a la gestión","Contratación directa","Prestación de servicios profesionales y de apoyo a la gestión, o para la ejecución de trabajos artísticos que sólo puedan encomendarse a determinadas personas naturales;","PRESTAR LOS SERVICIOS DE APOYO PARA EL FORTALECIMIENTO A LA GESTION LOCAL DE PROCESOS INSTITUCIONALES Y SOCIALES DE INTERES PUBLICO ARTICULADA POR EL FONDO DE DESARROLLO LOCAL DE SUBA EN COMPAÑIA DE SECTORES ADMINISTRATIVOS DEL DISTRITO, INSTANCIAS Y ORGANIZACIONES SOCIALES EN LA LOCALIDAD.","Inversión",45,{"$f":"IF(ISERROR(VLOOKUP(I370,[1]Eje_Pilar!$C$2:$E$47,2,FALSE)),\" \",VLOOKUP(I370,[1]Eje_Pilar!$C$2:$E$47,2,FALSE))","v":"Gobernanza e influencia local, regional e internacional"},{"$f":"IF(ISERROR(VLOOKUP(I370,[1]Eje_Pilar!$C$2:$E$47,3,FALSE)),\" \",VLOOKUP(I370,[1]Eje_Pilar!$C$2:$E$47,3,FALSE))","v":"Eje Transversal 4 Gobierno Legitimo, Fortalecimiento Local y Eficiencia"},"3-3-1-15-07-45-1478-000",1076622479,"LINA VANESSA SANCHEZ GUZMAN",12376000,null,0,null,null,12376000,8663200,"2019-06-26","2019-06-26","2019-12-31",210,null,null,null,null,"X",null,70,{"$f":"IF(SUMPRODUCT((A$14:A370=A370)*(B$14:B370=B370)*(C$14:C370=C370))>1,0,1)","v":1},0,0,0,1,0,"Contratos de prestación de servicios profesionales y de apoyo a la gestión","Contratación directa",{"$f":"IFERROR(VLOOKUP(F370,[1]Tipo!$C$12:$C$27,1,FALSE),\"NO\")","v":"Prestación de servicios profesionales y de apoyo a la gestión, o para la ejecución de trabajos artísticos que sólo puedan encomendarse a determinadas personas naturales;"},"Inversión",45]
[316,2019,"FDLSUBA-CPS-316-2019","Contratos de prestación de servicios profesionales y de apoyo a la gestión","Contratación directa","Prestación de servicios profesionales y de apoyo a la gestión, o para la ejecución de trabajos artísticos que sólo puedan encomendarse a determinadas personas naturales;","PRESTAR LOS SERVICIOS DE APOYO PARA EL FORTALECIMIENTO A LA GESTION LOCAL DE PROCESOS INSTITUCIONALES Y SOCIALES DE INTERES PUBLICO ARTICULADA POR EL FONDO DE DESARROLLO LOCAL DE SUBA EN COMPAÑIA DE SECTORES ADMINISTRATIVOS DEL DISTRITO, INSTANCIAS Y ORGANIZACIONES SOCIALES EN LA LOCALIDAD. NO HAY 38077","Inversión",45,{"$f":"IF(ISERROR(VLOOKUP(I371,[1]Eje_Pilar!$C$2:$E$47,2,FALSE)),\" \",VLOOKUP(I371,[1]Eje_Pilar!$C$2:$E$47,2,FALSE))","v":"Gobernanza e influencia local, regional e internacional"},{"$f":"IF(ISERROR(VLOOKUP(I371,[1]Eje_Pilar!$C$2:$E$47,3,FALSE)),\" \",VLOOKUP(I371,[1]Eje_Pilar!$C$2:$E$47,3,FALSE))","v":"Eje Transversal 4 Gobierno Legitimo, Fortalecimiento Local y Eficiencia"},"3-3-1-15-07-45-1478-000",1000238589,"RODRIGO ANDRES TORRES MORENO",7661375,null,0,null,null,7661375,7661333,"2019-06-26","2019-06-26","2019-12-31",130,null,null,null,null,"X",null,99.999451795532792,{"$f":"IF(SUMPRODUCT((A$14:A371=A371)*(B$14:B371=B371)*(C$14:C371=C371))>1,0,1)","v":1},0,0,0,1,0,"Contratos de prestación de servicios profesionales y de apoyo a la gestión","Contratación directa",{"$f":"IFERROR(VLOOKUP(F371,[1]Tipo!$C$12:$C$27,1,FALSE),\"NO\")","v":"Prestación de servicios profesionales y de apoyo a la gestión, o para la ejecución de trabajos artísticos que sólo puedan encomendarse a determinadas personas naturales;"},"Inversión",45]
[317,2019,"FDLSUBA-CPS-317-2019","Contratos de prestación de servicios profesionales y de apoyo a la gestión","Contratación directa","Prestación de servicios profesionales y de apoyo a la gestión, o para la ejecución de trabajos artísticos que sólo puedan encomendarse a determinadas personas naturales;","PRESTAR LOS SERVICIOS DE APOYO PARA EL FORTALECIMIENTO A LA GESTION LOCAL DE PROCESOS INSTITUCIONALES Y SOCIALES DE INTERES PUBLICO ARTICULADA POR EL FONDO DE DESARROLLO LOCAL DE SUBA EN COMPAÑIA DE SECTORES ADMINISTRATIVOS DEL DISTRITO, INSTANCIAS Y ORGANIZACIONES SOCIALES EN LA LOCALIDAD. NO HAY 38077","Inversión",45,{"$f":"IF(ISERROR(VLOOKUP(I372,[1]Eje_Pilar!$C$2:$E$47,2,FALSE)),\" \",VLOOKUP(I372,[1]Eje_Pilar!$C$2:$E$47,2,FALSE))","v":"Gobernanza e influencia local, regional e internacional"},{"$f":"IF(ISERROR(VLOOKUP(I372,[1]Eje_Pilar!$C$2:$E$47,3,FALSE)),\" \",VLOOKUP(I372,[1]Eje_Pilar!$C$2:$E$47,3,FALSE))","v":"Eje Transversal 4 Gobierno Legitimo, Fortalecimiento Local y Eficiencia"},"3-3-1-15-07-45-1478-000",1014234318,"MARGE KATHERINE DIAZ RAMOS",7661375,null,0,null,null,7661375,7661334,"2019-06-26","2019-06-26","2019-12-31",130,null,null,null,null,"X",null,99.999464848020096,{"$f":"IF(SUMPRODUCT((A$14:A372=A372)*(B$14:B372=B372)*(C$14:C372=C372))>1,0,1)","v":1},0,0,0,1,0,"Contratos de prestación de servicios profesionales y de apoyo a la gestión","Contratación directa",{"$f":"IFERROR(VLOOKUP(F372,[1]Tipo!$C$12:$C$27,1,FALSE),\"NO\")","v":"Prestación de servicios profesionales y de apoyo a la gestión, o para la ejecución de trabajos artísticos que sólo puedan encomendarse a determinadas personas naturales;"},"Inversión",45]
[318,2019,"FDLSUBA-CPS-318-2019","Contratos de prestación de servicios profesionales y de apoyo a la gestión","Contratación directa","Prestación de servicios profesionales y de apoyo a la gestión, o para la ejecución de trabajos artísticos que sólo puedan encomendarse a determinadas personas naturales;","CONTRATAR LA PRESTACION DE SERVICIOS PARA EL EMBELLECIMIENTO, INTERVENCION Y RECUPERACION DEL ESPACIO PUBLICO DEL MONUMENTO MURAL ESCULTORICO - ENCUENTRO DE DOS MUNDOS - COMO PARTE DEL PATRIMONIO HISTORICO DEL SECTOR EN LA LOCALIDAD DE SUBA, INCLUYENDO LA EJECUCION DE TRABAJOS DE RESTAURACION DE OBRAS DE ARTE QUE SOLO PUEDEN ENCOMENDARSE A DETERMINADAS PERSONAS NATURALES.","Inversión",18,{"$f":"IF(ISERROR(VLOOKUP(I373,[1]Eje_Pilar!$C$2:$E$47,2,FALSE)),\" \",VLOOKUP(I373,[1]Eje_Pilar!$C$2:$E$47,2,FALSE))","v":"Mejor movilidad para todos"},{"$f":"IF(ISERROR(VLOOKUP(I373,[1]Eje_Pilar!$C$2:$E$47,3,FALSE)),\" \",VLOOKUP(I373,[1]Eje_Pilar!$C$2:$E$47,3,FALSE))","v":"Pilar 2 Democracía Urbana"},"3-3-1-15-02-18-1506-000",15323250,"JORGE ENRIQUE LOPERA LOPEZ",160563813,null,0,null,null,160563813,64225526,"2019-06-26","2019-06-26","2019-12-31",180,null,null,null,null,"X",null,40.000000498244269,{"$f":"IF(SUMPRODUCT((A$14:A373=A373)*(B$14:B373=B373)*(C$14:C373=C373))>1,0,1)","v":1},0,0,0,1,0,"Contratos de prestación de servicios profesionales y de apoyo a la gestión","Contratación directa",{"$f":"IFERROR(VLOOKUP(F373,[1]Tipo!$C$12:$C$27,1,FALSE),\"NO\")","v":"Prestación de servicios profesionales y de apoyo a la gestión, o para la ejecución de trabajos artísticos que sólo puedan encomendarse a determinadas personas naturales;"},"Inversión",18]
[320,2019,"FDLSUBA-CPS-320-2019","Contratos de prestación de servicios profesionales y de apoyo a la gestión","Contratación directa","Prestación de servicios profesionales y de apoyo a la gestión, o para la ejecución de trabajos artísticos que sólo puedan encomendarse a determinadas personas naturales;","PRESTAR LOS SERVICIOS DE APOYO PARA EL FORTALECIMIENTO A LA GESTION LOCAL DE PROCESOS INSTITUCIONALES Y SOCIALES DE INTERES PUBLICO ARTICULADA POR EL FONDO DE DESARROLLO LOCAL DE SUBA EN COMPAÑIA DE SECTORES ADMINISTRATIVOS DEL DISTRITO, INSTANCIAS Y ORGANIZACIONES SOCIALES EN LA LOCALIDAD. NO HAY 38077","Inversión",45,{"$f":"IF(ISERROR(VLOOKUP(I374,[1]Eje_Pilar!$C$2:$E$47,2,FALSE)),\" \",VLOOKUP(I374,[1]Eje_Pilar!$C$2:$E$47,2,FALSE))","v":"Gobernanza e influencia local, regional e internacional"},{"$f":"IF(ISERROR(VLOOKUP(I374,[1]Eje_Pilar!$C$2:$E$47,3,FALSE)),\" \",VLOOKUP(I374,[1]Eje_Pilar!$C$2:$E$47,3,FALSE))","v":"Eje Transversal 4 Gobierno Legitimo, Fortalecimiento Local y Eficiencia"},"3-3-1-15-07-45-1478-000",1016062898,"DAVID  ANGRINO AMAYA / 79767437 LUIS CARLOS CAMACHO DAVILA",10077641,null,0,null,null,10077641,3536000,"2019-12-11","2019-06-26","2019-12-31",130,null,null,null,null,"X",null,35.087576546931963,{"$f":"IF(SUMPRODUCT((A$14:A374=A374)*(B$14:B374=B374)*(C$14:C374=C374))>1,0,1)","v":1},0,0,0,1,0,"Contratos de prestación de servicios profesionales y de apoyo a la gestión","Contratación directa",{"$f":"IFERROR(VLOOKUP(F374,[1]Tipo!$C$12:$C$27,1,FALSE),\"NO\")","v":"Prestación de servicios profesionales y de apoyo a la gestión, o para la ejecución de trabajos artísticos que sólo puedan encomendarse a determinadas personas naturales;"},"Inversión",45]
[321,2019,"FDLSUBA-CPS-321-2019","Contratos de prestación de servicios profesionales y de apoyo a la gestión","Contratación directa","Prestación de servicios profesionales y de apoyo a la gestión, o para la ejecución de trabajos artísticos que sólo puedan encomendarse a determinadas personas naturales;","APOYAR JURIDICAMENTE LA EJECUCION DE LAS ACCIONES REQUERIDAS PARA LA DEPURACION DE LAS ACTUACIONES ADMINISTRATIVAS QUE CURSAN EN LA ALCALDIA LOCAL. NO HAY 38080","Inversión",45,{"$f":"IF(ISERROR(VLOOKUP(I375,[1]Eje_Pilar!$C$2:$E$47,2,FALSE)),\" \",VLOOKUP(I375,[1]Eje_Pilar!$C$2:$E$47,2,FALSE))","v":"Gobernanza e influencia local, regional e internacional"},{"$f":"IF(ISERROR(VLOOKUP(I375,[1]Eje_Pilar!$C$2:$E$47,3,FALSE)),\" \",VLOOKUP(I375,[1]Eje_Pilar!$C$2:$E$47,3,FALSE))","v":"Eje Transversal 4 Gobierno Legitimo, Fortalecimiento Local y Eficiencia"},"3-3-1-15-07-45-1478-000",1030523881,"HECTOR  DUARTE MENDEZ",19940000,null,0,1,9813333,29753333,{"$f":"19940000+2753333","v":22693333},"2019-06-26","2019-06-26","2020-01-21",130,21,null,null,null,"X",null,76.27156594523376,{"$f":"IF(SUMPRODUCT((A$14:A375=A375)*(B$14:B375=B375)*(C$14:C375=C375))>1,0,1)","v":1},0,0,0,1,0,"Contratos de prestación de servicios profesionales y de apoyo a la gestión","Contratación directa",{"$f":"IFERROR(VLOOKUP(F375,[1]Tipo!$C$12:$C$27,1,FALSE),\"NO\")","v":"Prestación de servicios profesionales y de apoyo a la gestión, o para la ejecución de trabajos artísticos que sólo puedan encomendarse a determinadas personas naturales;"},"Inversión",45]
[322,2019,"FDLSUBA-CPS-322-2019","Contratos de prestación de servicios profesionales y de apoyo a la gestión","Contratación directa","Prestación de servicios profesionales y de apoyo a la gestión, o para la ejecución de trabajos artísticos que sólo puedan encomendarse a determinadas personas naturales;","PRESTAR LOS SERVICIOS DE APOYO PARA EL FORTALECIMIENTO A LA GESTION LOCAL DE PROCESOS INSTITUCIONALES Y SOCIALES DE INTERES PUBLICO ARTICULADA POR EL FONDO DE DESARROLLO LOCAL DE SUBA EN COMPAÑIA DE SECTORES ADMINISTRATIVOS DEL DISTRITO, INSTANCIAS Y ORGANIZACIONES SOCIALES EN LA LOCALIDAD. NO HAY 38077","Inversión",45,{"$f":"IF(ISERROR(VLOOKUP(I376,[1]Eje_Pilar!$C$2:$E$47,2,FALSE)),\" \",VLOOKUP(I376,[1]Eje_Pilar!$C$2:$E$47,2,FALSE))","v":"Gobernanza e influencia local, regional e internacional"},{"$f":"IF(ISERROR(VLOOKUP(I376,[1]Eje_Pilar!$C$2:$E$47,3,FALSE)),\" \",VLOOKUP(I376,[1]Eje_Pilar!$C$2:$E$47,3,FALSE))","v":"Eje Transversal 4 Gobierno Legitimo, Fortalecimiento Local y Eficiencia"},"3-3-1-15-07-45-1478-000",52581062,"ESTELA  HUAZA RAMIREZ",7661375,null,0,null,3830687,11492062,{"$f":"7661375+942892","v":8604267},"2019-07-03","2019-07-03","2020-01-21",130,21,null,null,null,"X",null,74.871393836893674,{"$f":"IF(SUMPRODUCT((A$14:A376=A376)*(B$14:B376=B376)*(C$14:C376=C376))>1,0,1)","v":1},0,0,0,1,0,"Contratos de prestación de servicios profesionales y de apoyo a la gestión","Contratación directa",{"$f":"IFERROR(VLOOKUP(F376,[1]Tipo!$C$12:$C$27,1,FALSE),\"NO\")","v":"Prestación de servicios profesionales y de apoyo a la gestión, o para la ejecución de trabajos artísticos que sólo puedan encomendarse a determinadas personas naturales;"},"Inversión",45]
[323,2019,"FDLSUBA-CPS-323-2019","Contratos de prestación de servicios profesionales y de apoyo a la gestión","Contratación directa","Prestación de servicios profesionales y de apoyo a la gestión, o para la ejecución de trabajos artísticos que sólo puedan encomendarse a determinadas personas naturales;","APOYAR LA GESTION DOCUMENTAL DE LA ALCALDIA LOCAL EN LA IMPLEMENTACION DE LOS PROCESOS DE CLASIFICACION, ORDENACION, SELECCION NATURAL, FOLIACION, IDENTIFICACION, LEVANTAMIENTO DE INVENTARIOS, ALMACENAMIENTO Y APLICACION DE PROTOCOLOS DE ELIMINACION Y TRANSFERENCIAS DOCUMENTALES. NO HAY 38081.","Inversión",45,{"$f":"IF(ISERROR(VLOOKUP(I377,[1]Eje_Pilar!$C$2:$E$47,2,FALSE)),\" \",VLOOKUP(I377,[1]Eje_Pilar!$C$2:$E$47,2,FALSE))","v":"Gobernanza e influencia local, regional e internacional"},{"$f":"IF(ISERROR(VLOOKUP(I377,[1]Eje_Pilar!$C$2:$E$47,3,FALSE)),\" \",VLOOKUP(I377,[1]Eje_Pilar!$C$2:$E$47,3,FALSE))","v":"Eje Transversal 4 Gobierno Legitimo, Fortalecimiento Local y Eficiencia"},"3-3-1-15-07-45-1478-000",71594128,"JHON JAIRO MORENO PANIAGUA",7662000,null,0,1,3418133,11080133,{"$f":"7662000+529733","v":8191733},"2019-07-09","2019-07-09","2020-01-21",126,21,null,null,null,"X",null,73.931720855697307,{"$f":"IF(SUMPRODUCT((A$14:A377=A377)*(B$14:B377=B377)*(C$14:C377=C377))>1,0,1)","v":1},0,0,0,1,0,"Contratos de prestación de servicios profesionales y de apoyo a la gestión","Contratación directa",{"$f":"IFERROR(VLOOKUP(F377,[1]Tipo!$C$12:$C$27,1,FALSE),\"NO\")","v":"Prestación de servicios profesionales y de apoyo a la gestión, o para la ejecución de trabajos artísticos que sólo puedan encomendarse a determinadas personas naturales;"},"Inversión",45]
[324,2019,"FDLSUBA-CPS-324-2019","Contratos de prestación de servicios profesionales y de apoyo a la gestión","Contratación directa","Prestación de servicios profesionales y de apoyo a la gestión, o para la ejecución de trabajos artísticos que sólo puedan encomendarse a determinadas personas naturales;","PRESTAR SERVICIOS PROFESIONALES ESPECIALIZADOS EN EL AREA DE GESTION DEL DESARROLLO LOCAL DE LA ALCALDIA LOCAL DE SUBA, PRINCIPALMENTE EN EL CONTROL PARA EL MANEJO DE TODOS LOS COMPONENTES AMBIENTALES EXTERNOS ESPECIALMENTE EN TEMAS DE RESERVAS AMBIENTALES, HUMEDALES Y ECOSISTEMAS RELACIONADOS CON LA GESTION DEL DESARROLLO Y RELACIONAMIENTO CON LA CAR. NO HAY 16937","Inversión",38,{"$f":"IF(ISERROR(VLOOKUP(I378,[1]Eje_Pilar!$C$2:$E$47,2,FALSE)),\" \",VLOOKUP(I378,[1]Eje_Pilar!$C$2:$E$47,2,FALSE))","v":"Recuperación y manejo de la Estructura Ecológica Principal"},{"$f":"IF(ISERROR(VLOOKUP(I378,[1]Eje_Pilar!$C$2:$E$47,3,FALSE)),\" \",VLOOKUP(I378,[1]Eje_Pilar!$C$2:$E$47,3,FALSE))","v":"Eje Transversal 3 Sostenibilidad Ambiental basada en la eficiencia energética"},"3-3-1-15-06-38-1472-000",1032398698,"LAURA MARIA BAUTISTA ALVAREZ",42234000,null,0,1,3519500,{"$f":"+O378+Q378+S378","v":45753500},33083300,"2019-07-10","2019-07-10","2020-01-21",180,21,null,null,null,"X",null,72.307692307692307,{"$f":"IF(SUMPRODUCT((A$14:A378=A378)*(B$14:B378=B378)*(C$14:C378=C378))>1,0,1)","v":1},0,0,0,1,0,"Contratos de prestación de servicios profesionales y de apoyo a la gestión","Contratación directa",{"$f":"IFERROR(VLOOKUP(F378,[1]Tipo!$C$12:$C$27,1,FALSE),\"NO\")","v":"Prestación de servicios profesionales y de apoyo a la gestión, o para la ejecución de trabajos artísticos que sólo puedan encomendarse a determinadas personas naturales;"},"Inversión",38]
[325,2019,"FDLSUBA-LP-002-2019","Contratos de prestación de servicios","Licitación pública","No aplica","PRESTAR LOS SERVICIOS ESPECIALIZADOS DE VIGILANCIA Y SEGURIDAD PRIVADA PARA LA PROTECCION Y CUSTODIA DE LAS PERSONAS Y LOS BIENES MUEBLES E INMUEBLES SOBRE LOS QUE LEGALMENTE ES O LLEGUE A SER RESPONSABLE LA ALCLADIA LOCAL DE SUBA, CON LOS RECURSOS TECNICOS, TECNOLOGICOS Y EL PERSONAL IDONEO.","Funcionamiento","No aplica",{"$f":"IF(ISERROR(VLOOKUP(I379,[1]Eje_Pilar!$C$2:$E$47,2,FALSE)),\" \",VLOOKUP(I379,[1]Eje_Pilar!$C$2:$E$47,2,FALSE))","v":" "},{"$f":"IF(ISERROR(VLOOKUP(I379,[1]Eje_Pilar!$C$2:$E$47,3,FALSE)),\" \",VLOOKUP(I379,[1]Eje_Pilar!$C$2:$E$47,3,FALSE))","v":" "},"3-1-2-02-02-03-0005-001","802.006.730-5","INTERGLOBAL SEGURIDAAD Y VIGILANCIA LTDA",535124443,null,0,null,null,535124443,305785396,"2019-07-05","2019-07-05","2019-12-31",325,null,null,null,"X",null,null,57.142857142857139,{"$f":"IF(SUMPRODUCT((A$14:A379=A379)*(B$14:B379=B379)*(C$14:C379=C379))>1,0,1)","v":1},0,0,1,0,0,"Contratos de prestación de servicios","Licitación pública",{"$f":"IFERROR(VLOOKUP(F379,[1]Tipo!$C$12:$C$27,1,FALSE),\"NO\")","v":"NO"},"Funcionamiento","NO"]
[326,2019,"FDLSUBA-CMA-002-2019","Interventoría","Concurso de méritos","No aplica","REALIZAR LA INTEVENTORIA TECNICA, ADMINISTRATIVA, LEGAL, FINANCIERA, CONTABLE, SEGURIDAD Y SALUD EN EL TRABAJO, SOCIAL Y AMBIENTAL PARA EL CONTRATO DE OBRA PUBLICA 317 DE 2018","Inversión",17,{"$f":"IF(ISERROR(VLOOKUP(I380,[1]Eje_Pilar!$C$2:$E$47,2,FALSE)),\" \",VLOOKUP(I380,[1]Eje_Pilar!$C$2:$E$47,2,FALSE))","v":"Espacio público, derecho de todos"},{"$f":"IF(ISERROR(VLOOKUP(I380,[1]Eje_Pilar!$C$2:$E$47,3,FALSE)),\" \",VLOOKUP(I380,[1]Eje_Pilar!$C$2:$E$47,3,FALSE))","v":"Pilar 2 Democracía Urbana"},"3-3-1-15-02-17-1465-000","901.007.077-7","TECAL INENIERIA SAS",105000000,null,0,null,null,105000000,24675000,"2019-07-10","2019-07-10","2019-12-31",180,null,null,null,"X",null,null,23.5,{"$f":"IF(SUMPRODUCT((A$14:A380=A380)*(B$14:B380=B380)*(C$14:C380=C380))>1,0,1)","v":1},0,0,1,0,0,"Interventoría","Concurso de méritos",{"$f":"IFERROR(VLOOKUP(F380,[1]Tipo!$C$12:$C$27,1,FALSE),\"NO\")","v":"NO"},"Inversión",17]
[332,2019,"FDLS-LP-001-2019","Contratos de prestación de servicios","Licitación pública","No aplica","CONTRATAR A PRECIOS UNITARIOS Y A MONTO AGOTABLE, LA PRESTACION DEL SERVICIO DE MANTENIMIENTO INTEGRAL PREVENTIVO Y CORRECTIVO Y/O REPARACION INCLUIDO EL SUMINISTRO DE INSUMOS, REPUESTOS NUEVOS, GENUINOS Y ORIGINALES Y MANO DE OBRA PARA LAS VOLQUETAS, MAQUINARIA AMARILLA Y SUS ACCESORIOS DE INTERVENCION VIAL QUE HACEN PARTE DEL PARQUE AUTOMOTOR DE PROPIEDAD DEL FONDO DE DESARROLLO LOCAL DE SUBA QUE LO REQUIERAN.","Inversión",18,{"$f":"IF(ISERROR(VLOOKUP(I381,[1]Eje_Pilar!$C$2:$E$47,2,FALSE)),\" \",VLOOKUP(I381,[1]Eje_Pilar!$C$2:$E$47,2,FALSE))","v":"Mejor movilidad para todos"},{"$f":"IF(ISERROR(VLOOKUP(I381,[1]Eje_Pilar!$C$2:$E$47,3,FALSE)),\" \",VLOOKUP(I381,[1]Eje_Pilar!$C$2:$E$47,3,FALSE))","v":"Pilar 2 Democracía Urbana"},"3-3-1-15-02-18-1506-000","800020006-1","AUTO INVERSIONES COLOMBIA S.A. AUTOINVERCOL",359914433,null,0,null,null,359914433,336326537,"2019-07-12","2019-07-12","2019-12-31",270,null,null,null,"X",null,null,93.446248931061902,{"$f":"IF(SUMPRODUCT((A$14:A381=A381)*(B$14:B381=B381)*(C$14:C381=C381))>1,0,1)","v":1},0,0,1,0,0,"Contratos de prestación de servicios","Licitación pública",{"$f":"IFERROR(VLOOKUP(F381,[1]Tipo!$C$12:$C$27,1,FALSE),\"NO\")","v":"NO"},"Inversión",18]
[333,2019,"FDLSUBA-CPS-333-2019","Contratos de prestación de servicios profesionales y de apoyo a la gestión","Contratación directa","Prestación de servicios profesionales y de apoyo a la gestión, o para la ejecución de trabajos artísticos que sólo puedan encomendarse a determinadas personas naturales;","PRESTAR SERVICIOS PROFESIONALES LIDERANDO EL FORTALECIMIENTO A LA GESTION LOCAL DE PROCESOS INSTITUCIONALES Y SOCIALES DE INTERES PUBLICO ARTICULADA POR EL FONDO DE DESARRROLLO LOCAL DE SUBA EN COMPAÑIA DE SECTORES ADMINISTRATIVOS DEL DISTRITO, INSTANCIAS Y ORGANIZACIONES SOCIALES EN LA LOCALIDAD.","Inversión",45,{"$f":"IF(ISERROR(VLOOKUP(I382,[1]Eje_Pilar!$C$2:$E$47,2,FALSE)),\" \",VLOOKUP(I382,[1]Eje_Pilar!$C$2:$E$47,2,FALSE))","v":"Gobernanza e influencia local, regional e internacional"},{"$f":"IF(ISERROR(VLOOKUP(I382,[1]Eje_Pilar!$C$2:$E$47,3,FALSE)),\" \",VLOOKUP(I382,[1]Eje_Pilar!$C$2:$E$47,3,FALSE))","v":"Eje Transversal 4 Gobierno Legitimo, Fortalecimiento Local y Eficiencia"},"3-3-1-15-07-45-1478-000",1023017414,"LAURA CRISTINA CASTELLANOS MARTINEZ",19170000,null,0,null,null,19170000,19166667,"2019-07-24","2019-07-24","2019-12-31",160,null,null,null,null,"X",null,99.982613458528945,{"$f":"IF(SUMPRODUCT((A$14:A382=A382)*(B$14:B382=B382)*(C$14:C382=C382))>1,0,1)","v":1},0,0,0,1,0,"Contratos de prestación de servicios profesionales y de apoyo a la gestión","Contratación directa",{"$f":"IFERROR(VLOOKUP(F382,[1]Tipo!$C$12:$C$27,1,FALSE),\"NO\")","v":"Prestación de servicios profesionales y de apoyo a la gestión, o para la ejecución de trabajos artísticos que sólo puedan encomendarse a determinadas personas naturales;"},"Inversión",45]
[334,2019,"FDLSUBA-CPS-334-2019","Contratos de prestación de servicios profesionales y de apoyo a la gestión","Contratación directa","Prestación de servicios profesionales y de apoyo a la gestión, o para la ejecución de trabajos artísticos que sólo puedan encomendarse a determinadas personas naturales;","PRESTAR SERVICIOS PROFESIONALES AL AREA DE GESTION DEL DESARROLLO LOCAL DE LA ALCALDIA LOCAL DE SUBA, PARA APOYAR LA SUPERVISION DE CONTRATOS DEL PROYECTO 1461 QUE LE SEAN ASIGNADOS. NO HAY 16791","Inversión",15,{"$f":"IF(ISERROR(VLOOKUP(I383,[1]Eje_Pilar!$C$2:$E$47,2,FALSE)),\" \",VLOOKUP(I383,[1]Eje_Pilar!$C$2:$E$47,2,FALSE))","v":"Recuperación, incorporación, vida urbana y control de la ilegalidad"},{"$f":"IF(ISERROR(VLOOKUP(I383,[1]Eje_Pilar!$C$2:$E$47,3,FALSE)),\" \",VLOOKUP(I383,[1]Eje_Pilar!$C$2:$E$47,3,FALSE))","v":"Pilar 2 Democracía Urbana"},"3-3-1-15-02-15-1461-000",80035032,"JORGE ARMANDO GOMEZ MONTAÑO",35070000,null,0,null,null,35070000,26670000,"2019-07-15","2019-07-15","2019-12-31",167,null,null,null,null,"X",null,76.047904191616766,{"$f":"IF(SUMPRODUCT((A$14:A383=A383)*(B$14:B383=B383)*(C$14:C383=C383))>1,0,1)","v":1},0,0,0,1,0,"Contratos de prestación de servicios profesionales y de apoyo a la gestión","Contratación directa",{"$f":"IFERROR(VLOOKUP(F383,[1]Tipo!$C$12:$C$27,1,FALSE),\"NO\")","v":"Prestación de servicios profesionales y de apoyo a la gestión, o para la ejecución de trabajos artísticos que sólo puedan encomendarse a determinadas personas naturales;"},"Inversión",15]
[336,2019,"FDLSUBA-CPS-336-2019","Contratos de prestación de servicios profesionales y de apoyo a la gestión","Contratación directa","Prestación de servicios profesionales y de apoyo a la gestión, o para la ejecución de trabajos artísticos que sólo puedan encomendarse a determinadas personas naturales;","PRESTAR SERVICIOS TECNICOS EN EL AREA DE GESTION DESARROLLO LOCAL ESPECIALMENTE EN LA ATENCION DE ACTIVIDADES RELACIONADAS CON LA PARTICIPACION CIUDADANA DE LA ALCALDIA LOCAL DE SUBA PARA LOGRAR CON EL CUMPLIMIENTO DE LAS METAS DEL PLAN DE DESARROLLO LOCAL DE LA VIGENCIA.","Inversión",45,{"$f":"IF(ISERROR(VLOOKUP(I384,[1]Eje_Pilar!$C$2:$E$47,2,FALSE)),\" \",VLOOKUP(I384,[1]Eje_Pilar!$C$2:$E$47,2,FALSE))","v":"Gobernanza e influencia local, regional e internacional"},{"$f":"IF(ISERROR(VLOOKUP(I384,[1]Eje_Pilar!$C$2:$E$47,3,FALSE)),\" \",VLOOKUP(I384,[1]Eje_Pilar!$C$2:$E$47,3,FALSE))","v":"Eje Transversal 4 Gobierno Legitimo, Fortalecimiento Local y Eficiencia"},"3-3-1-15-07-45-1483-000",52516910,"MONICA PATRICIA SALAS HIGUERA",18500000,null,0,null,null,18500000,11200000,"2019-08-09","2019-08-09","2019-12-31",185,null,null,null,null,"X",null,60.540540540540547,{"$f":"IF(SUMPRODUCT((A$14:A384=A384)*(B$14:B384=B384)*(C$14:C384=C384))>1,0,1)","v":1},0,0,0,1,0,"Contratos de prestación de servicios profesionales y de apoyo a la gestión","Contratación directa",{"$f":"IFERROR(VLOOKUP(F384,[1]Tipo!$C$12:$C$27,1,FALSE),\"NO\")","v":"Prestación de servicios profesionales y de apoyo a la gestión, o para la ejecución de trabajos artísticos que sólo puedan encomendarse a determinadas personas naturales;"},"Inversión",45]
[338,2019,"FDLSUBA-SAMC-002-2019","Suministro","Selección abreviada","Selección abreviada por menor cuantía ","CONTRATAR EL SUMINISTRO DE UTILES DE OFICINA A MONTO AGOTABLE PARA LAS DEPENDENCIAS DE LA ALCALDIA LOCAL DE SUBA, CON EL FIN DE GARANTIZAR EL DESARROLLO DE SUS LABORES ADMINISTRATIVAS Y MISIONALES PARA LA VIGENCIA 2019.","Funcionamiento","No aplica",{"$f":"IF(ISERROR(VLOOKUP(I385,[1]Eje_Pilar!$C$2:$E$47,2,FALSE)),\" \",VLOOKUP(I385,[1]Eje_Pilar!$C$2:$E$47,2,FALSE))","v":" "},{"$f":"IF(ISERROR(VLOOKUP(I385,[1]Eje_Pilar!$C$2:$E$47,3,FALSE)),\" \",VLOOKUP(I385,[1]Eje_Pilar!$C$2:$E$47,3,FALSE))","v":" "},"3-1-2-02-01-02-0002-000","830029017-2","AMERICANA CORP S A S",66819990,null,0,null,null,66819990,0,"2019-07-24","2019-07-24","2019-12-31",180,null,null,null,null,"X",null,0,{"$f":"IF(SUMPRODUCT((A$14:A385=A385)*(B$14:B385=B385)*(C$14:C385=C385))>1,0,1)","v":1},0,0,0,1,0,"Suministro","Selección abreviada",{"$f":"IFERROR(VLOOKUP(F385,[1]Tipo!$C$12:$C$27,1,FALSE),\"NO\")","v":"Selección abreviada por menor cuantía "},"Funcionamiento","NO"]
[339,2019,"FDLSUBA-CPS-336-2019","Contratos de prestación de servicios profesionales y de apoyo a la gestión","Contratación directa","Prestación de servicios profesionales y de apoyo a la gestión, o para la ejecución de trabajos artísticos que sólo puedan encomendarse a determinadas personas naturales;","APOYAR LA FORMULACION, GESTION Y SEGUIMIENTO DE ACTIVIDADES ENFOCADAS A LA GESTION AMBIENTAL EXTERNA, ENCAMINADAS A LA MITIGACION DE LOS DIFERENTES IMPACTOS AMBIENTALES Y LA CONSERVACION DE LOS RECURSOS NATURALES DE LA LOCALIDAD. NO HAY 16992 Y # SIPSE 38299","Inversión",38,{"$f":"IF(ISERROR(VLOOKUP(I386,[1]Eje_Pilar!$C$2:$E$47,2,FALSE)),\" \",VLOOKUP(I386,[1]Eje_Pilar!$C$2:$E$47,2,FALSE))","v":"Recuperación y manejo de la Estructura Ecológica Principal"},{"$f":"IF(ISERROR(VLOOKUP(I386,[1]Eje_Pilar!$C$2:$E$47,3,FALSE)),\" \",VLOOKUP(I386,[1]Eje_Pilar!$C$2:$E$47,3,FALSE))","v":"Eje Transversal 3 Sostenibilidad Ambiental basada en la eficiencia energética"},"3-3-1-15-06-38-1472-000",1018418218,"CAROLINA  TORRES TELLO",19166666,null,0,null,null,19166666,17173333,"2019-08-09","2019-08-09","2019-12-31",126,null,null,null,null,"X",null,89.600001377391351,{"$f":"IF(SUMPRODUCT((A$14:A386=A386)*(B$14:B386=B386)*(C$14:C386=C386))>1,0,1)","v":1},0,0,0,1,0,"Contratos de prestación de servicios profesionales y de apoyo a la gestión","Contratación directa",{"$f":"IFERROR(VLOOKUP(F386,[1]Tipo!$C$12:$C$27,1,FALSE),\"NO\")","v":"Prestación de servicios profesionales y de apoyo a la gestión, o para la ejecución de trabajos artísticos que sólo puedan encomendarse a determinadas personas naturales;"},"Inversión",38]
[340,2019,"FDLSUBA-SAMC-004-2019","Suministro","Selección abreviada","Selección abreviada por menor cuantía ","CONTRATAR EL SUMINISTRO E INSTALACION DEL MOBILIARIO PARA LAS DIFERENTES OFICINAS DE LA ALCALDIA LOCAL DE SUBA","Inversión",45,{"$f":"IF(ISERROR(VLOOKUP(I387,[1]Eje_Pilar!$C$2:$E$47,2,FALSE)),\" \",VLOOKUP(I387,[1]Eje_Pilar!$C$2:$E$47,2,FALSE))","v":"Gobernanza e influencia local, regional e internacional"},{"$f":"IF(ISERROR(VLOOKUP(I387,[1]Eje_Pilar!$C$2:$E$47,3,FALSE)),\" \",VLOOKUP(I387,[1]Eje_Pilar!$C$2:$E$47,3,FALSE))","v":"Eje Transversal 4 Gobierno Legitimo, Fortalecimiento Local y Eficiencia"},"3-3-1-15-07-45-1478-000","860.003.735-9 ","METALICAS LA INDUSTRIAL LTDA",61687458,null,0,null,null,61687458,0,"2019-08-05","2019-08-05","2019-12-31",148,null,null,null,null,"X",null,0,{"$f":"IF(SUMPRODUCT((A$14:A387=A387)*(B$14:B387=B387)*(C$14:C387=C387))>1,0,1)","v":1},0,0,0,1,0,"Suministro","Selección abreviada",{"$f":"IFERROR(VLOOKUP(F387,[1]Tipo!$C$12:$C$27,1,FALSE),\"NO\")","v":"Selección abreviada por menor cuantía "},"Inversión",45]
[347,2019,"FDLSUBA-CPS-347-2019","Contratos de prestación de servicios profesionales y de apoyo a la gestión","Contratación directa","Prestación de servicios profesionales y de apoyo a la gestión, o para la ejecución de trabajos artísticos que sólo puedan encomendarse a determinadas personas naturales;","PRESTAR LOS SERVICIOS PROFESIONALES EN EL AREA DE GESTION DE DESARROLLO LOCAL, ESPECIALMENTE PARA APOYAR ACTIVIDADES DEL PROYECTO ESTRATEGICO AMBIENTAL DE MANEJO DE RESIDUOS SOLIDOS. NO HAY # 17004 Y SIPSE # 38598.","Inversión",13,{"$f":"IF(ISERROR(VLOOKUP(I388,[1]Eje_Pilar!$C$2:$E$47,2,FALSE)),\" \",VLOOKUP(I388,[1]Eje_Pilar!$C$2:$E$47,2,FALSE))","v":"Infraestructura para el desarrollo del hábitat"},{"$f":"IF(ISERROR(VLOOKUP(I388,[1]Eje_Pilar!$C$2:$E$47,3,FALSE)),\" \",VLOOKUP(I388,[1]Eje_Pilar!$C$2:$E$47,3,FALSE))","v":"Pilar 2 Democracía Urbana"},"3-3-1-15-02-13-1466-000",1032393869,"CELIA  LOPEZ ANGEL",30000000,null,0,1,1600000,31600000,21000000,"2019-08-15","2019-08-15","2020-01-21",150,21,null,null,null,"X",null,66.455696202531641,{"$f":"IF(SUMPRODUCT((A$14:A388=A388)*(B$14:B388=B388)*(C$14:C388=C388))>1,0,1)","v":1},0,0,0,1,0,"Contratos de prestación de servicios profesionales y de apoyo a la gestión","Contratación directa",{"$f":"IFERROR(VLOOKUP(F388,[1]Tipo!$C$12:$C$27,1,FALSE),\"NO\")","v":"Prestación de servicios profesionales y de apoyo a la gestión, o para la ejecución de trabajos artísticos que sólo puedan encomendarse a determinadas personas naturales;"},"Inversión",13]
[348,2019,"FDLSUBA-SAMC-003-2019","Compraventa de bienes muebles","Selección abreviada","Selección abreviada por menor cuantía ","ADQUISICION, INSTALACION Y PUESTA EN FUNCIONAMIENTO DE UN SISTEMA DE ALIMENTACION ININTERRUMPIDA DE 50 KVA (UPS) CON DESTINO A LA CASA DE PARTICIPACION, INCLUYENDO EL DESMONTE DE LA UPS ACTUAL Y OTRA DE 15 KVA (UPS) CON DESTINO A LA CAS DEL DEPORTE DE LA ALCALDIA LOCAL DE SUBA","Inversión",45,{"$f":"IF(ISERROR(VLOOKUP(I389,[1]Eje_Pilar!$C$2:$E$47,2,FALSE)),\" \",VLOOKUP(I389,[1]Eje_Pilar!$C$2:$E$47,2,FALSE))","v":"Gobernanza e influencia local, regional e internacional"},{"$f":"IF(ISERROR(VLOOKUP(I389,[1]Eje_Pilar!$C$2:$E$47,3,FALSE)),\" \",VLOOKUP(I389,[1]Eje_Pilar!$C$2:$E$47,3,FALSE))","v":"Eje Transversal 4 Gobierno Legitimo, Fortalecimiento Local y Eficiencia"},"3-3-1-15-07-45-1478-000","830078090-1","SINERGY & LOWELLS S.A.S.",147538755,null,0,null,null,147538755,147538755,"2019-08-27","2019-08-27","2019-12-31",90,null,null,null,null,"X",null,100,{"$f":"IF(SUMPRODUCT((A$14:A389=A389)*(B$14:B389=B389)*(C$14:C389=C389))>1,0,1)","v":1},0,0,0,1,0,"Compraventa de bienes muebles","Selección abreviada",{"$f":"IFERROR(VLOOKUP(F389,[1]Tipo!$C$12:$C$27,1,FALSE),\"NO\")","v":"Selección abreviada por menor cuantía "},"Inversión",45]
[349,2019,"FDLSUBA-MC-005-2019","Suministro","Contratación mínima cuantia","No aplica","SUMINISTRAR A MONTO AGOTABLE AL FONDO DE DESARROLLO LOCAL DE SUBA LOS ELEMENTOS DE FERRETERÍA, PLOMERIA, ELECTRICIDAD Y OTROS PARA LAS REPARACIONES LOCATIVAS MENORES DE LAS INSTALACIONES DE TODAS LAS SEDES DE LA ALCALDÍA LOCAL DE SUBA.","Funcionamiento","No aplica",{"$f":"IF(ISERROR(VLOOKUP(I390,[1]Eje_Pilar!$C$2:$E$47,2,FALSE)),\" \",VLOOKUP(I390,[1]Eje_Pilar!$C$2:$E$47,2,FALSE))","v":" "},{"$f":"IF(ISERROR(VLOOKUP(I390,[1]Eje_Pilar!$C$2:$E$47,3,FALSE)),\" \",VLOOKUP(I390,[1]Eje_Pilar!$C$2:$E$47,3,FALSE))","v":" "},"3-1-2-02-02-03-0006-012",830073899,"COMERCIALIZADORA ELECTROCON SAS",20000000,null,0,null,null,20000000,7164299,"2019-08-22","2019-08-22","2019-12-31",210,null,null,null,null,"X",null,35.821494999999999,{"$f":"IF(SUMPRODUCT((A$14:A390=A390)*(B$14:B390=B390)*(C$14:C390=C390))>1,0,1)","v":1},0,0,0,1,0,"Suministro","Contratación mínima cuantia",{"$f":"IFERROR(VLOOKUP(F390,[1]Tipo!$C$12:$C$27,1,FALSE),\"NO\")","v":"NO"},"Funcionamiento","NO"]
[351,2019,"FDLSUBA-CPS-351-2019","Contratos de prestación de servicios profesionales y de apoyo a la gestión","Contratación directa","Prestación de servicios profesionales y de apoyo a la gestión, o para la ejecución de trabajos artísticos que sólo puedan encomendarse a determinadas personas naturales;","PRESTAR LOS SERVICIOS PROFESIONALES EN EL AREA DE GESTION DE DESARROLLO LOCAL, ESPECIALMENTE PARA APOYAR ACTIVIDADES DE GEOREFERENCIACION DE RUTAS Y COORDINACION DE VIGIAS AMBIENTALES DE APROVECHAMIENTO DEL PROYECTO ESTRATEGICO AMBIENTAL DE MANEJO DE RESIDUOS SOLIDOS. NO HAY # 17005 Y SIPSE # 38580.","Inversión",13,{"$f":"IF(ISERROR(VLOOKUP(I391,[1]Eje_Pilar!$C$2:$E$47,2,FALSE)),\" \",VLOOKUP(I391,[1]Eje_Pilar!$C$2:$E$47,2,FALSE))","v":"Infraestructura para el desarrollo del hábitat"},{"$f":"IF(ISERROR(VLOOKUP(I391,[1]Eje_Pilar!$C$2:$E$47,3,FALSE)),\" \",VLOOKUP(I391,[1]Eje_Pilar!$C$2:$E$47,3,FALSE))","v":"Pilar 2 Democracía Urbana"},"3-3-1-15-02-13-1466-000",80817889,"ALFREDO  GARZON BEJARANO",23000000,null,0,1,306667,23306667,15180000,"2019-08-22","2019-08-22","2020-01-21",150,21,null,null,null,"X",null,65.131578015852725,{"$f":"IF(SUMPRODUCT((A$14:A391=A391)*(B$14:B391=B391)*(C$14:C391=C391))>1,0,1)","v":1},0,0,0,1,0,"Contratos de prestación de servicios profesionales y de apoyo a la gestión","Contratación directa",{"$f":"IFERROR(VLOOKUP(F391,[1]Tipo!$C$12:$C$27,1,FALSE),\"NO\")","v":"Prestación de servicios profesionales y de apoyo a la gestión, o para la ejecución de trabajos artísticos que sólo puedan encomendarse a determinadas personas naturales;"},"Inversión",13]
[352,2019,"FDLSUBA-CPS-352-2019","Contratos de prestación de servicios profesionales y de apoyo a la gestión","Contratación directa","Prestación de servicios profesionales y de apoyo a la gestión, o para la ejecución de trabajos artísticos que sólo puedan encomendarse a determinadas personas naturales;","PRESTAR SERVICIOS AUXILIARES APOYANDO A LA GESTION DE DESARROLLO LOCAL, ESPECIALMENTE PARA APOYAR ACTIVIDADES DEL PROYECTO ESTRATEGICO AMBIENTAL DE MANEJO DE RESIDUOS SOLIDOS. NO HAY # 17006 Y SIPSE # 38578.","Inversión",13,{"$f":"IF(ISERROR(VLOOKUP(I392,[1]Eje_Pilar!$C$2:$E$47,2,FALSE)),\" \",VLOOKUP(I392,[1]Eje_Pilar!$C$2:$E$47,2,FALSE))","v":"Infraestructura para el desarrollo del hábitat"},{"$f":"IF(ISERROR(VLOOKUP(I392,[1]Eje_Pilar!$C$2:$E$47,3,FALSE)),\" \",VLOOKUP(I392,[1]Eje_Pilar!$C$2:$E$47,3,FALSE))","v":"Pilar 2 Democracía Urbana"},"3-3-1-15-02-13-1466-000",1136886511,"ALEJANDRA  GONZALEZ MAHECHA",8840000,null,0,null,null,8840000,4007467,"2019-08-22","2019-08-22","2019-12-31",150,null,null,null,null,"X",null,45.333337104072399,{"$f":"IF(SUMPRODUCT((A$14:A392=A392)*(B$14:B392=B392)*(C$14:C392=C392))>1,0,1)","v":1},0,0,0,1,0,"Contratos de prestación de servicios profesionales y de apoyo a la gestión","Contratación directa",{"$f":"IFERROR(VLOOKUP(F392,[1]Tipo!$C$12:$C$27,1,FALSE),\"NO\")","v":"Prestación de servicios profesionales y de apoyo a la gestión, o para la ejecución de trabajos artísticos que sólo puedan encomendarse a determinadas personas naturales;"},"Inversión",13]
[353,2019,"FDLSUBA-CPS-353-2019","Contratos de prestación de servicios profesionales y de apoyo a la gestión","Contratación directa","Prestación de servicios profesionales y de apoyo a la gestión, o para la ejecución de trabajos artísticos que sólo puedan encomendarse a determinadas personas naturales;","PRESTAR SERVICIOS PROFESIONALES ESPECIALIZADOS PARA BRINDAR LINEAMIENTOS JURIDICOS, EVALUAR Y ORIENTAR TEMAS PRIORITARIOS EN EL AREA DE DESARROLLO LOCAL DE LA ALCALDIA LOCAL DE SUBA, PARA EL CUMPLIMIENTO DE LAS REGULACIONES EN MATERIA DE DERECHO ADMINISTRATIVO APLICABLES EN EL DISTRITO CAPITAL.NO HAY # 16997 Y SIPSE # 38513.","Inversión",45,{"$f":"IF(ISERROR(VLOOKUP(I393,[1]Eje_Pilar!$C$2:$E$47,2,FALSE)),\" \",VLOOKUP(I393,[1]Eje_Pilar!$C$2:$E$47,2,FALSE))","v":"Gobernanza e influencia local, regional e internacional"},{"$f":"IF(ISERROR(VLOOKUP(I393,[1]Eje_Pilar!$C$2:$E$47,3,FALSE)),\" \",VLOOKUP(I393,[1]Eje_Pilar!$C$2:$E$47,3,FALSE))","v":"Eje Transversal 4 Gobierno Legitimo, Fortalecimiento Local y Eficiencia"},"3-3-1-15-07-45-1478-000",1110471820,"DIANA MARIA BOLAÑOS LOPEZ",40000000,null,0,null,null,40000000,25066667,"2019-08-26","2019-08-26","2020-01-21",150,21,null,null,null,"X",null,62.666667499999996,{"$f":"IF(SUMPRODUCT((A$14:A393=A393)*(B$14:B393=B393)*(C$14:C393=C393))>1,0,1)","v":1},0,0,0,1,0,"Contratos de prestación de servicios profesionales y de apoyo a la gestión","Contratación directa",{"$f":"IFERROR(VLOOKUP(F393,[1]Tipo!$C$12:$C$27,1,FALSE),\"NO\")","v":"Prestación de servicios profesionales y de apoyo a la gestión, o para la ejecución de trabajos artísticos que sólo puedan encomendarse a determinadas personas naturales;"},"Inversión",45]
[354,2019,"FDLSUBA-CPS-354-2019","Contratos de prestación de servicios profesionales y de apoyo a la gestión","Contratación directa","Prestación de servicios profesionales y de apoyo a la gestión, o para la ejecución de trabajos artísticos que sólo puedan encomendarse a determinadas personas naturales;","PRESTAR SERVICIOS AUXILIARES APOYANDO A LA GESTION DE DESARROLLO LOCAL, ESPECIALMENTE PARA APOYAR ACTIVIDADES DEL PROYECTO ESTRATEGICO AMBIENTAL DE MANEJO DE RESIDUOS SOLIDOS. NO HAY # 17006 Y SIPSE # 38578.","Inversión",13,{"$f":"IF(ISERROR(VLOOKUP(I394,[1]Eje_Pilar!$C$2:$E$47,2,FALSE)),\" \",VLOOKUP(I394,[1]Eje_Pilar!$C$2:$E$47,2,FALSE))","v":"Infraestructura para el desarrollo del hábitat"},{"$f":"IF(ISERROR(VLOOKUP(I394,[1]Eje_Pilar!$C$2:$E$47,3,FALSE)),\" \",VLOOKUP(I394,[1]Eje_Pilar!$C$2:$E$47,3,FALSE))","v":"Pilar 2 Democracía Urbana"},"3-3-1-15-02-13-1466-000",1019006411,"CINDY ESMERALDA GARZON CARDOZO",8840000,null,0,null,null,8840000,3418133,"2019-09-03","2019-09-03","2019-12-31",150,null,null,null,null,"X",null,38.666662895927601,{"$f":"IF(SUMPRODUCT((A$14:A394=A394)*(B$14:B394=B394)*(C$14:C394=C394))>1,0,1)","v":1},0,0,0,1,0,"Contratos de prestación de servicios profesionales y de apoyo a la gestión","Contratación directa",{"$f":"IFERROR(VLOOKUP(F394,[1]Tipo!$C$12:$C$27,1,FALSE),\"NO\")","v":"Prestación de servicios profesionales y de apoyo a la gestión, o para la ejecución de trabajos artísticos que sólo puedan encomendarse a determinadas personas naturales;"},"Inversión",13]
[355,2019,"FDLSUBA-CPS-355-2019","Contratos de prestación de servicios profesionales y de apoyo a la gestión","Contratación directa","Prestación de servicios profesionales y de apoyo a la gestión, o para la ejecución de trabajos artísticos que sólo puedan encomendarse a determinadas personas naturales;","PRESTAR SERVICIOS AUXILIARES APOYANDO A LA GESTION DE DESARROLLO LOCAL, ESPECIALMENTE PARA APOYAR ACTIVIDADES DEL PROYECTO ESTRATEGICO AMBIENTAL DE MANEJO DE RESIDUOS SOLIDOS. NO HAY # 17006 Y SIPSE # 38578.","Inversión",13,{"$f":"IF(ISERROR(VLOOKUP(I395,[1]Eje_Pilar!$C$2:$E$47,2,FALSE)),\" \",VLOOKUP(I395,[1]Eje_Pilar!$C$2:$E$47,2,FALSE))","v":"Infraestructura para el desarrollo del hábitat"},{"$f":"IF(ISERROR(VLOOKUP(I395,[1]Eje_Pilar!$C$2:$E$47,3,FALSE)),\" \",VLOOKUP(I395,[1]Eje_Pilar!$C$2:$E$47,3,FALSE))","v":"Pilar 2 Democracía Urbana"},"3-3-1-15-02-13-1466-000",1018473173,"NATALY STEFANNY RAMIREZ AREVALO",8840000,null,0,null,null,8840000,5245067,"2019-09-02","2019-09-02","2019-12-31",150,null,null,null,null,"X",null,59.333337104072406,{"$f":"IF(SUMPRODUCT((A$14:A395=A395)*(B$14:B395=B395)*(C$14:C395=C395))>1,0,1)","v":1},0,0,0,1,0,"Contratos de prestación de servicios profesionales y de apoyo a la gestión","Contratación directa",{"$f":"IFERROR(VLOOKUP(F395,[1]Tipo!$C$12:$C$27,1,FALSE),\"NO\")","v":"Prestación de servicios profesionales y de apoyo a la gestión, o para la ejecución de trabajos artísticos que sólo puedan encomendarse a determinadas personas naturales;"},"Inversión",13]
[356,2019,"FDLSUBA-MC-006-2019","Suministro","Contratación mínima cuantia",null,"CONTRATAR EL SUMINISTRO E INSTALACION DEL CABLEADO Y REDES ELECTRICAS INTERNAS PARA LA SEDE DE LA ALCALDIA LOCAL DE SUBA.","Inversión",45,{"$f":"IF(ISERROR(VLOOKUP(I396,[1]Eje_Pilar!$C$2:$E$47,2,FALSE)),\" \",VLOOKUP(I396,[1]Eje_Pilar!$C$2:$E$47,2,FALSE))","v":"Gobernanza e influencia local, regional e internacional"},{"$f":"IF(ISERROR(VLOOKUP(I396,[1]Eje_Pilar!$C$2:$E$47,3,FALSE)),\" \",VLOOKUP(I396,[1]Eje_Pilar!$C$2:$E$47,3,FALSE))","v":"Eje Transversal 4 Gobierno Legitimo, Fortalecimiento Local y Eficiencia"},"3-3-1-15-07-45-1478-000","900029004-0","INGENIERIA Y TECNOLOGIA EN MANTENIMIENTO INDUSTRIAL LTDA",8581300,null,0,null,null,8581300,8581300,"2019-09-02","2019-09-02","2019-12-31",30,null,null,null,null,"X",null,100,{"$f":"IF(SUMPRODUCT((A$14:A396=A396)*(B$14:B396=B396)*(C$14:C396=C396))>1,0,1)","v":1},0,0,0,1,0,"Suministro","Contratación mínima cuantia",{"$f":"IFERROR(VLOOKUP(F396,[1]Tipo!$C$12:$C$27,1,FALSE),\"NO\")","v":"NO"},"Inversión",45]
[366,2019,"FDLSUBA-CPS-366-2019","Contratos de prestación de servicios profesionales y de apoyo a la gestión","Contratación directa","Prestación de servicios profesionales y de apoyo a la gestión, o para la ejecución de trabajos artísticos que sólo puedan encomendarse a determinadas personas naturales;","PRESTAR SERVICIOS AUXILIARES APOYANDO A LA GESTION DE DESARROLLO LOCAL, ESPECIALMENTE PARA APOYAR ACTIVIDADES DEL PROYECTO ESTRATEGICO AMBIENTAL DE MANEJO DE RESIDUOS SOLIDOS. NO HAY # 17006 Y SIPSE # 38578.","Inversión",13,{"$f":"IF(ISERROR(VLOOKUP(I397,[1]Eje_Pilar!$C$2:$E$47,2,FALSE)),\" \",VLOOKUP(I397,[1]Eje_Pilar!$C$2:$E$47,2,FALSE))","v":"Infraestructura para el desarrollo del hábitat"},{"$f":"IF(ISERROR(VLOOKUP(I397,[1]Eje_Pilar!$C$2:$E$47,3,FALSE)),\" \",VLOOKUP(I397,[1]Eje_Pilar!$C$2:$E$47,3,FALSE))","v":"Pilar 2 Democracía Urbana"},"3-3-1-15-02-13-1466-000",3907277,"RAMIRO  BELTRAN HERRERA",8840000,null,0,null,null,8840000,4832533,"2019-09-06","2019-09-06","2019-12-31",150,null,null,null,null,"X",null,54.666662895927601,{"$f":"IF(SUMPRODUCT((A$14:A397=A397)*(B$14:B397=B397)*(C$14:C397=C397))>1,0,1)","v":1},0,0,0,1,0,"Contratos de prestación de servicios profesionales y de apoyo a la gestión","Contratación directa",{"$f":"IFERROR(VLOOKUP(F397,[1]Tipo!$C$12:$C$27,1,FALSE),\"NO\")","v":"Prestación de servicios profesionales y de apoyo a la gestión, o para la ejecución de trabajos artísticos que sólo puedan encomendarse a determinadas personas naturales;"},"Inversión",13]
[367,2019,"FDLSUBA-CPS-367-2019","Contratos de prestación de servicios profesionales y de apoyo a la gestión","Contratación directa","Prestación de servicios profesionales y de apoyo a la gestión, o para la ejecución de trabajos artísticos que sólo puedan encomendarse a determinadas personas naturales;","PRESTAR SERVICIOS AUXILIARES APOYANDO A LA GESTION DE DESARROLLO LOCAL, ESPECIALMENTE PARA APOYAR ACTIVIDADES DEL PROYECTO ESTRATEGICO AMBIENTAL DE MANEJO DE RESIDUOS SOLIDOS. NO HAY # 17006 Y SIPSE # 38578.","Inversión",13,{"$f":"IF(ISERROR(VLOOKUP(I398,[1]Eje_Pilar!$C$2:$E$47,2,FALSE)),\" \",VLOOKUP(I398,[1]Eje_Pilar!$C$2:$E$47,2,FALSE))","v":"Infraestructura para el desarrollo del hábitat"},{"$f":"IF(ISERROR(VLOOKUP(I398,[1]Eje_Pilar!$C$2:$E$47,3,FALSE)),\" \",VLOOKUP(I398,[1]Eje_Pilar!$C$2:$E$47,3,FALSE))","v":"Pilar 2 Democracía Urbana"},"3-3-1-15-02-13-1466-000",1070948915,"KENNY JOSEPH CAÑAS ROZO",8840000,null,0,null,null,8840000,4832533,"2019-09-06","2019-09-06","2019-12-31",150,null,null,null,null,"X",null,54.666662895927601,{"$f":"IF(SUMPRODUCT((A$14:A398=A398)*(B$14:B398=B398)*(C$14:C398=C398))>1,0,1)","v":1},0,0,0,1,0,"Contratos de prestación de servicios profesionales y de apoyo a la gestión","Contratación directa",{"$f":"IFERROR(VLOOKUP(F398,[1]Tipo!$C$12:$C$27,1,FALSE),\"NO\")","v":"Prestación de servicios profesionales y de apoyo a la gestión, o para la ejecución de trabajos artísticos que sólo puedan encomendarse a determinadas personas naturales;"},"Inversión",13]
[368,2019,"FDLSUBA-CPS-368-2019","Contratos de prestación de servicios profesionales y de apoyo a la gestión","Contratación directa","Prestación de servicios profesionales y de apoyo a la gestión, o para la ejecución de trabajos artísticos que sólo puedan encomendarse a determinadas personas naturales;","PRESTAR SERVICIOS AUXILIARES APOYANDO A LA GESTION DE DESARROLLO LOCAL, ESPECIALMENTE PARA APOYAR ACTIVIDADES DEL PROYECTO ESTRATEGICO AMBIENTAL DE MANEJO DE RESIDUOS SOLIDOS. NO HAY # 17006 Y SIPSE # 38578.","Inversión",13,{"$f":"IF(ISERROR(VLOOKUP(I399,[1]Eje_Pilar!$C$2:$E$47,2,FALSE)),\" \",VLOOKUP(I399,[1]Eje_Pilar!$C$2:$E$47,2,FALSE))","v":"Infraestructura para el desarrollo del hábitat"},{"$f":"IF(ISERROR(VLOOKUP(I399,[1]Eje_Pilar!$C$2:$E$47,3,FALSE)),\" \",VLOOKUP(I399,[1]Eje_Pilar!$C$2:$E$47,3,FALSE))","v":"Pilar 2 Democracía Urbana"},"3-3-1-15-02-13-1466-000",1022923683,"PATRICIA LORENA FERIA GUTIERREZ",8840000,null,0,null,null,8840000,0,"2019-09-10","2019-09-10","2019-12-31",150,null,null,null,null,"X",null,{"$f":"(IF(ISERROR(U399/T399),\"-\",(U399/T399)))*100","v":0},{"$f":"IF(SUMPRODUCT((A$14:A399=A399)*(B$14:B399=B399)*(C$14:C399=C399))>1,0,1)","v":1},{"$f":"IF(AND(AA399=\"X\",AG399=1 ),1,0)","v":0},{"$f":"IF(AND(AB399=\"X\",AG399=1 ),1,0)","v":0},{"$f":"IF(AND(AC399=\"X\",AG399=1 ),1,0)","v":0},{"$f":"IF(AND(AD399=\"X\",AG399=1 ),1,0)","v":1},{"$f":"IF(AND(AE399=\"X\",AG399=1 ),1,0)","v":0},"Contratos de prestación de servicios profesionales y de apoyo a la gestión","Contratación directa",{"$f":"IFERROR(VLOOKUP(F399,[1]Tipo!$C$12:$C$27,1,FALSE),\"NO\")","v":"Prestación de servicios profesionales y de apoyo a la gestión, o para la ejecución de trabajos artísticos que sólo puedan encomendarse a determinadas personas naturales;"},"Inversión",13]
[null,2019,null,"Otros gastos",null,null,"RESOLUCIÓN No. 300 DEL 10 DE MAYO DE 2019 \"POR LA CUAL SE ORDENA EXPEDIR CERTIFICADO DE REGISTRO PRESUPUESTAL Y EL PAGO DE LAS OBLIGACIONES CONTRAIDAS MEDIANTE EL CONTRATO No. 369 DE 2017 CON CARGO A LA VIGENCIA 2019\"","Inversión",45,{"$f":"IF(ISERROR(VLOOKUP(I400,[1]Eje_Pilar!$C$2:$E$47,2,FALSE)),\" \",VLOOKUP(I400,[1]Eje_Pilar!$C$2:$E$47,2,FALSE))","v":"Gobernanza e influencia local, regional e internacional"},{"$f":"IF(ISERROR(VLOOKUP(I400,[1]Eje_Pilar!$C$2:$E$47,3,FALSE)),\" \",VLOOKUP(I400,[1]Eje_Pilar!$C$2:$E$47,3,FALSE))","v":"Eje Transversal 4 Gobierno Legitimo, Fortalecimiento Local y Eficiencia"},"3-3-1-15-07-45-1481-000",null,"INGENIERIA Y ARQUITECTURA PROMOCON LTDA",300000000,null,0,null,null,300000000,300000000,"2019-05-10","2019-05-10","2019-12-31",null,null,null,null,null,"X",null,100,{"$f":"IF(SUMPRODUCT((A$14:A400=A400)*(B$14:B400=B400)*(C$14:C400=C400))>1,0,1)","v":0},0,0,0,0,0,"Otros gastos","NO",{"$f":"IFERROR(VLOOKUP(F400,[1]Tipo!$C$12:$C$27,1,FALSE),\"NO\")","v":"NO"},"Inversión",45]
[369,2019,"FDLSUBA-CPS-369-2019","Contratos de prestación de servicios profesionales y de apoyo a la gestión","Contratación directa","Prestación de servicios profesionales y de apoyo a la gestión, o para la ejecución de trabajos artísticos que sólo puedan encomendarse a determinadas personas naturales;","PRESTAR SERVICIOS AUXILIARES APOYANDO A LA GESTION DE DESARROLLO LOCAL, ESPECIALMENTE PARA APOYAR ACTIVIDADES DEL PROYECTO ESTRATEGICO AMBIENTAL DE MANEJO DE RESIDUOS SOLIDOS. NO HAY # 17006 Y SIPSE # 38578.","Inversión",13,{"$f":"IF(ISERROR(VLOOKUP(I401,[1]Eje_Pilar!$C$2:$E$47,2,FALSE)),\" \",VLOOKUP(I401,[1]Eje_Pilar!$C$2:$E$47,2,FALSE))","v":"Infraestructura para el desarrollo del hábitat"},{"$f":"IF(ISERROR(VLOOKUP(I401,[1]Eje_Pilar!$C$2:$E$47,3,FALSE)),\" \",VLOOKUP(I401,[1]Eje_Pilar!$C$2:$E$47,3,FALSE))","v":"Pilar 2 Democracía Urbana"},"3-3-1-15-02-13-1466-000",80822601,"VICTOR MANUEL CALDERON HERNANDEZ",8840000,null,0,null,null,8840000,4832533,"2019-09-06","2019-09-06","2019-12-31",150,null,null,null,null,"X",null,54.666662895927601,{"$f":"IF(SUMPRODUCT((A$14:A401=A401)*(B$14:B401=B401)*(C$14:C401=C401))>1,0,1)","v":1},0,0,0,1,0,"Contratos de prestación de servicios profesionales y de apoyo a la gestión","Contratación directa",{"$f":"IFERROR(VLOOKUP(F401,[1]Tipo!$C$12:$C$27,1,FALSE),\"NO\")","v":"Prestación de servicios profesionales y de apoyo a la gestión, o para la ejecución de trabajos artísticos que sólo puedan encomendarse a determinadas personas naturales;"},"Inversión",13]
[370,2019,"FDLSUBA-MC-009-2019","Contratos de prestación de servicios","Contratación mínima cuantia","No aplica","CONTRATAR A PRECIOS UNITARIOS LA PRESTACION DEL SERVICIO DE MANTENIMIENTO INTEGRAL PREVENTIVO Y CORRECTIVO O REPARACION INCLUIDO EL SUMINSTRO DE INSUMOS, REPUESTOS NUEVOS Y ORIGINALES Y MANO DE OBRA PARA TODOS LOS VEHICULOS LIVIANOS, QUE HACEN PARTE DEL PARQUE AUTOMOTOR DE PROPIEDAD DEL FONDO DE DESARROLLO LOCAL DE SUBA QUE LO REQUIERAN.","Funcionamiento","No aplica",{"$f":"IF(ISERROR(VLOOKUP(I402,[1]Eje_Pilar!$C$2:$E$47,2,FALSE)),\" \",VLOOKUP(I402,[1]Eje_Pilar!$C$2:$E$47,2,FALSE))","v":" "},{"$f":"IF(ISERROR(VLOOKUP(I402,[1]Eje_Pilar!$C$2:$E$47,3,FALSE)),\" \",VLOOKUP(I402,[1]Eje_Pilar!$C$2:$E$47,3,FALSE))","v":" "},"3-1-2-02-02-03-0006-004","800250589-1","CENTRO CAR 19 LIMITADA",23000000,null,0,null,null,23000000,0,"2019-10-02","2019-10-02","2019-12-31",210,null,null,null,null,"X",null,0,{"$f":"IF(SUMPRODUCT((A$14:A402=A402)*(B$14:B402=B402)*(C$14:C402=C402))>1,0,1)","v":1},0,0,0,1,0,"Contratos de prestación de servicios","Contratación mínima cuantia",{"$f":"IFERROR(VLOOKUP(F402,[1]Tipo!$C$12:$C$27,1,FALSE),\"NO\")","v":"NO"},"Funcionamiento","NO"]
[371,2019,"FDLSUBA-MC-008-2019","Consultoría","Contratación mínima cuantia","No aplica","CONSULTORIA SOBRE LA ELABORACION DE ESTUDIOS PERTINENTES QUE CONTENGAN TODAS LAS ESPECIFICACIONES TECNICAS, ADMINISTRATIVAS Y FINANCIERAS REQUERIDAS PARA EL ALUMBRADO PUBLICO CON ENERGIA RENOVABLE PARA CONTRIBUIR CON LA META DE INTERVENIR 5.000 METROS CUADRADOS CON ACCIONES DE JARDINERIA, MUROS VERDES Y/O PAISAJISMO 2019.|19000000|0|0|19000000|0|19000000","Inversión",38,{"$f":"IF(ISERROR(VLOOKUP(I403,[1]Eje_Pilar!$C$2:$E$47,2,FALSE)),\" \",VLOOKUP(I403,[1]Eje_Pilar!$C$2:$E$47,2,FALSE))","v":"Recuperación y manejo de la Estructura Ecológica Principal"},{"$f":"IF(ISERROR(VLOOKUP(I403,[1]Eje_Pilar!$C$2:$E$47,3,FALSE)),\" \",VLOOKUP(I403,[1]Eje_Pilar!$C$2:$E$47,3,FALSE))","v":"Eje Transversal 3 Sostenibilidad Ambiental basada en la eficiencia energética"},"3-3-1-15-06-38-1472-000","900.756.054-7","ENERCENIT S.A.S",19000000,null,null,null,null,19000000,0,"2019-10-23","2019-10-23","2019-12-31",30,null,null,null,"X",null,null,0,{"$f":"IF(SUMPRODUCT((A$14:A403=A403)*(B$14:B403=B403)*(C$14:C403=C403))>1,0,1)","v":1},0,0,1,0,0,"Consultoría","Contratación mínima cuantia",{"$f":"IFERROR(VLOOKUP(F403,[1]Tipo!$C$12:$C$27,1,FALSE),\"NO\")","v":"NO"},"Inversión",38]
[392,2019,"FDLSUBA-SASI-001-2019","Compraventa de bienes muebles","Selección abreviada","Subasta inversa ","ADQUIRIR EQUIPOS Y ACCESORIOS TECNOLOGICOS PARA LA ALCALDIA LOCAL DE SUBA EN SU FORTALECIMIENTO INSTITUCIONAL, CONEXION CLAVE PARA LA INFORMACION Y PRIMERA INFANCIA MEJOR PARA SUBA","Inversión",2,{"$f":"IF(ISERROR(VLOOKUP(I404,[1]Eje_Pilar!$C$2:$E$47,2,FALSE)),\" \",VLOOKUP(I404,[1]Eje_Pilar!$C$2:$E$47,2,FALSE))","v":"Desarrollo integral desde la gestación hasta la adolescencia"},{"$f":"IF(ISERROR(VLOOKUP(I404,[1]Eje_Pilar!$C$2:$E$47,3,FALSE)),\" \",VLOOKUP(I404,[1]Eje_Pilar!$C$2:$E$47,3,FALSE))","v":"Pilar 1 Igualdad de Calidad de Vida"},"3-3-1-15-01-02-1426-000","900741497-0","TECNOPHONE COLOMBIA S.A.S.",13066000,null,0,null,null,13066000,0,"2019-11-26","2019-11-26","2019-12-31",60,null,null,null,"X",null,null,0,{"$f":"IF(SUMPRODUCT((A$14:A404=A404)*(B$14:B404=B404)*(C$14:C404=C404))>1,0,1)","v":1},0,0,1,0,0,{"$f":"IFERROR(VLOOKUP(D404,tipo,1,FALSE),\"NO\")","v":"Compraventa de bienes muebles"},{"$f":"IFERROR(VLOOKUP(E404,modal,1,FALSE),\"NO\")","v":"Selección abreviada"},{"$f":"IFERROR(VLOOKUP(F404,[1]Tipo!$C$12:$C$27,1,FALSE),\"NO\")","v":"Subasta inversa "},{"$f":"IFERROR(VLOOKUP(H404,afectacion,1,FALSE),\"NO\")","v":"Inversión"},{"$f":"IFERROR(VLOOKUP(I404,programa,1,FALSE),\"NO\")","v":2}]
[392,2019,"FDLSUBA-SASI-001-2019","Compraventa de bienes muebles","Selección abreviada","Subasta inversa ","ADQUIRIR EQUIPOS Y ACCESORIOS TECNOLOGICOS PARA LA ALCALDIA LOCAL DE SUBA EN SU FORTALECIMIENTO INSTITUCIONAL, CONEXION CLAVE PARA LA INFORMACION Y PRIMERA INFANCIA MEJOR PARA SUBA","Inversión",36,{"$f":"IF(ISERROR(VLOOKUP(I405,[1]Eje_Pilar!$C$2:$E$47,2,FALSE)),\" \",VLOOKUP(I405,[1]Eje_Pilar!$C$2:$E$47,2,FALSE))","v":"Bogotá, una ciudad digital"},{"$f":"IF(ISERROR(VLOOKUP(I405,[1]Eje_Pilar!$C$2:$E$47,3,FALSE)),\" \",VLOOKUP(I405,[1]Eje_Pilar!$C$2:$E$47,3,FALSE))","v":"Eje Transversal 2 Desarrollo Económico basado en el conocimiento"},"3-3-1-15-05-36-1504-000","900741497-0","TECNOPHONE COLOMBIA S.A.S.",4483376,null,0,null,null,4483376,0,"2019-11-26","2019-11-26","2019-12-31",60,null,null,null,"X",null,null,0,{"$f":"IF(SUMPRODUCT((A$14:A405=A405)*(B$14:B405=B405)*(C$14:C405=C405))>1,0,1)","v":0},0,0,0,0,0,"Compraventa de bienes muebles","Selección abreviada",{"$f":"IFERROR(VLOOKUP(F405,[1]Tipo!$C$12:$C$27,1,FALSE),\"NO\")","v":"Subasta inversa "},"Inversión",36]
[392,2019,"FDLSUBA-SASI-001-2019","Compraventa de bienes muebles","Selección abreviada","Subasta inversa ","ADQUIRIR EQUIPOS Y ACCESORIOS TECNOLOGICOS PARA LA ALCALDIA LOCAL DE SUBA EN SU FORTALECIMIENTO INSTITUCIONAL, CONEXION CLAVE PARA LA INFORMACION Y PRIMERA INFANCIA MEJOR PARA SUBA","Inversión",45,{"$f":"IF(ISERROR(VLOOKUP(I406,[1]Eje_Pilar!$C$2:$E$47,2,FALSE)),\" \",VLOOKUP(I406,[1]Eje_Pilar!$C$2:$E$47,2,FALSE))","v":"Gobernanza e influencia local, regional e internacional"},{"$f":"IF(ISERROR(VLOOKUP(I406,[1]Eje_Pilar!$C$2:$E$47,3,FALSE)),\" \",VLOOKUP(I406,[1]Eje_Pilar!$C$2:$E$47,3,FALSE))","v":"Eje Transversal 4 Gobierno Legitimo, Fortalecimiento Local y Eficiencia"},"3-3-1-15-07-45-1478-000","900741497-0","TECNOPHONE COLOMBIA S.A.S.",27367727,null,0,null,null,27367727,0,"2019-11-26","2019-11-26","2019-12-31",60,null,null,null,"X",null,null,0,{"$f":"IF(SUMPRODUCT((A$14:A406=A406)*(B$14:B406=B406)*(C$14:C406=C406))>1,0,1)","v":0},0,0,0,0,0,"Compraventa de bienes muebles","Selección abreviada",{"$f":"IFERROR(VLOOKUP(F406,[1]Tipo!$C$12:$C$27,1,FALSE),\"NO\")","v":"Subasta inversa "},"Inversión",45]
[393,2019,"FDLSUBA-CMA-003-2019","Interventoría","Concurso de méritos","No aplica","REALIZAR LA INTERVENTORÍA TÉCNICA, ADMINISTRATIVA, LEGAL, FINANCIERA, CONTABLE, SEGURIDAD Y SALUD EN EL TRABAJO SOCIAL Y AMBIENTAL PARA EL CONTRATO DE OBRA PÚBLICA 333 DE 2018.","Inversión",45,{"$f":"IF(ISERROR(VLOOKUP(I407,[1]Eje_Pilar!$C$2:$E$47,2,FALSE)),\" \",VLOOKUP(I407,[1]Eje_Pilar!$C$2:$E$47,2,FALSE))","v":"Gobernanza e influencia local, regional e internacional"},{"$f":"IF(ISERROR(VLOOKUP(I407,[1]Eje_Pilar!$C$2:$E$47,3,FALSE)),\" \",VLOOKUP(I407,[1]Eje_Pilar!$C$2:$E$47,3,FALSE))","v":"Eje Transversal 4 Gobierno Legitimo, Fortalecimiento Local y Eficiencia"},"3-3-1-15-07-45-1483-000","900791632-2","JMS INGENIERIA Y ARQUITECTURA SAS",105906624,null,0,null,null,105906624,0,"2019-12-10","2019-12-10","2019-12-31",210,null,null,null,"X",null,null,0,{"$f":"IF(SUMPRODUCT((A$14:A407=A407)*(B$14:B407=B407)*(C$14:C407=C407))>1,0,1)","v":1},0,0,1,0,0,"Interventoría","Concurso de méritos",{"$f":"IFERROR(VLOOKUP(F407,[1]Tipo!$C$12:$C$27,1,FALSE),\"NO\")","v":"NO"},"Inversión",45]
[394,2019,"FDLSUBA-LP-004-2019","Contratos de prestación de servicios","Licitación pública","No aplica","CONTRATAR A MONTO AGOTABLE LA LIMPIEZA DE FONDO A VALLADOS A TUBERIA EN LA LOCALIDAD DE SUBA.","Inversión",18,{"$f":"IF(ISERROR(VLOOKUP(I408,[1]Eje_Pilar!$C$2:$E$47,2,FALSE)),\" \",VLOOKUP(I408,[1]Eje_Pilar!$C$2:$E$47,2,FALSE))","v":"Mejor movilidad para todos"},{"$f":"IF(ISERROR(VLOOKUP(I408,[1]Eje_Pilar!$C$2:$E$47,3,FALSE)),\" \",VLOOKUP(I408,[1]Eje_Pilar!$C$2:$E$47,3,FALSE))","v":"Pilar 2 Democracía Urbana"},"3-3-1-15-02-18-1506-000","900556186-2","CFD INGENIERIA SAS",468519537,null,0,null,null,468519537,0,"2019-11-15","2019-11-15","2019-12-31",120,null,null,null,"X",null,null,0,{"$f":"IF(SUMPRODUCT((A$14:A408=A408)*(B$14:B408=B408)*(C$14:C408=C408))>1,0,1)","v":1},0,0,1,0,0,"Contratos de prestación de servicios","Licitación pública",{"$f":"IFERROR(VLOOKUP(F408,[1]Tipo!$C$12:$C$27,1,FALSE),\"NO\")","v":"NO"},"Inversión",18]
[395,2019,"FDLSUBA-SASI-002-2019","Compraventa de bienes muebles","Selección abreviada","Subasta inversa ","CONTRATAR LA COMPRAVENTA DE EQUIPOS, MATERIALES Y ELEMENTOS NECESARIOS PARA LA DOTACIÓN DE 10 JARDINES INFANTILES OPERADOS POR LA SECRETARIA  DISTRITAL DE INTEGRACION SOCIAL EN LA LOCALIDAD DE SUBA, DE CONFORMIDAD CON LAS ESPECIFICACIONES Y CANTIDADES ESTABLECIDAS EN LA FICHA TECNICA.","Inversión",2,{"$f":"IF(ISERROR(VLOOKUP(I409,[1]Eje_Pilar!$C$2:$E$47,2,FALSE)),\" \",VLOOKUP(I409,[1]Eje_Pilar!$C$2:$E$47,2,FALSE))","v":"Desarrollo integral desde la gestación hasta la adolescencia"},{"$f":"IF(ISERROR(VLOOKUP(I409,[1]Eje_Pilar!$C$2:$E$47,3,FALSE)),\" \",VLOOKUP(I409,[1]Eje_Pilar!$C$2:$E$47,3,FALSE))","v":"Pilar 1 Igualdad de Calidad de Vida"},"3-3-1-15-01-02-1426-000","900838665-1","ABOVE SAS",140960909,null,0,null,null,140960909,0,"2019-12-05","2019-12-05","2019-12-31",90,null,null,null,"X",null,null,0,{"$f":"IF(SUMPRODUCT((A$14:A409=A409)*(B$14:B409=B409)*(C$14:C409=C409))>1,0,1)","v":1},0,0,1,0,0,"Compraventa de bienes muebles","Selección abreviada",{"$f":"IFERROR(VLOOKUP(F409,[1]Tipo!$C$12:$C$27,1,FALSE),\"NO\")","v":"Subasta inversa "},"Inversión",2]
[396,2019,"FDLSUBA-MC-010-2019","Contratos de prestación de servicios","Contratación mínima cuantia","No aplica","REALIZAR EL AVALUO DE LOS ACTIVOS BIENES MUEBLES E INMUEBLES PROPIEDAD DEL FONDO DE DESARROLLO LOCAL DE SUBA PARA EL CIERRE CONTABLE VIGENCIA 2019 INCLUYENDO LA MEDICION POSTERIOR Y EL VALOR DEL DETERIORO SEGUN LA NORMA NIIF.","Inversión",45,{"$f":"IF(ISERROR(VLOOKUP(I410,[1]Eje_Pilar!$C$2:$E$47,2,FALSE)),\" \",VLOOKUP(I410,[1]Eje_Pilar!$C$2:$E$47,2,FALSE))","v":"Gobernanza e influencia local, regional e internacional"},{"$f":"IF(ISERROR(VLOOKUP(I410,[1]Eje_Pilar!$C$2:$E$47,3,FALSE)),\" \",VLOOKUP(I410,[1]Eje_Pilar!$C$2:$E$47,3,FALSE))","v":"Eje Transversal 4 Gobierno Legitimo, Fortalecimiento Local y Eficiencia"},"3-3-1-15-07-45-1478-000","900078578-5","GOOD & SERVICE CIA LTDA",13320168,null,0,null,null,13320168,0,"2019-12-02","2019-12-02","2019-12-31",45,null,null,null,null,"X",null,0,{"$f":"IF(SUMPRODUCT((A$14:A410=A410)*(B$14:B410=B410)*(C$14:C410=C410))>1,0,1)","v":1},0,0,0,1,0,"Contratos de prestación de servicios","Contratación mínima cuantia",{"$f":"IFERROR(VLOOKUP(F410,[1]Tipo!$C$12:$C$27,1,FALSE),\"NO\")","v":"NO"},"Inversión",45]
[397,2019,"FDLSUBA-SAMC-010-2019","Contratos de prestación de servicios","Selección abreviada","Selección abreviada por menor cuantía ","CONTRATAR A MONTO AGOTABLE LOS SERVICIOS DE DIVULGACION Y DIFUSION DE TODAS LAS ACCIONES Y ACTIVIDADES DESARROLLADAS POR LA ALCALDIA LOCAL DE SUBA, MEDIANTE LA EMISION Y PUBLICACION DE CAMPAÑAS DE BIEN E INTERES PUBLICO, COMO TAMBIEN DEL SUMINSTRO DE MATERIAL IMPRESO Y PROMOCIONAL NECESARIO PARA FORTALECER LAS CAMPAÑAS INTERNAS Y EXTERNAS DE LA ALCALDIA LOCAL DE SUBA.","Funcionamiento","No aplica",{"$f":"IF(ISERROR(VLOOKUP(I411,[1]Eje_Pilar!$C$2:$E$47,2,FALSE)),\" \",VLOOKUP(I411,[1]Eje_Pilar!$C$2:$E$47,2,FALSE))","v":" "},{"$f":"IF(ISERROR(VLOOKUP(I411,[1]Eje_Pilar!$C$2:$E$47,3,FALSE)),\" \",VLOOKUP(I411,[1]Eje_Pilar!$C$2:$E$47,3,FALSE))","v":" "},"3-1-2-02-02-03-0003-010","900701816-6","TREBOL EDITORES SAS",90000000,null,0,null,null,90000000,0,"2019-12-05","2019-12-05","2019-12-31",180,null,null,null,"X",null,null,0,{"$f":"IF(SUMPRODUCT((A$14:A411=A411)*(B$14:B411=B411)*(C$14:C411=C411))>1,0,1)","v":1},0,0,1,0,0,"Contratos de prestación de servicios","Selección abreviada",{"$f":"IFERROR(VLOOKUP(F411,[1]Tipo!$C$12:$C$27,1,FALSE),\"NO\")","v":"Selección abreviada por menor cuantía "},"Funcionamiento","NO"]
[397,2019,"FDLSUBA-SAMC-010-2019","Contratos de prestación de servicios","Selección abreviada","Selección abreviada por menor cuantía ","CONTRATAR A MONTO AGOTABLE LOS SERVICIOS DE DIVULGACION Y DIFUSION DE TODAS LAS ACCIONES Y ACTIVIDADES DESARROLLADAS POR LA ALCALDIA LOCAL DE SUBA, MEDIANTE LA EMISION Y PUBLICACION DE CAMPAÑAS DE BIEN E INTERES PUBLICO, COMO TAMBIEN DEL SUMINSTRO DE MATERIAL IMPRESO Y PROMOCIONAL NECESARIO PARA FORTALECER LAS CAMPAÑAS INTERNAS Y EXTERNAS DE LA ALCALDIA LOCAL DE SUBA.","Funcionamiento","No aplica",{"$f":"IF(ISERROR(VLOOKUP(I412,[1]Eje_Pilar!$C$2:$E$47,2,FALSE)),\" \",VLOOKUP(I412,[1]Eje_Pilar!$C$2:$E$47,2,FALSE))","v":" "},{"$f":"IF(ISERROR(VLOOKUP(I412,[1]Eje_Pilar!$C$2:$E$47,3,FALSE)),\" \",VLOOKUP(I412,[1]Eje_Pilar!$C$2:$E$47,3,FALSE))","v":" "},"3-1-2-02-02-03-0007-003","900701816-6","TREBOL EDITORES SAS",15000000,null,0,null,null,15000000,0,"2019-12-05","2019-12-05","2019-12-31",26,null,null,null,"X",null,null,0,{"$f":"IF(SUMPRODUCT((A$14:A412=A412)*(B$14:B412=B412)*(C$14:C412=C412))>1,0,1)","v":0},0,0,0,0,0,"Contratos de prestación de servicios","Selección abreviada",{"$f":"IFERROR(VLOOKUP(F412,[1]Tipo!$C$12:$C$27,1,FALSE),\"NO\")","v":"Selección abreviada por menor cuantía "},"Funcionamiento","NO"]
[399,2019,"FDLSUBA-CPS-399-2019","Contratos de prestación de servicios profesionales y de apoyo a la gestión","Contratación directa","Prestación de servicios profesionales y de apoyo a la gestión, o para la ejecución de trabajos artísticos que sólo puedan encomendarse a determinadas personas naturales;","PRESTAR SERVICIOS PROFESIONALES EN EL AREA DE GESTION DEL DESARROLLO DE LA ALCALDIA LOCAL DE SUBA, PARA APOYAR LA DEPURACION DE LAS RESPUESTAS A LOS DERECHOS DE PETICION QUE CURSAN EN LA ALCALDIA LOCAL.","Inversión",45,{"$f":"IF(ISERROR(VLOOKUP(I413,[1]Eje_Pilar!$C$2:$E$47,2,FALSE)),\" \",VLOOKUP(I413,[1]Eje_Pilar!$C$2:$E$47,2,FALSE))","v":"Gobernanza e influencia local, regional e internacional"},{"$f":"IF(ISERROR(VLOOKUP(I413,[1]Eje_Pilar!$C$2:$E$47,3,FALSE)),\" \",VLOOKUP(I413,[1]Eje_Pilar!$C$2:$E$47,3,FALSE))","v":"Eje Transversal 4 Gobierno Legitimo, Fortalecimiento Local y Eficiencia"},"3-3-1-15-07-45-1478-000",1018437448,"CAMILO ARMANDO RIVERA MELO",6746666,null,0,null,null,6746666,0,"2019-12-11","2019-12-11","2019-12-31",46,null,null,null,null,"X",null,0,{"$f":"IF(SUMPRODUCT((A$14:A413=A413)*(B$14:B413=B413)*(C$14:C413=C413))>1,0,1)","v":1},0,0,0,1,0,"Contratos de prestación de servicios profesionales y de apoyo a la gestión","Contratación directa",{"$f":"IFERROR(VLOOKUP(F413,[1]Tipo!$C$12:$C$27,1,FALSE),\"NO\")","v":"Prestación de servicios profesionales y de apoyo a la gestión, o para la ejecución de trabajos artísticos que sólo puedan encomendarse a determinadas personas naturales;"},"Inversión",45]
[400,2019,"FDLSUBA-MC-012-2019","Interventoría","Contratación mínima cuantia","No aplica","DESARROLLAR LA INTERVENTORIA TECNICA, ADMINISTRATIVA, FINANCIERA, CONTABLE Y JURIDICA AL CONTRATO DE OBRA QUE SURJA DEL PROCESO DE SELECCION FDLSUBA-SAMC-007-2019.","Inversión",45,{"$f":"IF(ISERROR(VLOOKUP(I414,[1]Eje_Pilar!$C$2:$E$47,2,FALSE)),\" \",VLOOKUP(I414,[1]Eje_Pilar!$C$2:$E$47,2,FALSE))","v":"Gobernanza e influencia local, regional e internacional"},{"$f":"IF(ISERROR(VLOOKUP(I414,[1]Eje_Pilar!$C$2:$E$47,3,FALSE)),\" \",VLOOKUP(I414,[1]Eje_Pilar!$C$2:$E$47,3,FALSE))","v":"Eje Transversal 4 Gobierno Legitimo, Fortalecimiento Local y Eficiencia"},"3-3-1-15-07-45-1481-000","900087183-8 ","INVERSIONES AYPE LTDA",5712000,null,0,null,null,5712000,0,"2019-12-27","2019-12-27","2019-12-31",120,null,null,null,"X",null,null,0,{"$f":"IF(SUMPRODUCT((A$14:A414=A414)*(B$14:B414=B414)*(C$14:C414=C414))>1,0,1)","v":1},0,0,1,0,0,"Interventoría","Contratación mínima cuantia",{"$f":"IFERROR(VLOOKUP(F414,[1]Tipo!$C$12:$C$27,1,FALSE),\"NO\")","v":"NO"},"Inversión",45]
[401,2019,"FDLSUBA-SAMC-008 DE 2019","Seguros","Selección abreviada","Selección abreviada por menor cuantía ","SELECCIONAR UNA COMPAÑIA DE SEGUROS LEGALMANTE CONSTITUIDA EN COLOMBIA CON EL FIN DE ASEGURAR LOS BIENES MUEBLES E INMUEBLES DE PROPIEDAD DEL FONDO DE DESARROLLO LOCAL DE SUBA FDLS\" Y AQUELLOS QUE ESTEN BAJO SU RESPONSABILIDAD Y CUSTODIA Y AQUELLOS QUE SEAN ADQUIRIDOS PARA DESARROLLAR LAS FUNCIONES INHERENTES A SU ACTIVIDAD, ASI COMO LA EXPEDICION DE UNA POLIZA DE VIDA GRUPO PARA AMPARAR A LOS EDILES DE LA LOCALIDAD DE SUBA Y CUALQUIER OTRA POLIZA DE SEGUROS QUE REQUIERA LA ENTIDAD EN EL DESARROLLO DE SU ACTIVIDAD\" DE CONFORMIDAD CON LOS PLIEGOS DE CONDICIONES Y LA PROPUESTA PRESENTADA.","Funcionamiento","No aplica",{"$f":"IF(ISERROR(VLOOKUP(I415,[1]Eje_Pilar!$C$2:$E$47,2,FALSE)),\" \",VLOOKUP(I415,[1]Eje_Pilar!$C$2:$E$47,2,FALSE))","v":" "},{"$f":"IF(ISERROR(VLOOKUP(I415,[1]Eje_Pilar!$C$2:$E$47,3,FALSE)),\" \",VLOOKUP(I415,[1]Eje_Pilar!$C$2:$E$47,3,FALSE))","v":" "},"3-1-2-02-02-02-0001-005","860002400-2","LA PREVISORA S A COMPAÑIA DE SEGUROS",18000000,null,0,null,null,18000000,0,"2019-12-20","2019-12-20","2019-12-31",330,null,null,null,"X",null,null,0,{"$f":"IF(SUMPRODUCT((A$14:A415=A415)*(B$14:B415=B415)*(C$14:C415=C415))>1,0,1)","v":1},0,0,1,0,0,"Seguros","Selección abreviada",{"$f":"IFERROR(VLOOKUP(F415,[1]Tipo!$C$12:$C$27,1,FALSE),\"NO\")","v":"Selección abreviada por menor cuantía "},"Funcionamiento","NO"]
[401,2019,"FDLSUBA-SAMC-008 DE 2019","Seguros","Selección abreviada","Selección abreviada por menor cuantía ","SELECCIONAR UNA COMPAÑIA DE SEGUROS LEGALMANTE CONSTITUIDA EN COLOMBIA CON EL FIN DE ASEGURAR LOS BIENES MUEBLES E INMUEBLES DE PROPIEDAD DEL FONDO DE DESARROLLO LOCAL DE SUBA FDLS\" Y AQUELLOS QUE ESTEN BAJO SU RESPONSABILIDAD Y CUSTODIA Y AQUELLOS QUE SEAN ADQUIRIDOS PARA DESARROLLAR LAS FUNCIONES INHERENTES A SU ACTIVIDAD, ASI COMO LA EXPEDICION DE UNA POLIZA DE VIDA GRUPO PARA AMPARAR A LOS EDILES DE LA LOCALIDAD DE SUBA Y CUALQUIER OTRA POLIZA DE SEGUROS QUE REQUIERA LA ENTIDAD EN EL DESARROLLO DE SU ACTIVIDAD\" DE CONFORMIDAD CON LOS PLIEGOS DE CONDICIONES Y LA PROPUESTA PRESENTADA.","Funcionamiento","No aplica",{"$f":"IF(ISERROR(VLOOKUP(I416,[1]Eje_Pilar!$C$2:$E$47,2,FALSE)),\" \",VLOOKUP(I416,[1]Eje_Pilar!$C$2:$E$47,2,FALSE))","v":" "},{"$f":"IF(ISERROR(VLOOKUP(I416,[1]Eje_Pilar!$C$2:$E$47,3,FALSE)),\" \",VLOOKUP(I416,[1]Eje_Pilar!$C$2:$E$47,3,FALSE))","v":" "},"3-1-2-02-02-02-0001-008","860002400-2","LA PREVISORA S A COMPAÑIA DE SEGUROS",166149575,null,0,null,null,166149575,0,"2019-12-20","2019-12-20","2019-12-31",330,null,null,null,"X",null,null,0,{"$f":"IF(SUMPRODUCT((A$14:A416=A416)*(B$14:B416=B416)*(C$14:C416=C416))>1,0,1)","v":0},0,0,0,0,0,"Seguros","Selección abreviada",{"$f":"IFERROR(VLOOKUP(F416,[1]Tipo!$C$12:$C$27,1,FALSE),\"NO\")","v":"Selección abreviada por menor cuantía "},"Funcionamiento","NO"]
[402,2019,"FDLSUBA-MC-003-2019","Contratos de prestación de servicios","Contratación mínima cuantia","No aplica","PRESTAR LOS SERVICIOS DE APOYO LOGISTICO PARA DESARROLLAR LAS ACTIVIDADES DE CELEBRACION DEL DIA DEL COMUNAL DE LA LOCALIDAD DE SUBA.","Inversión",45,{"$f":"IF(ISERROR(VLOOKUP(I417,[1]Eje_Pilar!$C$2:$E$47,2,FALSE)),\" \",VLOOKUP(I417,[1]Eje_Pilar!$C$2:$E$47,2,FALSE))","v":"Gobernanza e influencia local, regional e internacional"},{"$f":"IF(ISERROR(VLOOKUP(I417,[1]Eje_Pilar!$C$2:$E$47,3,FALSE)),\" \",VLOOKUP(I417,[1]Eje_Pilar!$C$2:$E$47,3,FALSE))","v":"Eje Transversal 4 Gobierno Legitimo, Fortalecimiento Local y Eficiencia"},"3-3-1-15-07-45-1483-000","830123987-3","CORPORACION ENCAMINADA AL DESARROLLO INTEGRAL DE LA COMUNIDAD",21997973,null,0,null,null,21997973,0,"2019-12-20","2019-12-20","2019-12-31",30,null,null,"X",null,null,null,0,{"$f":"IF(SUMPRODUCT((A$14:A417=A417)*(B$14:B417=B417)*(C$14:C417=C417))>1,0,1)","v":1},0,1,0,0,0,"Contratos de prestación de servicios","Contratación mínima cuantia",{"$f":"IFERROR(VLOOKUP(F417,[1]Tipo!$C$12:$C$27,1,FALSE),\"NO\")","v":"NO"},"Inversión",45]
[403,2019,"FDLSUBA-CD-403-2019","Contratos de prestación de servicios profesionales y de apoyo a la gestión","Contratación directa","Prestación de servicios profesionales y de apoyo a la gestión, o para la ejecución de trabajos artísticos que sólo puedan encomendarse a determinadas personas naturales;","PRESTAR SERVICIOS DE APOYO EN EL AREA DE GESTION DEL DESARROLLO LOCAL REALIZANDO LAS ACTIVIDADES REFERENTES AL TRAMITE Y CIERRE DE LOS DERECHOS DE PETICION QUE SE ENCUENTRAN ACTIVAS EN LA ALCALDIA LOCAL DE SUBA.","Inversión",45,{"$f":"IF(ISERROR(VLOOKUP(I418,[1]Eje_Pilar!$C$2:$E$47,2,FALSE)),\" \",VLOOKUP(I418,[1]Eje_Pilar!$C$2:$E$47,2,FALSE))","v":"Gobernanza e influencia local, regional e internacional"},{"$f":"IF(ISERROR(VLOOKUP(I418,[1]Eje_Pilar!$C$2:$E$47,3,FALSE)),\" \",VLOOKUP(I418,[1]Eje_Pilar!$C$2:$E$47,3,FALSE))","v":"Eje Transversal 4 Gobierno Legitimo, Fortalecimiento Local y Eficiencia"},"3-3-1-15-07-45-1478-000",1019110239,"GUSTAVO ALEJANDRO RODELO GONZALEZ",2475200,null,0,null,null,2475200,0,"2019-12-20","2019-12-20","2019-12-31",42,null,null,null,null,"X",null,0,{"$f":"IF(SUMPRODUCT((A$14:A418=A418)*(B$14:B418=B418)*(C$14:C418=C418))>1,0,1)","v":1},0,0,0,1,0,"Contratos de prestación de servicios profesionales y de apoyo a la gestión","Contratación directa",{"$f":"IFERROR(VLOOKUP(F418,[1]Tipo!$C$12:$C$27,1,FALSE),\"NO\")","v":"Prestación de servicios profesionales y de apoyo a la gestión, o para la ejecución de trabajos artísticos que sólo puedan encomendarse a determinadas personas naturales;"},"Inversión",45]
[404,2019,"FDLUSBA-LP-003-2019","Contratos de prestación de servicios","Licitación pública","No aplica","PRESTAR SERVICIOS PARA LA REALIZACION DE ACCIONES DE PROMOCION DEL BUEN TRATO Y PREVENCION DE VIOLENCIAS EN LAS QUE SE VEN INVOLUCRADOS LOS NIÑOS Y NIÑAS DE LA LOCALIDAD DE SUBA.","Inversión",2,{"$f":"IF(ISERROR(VLOOKUP(I419,[1]Eje_Pilar!$C$2:$E$47,2,FALSE)),\" \",VLOOKUP(I419,[1]Eje_Pilar!$C$2:$E$47,2,FALSE))","v":"Desarrollo integral desde la gestación hasta la adolescencia"},{"$f":"IF(ISERROR(VLOOKUP(I419,[1]Eje_Pilar!$C$2:$E$47,3,FALSE)),\" \",VLOOKUP(I419,[1]Eje_Pilar!$C$2:$E$47,3,FALSE))","v":"Pilar 1 Igualdad de Calidad de Vida"},"3-3-1-15-01-02-1426-000","800055691-8","FUNDACION INTERNACIONAL DE PEDAGOGIA CONCEPTUAL ALBERTO MERANI",340992238,null,0,null,null,340992238,0,"2019-12-27","2019-12-27","2019-12-31",180,null,null,"X",null,null,null,0,{"$f":"IF(SUMPRODUCT((A$14:A419=A419)*(B$14:B419=B419)*(C$14:C419=C419))>1,0,1)","v":1},0,1,0,0,0,"Contratos de prestación de servicios","Licitación pública",{"$f":"IFERROR(VLOOKUP(F419,[1]Tipo!$C$12:$C$27,1,FALSE),\"NO\")","v":"NO"},"Inversión",2]
[405,2019,"FDLSUBA-SAMC-007-2019","Obra pública","Selección abreviada","Selección abreviada por menor cuantía ","CONTRATAR A PRECIOS UNITARIOS LAS OBRAS DE DEMOLICION DE ESTRUCTURAS Y/O OBRAS DE URBANISMO QUE HAYAN SIDO IDENTIFICADAS MEDIANTE ACTOS ADMINISTRATIVOS DEBIDAMENTE EJECUTORIADOS Y LAS DECISIONES POLICIVAS EMANADAS DE LOS INSPECTORES DE POLICIA SE HAYA ORDENADO SU DEMOLICION O SU RESTITUCION POR CONTRAVENIR LAS NORMAS URBANISTICAS O POR OCUPAR INDEBIDAMENTE EL ESPACIO PUBLICO.","Inversión",45,{"$f":"IF(ISERROR(VLOOKUP(I420,[1]Eje_Pilar!$C$2:$E$47,2,FALSE)),\" \",VLOOKUP(I420,[1]Eje_Pilar!$C$2:$E$47,2,FALSE))","v":"Gobernanza e influencia local, regional e internacional"},{"$f":"IF(ISERROR(VLOOKUP(I420,[1]Eje_Pilar!$C$2:$E$47,3,FALSE)),\" \",VLOOKUP(I420,[1]Eje_Pilar!$C$2:$E$47,3,FALSE))","v":"Eje Transversal 4 Gobierno Legitimo, Fortalecimiento Local y Eficiencia"},"3-3-1-15-07-45-1481-000","830094250-9","CONSTRUCTORA GUERRERO Y CIA S EN C",150000000,null,0,null,null,150000000,0,"2019-12-27","2019-12-27","2019-12-31",120,null,null,null,"X",null,null,0,{"$f":"IF(SUMPRODUCT((A$14:A420=A420)*(B$14:B420=B420)*(C$14:C420=C420))>1,0,1)","v":1},0,0,1,0,0,"Obra pública","Selección abreviada",{"$f":"IFERROR(VLOOKUP(F420,[1]Tipo!$C$12:$C$27,1,FALSE),\"NO\")","v":"Selección abreviada por menor cuantía "},"Inversión",45]
[406,2019,"FDLSUBA-SMA-004-2019","Interventoría","Concurso de méritos","No aplica","REALIZAR LA INTERVENTORIA ADMINISTRATIVA, TECNICA, FINANCIERA, CONTABLE Y LEGAL PARA EL CONTRATO QUE TIENE POR OBJETO \"CONTRATAR A MONTO AGOTABLE, LA LIMPIEZA DE FONDO A VALLADOS Y TUBERIA EN LA LOCALIDAD DE SUBA\"","Inversión",18,{"$f":"IF(ISERROR(VLOOKUP(I421,[1]Eje_Pilar!$C$2:$E$47,2,FALSE)),\" \",VLOOKUP(I421,[1]Eje_Pilar!$C$2:$E$47,2,FALSE))","v":"Mejor movilidad para todos"},{"$f":"IF(ISERROR(VLOOKUP(I421,[1]Eje_Pilar!$C$2:$E$47,3,FALSE)),\" \",VLOOKUP(I421,[1]Eje_Pilar!$C$2:$E$47,3,FALSE))","v":"Pilar 2 Democracía Urbana"},"3-3-1-15-02-18-1506-000",890115165,"ASESORIAS INTERVENTORIAS DISEÑO Y CONSTRUCCION AIDCON LTDA.",55782440,null,0,null,null,55782440,0,"2019-12-27","2019-12-27","2019-12-31",120,null,null,null,"X",null,null,0,{"$f":"IF(SUMPRODUCT((A$14:A421=A421)*(B$14:B421=B421)*(C$14:C421=C421))>1,0,1)","v":1},0,0,1,0,0,"Interventoría","Concurso de méritos",{"$f":"IFERROR(VLOOKUP(F421,[1]Tipo!$C$12:$C$27,1,FALSE),\"NO\")","v":"NO"},"Inversión",18]
[407,2019,"FDLSUBA-CD-407-2019","Contratos de prestación de servicios profesionales y de apoyo a la gestión","Contratación directa","Prestación de servicios profesionales y de apoyo a la gestión, o para la ejecución de trabajos artísticos que sólo puedan encomendarse a determinadas personas naturales;","PRESTAR SERVICIOS DE APOYO EN EL AREA DE GESTION DEL DESARROLLO LOCAL REALIZANDO LAS ACTIVIDADES REFERENTES AL TRAMITE Y CIERRE DE LOS DERECHOS DE PETICION QUE SE ENCUENTRAN ACTIVAS EN LA ALCALDIA LOCAL DE SUBA.","Inversión",45,{"$f":"IF(ISERROR(VLOOKUP(I422,[1]Eje_Pilar!$C$2:$E$47,2,FALSE)),\" \",VLOOKUP(I422,[1]Eje_Pilar!$C$2:$E$47,2,FALSE))","v":"Gobernanza e influencia local, regional e internacional"},{"$f":"IF(ISERROR(VLOOKUP(I422,[1]Eje_Pilar!$C$2:$E$47,3,FALSE)),\" \",VLOOKUP(I422,[1]Eje_Pilar!$C$2:$E$47,3,FALSE))","v":"Eje Transversal 4 Gobierno Legitimo, Fortalecimiento Local y Eficiencia"},"3-3-1-15-07-45-1478-000",28556613,"ADRIANA TERESA LOZANO BARRAGAN",2475200,null,0,null,null,2475200,0,"2019-12-27","2019-12-27","2019-12-31",2,null,null,null,null,"X",null,0,{"$f":"IF(SUMPRODUCT((A$14:A422=A422)*(B$14:B422=B422)*(C$14:C422=C422))>1,0,1)","v":1},0,0,0,1,0,"Contratos de prestación de servicios profesionales y de apoyo a la gestión","Contratación directa",{"$f":"IFERROR(VLOOKUP(F422,[1]Tipo!$C$12:$C$27,1,FALSE),\"NO\")","v":"Prestación de servicios profesionales y de apoyo a la gestión, o para la ejecución de trabajos artísticos que sólo puedan encomendarse a determinadas personas naturales;"},"Inversión",45]
[408,2019,"FDLSUBA-CD-408-2019","Contratos de prestación de servicios profesionales y de apoyo a la gestión","Contratación directa","Prestación de servicios profesionales y de apoyo a la gestión, o para la ejecución de trabajos artísticos que sólo puedan encomendarse a determinadas personas naturales;","APOYAR JURIDICAMENTE LA EJECUCION DE LAS ACCIONES REQUERIDAS PARA LA DEPURACION DE LAS ACTUACIONES ADMINISTRATIVAS QUE CURSAN EN LA ALCALDIA LOCAL.","Inversión",45,{"$f":"IF(ISERROR(VLOOKUP(I423,[1]Eje_Pilar!$C$2:$E$47,2,FALSE)),\" \",VLOOKUP(I423,[1]Eje_Pilar!$C$2:$E$47,2,FALSE))","v":"Gobernanza e influencia local, regional e internacional"},{"$f":"IF(ISERROR(VLOOKUP(I423,[1]Eje_Pilar!$C$2:$E$47,3,FALSE)),\" \",VLOOKUP(I423,[1]Eje_Pilar!$C$2:$E$47,3,FALSE))","v":"Eje Transversal 4 Gobierno Legitimo, Fortalecimiento Local y Eficiencia"},"3-3-1-15-07-45-1478-000",1026269412,"JHOAN DE JESUS NADJAR CRUZ",6440000,null,0,null,null,6440000,0,"2019-12-26","2019-12-26","2020-01-17",42,21,null,null,null,"X",null,0,{"$f":"IF(SUMPRODUCT((A$14:A423=A423)*(B$14:B423=B423)*(C$14:C423=C423))>1,0,1)","v":1},0,0,0,1,0,"Contratos de prestación de servicios profesionales y de apoyo a la gestión","Contratación directa",{"$f":"IFERROR(VLOOKUP(F423,[1]Tipo!$C$12:$C$27,1,FALSE),\"NO\")","v":"Prestación de servicios profesionales y de apoyo a la gestión, o para la ejecución de trabajos artísticos que sólo puedan encomendarse a determinadas personas naturales;"},"Inversión",45]
[410,2019,"FDLSUBA-CMA-005-2019","Interventoría","Concurso de méritos","No aplica","REALIZAR LA INTERVENTORIA ADMINISTRATIVA, TECNICA, FINANCIERA, JURIDICA, SOCIAL, AMBIENTAL Y DE SEGURIDAD Y SALUD EN EL TRABAJO (SST), AL CONTRATO RESULTANTE DEL PROCESO FDLSUBA-LP-005-2019 QUE TIENE POR OBJETO EJECUTAR A PRECIOS UNITARIOS Y A MONTO AGOTABLE, LA RECONSTRUCCION, REHABILITACION, MANTENIMIENTO PREVENTIVO, CORRECTIVO Y PERIODICO Y DEMAS INTERVENCIONES TENDIENTES A LA CONSERVACION DE LA MALLA VIAL Y ESPACIO PUBLICO DE LA LOCALIDAD DE SUBA.","Inversión",18,{"$f":"IF(ISERROR(VLOOKUP(I424,[1]Eje_Pilar!$C$2:$E$47,2,FALSE)),\" \",VLOOKUP(I424,[1]Eje_Pilar!$C$2:$E$47,2,FALSE))","v":"Mejor movilidad para todos"},{"$f":"IF(ISERROR(VLOOKUP(I424,[1]Eje_Pilar!$C$2:$E$47,3,FALSE)),\" \",VLOOKUP(I424,[1]Eje_Pilar!$C$2:$E$47,3,FALSE))","v":"Pilar 2 Democracía Urbana"},"3-3-1-15-02-18-1506-000","901151779-4","INGENIERIA DF. SAS",2969999620,null,0,null,null,2969999620,0,"2019-12-24","2019-12-24","2019-12-31",360,null,null,null,"X",null,null,0,{"$f":"IF(SUMPRODUCT((A$14:A424=A424)*(B$14:B424=B424)*(C$14:C424=C424))>1,0,1)","v":1},0,0,1,0,0,"Interventoría","Concurso de méritos",{"$f":"IFERROR(VLOOKUP(F424,[1]Tipo!$C$12:$C$27,1,FALSE),\"NO\")","v":"NO"},"Inversión",18]
[411,2019,"FDLSUBA-CMA-009-2019","Consultoría","Concurso de méritos","No aplica","CONTRATAR A PRECIOS UNITARIOS LOS ESTUDIOS TOPOGRAFICOS REQUERIDOS EN LA ETAPA DE ANALISIS PARA EL PROCEDIMIENTO DE REGULARIZACION DE DESARROLLOS LEGALIZADOS UBICADOS EN LA LOCALIDAD DE SUBA.","Inversión",15,{"$f":"IF(ISERROR(VLOOKUP(I425,[1]Eje_Pilar!$C$2:$E$47,2,FALSE)),\" \",VLOOKUP(I425,[1]Eje_Pilar!$C$2:$E$47,2,FALSE))","v":"Recuperación, incorporación, vida urbana y control de la ilegalidad"},{"$f":"IF(ISERROR(VLOOKUP(I425,[1]Eje_Pilar!$C$2:$E$47,3,FALSE)),\" \",VLOOKUP(I425,[1]Eje_Pilar!$C$2:$E$47,3,FALSE))","v":"Pilar 2 Democracía Urbana"},"3-3-1-15-02-15-1461-000","900087183-8 ","ACADIT INGENIERIA LTDA",242709291,null,0,null,null,242709291,0,"2019-12-30","2019-12-30","2019-12-31",240,null,null,null,"X",null,null,0,{"$f":"IF(SUMPRODUCT((A$14:A425=A425)*(B$14:B425=B425)*(C$14:C425=C425))>1,0,1)","v":1},0,0,1,0,0,"Consultoría","Concurso de méritos",{"$f":"IFERROR(VLOOKUP(F425,[1]Tipo!$C$12:$C$27,1,FALSE),\"NO\")","v":"NO"},"Inversión",15]
[412,2019,"FDLSUBA-SAMC-009-2019","Contratos de prestación de servicios","Selección abreviada","Selección abreviada por menor cuantía ","CONTRATAR LA PRESTACION DE SERVICIOS Y SUMINSTRO, PARA LA REALIZACION DE ACTIVIDADES DE FORTALECIMIENTO A LOS EMPRENDIMIENTOS PRODUCTIVOS RURALES Y DE ASESORIA TECNICA AGROPECUARIA Y/O ASISTENCIA EN TECNOLOGIAS AMBIENTALES SOSTENIBLES, PARA HABITANTES DE LOS SECTORES RURAL, PERIURBANO Y URBANO DE LA LOCALIDAD DE SUBA.","Inversión",41,{"$f":"IF(ISERROR(VLOOKUP(I426,[1]Eje_Pilar!$C$2:$E$47,2,FALSE)),\" \",VLOOKUP(I426,[1]Eje_Pilar!$C$2:$E$47,2,FALSE))","v":"Desarrollo rural sostenible"},{"$f":"IF(ISERROR(VLOOKUP(I426,[1]Eje_Pilar!$C$2:$E$47,3,FALSE)),\" \",VLOOKUP(I426,[1]Eje_Pilar!$C$2:$E$47,3,FALSE))","v":"Eje Transversal 3 Sostenibilidad Ambiental basada en la eficiencia energética"},"3-3-1-15-06-41-1476-000","800.226.265-8","ACADEMIA NACIONAL DE APRENDIZAJE PUERTO RIVEROS Y CIA LTDA",211132142,null,0,null,null,211132142,0,"2019-12-26","2019-12-26","2019-12-31",120,null,null,"X",null,null,null,0,{"$f":"IF(SUMPRODUCT((A$14:A426=A426)*(B$14:B426=B426)*(C$14:C426=C426))>1,0,1)","v":1},0,1,0,0,0,"Contratos de prestación de servicios","Selección abreviada",{"$f":"IFERROR(VLOOKUP(F426,[1]Tipo!$C$12:$C$27,1,FALSE),\"NO\")","v":"Selección abreviada por menor cuantía "},"Inversión",41]
[413,2019,"FDLSUBA-LP-005-2019","Obra pública","Licitación pública","No aplica","EJECUTAR A PRECIOS UNITARIOS Y A MONTO AGOTABLE, LA RECONSTRUCCION, REHABILITACION, MANTENIMIENTO PREVENTIVO, CORRECTIVO Y PERIODICO, ACCIONES DE MOVILIDAD Y DE EMERGENCIA Y DEMAS INTERVENCIONES TENDIENTES A LACONSERVACION DE LA MALLA VIAL Y ESPACIO PUBLICO DE LA LOCALIDAD DE SUBA. CONSORCIO LOCALIDADES 2019 NIT. 901.349.545. SE ELABORA REGISTRO PRESUPUESTAL A NOMBRE DE UNO DE LOS CONSORCIADOS.","Inversión",18,{"$f":"IF(ISERROR(VLOOKUP(I427,[1]Eje_Pilar!$C$2:$E$47,2,FALSE)),\" \",VLOOKUP(I427,[1]Eje_Pilar!$C$2:$E$47,2,FALSE))","v":"Mejor movilidad para todos"},{"$f":"IF(ISERROR(VLOOKUP(I427,[1]Eje_Pilar!$C$2:$E$47,3,FALSE)),\" \",VLOOKUP(I427,[1]Eje_Pilar!$C$2:$E$47,3,FALSE))","v":"Pilar 2 Democracía Urbana"},"3-3-1-15-02-18-1506-000","901349545-1","CONSORCIO LOCALIDADES 2019",27000000000,null,0,null,null,27000000000,0,"2019-12-30","2019-12-30","2019-12-31",360,null,null,null,"X",null,null,0,{"$f":"IF(SUMPRODUCT((A$14:A427=A427)*(B$14:B427=B427)*(C$14:C427=C427))>1,0,1)","v":1},0,0,1,0,0,"Obra pública","Licitación pública",{"$f":"IFERROR(VLOOKUP(F427,[1]Tipo!$C$12:$C$27,1,FALSE),\"NO\")","v":"NO"},"Inversión",18]
[414,2019,"FDLSUBA-LP-008-2019","Contratos de prestación de servicios","Licitación pública","No aplica","PRESTACION DE SERVICIO Y SUMINSTRO DE ELEMENTOS PARA REALIZAR LAS ACTIVIDADES DE ORGANIZACION, COORDINACION Y EJECUCION DE EVENTOS DEPORTIVOS, RECREATIVOS Y DE ACTIVIDAD FISICA, Y DE LOS PROCESOS DE FORMACION DEPORTIVA QUE PROMUEVAN LA RECREACION Y EL DEPORTE EN LA LOCALIDAD DE SUBA. SIPSE # 39796","Inversión",11,{"$f":"IF(ISERROR(VLOOKUP(I428,[1]Eje_Pilar!$C$2:$E$47,2,FALSE)),\" \",VLOOKUP(I428,[1]Eje_Pilar!$C$2:$E$47,2,FALSE))","v":"Mejores oportunidades para el desarrollo a través de la cultura, la recreación y el deporte"},{"$f":"IF(ISERROR(VLOOKUP(I428,[1]Eje_Pilar!$C$2:$E$47,3,FALSE)),\" \",VLOOKUP(I428,[1]Eje_Pilar!$C$2:$E$47,3,FALSE))","v":"Pilar 1 Igualdad de Calidad de Vida"},"3-3-1-15-01-11-1459-000","900827989-3","FUNDACION CENTROFORM CFD CAR",1391619057,null,0,null,null,1391619057,0,"2019-12-30","2019-12-30","2019-12-31",180,null,null,"X",null,null,null,0,{"$f":"IF(SUMPRODUCT((A$14:A428=A428)*(B$14:B428=B428)*(C$14:C428=C428))>1,0,1)","v":1},0,1,0,0,0,"Contratos de prestación de servicios","Licitación pública",{"$f":"IFERROR(VLOOKUP(F428,[1]Tipo!$C$12:$C$27,1,FALSE),\"NO\")","v":"NO"},"Inversión",11]
[415,2019,"FDLSUBA-LP-006-2019","Contratos de prestación de servicios","Contratación directa","Prestación de servicios profesionales y de apoyo a la gestión, o para la ejecución de trabajos artísticos que sólo puedan encomendarse a determinadas personas naturales;","CONTRATAR MEDIANTE EL SISTEMA DE PRECIOS UNITARIOS FIJOS SIN FORMULA DE REAJUSTE Y A MONTO AGOTABLE, EL MANTENIMIENTO DE LA INFRAESTRUCTURA FISICA, ASI COMO EL SUMINISTRO E INSTALACION DE MOBILIARIO URBANO DE LOS PARQUES VECINALES Y DE BOLSILLO DE LA LOCALIDAD DE SUBA QUE CONFORMAN EL SISTEMA DISTRITAL DE PARQUES. CONSORCIO PARQUES P99. SE ELABORA REGISTRO PRESUPUESTAL A NOMBRE DE UNO DE LOS CONSORCIADOS.","Inversión",17,{"$f":"IF(ISERROR(VLOOKUP(I429,[1]Eje_Pilar!$C$2:$E$47,2,FALSE)),\" \",VLOOKUP(I429,[1]Eje_Pilar!$C$2:$E$47,2,FALSE))","v":"Espacio público, derecho de todos"},{"$f":"IF(ISERROR(VLOOKUP(I429,[1]Eje_Pilar!$C$2:$E$47,3,FALSE)),\" \",VLOOKUP(I429,[1]Eje_Pilar!$C$2:$E$47,3,FALSE))","v":"Pilar 2 Democracía Urbana"},"3-3-1-15-02-17-1465-000","901352003-0","PROMCIVILES SAS",5771460000,null,0,null,null,5771460000,0,"2019-12-30","2019-12-30","2019-12-31",240,null,null,"X",null,null,null,0,{"$f":"IF(SUMPRODUCT((A$14:A429=A429)*(B$14:B429=B429)*(C$14:C429=C429))>1,0,1)","v":1},0,1,0,0,0,"Contratos de prestación de servicios","Contratación directa",{"$f":"IFERROR(VLOOKUP(F429,[1]Tipo!$C$12:$C$27,1,FALSE),\"NO\")","v":"Prestación de servicios profesionales y de apoyo a la gestión, o para la ejecución de trabajos artísticos que sólo puedan encomendarse a determinadas personas naturales;"},"Inversión",17]
[416,2019,"FDLSUBA-CMA-007-2019","Interventoría","Concurso de méritos","No aplica","REALIZAR LA INTERVENTORIA TECNICA, ADMINISTRATIVA, LEGAL, FINANCIERA, CONTABLE, SEGURIDAD Y SALUD EN EL TRABAJO, SOCIAL Y AMBIENTAL PARA EL CONTRATO DERIVADO DEL PROCESO DE LICITACION FDLSUBA-LP-012-2019 PAR LA CONSTRUCCION DE PARQUES.","Inversión",17,{"$f":"IF(ISERROR(VLOOKUP(I430,[1]Eje_Pilar!$C$2:$E$47,2,FALSE)),\" \",VLOOKUP(I430,[1]Eje_Pilar!$C$2:$E$47,2,FALSE))","v":"Espacio público, derecho de todos"},{"$f":"IF(ISERROR(VLOOKUP(I430,[1]Eje_Pilar!$C$2:$E$47,3,FALSE)),\" \",VLOOKUP(I430,[1]Eje_Pilar!$C$2:$E$47,3,FALSE))","v":"Pilar 2 Democracía Urbana"},"3-3-1-15-02-17-1465-000","830028126-2","R & M CONSTRUCCIONES E INTERVENTORIAS S A S",120036000,null,0,null,null,120036000,0,"2019-12-30","2019-12-30","2019-12-31",180,null,null,"X",null,null,null,0,{"$f":"IF(SUMPRODUCT((A$14:A430=A430)*(B$14:B430=B430)*(C$14:C430=C430))>1,0,1)","v":1},0,1,0,0,0,"Interventoría","Concurso de méritos",{"$f":"IFERROR(VLOOKUP(F430,[1]Tipo!$C$12:$C$27,1,FALSE),\"NO\")","v":"NO"},"Inversión",17]
[417,2019,"FDLSUBA-LP-013-2019","Contratos de prestación de servicios","Licitación pública","No aplica","PRESTAR LOS SERVICIOS PROFESIONALES Y LOGISTICOS AL FONDO DE DESARROLLO LOCAL DE SUBA EN LA REALIZACION DE ACTIVIDADES PARA LA EJECUCION DE LOS PROYECTOS RELACIONADOS CON EL FORTALECIMIENTO PARA LA PARTICIPACION CIUDADANA EN LA LOCALIDAD, PLAN DE DESARROLO LOCAL SUBA MEJOR PARA TODOS\", XUA CHIE, GUENCHAS\".","Inversión",45,{"$f":"IF(ISERROR(VLOOKUP(I431,[1]Eje_Pilar!$C$2:$E$47,2,FALSE)),\" \",VLOOKUP(I431,[1]Eje_Pilar!$C$2:$E$47,2,FALSE))","v":"Gobernanza e influencia local, regional e internacional"},{"$f":"IF(ISERROR(VLOOKUP(I431,[1]Eje_Pilar!$C$2:$E$47,3,FALSE)),\" \",VLOOKUP(I431,[1]Eje_Pilar!$C$2:$E$47,3,FALSE))","v":"Eje Transversal 4 Gobierno Legitimo, Fortalecimiento Local y Eficiencia"},"3-3-1-15-07-45-1483-000","900175374-5","ASOCIACION DE HOGARES SI A LA VIDA",815749159,null,0,null,null,815749159,0,"2019-12-30","2019-12-30","2019-12-31",240,null,null,"X",null,null,null,0,{"$f":"IF(SUMPRODUCT((A$14:A431=A431)*(B$14:B431=B431)*(C$14:C431=C431))>1,0,1)","v":1},0,1,0,0,0,"Contratos de prestación de servicios","Licitación pública",{"$f":"IFERROR(VLOOKUP(F431,[1]Tipo!$C$12:$C$27,1,FALSE),\"NO\")","v":"NO"},"Inversión",45]
[418,2019,"FDLSUBA-LP-013-2019","Contratos de prestación de servicios","Licitación pública","No aplica","CONTRATAR LA PRESTACION DE SERVICIOS Y SUMINISTRO, PARA LA REALIZACION DE ACTIVIDADES DE PAISAJISMO, JARDINERIA, MANEJO INTEGRAL DE ARBOLADO Y ECOURBANISMO EN LA LOCALIDAD DE SUBA DE ACUERDO CON LA DESCRIPCION, ESPECIFICACIONES Y DEMAS CONDICIONES ESTABLECIDAS EN EL ANEXO TECNICO.","Inversión",38,{"$f":"IF(ISERROR(VLOOKUP(I432,[1]Eje_Pilar!$C$2:$E$47,2,FALSE)),\" \",VLOOKUP(I432,[1]Eje_Pilar!$C$2:$E$47,2,FALSE))","v":"Recuperación y manejo de la Estructura Ecológica Principal"},{"$f":"IF(ISERROR(VLOOKUP(I432,[1]Eje_Pilar!$C$2:$E$47,3,FALSE)),\" \",VLOOKUP(I432,[1]Eje_Pilar!$C$2:$E$47,3,FALSE))","v":"Eje Transversal 3 Sostenibilidad Ambiental basada en la eficiencia energética"},"3-3-1-15-06-38-1472-000","802012073-9","CIVIL ENGINEERING TECHNOLOGY S.A.S. - CIVILTEC S.A.S.",1170913510,null,0,null,null,1170913510,0,"2019-12-30","2019-12-30","2019-12-31",180,null,null,"X",null,null,null,0,{"$f":"IF(SUMPRODUCT((A$14:A432=A432)*(B$14:B432=B432)*(C$14:C432=C432))>1,0,1)","v":1},0,1,0,0,0,"Contratos de prestación de servicios","Licitación pública",{"$f":"IFERROR(VLOOKUP(F432,[1]Tipo!$C$12:$C$27,1,FALSE),\"NO\")","v":"NO"},"Inversión",38]
[420,2019,"FDLSUBA-CMA-006-2019","Interventoría","Concurso de méritos","No aplica","REALIZAR LA INTERVENTORIA TECNICA, ADMINISTRATIVA, LEGAL, FINANCIERA, CONTABLE, SEGURIDAD Y SALUD EN EL TRABAJO, SOCIAL Y AMBIENTAL PARA EL CONTRATO DERIVADO DEL PROCESO DE LICITACION FDLUBA-LP-006-2019 PARA EL MANTENIMIENTO DE PARQUES.","Inversión",17,{"$f":"IF(ISERROR(VLOOKUP(I433,[1]Eje_Pilar!$C$2:$E$47,2,FALSE)),\" \",VLOOKUP(I433,[1]Eje_Pilar!$C$2:$E$47,2,FALSE))","v":"Espacio público, derecho de todos"},{"$f":"IF(ISERROR(VLOOKUP(I433,[1]Eje_Pilar!$C$2:$E$47,3,FALSE)),\" \",VLOOKUP(I433,[1]Eje_Pilar!$C$2:$E$47,3,FALSE))","v":"Pilar 2 Democracía Urbana"},"3-3-1-15-02-17-1465-000","830098495-4","ARQUITECTURA URBANA LTDA",540000000,null,0,null,null,540000000,0,"2019-12-31","2019-12-31","2019-12-31",240,null,null,"X",null,null,null,0,{"$f":"IF(SUMPRODUCT((A$14:A433=A433)*(B$14:B433=B433)*(C$14:C433=C433))>1,0,1)","v":1},0,1,0,0,0,"Interventoría","Concurso de méritos",{"$f":"IFERROR(VLOOKUP(F433,[1]Tipo!$C$12:$C$27,1,FALSE),\"NO\")","v":"NO"},"Inversión",17]
[421,2019,"FDLSUBA-CD-421-2019","Contratos interadministrativos","Contratación directa","Contratos interadministrativos","AUNAR ESFUERZOS ENTRE LA SUBRED INTEGRADA DE SERVICIOS DE SALUD NORTE E.S.E. Y EL FDL DE SUBA PARA LA ENTREGA DE DISPOSITIVOS DE ASISTENCIA PERSONAL, NO INCLUIDAS EN EL PLAN DE BENEFICIOS EN SALUD, PARA MEJORAR LA CALIDAD DE VIDA DE LAS PERSONAS CON DISCAPACIDAD, RESIDENTES EN LA LOCALIDAD DE SUBA. EN DESARROLLO DE LA POLITICA PUBLICA DISTRITAL Y DEMAS NORMAS AFINES, CORRESPONDIENTE A LA VIGENCIA 2019.","Inversión",3,{"$f":"IF(ISERROR(VLOOKUP(I434,[1]Eje_Pilar!$C$2:$E$47,2,FALSE)),\" \",VLOOKUP(I434,[1]Eje_Pilar!$C$2:$E$47,2,FALSE))","v":"Igualdad y autonomía para una Bogotá incluyente"},{"$f":"IF(ISERROR(VLOOKUP(I434,[1]Eje_Pilar!$C$2:$E$47,3,FALSE)),\" \",VLOOKUP(I434,[1]Eje_Pilar!$C$2:$E$47,3,FALSE))","v":"Pilar 1 Igualdad de Calidad de Vida"},"3-3-1-15-01-03-1427-000","900971006-4","SUBRED INTEGRADA DE SERVICIOS DE SALUD NORTE ESE",750000000,null,0,null,null,750000000,0,"2019-12-31","2019-12-31","2019-12-31",180,null,null,"X",null,null,null,0,{"$f":"IF(SUMPRODUCT((A$14:A434=A434)*(B$14:B434=B434)*(C$14:C434=C434))>1,0,1)","v":1},0,1,0,0,0,"Contratos interadministrativos","Contratación directa",{"$f":"IFERROR(VLOOKUP(F434,[1]Tipo!$C$12:$C$27,1,FALSE),\"NO\")","v":"Contratos interadministrativos"},"Inversión",3]
[422,2019,"FDLSUBA-CD-422-2020","Arrendamiento de bienes inmuebles","Contratación directa","El arrendamiento o adquisición de inmuebles","ARRENDAMIENTO DE UN BIEN INMUEBLE (PATIO-BODEGA) PARA EL ALMACENAMIENTO DE MATERIALES PETREOS Y PREFABRICADOS COMO PRODUCTO DE LOS CONTRATOS DE SUMINISTRO, ACOPIO DE MATERIAL FRESADO COMO PRODUCTO DE LOS CONVENIOS O ACUERDOS CON OTRAS ENTIDADES SUSCRITOS POR LA ENTIDAD Y PARQUEO DE MAQUINARIA VEHICULOS DE CARGUE Y LIVIANOS DEL FONDO D DESARROLLO LOCAL DE SUBA PARA EL AÑO 2020.","Funcionamiento","No aplica",{"$f":"IF(ISERROR(VLOOKUP(I435,[1]Eje_Pilar!$C$2:$E$47,2,FALSE)),\" \",VLOOKUP(I435,[1]Eje_Pilar!$C$2:$E$47,2,FALSE))","v":" "},{"$f":"IF(ISERROR(VLOOKUP(I435,[1]Eje_Pilar!$C$2:$E$47,3,FALSE)),\" \",VLOOKUP(I435,[1]Eje_Pilar!$C$2:$E$47,3,FALSE))","v":" "},"3-1-2-02-02-02-0002-001","860353174-8","INVERSIONES Y CONSTRUCCIONES RODRIGUEZ REYES Y CIA S EN C",84000000,null,0,null,null,84000000,0,"2019-12-31","2019-12-31","2019-12-31",120,null,null,null,"X",null,null,0,{"$f":"IF(SUMPRODUCT((A$14:A435=A435)*(B$14:B435=B435)*(C$14:C435=C435))>1,0,1)","v":1},0,0,1,0,0,"Arrendamiento de bienes inmuebles","Contratación directa",{"$f":"IFERROR(VLOOKUP(F435,[1]Tipo!$C$12:$C$27,1,FALSE),\"NO\")","v":"El arrendamiento o adquisición de inmuebles"},"Funcionamiento","NO"]
[423,2019,"FDLSUBA-SASI-003-2019","Suministro","Selección abreviada","Subasta inversa ","CONTRATAR A PRECIOS UNITARIOS SIN FORMULA DE REAJUSTE Y A MONTO AGOTABLE EL SUMINISTRO DE MATERIALES PARA LAS OBRAS QUE SE EJECUTAN DENTRO DEL PROGRAMA DE GESTION COMPARTIDA Y GESTION DIRECTA DE LA LOCALIDAD D ESUBA PARA LA CONSERVACION DE LA MALLA VIAL LOCAL Y ESPACIO PUBLICO. SE ELABORA EL REGISTRO A NOMBRE DE UNO DE LOS CONSORCIADOS.","Inversión",18,{"$f":"IF(ISERROR(VLOOKUP(I436,[1]Eje_Pilar!$C$2:$E$47,2,FALSE)),\" \",VLOOKUP(I436,[1]Eje_Pilar!$C$2:$E$47,2,FALSE))","v":"Mejor movilidad para todos"},{"$f":"IF(ISERROR(VLOOKUP(I436,[1]Eje_Pilar!$C$2:$E$47,3,FALSE)),\" \",VLOOKUP(I436,[1]Eje_Pilar!$C$2:$E$47,3,FALSE))","v":"Pilar 2 Democracía Urbana"},"3-3-1-15-02-18-1506-000",6765018,"PLUTARCO  LANDINEZ MARTINEZ",423470761,null,0,null,null,423470761,0,"2019-12-31","2019-12-31","2019-12-31",300,null,null,"X",null,null,null,0,{"$f":"IF(SUMPRODUCT((A$14:A436=A436)*(B$14:B436=B436)*(C$14:C436=C436))>1,0,1)","v":1},0,1,0,0,0,"Suministro","Selección abreviada",{"$f":"IFERROR(VLOOKUP(F436,[1]Tipo!$C$12:$C$27,1,FALSE),\"NO\")","v":"Subasta inversa "},"Inversión",18]
[424,2019,"FDLSUBA-LP-010-2019","Suministro","Licitación pública","No aplica","CONTRATAR EL SUMINISTRO Y LA INSTALACION DEL SISTEMA DE CABLEADO ESTRUCTURADO DE VOZ Y DATOS A CATEGORIA 6A, Y PUNTOS NUEVOS DE LA RED ELECTRICA REGULADA PARA LA SEDE DE LA ALCALDIA Y LA CASA DE LA PARTICIPACION DEL FDLS. SE ELABORA REGISTRO PRESUPUESTAL A NOMBRE DE UNO DE LOS CONSORCIADOS.","Inversión",45,{"$f":"IF(ISERROR(VLOOKUP(I437,[1]Eje_Pilar!$C$2:$E$47,2,FALSE)),\" \",VLOOKUP(I437,[1]Eje_Pilar!$C$2:$E$47,2,FALSE))","v":"Gobernanza e influencia local, regional e internacional"},{"$f":"IF(ISERROR(VLOOKUP(I437,[1]Eje_Pilar!$C$2:$E$47,3,FALSE)),\" \",VLOOKUP(I437,[1]Eje_Pilar!$C$2:$E$47,3,FALSE))","v":"Eje Transversal 4 Gobierno Legitimo, Fortalecimiento Local y Eficiencia"},"3-3-1-15-07-45-1478-000","901352645-9","EGC COLOMBIA SAS",597365934,null,0,null,null,597365934,0,"2019-12-30","2019-12-30","2019-12-31",180,null,null,"X",null,null,null,0,{"$f":"IF(SUMPRODUCT((A$14:A437=A437)*(B$14:B437=B437)*(C$14:C437=C437))>1,0,1)","v":1},0,1,0,0,0,"Suministro","Licitación pública",{"$f":"IFERROR(VLOOKUP(F437,[1]Tipo!$C$12:$C$27,1,FALSE),\"NO\")","v":"NO"},"Inversión",45]
[425,2019,"FDLSUBA-CMA-008-2019","Interventoría","Concurso de méritos","No aplica","REALIZAR LA INTERVENTORIA ADMINISTRATIVA, TECNICA, FINANCIERA, JURIDICA, SOCIAL, AMBIENTAL Y DE SEGURIDAD Y SALUD EN EL TRABAJO (SST), AL CONTRATO RESULTANTE DEL PROCESO FDLSUBA-LP-014-2019 QUE TIENE POR OBJETO: CONTRATAR A MONTO AGOTABLE LAS OBRAS DE ADECUACION Y/O MANTENIMIENTO DE LA INFRAESTRUCTURA FISICA PARA LAS EDIFICACIONES DE PROPIEDAD O TENENCIA DEL FONDO DE DESARROLLO LOCAL DE SUBA\". SE ELABORA EL REGISTRO PRESUPUESTAL A UNO DE LOS CONSORCIADOS..","Inversión",45,{"$f":"IF(ISERROR(VLOOKUP(I438,[1]Eje_Pilar!$C$2:$E$47,2,FALSE)),\" \",VLOOKUP(I438,[1]Eje_Pilar!$C$2:$E$47,2,FALSE))","v":"Gobernanza e influencia local, regional e internacional"},{"$f":"IF(ISERROR(VLOOKUP(I438,[1]Eje_Pilar!$C$2:$E$47,3,FALSE)),\" \",VLOOKUP(I438,[1]Eje_Pilar!$C$2:$E$47,3,FALSE))","v":"Eje Transversal 4 Gobierno Legitimo, Fortalecimiento Local y Eficiencia"},"3-3-1-15-07-45-1478-000","901099069-1","GEAGOR S A S",91071429,null,0,null,null,91071429,0,"2019-12-31","2019-12-31","2019-12-31",150,null,null,null,"X",null,null,0,{"$f":"IF(SUMPRODUCT((A$14:A438=A438)*(B$14:B438=B438)*(C$14:C438=C438))>1,0,1)","v":1},0,0,1,0,0,"Interventoría","Concurso de méritos",{"$f":"IFERROR(VLOOKUP(F438,[1]Tipo!$C$12:$C$27,1,FALSE),\"NO\")","v":"NO"},"Inversión",45]
[426,2019,"FDLSUBA-SAMC-011 DE 2019","Contratos de prestación de servicios","Selección abreviada","Selección abreviada por menor cuantía ","CONTRATAR A PRECIOS UNITARIOS Y A MONTO AGOTABLE LA PRESTACION DE SERVICIOS DE APOYO TECNICO A LA ALCALDIA LOCAL DE SUBA EN EL DESARROLLO DE ACTIVIDADES DE METROLOGIA LEGAL EN VIRTUD DE LAS FUNCIONES DE LA ENTIDAD Y LAS NORMAS QUE LA REGULAN.","Inversión",45,{"$f":"IF(ISERROR(VLOOKUP(I439,[1]Eje_Pilar!$C$2:$E$47,2,FALSE)),\" \",VLOOKUP(I439,[1]Eje_Pilar!$C$2:$E$47,2,FALSE))","v":"Gobernanza e influencia local, regional e internacional"},{"$f":"IF(ISERROR(VLOOKUP(I439,[1]Eje_Pilar!$C$2:$E$47,3,FALSE)),\" \",VLOOKUP(I439,[1]Eje_Pilar!$C$2:$E$47,3,FALSE))","v":"Eje Transversal 4 Gobierno Legitimo, Fortalecimiento Local y Eficiencia"},"3-3-1-15-07-45-1481-000","900515644-9 ","LABORATORIO UNIDSALUD SAS",150000000,null,0,null,null,150000000,0,"2019-12-31","2019-12-31","2019-12-31",180,null,null,null,"X",null,null,0,{"$f":"IF(SUMPRODUCT((A$14:A439=A439)*(B$14:B439=B439)*(C$14:C439=C439))>1,0,1)","v":1},0,0,1,0,0,"Contratos de prestación de servicios","Selección abreviada",{"$f":"IFERROR(VLOOKUP(F439,[1]Tipo!$C$12:$C$27,1,FALSE),\"NO\")","v":"Selección abreviada por menor cuantía "},"Inversión",45]
[427,2019,"FDLSUBA-SAMC-012 DE 2019","Contratos de prestación de servicios","Selección abreviada","Selección abreviada por menor cuantía ","PRESTAR SERVICIOS Y SUMINISTRAR LOS ELEMENTOS NECESARIOS PARA DESARROLLAR ACTIVIDADES RELACIONADAS CON LA CONVIVENCIA Y SEGURIDAD CIUDADANA EN LA LOCALIDAD DE SUBA.","Inversión",19,{"$f":"IF(ISERROR(VLOOKUP(I440,[1]Eje_Pilar!$C$2:$E$47,2,FALSE)),\" \",VLOOKUP(I440,[1]Eje_Pilar!$C$2:$E$47,2,FALSE))","v":"Seguridad y convivencia para todos"},{"$f":"IF(ISERROR(VLOOKUP(I440,[1]Eje_Pilar!$C$2:$E$47,3,FALSE)),\" \",VLOOKUP(I440,[1]Eje_Pilar!$C$2:$E$47,3,FALSE))","v":"Pilar 3 Construcción de Comunidad y Cultura Ciudadana"},"3-3-1-15-03-19-1469-000","900270576-2 ","FUNDACION CONSTRUCCION LOCAL",71311856,null,0,null,null,71311856,0,"2019-12-31","2019-12-31","2019-12-31",60,null,null,"X",null,null,null,0,{"$f":"IF(SUMPRODUCT((A$14:A440=A440)*(B$14:B440=B440)*(C$14:C440=C440))>1,0,1)","v":1},0,1,0,0,0,"Contratos de prestación de servicios","Selección abreviada",{"$f":"IFERROR(VLOOKUP(F440,[1]Tipo!$C$12:$C$27,1,FALSE),\"NO\")","v":"Selección abreviada por menor cuantía "},"Inversión",19]
[428,2019,"FDLSUBA-LP-014-2019","Obra pública","Licitación pública","No aplica","CONTRATAR A MONTO AGOTABLE LAS OBRAS DE ADECUACION Y/O MANTENIMIENTO DE LA INFRAESTRUCTURA FISICA PARA LAS EDIFICACIONES DE PROPIEDAD O TENENCIA DEL FONDO DE DESARROLLO LOCAL DE SUBA.","Inversión",45,{"$f":"IF(ISERROR(VLOOKUP(I441,[1]Eje_Pilar!$C$2:$E$47,2,FALSE)),\" \",VLOOKUP(I441,[1]Eje_Pilar!$C$2:$E$47,2,FALSE))","v":"Gobernanza e influencia local, regional e internacional"},{"$f":"IF(ISERROR(VLOOKUP(I441,[1]Eje_Pilar!$C$2:$E$47,3,FALSE)),\" \",VLOOKUP(I441,[1]Eje_Pilar!$C$2:$E$47,3,FALSE))","v":"Eje Transversal 4 Gobierno Legitimo, Fortalecimiento Local y Eficiencia"},"3-3-1-15-07-45-1478-000","900264026-9","SERVICIOS INTEGRALES DE INGENIERIA Y CONSTRUCCION LTDA.",758928571,null,0,null,null,758928571,0,"2019-12-31","2019-12-31","2019-12-31",150,null,null,"X",null,null,null,0,{"$f":"IF(SUMPRODUCT((A$14:A441=A441)*(B$14:B441=B441)*(C$14:C441=C441))>1,0,1)","v":1},0,1,0,0,0,"Obra pública","Licitación pública",{"$f":"IFERROR(VLOOKUP(F441,[1]Tipo!$C$12:$C$27,1,FALSE),\"NO\")","v":"NO"},"Inversión",45]
[429,2019,"FDLSUBA-LP-012-2019","Obra pública","Licitación pública","No aplica","CONTRATAR MEDIANTE SISTEMA DE PRECIOS UNITARIOS FIJOS Y A MONTO AGOTABLE LOS ESTUDIOS, DISEÑOS Y CONSTRUCCIÓN DE PARQUES VECINALES DE LA LOCALIDAD DE SUBA QUE CONFORMAN EL SISTEMA DISTRITAL DE PARQUES.","Inversión",17,{"$f":"IF(ISERROR(VLOOKUP(I442,[1]Eje_Pilar!$C$2:$E$47,2,FALSE)),\" \",VLOOKUP(I442,[1]Eje_Pilar!$C$2:$E$47,2,FALSE))","v":"Espacio público, derecho de todos"},{"$f":"IF(ISERROR(VLOOKUP(I442,[1]Eje_Pilar!$C$2:$E$47,3,FALSE)),\" \",VLOOKUP(I442,[1]Eje_Pilar!$C$2:$E$47,3,FALSE))","v":"Pilar 2 Democracía Urbana"},"3-3-1-15-02-17-1465-000","800104214-9","INCITECO S A S",1018363636,null,0,null,null,{"$f":"+O442+Q442+S442","v":1018363636},0,"2019-12-31","2019-12-31","2019-12-31",180,null,null,"X",null,null,null,0,{"$f":"IF(SUMPRODUCT((A$14:A442=A442)*(B$14:B442=B442)*(C$14:C442=C442))>1,0,1)","v":1},0,1,0,0,0,"Obra pública","Licitación pública",{"$f":"IFERROR(VLOOKUP(F442,[1]Tipo!$C$12:$C$27,1,FALSE),\"NO\")","v":"NO"},"Inversión",17]
[659,2019,null,"Otros gastos",null,null,"AUNAR RECURSOS TECNICOS Y ADMINISTRATIVOS PARA GARANTIZAR LA ENTREGA DEL SUBSIDIO ECONOMICO TIPO C A LAS PERSONAS MAYORES BENEFICIARIAS DEL SERVICIO SOCIAL, SUBSIDIOS ECONOMICOS QUE SON ATENDIDAS CON RECURSOS DE LOS FONDOS DE DESARROLLO LOCAL EN EL MARCO DE LA POLITICA PUBLICA SOCIAL PARA EL ENVEJECIMIENTO Y LA VEJEZ EN EL DISTRITO CAPITAL.","Inversión",3,{"$f":"IF(ISERROR(VLOOKUP(I443,[1]Eje_Pilar!$C$2:$E$47,2,FALSE)),\" \",VLOOKUP(I443,[1]Eje_Pilar!$C$2:$E$47,2,FALSE))","v":"Igualdad y autonomía para una Bogotá incluyente"},{"$f":"IF(ISERROR(VLOOKUP(I443,[1]Eje_Pilar!$C$2:$E$47,3,FALSE)),\" \",VLOOKUP(I443,[1]Eje_Pilar!$C$2:$E$47,3,FALSE))","v":"Pilar 1 Igualdad de Calidad de Vida"},"3-3-1-15-01-03-1427-000","860.066.942-7","CAJA DE COMPENSACION FAMILIAR - COMPENSAR",4145760000,null,0,null,null,4145760000,2883615000,"2019-08-08","2019-08-08","2019-12-31",null,null,null,null,null,null,null,69.555762996410792,{"$f":"IF(SUMPRODUCT((A$14:A443=A443)*(B$14:B443=B443)*(C$14:C443=C443))>1,0,1)","v":1},0,0,0,0,0,"Otros gastos","NO",{"$f":"IFERROR(VLOOKUP(F443,[1]Tipo!$C$12:$C$27,1,FALSE),\"NO\")","v":"NO"},"Inversión",3]
[663,2019,null,"Otros gastos",null,null,"COSTOS OPERATIVOS DERIVADOS DE LA ENTREGA DEL APOYO ECONOMICO TIPO C - CONVENIO 4002 DE 2011.","Inversión",3,{"$f":"IF(ISERROR(VLOOKUP(I444,[1]Eje_Pilar!$C$2:$E$47,2,FALSE)),\" \",VLOOKUP(I444,[1]Eje_Pilar!$C$2:$E$47,2,FALSE))","v":"Igualdad y autonomía para una Bogotá incluyente"},{"$f":"IF(ISERROR(VLOOKUP(I444,[1]Eje_Pilar!$C$2:$E$47,3,FALSE)),\" \",VLOOKUP(I444,[1]Eje_Pilar!$C$2:$E$47,3,FALSE))","v":"Pilar 1 Igualdad de Calidad de Vida"},"3-3-1-15-01-03-1427-000","860.066.942-7","CAJA DE COMPENSACION FAMILIAR - COMPENSAR",86000000,null,0,null,null,86000000,46821374,"2019-08-15","2019-08-15","2019-12-31",null,null,null,null,null,null,null,54.443458139534883,{"$f":"IF(SUMPRODUCT((A$14:A444=A444)*(B$14:B444=B444)*(C$14:C444=C444))>1,0,1)","v":1},0,0,0,0,0,"Otros gastos","NO",{"$f":"IFERROR(VLOOKUP(F444,[1]Tipo!$C$12:$C$27,1,FALSE),\"NO\")","v":"NO"},"Inversión",3]
[748,2019,null,"Otros gastos",null,null,"AUNAR RECURSOS TECNICOS Y ADMINISTRATIVOS PARA GARANTIZAR LA ENTREGA DEL SUBSIDIO ECONOMICO TIPO C A LAS PERSONAS MAYORES BENEFICIARIAS DEL SERVICIO SOCIAL SUBSIDIOS ECONOMICOS QUE SON ATENDIDAS CON RECURSOS DE LOS FONDOS DE DESARROLLO LOCAL EN EL MARCO DE LA POLITICA PUBLICA SOCIAL PARA EL ENVEJECIMIENTO Y LA VEJEZ EN EL DISTRITO CAPITAL.","Inversión",3,{"$f":"IF(ISERROR(VLOOKUP(I445,[1]Eje_Pilar!$C$2:$E$47,2,FALSE)),\" \",VLOOKUP(I445,[1]Eje_Pilar!$C$2:$E$47,2,FALSE))","v":"Igualdad y autonomía para una Bogotá incluyente"},{"$f":"IF(ISERROR(VLOOKUP(I445,[1]Eje_Pilar!$C$2:$E$47,3,FALSE)),\" \",VLOOKUP(I445,[1]Eje_Pilar!$C$2:$E$47,3,FALSE))","v":"Pilar 1 Igualdad de Calidad de Vida"},"3-3-1-15-01-03-1427-000","860.066.942-7","CAJA DE COMPENSACION FAMILIAR - COMPENSAR",96480000,null,0,null,null,96480000,0,"2019-09-11","2019-09-11","2019-12-31",null,null,null,null,null,null,null,0,{"$f":"IF(SUMPRODUCT((A$14:A445=A445)*(B$14:B445=B445)*(C$14:C445=C445))>1,0,1)","v":1},0,0,0,0,0,"Otros gastos","NO",{"$f":"IFERROR(VLOOKUP(F445,[1]Tipo!$C$12:$C$27,1,FALSE),\"NO\")","v":"NO"},"Inversión",3]
[null,2019,null,"Otros gastos",null,null,"PAGO SERVICIO PÚBLICO DE ENERGIA DE LOS PREDIOS DE LA ALCALDÍA LOCAL DE SUBA.","Funcionamiento","No aplica",{"$f":"IF(ISERROR(VLOOKUP(I446,[1]Eje_Pilar!$C$2:$E$47,2,FALSE)),\" \",VLOOKUP(I446,[1]Eje_Pilar!$C$2:$E$47,2,FALSE))","v":" "},{"$f":"IF(ISERROR(VLOOKUP(I446,[1]Eje_Pilar!$C$2:$E$47,3,FALSE)),\" \",VLOOKUP(I446,[1]Eje_Pilar!$C$2:$E$47,3,FALSE))","v":" "},"3-1-2-02-02-04-0001-001",null,"CODENSA S. A. ESP",20000000,null,0,null,null,20000000,7384988,"2019-11-15","2019-11-15","2019-12-31",null,null,null,null,null,null,null,36.924939999999999,{"$f":"IF(SUMPRODUCT((A$14:A446=A446)*(B$14:B446=B446)*(C$14:C446=C446))>1,0,1)","v":0},0,0,0,0,0,"Otros gastos","NO",{"$f":"IFERROR(VLOOKUP(F446,[1]Tipo!$C$12:$C$27,1,FALSE),\"NO\")","v":"NO"},"Funcionamiento","NO"]
[null,2019,null,"Otros gastos",null,null,"PAGO DE LO ORDENADO MEDIANTE SENTENCIA JUDICIAL POR EL TRIBUNAL ADMINISTRATIVO DE CUNDINAMARCA SECCION TERCERA - SUBSECCION B, MEDIANTE LA CUAL PROFIERE FALLO REVOCANDO LA SENTENCIA DE PRIMERA INSTANCIA PROFERIDA EL 4 DE SEPTIEMBRE DE 2018, POR EL JUZGADO SESENTA Y TRAS ADMINISTRATIVO EL CIRCUITO JUDICIAL DE BOGOTA D.C. - SECCION TERCERA, ORDENA LIQUIDAR JUDICIALMENTE EL CONVENIO DE ASOCIACION No. 62 DE 2014 SUSCRITO ENTRE EL FONDO DE DESARROLLO LOCAL DE SUBA - FDLS Y LA CORPORACIONA ESCALA HUMANA, DECLARAR EL INCUMPLIMIENTO DE OBLIGACION DE PAGO DEL CONVENIO DE ASOCIACION No. 62 DE 2014 POR PARTE DEL FDLS, CONDENAR EN COSTAS DE PRIMERA Y SEGUNDA INSTANCIA A FAVOR DE CORHUMANA.","Funcionamiento","No aplica",{"$f":"IF(ISERROR(VLOOKUP(I447,[1]Eje_Pilar!$C$2:$E$47,2,FALSE)),\" \",VLOOKUP(I447,[1]Eje_Pilar!$C$2:$E$47,2,FALSE))","v":" "},{"$f":"IF(ISERROR(VLOOKUP(I447,[1]Eje_Pilar!$C$2:$E$47,3,FALSE)),\" \",VLOOKUP(I447,[1]Eje_Pilar!$C$2:$E$47,3,FALSE))","v":" "},"3-1-3-04-00-00-0000-000",null,"CORPORACION AGROINDUSTRIAL A ESCALA HUAMANA CORHUMANA",133921707,null,0,null,null,133921707,0,"2019-12-20","2019-12-20","2019-12-31",null,null,null,null,null,null,null,0,{"$f":"IF(SUMPRODUCT((A$14:A447=A447)*(B$14:B447=B447)*(C$14:C447=C447))>1,0,1)","v":0},0,0,0,0,0,"Otros gastos","NO",{"$f":"IFERROR(VLOOKUP(F447,[1]Tipo!$C$12:$C$27,1,FALSE),\"NO\")","v":"NO"},"Funcionamiento","NO"]
[1243,2019,null,"Otros gastos",null,null,"AUNAR RECURSOS TECNICOS Y ADMINISTRATIVOS PARA GARANTIZAR LA ENTREGA DEL SUBSIDIO ECONOMICO TIPO C A LAS PERSONAS MAYORES BENEFICIARIAS DEL SERVICIO SOCIAL SUBSIDIOS ECONOMICOS QUE SON ATENDIDAS CON RECURSOS DE LOS FONDOS DE DESARROLLO LOCAL EN EL MARCO DE LA POLITICA PUBLICA SOCIAL PARA EL ENVEJECIMIENTO Y LA VEJEZ EN EL DISTRITO CAPITAL.","Inversión",3,{"$f":"IF(ISERROR(VLOOKUP(I448,[1]Eje_Pilar!$C$2:$E$47,2,FALSE)),\" \",VLOOKUP(I448,[1]Eje_Pilar!$C$2:$E$47,2,FALSE))","v":"Igualdad y autonomía para una Bogotá incluyente"},{"$f":"IF(ISERROR(VLOOKUP(I448,[1]Eje_Pilar!$C$2:$E$47,3,FALSE)),\" \",VLOOKUP(I448,[1]Eje_Pilar!$C$2:$E$47,3,FALSE))","v":"Pilar 1 Igualdad de Calidad de Vida"},"3-3-1-15-01-03-1427-000",null,"CAJA DE COMPENSACION FAMILIAR - COMPENSAR",1191375000,null,0,null,null,1191375000,0,"2019-12-31","2019-12-31","2019-12-31",null,null,null,null,null,null,null,0,{"$f":"IF(SUMPRODUCT((A$14:A448=A448)*(B$14:B448=B448)*(C$14:C448=C448))>1,0,1)","v":1},0,0,0,0,0,"Otros gastos","NO",{"$f":"IFERROR(VLOOKUP(F448,[1]Tipo!$C$12:$C$27,1,FALSE),\"NO\")","v":"NO"},"Inversión",3]
[null,2019,null,"Otros gastos",null,null,"PAGO DE OBLIGACIONES CONTRAIDAS Y REQUERIDAS POR LA OFICINA DE GESTION DE COBRO DE LA SHD, Y SECRETARIA DISTRITAL DE AMBIENTE. RESOLUCIONES Y ACTOS ADMINISTRATIVOS POR CONCEPTOS DE COMPENSACION, SEGUIMIENTO Y EVALUACION, CONCEPTOS TECNICOS AMBIENTALES Nos.: 01428 DE 2017 - 02421 DE 2018 - 03163 DE 2018 - 02425 DE 2018 Y CT 07661 DE 2018.","Funcionamiento","No aplica",{"$f":"IF(ISERROR(VLOOKUP(I449,[1]Eje_Pilar!$C$2:$E$47,2,FALSE)),\" \",VLOOKUP(I449,[1]Eje_Pilar!$C$2:$E$47,2,FALSE))","v":" "},{"$f":"IF(ISERROR(VLOOKUP(I449,[1]Eje_Pilar!$C$2:$E$47,3,FALSE)),\" \",VLOOKUP(I449,[1]Eje_Pilar!$C$2:$E$47,3,FALSE))","v":" "},"3-1-3-04-00-00-0000-000",null,"SECRETARIA DISTRITAL DE AMBIENTE",53799083,null,0,null,null,53799083,0,"2019-12-26","2019-12-26","2019-12-31",null,null,null,null,null,null,null,0,{"$f":"IF(SUMPRODUCT((A$14:A449=A449)*(B$14:B449=B449)*(C$14:C449=C449))>1,0,1)","v":0},0,0,0,0,0,"Otros gastos","NO",{"$f":"IFERROR(VLOOKUP(F449,[1]Tipo!$C$12:$C$27,1,FALSE),\"NO\")","v":"NO"},"Funcionamiento","NO"]
[3750,2019,null,"Otros gastos",null,null,"ADQUISICIÓN CERTIFICADO DIGITAL FUNCIÓN PÚBLICA CON LA FIRMA GSE PARA EL RESPONSABLE DE PRESUPUESTO ENCARGADO DEL FDLS, MEDIANTE RESOLUCIÓN NO. 0180 DEL 22 DE MARZO DE 2019. FACTURA NO. COM-3750.","Funcionamiento","No aplica",{"$f":"IF(ISERROR(VLOOKUP(I450,[1]Eje_Pilar!$C$2:$E$47,2,FALSE)),\" \",VLOOKUP(I450,[1]Eje_Pilar!$C$2:$E$47,2,FALSE))","v":" "},{"$f":"IF(ISERROR(VLOOKUP(I450,[1]Eje_Pilar!$C$2:$E$47,3,FALSE)),\" \",VLOOKUP(I450,[1]Eje_Pilar!$C$2:$E$47,3,FALSE))","v":" "},"3-1-2-01-01-01-0002-000",null,"GESTION DE SEGURIDAD ELECTRONICA S.A",321300,null,0,null,null,321300,321300,"2019-03-28","2019-03-28","2019-12-31",null,null,null,null,null,null,null,100,{"$f":"IF(SUMPRODUCT((A$14:A450=A450)*(B$14:B450=B450)*(C$14:C450=C450))>1,0,1)","v":1},0,0,0,0,0,"Otros gastos","NO",{"$f":"IFERROR(VLOOKUP(F450,[1]Tipo!$C$12:$C$27,1,FALSE),\"NO\")","v":"NO"},"Funcionamiento","NO"]
[25518,2019,null,"Contratos de prestación de servicios","Selección abreviada","Acuerdo marco de precios ","PAGO LADOINSA LABORES Y DOTACIONES INDUSTRIALES S.A., ORDEN DE COMPRA 28518, SEGÚN RESOLUCIÓN No. 122 DEL 21 DE MARZO DE 2019, SUSCRITA POR LA ALCALDÍA LOCAL DE SUBA.","Funcionamiento","No aplica",{"$f":"IF(ISERROR(VLOOKUP(I451,[1]Eje_Pilar!$C$2:$E$47,2,FALSE)),\" \",VLOOKUP(I451,[1]Eje_Pilar!$C$2:$E$47,2,FALSE))","v":" "},{"$f":"IF(ISERROR(VLOOKUP(I451,[1]Eje_Pilar!$C$2:$E$47,3,FALSE)),\" \",VLOOKUP(I451,[1]Eje_Pilar!$C$2:$E$47,3,FALSE))","v":" "},"3-1-2-02-02-03-0005-002","800242738-7","LADOINSA LABORES DOTACIONES INDUSTRIALES SAS",37127805,null,-7266545,null,null,29861260,29861260,"2019-03-22","2019-03-22","2019-12-31",284,60,null,null,"X",null,null,100,{"$f":"IF(SUMPRODUCT((A$14:A451=A451)*(B$14:B451=B451)*(C$14:C451=C451))>1,0,1)","v":1},0,0,1,0,0,"Contratos de prestación de servicios","Selección abreviada",{"$f":"IFERROR(VLOOKUP(F451,[1]Tipo!$C$12:$C$27,1,FALSE),\"NO\")","v":"Acuerdo marco de precios "},"Funcionamiento","NO"]
[36295,2019,null,"Compraventa de bienes muebles","Selección abreviada","Acuerdo marco de precios ","ADQUIRIR IMPRESORAS MULTIFUNCIONALES E IMPRESORAS PORTATILES PARA LAS SEDES DE LA ALCALDIA LOCAL DE SUBA.","Inversión",45,{"$f":"IF(ISERROR(VLOOKUP(I452,[1]Eje_Pilar!$C$2:$E$47,2,FALSE)),\" \",VLOOKUP(I452,[1]Eje_Pilar!$C$2:$E$47,2,FALSE))","v":"Gobernanza e influencia local, regional e internacional"},{"$f":"IF(ISERROR(VLOOKUP(I452,[1]Eje_Pilar!$C$2:$E$47,3,FALSE)),\" \",VLOOKUP(I452,[1]Eje_Pilar!$C$2:$E$47,3,FALSE))","v":"Eje Transversal 4 Gobierno Legitimo, Fortalecimiento Local y Eficiencia"},"3-3-1-15-07-45-1478-000","830110570-1","NEX COMPUTER SAS",29354822,null,0,1,2248344,31603166,31603164,"2019-03-12","2019-03-12","2019-12-31",294,null,null,null,null,"X",null,99.99999367152013,{"$f":"IF(SUMPRODUCT((A$14:A452=A452)*(B$14:B452=B452)*(C$14:C452=C452))>1,0,1)","v":1},0,0,0,1,0,"Compraventa de bienes muebles","Selección abreviada",{"$f":"IFERROR(VLOOKUP(F452,[1]Tipo!$C$12:$C$27,1,FALSE),\"NO\")","v":"Acuerdo marco de precios "},"Inversión",45]
[36835,2019,null,"Suministro","Selección abreviada","Acuerdo marco de precios ","CONTRATAR EL SUMINISTRO DE PAPEL CARTA Y OFICIO PARA LAS DEPENDENCIAS DE LA ALCALDIA LOCAL DE SUBA, CON EL FIN DE GARANTIZAR EL DESARROLLO DE SUS LABORES ADMINISTRATIVAS Y MISIONALES PARA LA VIGENCIA DE 2019.","Funcionamiento","No aplica",{"$f":"IF(ISERROR(VLOOKUP(I453,[1]Eje_Pilar!$C$2:$E$47,2,FALSE)),\" \",VLOOKUP(I453,[1]Eje_Pilar!$C$2:$E$47,2,FALSE))","v":" "},{"$f":"IF(ISERROR(VLOOKUP(I453,[1]Eje_Pilar!$C$2:$E$47,3,FALSE)),\" \",VLOOKUP(I453,[1]Eje_Pilar!$C$2:$E$47,3,FALSE))","v":" "},"3-1-2-02-01-02-0002-000",830037946,"PANAMERICANA LIBRERIA Y PAPELERIA S A",23180010,null,0,null,null,23180010,23180010,"2019-04-01","2019-04-01","2019-12-31",274,null,null,null,null,"X",null,100,{"$f":"IF(SUMPRODUCT((A$14:A453=A453)*(B$14:B453=B453)*(C$14:C453=C453))>1,0,1)","v":1},0,0,0,1,0,"Suministro","Selección abreviada",{"$f":"IFERROR(VLOOKUP(F453,[1]Tipo!$C$12:$C$27,1,FALSE),\"NO\")","v":"Acuerdo marco de precios "},"Funcionamiento","NO"]
[36890,2019,null,"Suministro","Selección abreviada","Acuerdo marco de precios ","SUMINISTRO DE COMBUSTIBLE - GASOLINA CORRIENTE Y ACPM PARA LOS VEHICULOS LIVIANOS, PESADOS Y MAQUINARIA MENOR DE PROPIEDAD DE LA ALCALDIA LOCAL DE SUBA, EN VIRTUD DEL ACUERDO MARCO DE PRECIOS CCE-715-1-AMP-2018 PARA EL SUMINISTRO DE COMBUSTIBLE.","Funcionamiento","No aplica",{"$f":"IF(ISERROR(VLOOKUP(I454,[1]Eje_Pilar!$C$2:$E$47,2,FALSE)),\" \",VLOOKUP(I454,[1]Eje_Pilar!$C$2:$E$47,2,FALSE))","v":" "},{"$f":"IF(ISERROR(VLOOKUP(I454,[1]Eje_Pilar!$C$2:$E$47,3,FALSE)),\" \",VLOOKUP(I454,[1]Eje_Pilar!$C$2:$E$47,3,FALSE))","v":" "},"3-1-2-02-01-02-0003-000",811009788,"DISTRACOM S.A.",28016198,null,0,null,null,28016198,16033781,"2019-04-03","2019-04-03","2019-12-31",272,null,null,null,"X",null,null,57.230395787465525,{"$f":"IF(SUMPRODUCT((A$14:A454=A454)*(B$14:B454=B454)*(C$14:C454=C454))>1,0,1)","v":1},0,0,1,0,0,"Suministro","Selección abreviada",{"$f":"IFERROR(VLOOKUP(F454,[1]Tipo!$C$12:$C$27,1,FALSE),\"NO\")","v":"Acuerdo marco de precios "},"Funcionamiento","NO"]
[36890,2019,null,"Suministro","Selección abreviada","Acuerdo marco de precios ","SUMINISTRO DE COMBUSTIBLE - GASOLINA CORRIENTE Y ACPM PARA LOS VEHICULOS LIVIANOS, PESADOS Y MAQUINARIA MENOR DE PROPIEDAD DE LA ALCALDIA LOCAL DE SUBA, EN VIRTUD DEL ACUERDO MARCO DE PRECIOS CCE-715-1-AMP-2018 PARA EL SUMINISTRO DE COMBUSTIBLE.","Inversión",18,{"$f":"IF(ISERROR(VLOOKUP(I455,[1]Eje_Pilar!$C$2:$E$47,2,FALSE)),\" \",VLOOKUP(I455,[1]Eje_Pilar!$C$2:$E$47,2,FALSE))","v":"Mejor movilidad para todos"},{"$f":"IF(ISERROR(VLOOKUP(I455,[1]Eje_Pilar!$C$2:$E$47,3,FALSE)),\" \",VLOOKUP(I455,[1]Eje_Pilar!$C$2:$E$47,3,FALSE))","v":"Pilar 2 Democracía Urbana"},"3-3-1-15-02-18-1506-000",811009788,"DISTRACOM S.A.",67471267,null,0,null,null,67471267,31534525,"2019-04-03","2019-04-03","2019-12-31",360,null,null,null,"X",null,null,46.737709846177928,{"$f":"IF(SUMPRODUCT((A$14:A455=A455)*(B$14:B455=B455)*(C$14:C455=C455))>1,0,1)","v":0},0,0,0,0,0,"Suministro","Selección abreviada",{"$f":"IFERROR(VLOOKUP(F455,[1]Tipo!$C$12:$C$27,1,FALSE),\"NO\")","v":"Acuerdo marco de precios "},"Inversión",18]
[37862,2019,null,"Compraventa de bienes muebles","Selección abreviada","Acuerdo marco de precios ","CONTRATAR LA COMPRA DE TONER Y TINTAS BAJO EL ACUERDO MARCO DE PRECIOS POR LA TEVC, PARA LA ALCALDIA LOCAL DE SUBA.","Funcionamiento","No aplica",{"$f":"IF(ISERROR(VLOOKUP(I456,[1]Eje_Pilar!$C$2:$E$47,2,FALSE)),\" \",VLOOKUP(I456,[1]Eje_Pilar!$C$2:$E$47,2,FALSE))","v":" "},{"$f":"IF(ISERROR(VLOOKUP(I456,[1]Eje_Pilar!$C$2:$E$47,3,FALSE)),\" \",VLOOKUP(I456,[1]Eje_Pilar!$C$2:$E$47,3,FALSE))","v":" "},"3-1-2-01-01-01-0002-000","811021363-0","UNIPLES SA",4089372,null,0,null,null,4089372,4089371,"2019-05-16","2019-05-16","2019-12-31",30,null,null,null,null,"X",null,99.999975546367509,{"$f":"IF(SUMPRODUCT((A$14:A456=A456)*(B$14:B456=B456)*(C$14:C456=C456))>1,0,1)","v":1},0,0,0,1,0,"Compraventa de bienes muebles","Selección abreviada",{"$f":"IFERROR(VLOOKUP(F456,[1]Tipo!$C$12:$C$27,1,FALSE),\"NO\")","v":"Acuerdo marco de precios "},"Funcionamiento","NO"]
[37863,2019,null,"Compraventa de bienes muebles","Selección abreviada","Acuerdo marco de precios ","CONTRATAR LA COMPRA DE TONER Y TINTAS BAJO EL ACUERDO MARCO DE PRECIOS POR LA TEVC, PARA LA ALCALDIA LOCAL DE SUBA.","Funcionamiento","No aplica",{"$f":"IF(ISERROR(VLOOKUP(I457,[1]Eje_Pilar!$C$2:$E$47,2,FALSE)),\" \",VLOOKUP(I457,[1]Eje_Pilar!$C$2:$E$47,2,FALSE))","v":" "},{"$f":"IF(ISERROR(VLOOKUP(I457,[1]Eje_Pilar!$C$2:$E$47,3,FALSE)),\" \",VLOOKUP(I457,[1]Eje_Pilar!$C$2:$E$47,3,FALSE))","v":" "},"3-1-2-01-01-01-0002-000","830073623-2","KEY MARKET S.A.S.",2514828,null,0,null,null,2514828,2514827,"2019-05-16","2019-05-16","2019-12-31",30,null,null,null,null,"X",null,99.99996023584913,{"$f":"IF(SUMPRODUCT((A$14:A457=A457)*(B$14:B457=B457)*(C$14:C457=C457))>1,0,1)","v":1},0,0,0,1,0,"Compraventa de bienes muebles","Selección abreviada",{"$f":"IFERROR(VLOOKUP(F457,[1]Tipo!$C$12:$C$27,1,FALSE),\"NO\")","v":"Acuerdo marco de precios "},"Funcionamiento","NO"]
[37864,2019,null,"Arrendamiento de bienes muebles","Selección abreviada","Acuerdo marco de precios ","CONTRATAR LA COMPRA DE TONER Y TINTAS BAJO EL ACUERDO MARCO DE PRECIOS POR LA TEVC, PARA LA ALCALDIA LOCAL DE SUBA.","Funcionamiento","No aplica",{"$f":"IF(ISERROR(VLOOKUP(I458,[1]Eje_Pilar!$C$2:$E$47,2,FALSE)),\" \",VLOOKUP(I458,[1]Eje_Pilar!$C$2:$E$47,2,FALSE))","v":" "},{"$f":"IF(ISERROR(VLOOKUP(I458,[1]Eje_Pilar!$C$2:$E$47,3,FALSE)),\" \",VLOOKUP(I458,[1]Eje_Pilar!$C$2:$E$47,3,FALSE))","v":" "},"3-1-2-01-01-01-0002-000","811021363-0","UNIPLES SA",22366997,null,0,null,null,22366997,22366997,"2019-05-16","2019-05-16","2019-12-31",30,null,null,null,null,"X",null,100,{"$f":"IF(SUMPRODUCT((A$14:A458=A458)*(B$14:B458=B458)*(C$14:C458=C458))>1,0,1)","v":1},0,0,0,1,0,"Arrendamiento de bienes muebles","Selección abreviada",{"$f":"IFERROR(VLOOKUP(F458,[1]Tipo!$C$12:$C$27,1,FALSE),\"NO\")","v":"Acuerdo marco de precios "},"Funcionamiento","NO"]
[37865,2019,null,"Compraventa de bienes muebles","Selección abreviada","Acuerdo marco de precios ","CONTRATAR LA COMPRA DE TONER Y TINTAS BAJO EL ACUERDO MARCO DE PRECIOS POR LA TEVC, PARA LA ALCALDIA LOCAL DE SUBA.","Funcionamiento","No aplica",{"$f":"IF(ISERROR(VLOOKUP(I459,[1]Eje_Pilar!$C$2:$E$47,2,FALSE)),\" \",VLOOKUP(I459,[1]Eje_Pilar!$C$2:$E$47,2,FALSE))","v":" "},{"$f":"IF(ISERROR(VLOOKUP(I459,[1]Eje_Pilar!$C$2:$E$47,3,FALSE)),\" \",VLOOKUP(I459,[1]Eje_Pilar!$C$2:$E$47,3,FALSE))","v":" "},"3-1-2-01-01-01-0002-000","900630034-8","PROINTECH COLOMBIA SAS",53841110,null,0,null,null,53841110,38457940,"2019-05-16","2019-05-16","2019-12-31",30,null,null,null,null,"X",null,71.428579388500722,{"$f":"IF(SUMPRODUCT((A$14:A459=A459)*(B$14:B459=B459)*(C$14:C459=C459))>1,0,1)","v":1},0,0,0,1,0,"Compraventa de bienes muebles","Selección abreviada",{"$f":"IFERROR(VLOOKUP(F459,[1]Tipo!$C$12:$C$27,1,FALSE),\"NO\")","v":"Acuerdo marco de precios "},"Funcionamiento","NO"]
[37870,2019,null,"Contratos de prestación de servicios","Selección abreviada","Acuerdo marco de precios ","CONTRATAR LA CONECTIVIDAD DE INTERNET PARA LAS SEDES DE LA ALCALDIA LOCAL DE SUBA.","Inversión",45,{"$f":"IF(ISERROR(VLOOKUP(I460,[1]Eje_Pilar!$C$2:$E$47,2,FALSE)),\" \",VLOOKUP(I460,[1]Eje_Pilar!$C$2:$E$47,2,FALSE))","v":"Gobernanza e influencia local, regional e internacional"},{"$f":"IF(ISERROR(VLOOKUP(I460,[1]Eje_Pilar!$C$2:$E$47,3,FALSE)),\" \",VLOOKUP(I460,[1]Eje_Pilar!$C$2:$E$47,3,FALSE))","v":"Eje Transversal 4 Gobierno Legitimo, Fortalecimiento Local y Eficiencia"},"3-3-1-15-07-45-1478-000","899999115-8","EMPRESA DE TELECOMUNICACIONES DE BOGOTA SA ESP",6808766,null,0,null,null,6808766,0,"2019-05-15","2019-05-15","2019-12-31",30,null,null,null,"X",null,null,0,{"$f":"IF(SUMPRODUCT((A$14:A460=A460)*(B$14:B460=B460)*(C$14:C460=C460))>1,0,1)","v":1},0,0,1,0,0,"Contratos de prestación de servicios","Selección abreviada",{"$f":"IFERROR(VLOOKUP(F460,[1]Tipo!$C$12:$C$27,1,FALSE),\"NO\")","v":"Acuerdo marco de precios "},"Inversión",45]
[38298,2019,null,"Compraventa de bienes muebles","Selección abreviada","Acuerdo marco de precios ","CONTRATAR LA COMPRA DE TONER Y TINTAS BAJO EL ACUERDO MARCO DE PRECIOS POR LA TEVC, PARA LA ALCALDIA LOCAL DE SUBA.","Funcionamiento","No aplica",{"$f":"IF(ISERROR(VLOOKUP(I461,[1]Eje_Pilar!$C$2:$E$47,2,FALSE)),\" \",VLOOKUP(I461,[1]Eje_Pilar!$C$2:$E$47,2,FALSE))","v":" "},{"$f":"IF(ISERROR(VLOOKUP(I461,[1]Eje_Pilar!$C$2:$E$47,3,FALSE)),\" \",VLOOKUP(I461,[1]Eje_Pilar!$C$2:$E$47,3,FALSE))","v":" "},"3-1-2-01-01-01-0002-000",900251584,"SOLUCIONES DE IMPRESION CORPORATIVA SAS",1359456,null,0,null,null,1359456,1359456,"2019-05-30","2019-05-30","2019-12-31",30,null,null,null,null,"X",null,100,{"$f":"IF(SUMPRODUCT((A$14:A461=A461)*(B$14:B461=B461)*(C$14:C461=C461))>1,0,1)","v":1},0,0,0,1,0,"Compraventa de bienes muebles","Selección abreviada",{"$f":"IFERROR(VLOOKUP(F461,[1]Tipo!$C$12:$C$27,1,FALSE),\"NO\")","v":"Acuerdo marco de precios "},"Funcionamiento","NO"]
[38299,2019,null,"Compraventa de bienes muebles","Selección abreviada","Acuerdo marco de precios ","CONTRATAR LA COMPRA DE TONER Y TINTAS BAJO EL ACUERDO MARCO DE PRECIOS POR LA TEVC, PARA LA ALCALDIA LOCAL DE SUBA.","Funcionamiento","No aplica",{"$f":"IF(ISERROR(VLOOKUP(I462,[1]Eje_Pilar!$C$2:$E$47,2,FALSE)),\" \",VLOOKUP(I462,[1]Eje_Pilar!$C$2:$E$47,2,FALSE))","v":" "},{"$f":"IF(ISERROR(VLOOKUP(I462,[1]Eje_Pilar!$C$2:$E$47,3,FALSE)),\" \",VLOOKUP(I462,[1]Eje_Pilar!$C$2:$E$47,3,FALSE))","v":" "},"3-1-2-01-01-01-0002-000",900251584,"SOLUCIONES DE IMPRESION CORPORATIVA SAS",3007949,null,0,null,null,3007949,3007948,"2019-05-30","2019-05-30","2019-12-31",30,null,null,null,null,"X",null,99.999966754755491,{"$f":"IF(SUMPRODUCT((A$14:A462=A462)*(B$14:B462=B462)*(C$14:C462=C462))>1,0,1)","v":1},0,0,0,1,0,"Compraventa de bienes muebles","Selección abreviada",{"$f":"IFERROR(VLOOKUP(F462,[1]Tipo!$C$12:$C$27,1,FALSE),\"NO\")","v":"Acuerdo marco de precios "},"Funcionamiento","NO"]
[38459,2019,null,"Compraventa de bienes muebles","Selección abreviada","Acuerdo marco de precios ","CONTRATAR LA ADQUISICION DE LICENCIAS DE OFIMATICA Y SISTEMAS OPERATIVO EN LA ULTIMA VERSION BAJO EL ACUERDO MARCO DE PRECIOS POR LA TVEC, PARA LA ALCALDIA LOCAL DE SUBA.","Inversión",45,{"$f":"IF(ISERROR(VLOOKUP(I463,[1]Eje_Pilar!$C$2:$E$47,2,FALSE)),\" \",VLOOKUP(I463,[1]Eje_Pilar!$C$2:$E$47,2,FALSE))","v":"Gobernanza e influencia local, regional e internacional"},{"$f":"IF(ISERROR(VLOOKUP(I463,[1]Eje_Pilar!$C$2:$E$47,3,FALSE)),\" \",VLOOKUP(I463,[1]Eje_Pilar!$C$2:$E$47,3,FALSE))","v":"Eje Transversal 4 Gobierno Legitimo, Fortalecimiento Local y Eficiencia"},"3-3-1-15-07-45-1478-000","800058607-2","CONTROLES EMPRESARIALES S A S",244411685,null,0,null,null,244411685,244411684,"2019-06-07","2019-06-07","2019-12-31",30,null,null,null,null,"X",null,{"$f":"(IF(ISERROR(U463/T463),\"-\",(U463/T463)))*100","v":99.999999590854259},{"$f":"IF(SUMPRODUCT((A$14:A463=A463)*(B$14:B463=B463)*(C$14:C463=C463))>1,0,1)","v":1},{"$f":"IF(AND(AA463=\"X\",AG463=1 ),1,0)","v":0},{"$f":"IF(AND(AB463=\"X\",AG463=1 ),1,0)","v":0},{"$f":"IF(AND(AC463=\"X\",AG463=1 ),1,0)","v":0},{"$f":"IF(AND(AD463=\"X\",AG463=1 ),1,0)","v":1},{"$f":"IF(AND(AE463=\"X\",AG463=1 ),1,0)","v":0},"Compraventa de bienes muebles","Selección abreviada",{"$f":"IFERROR(VLOOKUP(F463,[1]Tipo!$C$12:$C$27,1,FALSE),\"NO\")","v":"Acuerdo marco de precios "},"Inversión",45]
[39046,2019,null,"Compraventa de bienes muebles","Selección abreviada","Acuerdo marco de precios ","ADQUISICION DE MOTOCICLETAS Y VEHICULOS PARA LA LOCALIDAD DE SUBA EN VIRTUD DEL ACUERDO MARCO DE PRECIOS CCE-416-1-AMP-2016 Y EN EL ACUERDO MARCO DE PRECIOS CCE-312-1-AMP-2015, PARA FORTALECER LAS ACCIONES DE SEGURIDAD EN LAS LOCALIDADES DE BOGOTA DISTRITO CAPITAL.","Inversión",19,{"$f":"IF(ISERROR(VLOOKUP(I464,[1]Eje_Pilar!$C$2:$E$47,2,FALSE)),\" \",VLOOKUP(I464,[1]Eje_Pilar!$C$2:$E$47,2,FALSE))","v":"Seguridad y convivencia para todos"},{"$f":"IF(ISERROR(VLOOKUP(I464,[1]Eje_Pilar!$C$2:$E$47,3,FALSE)),\" \",VLOOKUP(I464,[1]Eje_Pilar!$C$2:$E$47,3,FALSE))","v":"Pilar 3 Construcción de Comunidad y Cultura Ciudadana"},"3-3-1-15-03-19-1469-000",890301886,"FABRICA NACIONAL DE AUTOPARTES S.A. FANALCA S.A.",818436300,null,0,null,null,818436300,818436300,"2019-07-05","2019-07-05","2019-12-31",90,null,null,null,null,"X",null,100,{"$f":"IF(SUMPRODUCT((A$14:A464=A464)*(B$14:B464=B464)*(C$14:C464=C464))>1,0,1)","v":1},0,0,0,1,0,"Compraventa de bienes muebles","Selección abreviada",{"$f":"IFERROR(VLOOKUP(F464,[1]Tipo!$C$12:$C$27,1,FALSE),\"NO\")","v":"Acuerdo marco de precios "},"Inversión",19]
[39132,2019,null,"Contratos de prestación de servicios","Selección abreviada","Acuerdo marco de precios ","LA PRESTACION DEL SERVICIO INTEGRAL DE ASEO Y CAFETERIA AL AMPARO DEL ACUERDO MARCO DE PRECIOS QUE INCLUYE PERSONAL, INSUMOS Y MAQUINARIA PARA SUS SEDES: SEDE PRINCIPAL DE LA ALCALDIA LOCAL DE SUBA, CASA DE LA PARTICIPACION, CASA DE LAS VILLAS, CASA DEL DEPORTE E INSPECCIONES DE POLICIA Y DONDE LA ENTIDAD ASI LO REQUIERA.PROCESO SIPSE 38221.","Funcionamiento","No aplica",{"$f":"IF(ISERROR(VLOOKUP(I465,[1]Eje_Pilar!$C$2:$E$47,2,FALSE)),\" \",VLOOKUP(I465,[1]Eje_Pilar!$C$2:$E$47,2,FALSE))","v":" "},{"$f":"IF(ISERROR(VLOOKUP(I465,[1]Eje_Pilar!$C$2:$E$47,3,FALSE)),\" \",VLOOKUP(I465,[1]Eje_Pilar!$C$2:$E$47,3,FALSE))","v":" "},"3-1-2-02-02-03-0005-002","800242738-7","LADOINSA LABORES DOTACIONES INDUSTRIALES SAS",144807815,null,0,null,null,144807815,94819471,"2019-07-08","2019-07-08","2019-12-31",176,30,null,null,"X",null,null,65.479526087732211,{"$f":"IF(SUMPRODUCT((A$14:A465=A465)*(B$14:B465=B465)*(C$14:C465=C465))>1,0,1)","v":1},0,0,1,0,0,"Contratos de prestación de servicios","Selección abreviada",{"$f":"IFERROR(VLOOKUP(F465,[1]Tipo!$C$12:$C$27,1,FALSE),\"NO\")","v":"Acuerdo marco de precios "},"Funcionamiento","NO"]
[39183,2019,null,"Contratos de prestación de servicios","Selección abreviada","Acuerdo marco de precios ","CONTRATAR EL SERVICIO DE DISTRIBUCION BAJO LA MODALIDAD DE MENSAJERIA EXPRESA NACIONAL DE LOS DOCUMENTOS GENERADOS EN LAS DIFERENTES DEPENDENCIAS DE LA ALCALDIA LOCAL DE SUBA, AL AMPARO DEL ACUERDO MARCO DE PRECIOS DE COLOMBIA COMPRA EFICIENTE CCE-441-1-AMP-2016 Y SUS MODIFICATORIOS.","Funcionamiento","No aplica",{"$f":"IF(ISERROR(VLOOKUP(I466,[1]Eje_Pilar!$C$2:$E$47,2,FALSE)),\" \",VLOOKUP(I466,[1]Eje_Pilar!$C$2:$E$47,2,FALSE))","v":" "},{"$f":"IF(ISERROR(VLOOKUP(I466,[1]Eje_Pilar!$C$2:$E$47,3,FALSE)),\" \",VLOOKUP(I466,[1]Eje_Pilar!$C$2:$E$47,3,FALSE))","v":" "},"3-1-2-02-02-01-0006-001",9000467286,"URBANO EXPRESS LOGISTICA Y MERCADEO S.A.S",15454800,null,0,null,null,15454800,0,"2019-07-10","2019-07-10","2019-12-31",270,null,null,null,"X",null,null,0,{"$f":"IF(SUMPRODUCT((A$14:A466=A466)*(B$14:B466=B466)*(C$14:C466=C466))>1,0,1)","v":1},0,0,1,0,0,"Contratos de prestación de servicios","Selección abreviada",{"$f":"IFERROR(VLOOKUP(F466,[1]Tipo!$C$12:$C$27,1,FALSE),\"NO\")","v":"Acuerdo marco de precios "},"Funcionamiento","NO"]
[44108,2019,null,"Compraventa de bienes muebles","Selección abreviada","Bolsas de productos","ADQUIRIR SILLAS PLASTICAS SIN BRAZOS PARA EL FORTALECIMINETO DE LAS JUNTAS DE ACCION COMUNAL DE LA LOCALIDAD DE SUBA.","Inversión",45,{"$f":"IF(ISERROR(VLOOKUP(I467,[1]Eje_Pilar!$C$2:$E$47,2,FALSE)),\" \",VLOOKUP(I467,[1]Eje_Pilar!$C$2:$E$47,2,FALSE))","v":"Gobernanza e influencia local, regional e internacional"},{"$f":"IF(ISERROR(VLOOKUP(I467,[1]Eje_Pilar!$C$2:$E$47,3,FALSE)),\" \",VLOOKUP(I467,[1]Eje_Pilar!$C$2:$E$47,3,FALSE))","v":"Eje Transversal 4 Gobierno Legitimo, Fortalecimiento Local y Eficiencia"},"3-3-1-15-07-45-1483-000",830037946,"PANAMERICANA LIBRERIA Y PAPELERIA S A",23133600,null,0,null,null,23133600,0,"2019-12-27","2019-12-27","2019-12-31",30,null,null,null,null,"X",null,0,{"$f":"IF(SUMPRODUCT((A$14:A467=A467)*(B$14:B467=B467)*(C$14:C467=C467))>1,0,1)","v":1},0,0,0,1,0,{"$f":"IFERROR(VLOOKUP(D467,tipo,1,FALSE),\"NO\")","v":"Compraventa de bienes muebles"},{"$f":"IFERROR(VLOOKUP(E467,modal,1,FALSE),\"NO\")","v":"Selección abreviada"},{"$f":"IFERROR(VLOOKUP(F467,[1]Tipo!$C$12:$C$27,1,FALSE),\"NO\")","v":"Bolsas de productos"},{"$f":"IFERROR(VLOOKUP(H467,afectacion,1,FALSE),\"NO\")","v":"Inversión"},{"$f":"IFERROR(VLOOKUP(I467,programa,1,FALSE),\"NO\")","v":45}]
[44109,2019,null,"Compraventa de bienes muebles","Selección abreviada","Bolsas de productos","EL CONTRATO QUE SE PRETENDE CELEBRAR, TENDRA POR OBJETO: \"ADQUIRIR IMPRESORAS PARA FORTALECER LAS JUNTAS DE ACCION COMUNAL DE LA LOCALIDAD DE SUBA\".","Inversión",45,{"$f":"IF(ISERROR(VLOOKUP(I468,[1]Eje_Pilar!$C$2:$E$47,2,FALSE)),\" \",VLOOKUP(I468,[1]Eje_Pilar!$C$2:$E$47,2,FALSE))","v":"Gobernanza e influencia local, regional e internacional"},{"$f":"IF(ISERROR(VLOOKUP(I468,[1]Eje_Pilar!$C$2:$E$47,3,FALSE)),\" \",VLOOKUP(I468,[1]Eje_Pilar!$C$2:$E$47,3,FALSE))","v":"Eje Transversal 4 Gobierno Legitimo, Fortalecimiento Local y Eficiencia"},"3-3-1-15-07-45-1483-000",830037946,"PANAMERICANA LIBRERIA Y PAPELERIA S A",8817900,null,0,null,null,8817900,0,"2019-12-30","2019-12-30","2019-12-31",30,null,null,null,null,"X",null,0,{"$f":"IF(SUMPRODUCT((A$14:A468=A468)*(B$14:B468=B468)*(C$14:C468=C468))>1,0,1)","v":1},0,0,0,1,0,"Compraventa de bienes muebles","Selección abreviada",{"$f":"IFERROR(VLOOKUP(F468,[1]Tipo!$C$12:$C$27,1,FALSE),\"NO\")","v":"Bolsas de productos"},"Inversión",45]
[44141,2019,null,"Compraventa de bienes muebles","Selección abreviada","Bolsas de productos","ADQUIRIR CABINAS DE SONIDO Y PARLANTES PARA EL FORTALECIMIENTO DE LAS JUNTAS DE ACCION COMUNAL DE LA LOCALIDAD DE SUBA.","Inversión",45,{"$f":"IF(ISERROR(VLOOKUP(I469,[1]Eje_Pilar!$C$2:$E$47,2,FALSE)),\" \",VLOOKUP(I469,[1]Eje_Pilar!$C$2:$E$47,2,FALSE))","v":"Gobernanza e influencia local, regional e internacional"},{"$f":"IF(ISERROR(VLOOKUP(I469,[1]Eje_Pilar!$C$2:$E$47,3,FALSE)),\" \",VLOOKUP(I469,[1]Eje_Pilar!$C$2:$E$47,3,FALSE))","v":"Eje Transversal 4 Gobierno Legitimo, Fortalecimiento Local y Eficiencia"},"3-3-1-15-07-45-1483-000","900017447-8","FALABELLA DE COLOMBIA S A",6102000,null,0,null,null,6102000,0,"2019-12-30","2019-12-30","2019-12-31",30,null,null,null,null,"X",null,0,{"$f":"IF(SUMPRODUCT((A$14:A469=A469)*(B$14:B469=B469)*(C$14:C469=C469))>1,0,1)","v":1},0,0,0,1,0,"Compraventa de bienes muebles","Selección abreviada",{"$f":"IFERROR(VLOOKUP(F469,[1]Tipo!$C$12:$C$27,1,FALSE),\"NO\")","v":"Bolsas de productos"},"Inversión",45]
[44151,2019,null,"Compraventa de bienes muebles","Selección abreviada","Acuerdo marco de precios ","ADQUISICION DE VEHICULOS PARA EL FONDO DE DESARROLLO LOCAL DE SUBA EN VIRTUD DEL ACUERDO MARCO DE PRECIOS CCE-312-1-AMP-2015, PARA FORTALECER LAS ACCIONES DE SEGURIDAD EN LAS LOCALIDADES DE BOGOTA DISTRITO CAPITAL.","Inversión",19,{"$f":"IF(ISERROR(VLOOKUP(I470,[1]Eje_Pilar!$C$2:$E$47,2,FALSE)),\" \",VLOOKUP(I470,[1]Eje_Pilar!$C$2:$E$47,2,FALSE))","v":"Seguridad y convivencia para todos"},{"$f":"IF(ISERROR(VLOOKUP(I470,[1]Eje_Pilar!$C$2:$E$47,3,FALSE)),\" \",VLOOKUP(I470,[1]Eje_Pilar!$C$2:$E$47,3,FALSE))","v":"Pilar 3 Construcción de Comunidad y Cultura Ciudadana"},"3-3-1-15-03-19-1469-000",860001307,"DISTRIBUIDORA NISSAN S.A.",766270938,null,0,null,null,766270938,null,"2019-12-27","2019-12-27","2019-12-31",180,null,null,null,"X",null,null,0,{"$f":"IF(SUMPRODUCT((A$14:A470=A470)*(B$14:B470=B470)*(C$14:C470=C470))>1,0,1)","v":1},0,0,1,0,0,"Compraventa de bienes muebles","Selección abreviada",{"$f":"IFERROR(VLOOKUP(F470,[1]Tipo!$C$12:$C$27,1,FALSE),\"NO\")","v":"Acuerdo marco de precios "},"Inversión",19]
[44152,2019,null,"Compraventa de bienes muebles","Selección abreviada","Acuerdo marco de precios ","ADQUISICION DE VEHICULOS PARA EL FONDO DE DESARROLLO LOCAL DE SUBA EN VIRTUD DEL ACUERDO MARCO DE PRECIOS CCE-312-1-AMP-2015, PARA FORTALECER LAS ACCIONES DE SEGURIDAD EN LAS LOCALIDADES DE BOGOTA DISTRITO CAPITAL.","Inversión",19,{"$f":"IF(ISERROR(VLOOKUP(I471,[1]Eje_Pilar!$C$2:$E$47,2,FALSE)),\" \",VLOOKUP(I471,[1]Eje_Pilar!$C$2:$E$47,2,FALSE))","v":"Seguridad y convivencia para todos"},{"$f":"IF(ISERROR(VLOOKUP(I471,[1]Eje_Pilar!$C$2:$E$47,3,FALSE)),\" \",VLOOKUP(I471,[1]Eje_Pilar!$C$2:$E$47,3,FALSE))","v":"Pilar 3 Construcción de Comunidad y Cultura Ciudadana"},"3-3-1-15-03-19-1469-000",860025792,"SOCIEDAD DE FABRICACION DE AUTOMOTORES S.A.",592763150,null,0,null,null,592763150,0,"2019-12-27","2019-12-27","2019-12-31",180,null,null,null,"X",null,null,0,{"$f":"IF(SUMPRODUCT((A$14:A471=A471)*(B$14:B471=B471)*(C$14:C471=C471))>1,0,1)","v":1},0,0,1,0,0,"Compraventa de bienes muebles","Selección abreviada",{"$f":"IFERROR(VLOOKUP(F471,[1]Tipo!$C$12:$C$27,1,FALSE),\"NO\")","v":"Acuerdo marco de precios "},"Inversión",19]
[1072712,2019,"CO1.PCCNTR.1072712","Compraventa de bienes muebles","Selección abreviada","Acuerdo marco de precios ","ADQUISICIÓN DE COMPUTADORES CON DESTINO A LOS COLEGIOS DEL DISTRITO CAPITAL NIVEL CENTRAL Y LOCAL, CONFORME A LAS NECESIDADES EVIDENCIADAS POR LA SECCRETARÍA DE EDUCACIÓN DEL DISTRITO, LA CUALES FUERON CONCERTADAS Y ACEPTADAS POR LOS FONDOS DE DESARROLLO LOCAL PARTICIPANTES EN EL CONVENIO INTERADMINISTRATIVO DE COFINANCIACIÓN No. 1999 DE 2019.","Inversión",7,{"$f":"IF(ISERROR(VLOOKUP(I472,[1]Eje_Pilar!$C$2:$E$47,2,FALSE)),\" \",VLOOKUP(I472,[1]Eje_Pilar!$C$2:$E$47,2,FALSE))","v":"Inclusión educativa para la equidad"},{"$f":"IF(ISERROR(VLOOKUP(I472,[1]Eje_Pilar!$C$2:$E$47,3,FALSE)),\" \",VLOOKUP(I472,[1]Eje_Pilar!$C$2:$E$47,3,FALSE))","v":"Pilar 1 Igualdad de Calidad de Vida"},"3-3-1-15-01-07-1457-000","830110570-1","NEX COMPUTER SAS",600000000,null,0,null,null,600000000,0,"2019-09-03","2019-09-03","2019-12-31",119,null,null,null,null,"X",null,0,{"$f":"IF(SUMPRODUCT((A$14:A472=A472)*(B$14:B472=B472)*(C$14:C472=C472))>1,0,1)","v":1},0,0,0,1,0,"Compraventa de bienes muebles","Selección abreviada",{"$f":"IFERROR(VLOOKUP(F472,[1]Tipo!$C$12:$C$27,1,FALSE),\"NO\")","v":"Acuerdo marco de precios "},"Inversión",7]
[null,2019,11,"Otros gastos",null,null,"PAGO DEL SERVICIO PUBLICO DE ASEO VIGENCIA 2019, DE LOS INMUEBLES A CARGO DEL FDL SUBA.","Funcionamiento","No aplica",{"$f":"IF(ISERROR(VLOOKUP(I473,[1]Eje_Pilar!$C$2:$E$47,2,FALSE)),\" \",VLOOKUP(I473,[1]Eje_Pilar!$C$2:$E$47,2,FALSE))","v":" "},{"$f":"IF(ISERROR(VLOOKUP(I473,[1]Eje_Pilar!$C$2:$E$47,3,FALSE)),\" \",VLOOKUP(I473,[1]Eje_Pilar!$C$2:$E$47,3,FALSE))","v":" "},"3-1-2-02-02-04-0001-003",null,"CODENSA S. A. ESP",110258,null,0,null,null,110258,110258,"2019-08-02","2019-08-02","2019-12-31",null,null,null,null,null,null,null,100,{"$f":"IF(SUMPRODUCT((A$14:A473=A473)*(B$14:B473=B473)*(C$14:C473=C473))>1,0,1)","v":1},0,0,0,0,0,"Otros gastos","NO",{"$f":"IFERROR(VLOOKUP(F473,[1]Tipo!$C$12:$C$27,1,FALSE),\"NO\")","v":"NO"},"Funcionamiento","NO"]
[null,2019,12,"Otros gastos",null,null,"PAGO DEL SERVICIO PUBLICO DE ASEO VIGENCIA 2019, DE LOS INMUEBLES A CARGO DEL FDL SUBA.","Funcionamiento","No aplica",{"$f":"IF(ISERROR(VLOOKUP(I474,[1]Eje_Pilar!$C$2:$E$47,2,FALSE)),\" \",VLOOKUP(I474,[1]Eje_Pilar!$C$2:$E$47,2,FALSE))","v":" "},{"$f":"IF(ISERROR(VLOOKUP(I474,[1]Eje_Pilar!$C$2:$E$47,3,FALSE)),\" \",VLOOKUP(I474,[1]Eje_Pilar!$C$2:$E$47,3,FALSE))","v":" "},"3-1-2-02-02-04-0001-003",null,"CODENSA S. A. ESP",53720,null,0,null,null,53720,53720,"2019-08-05","2019-08-05","2019-12-31",null,null,null,null,null,null,null,100,{"$f":"IF(SUMPRODUCT((A$14:A474=A474)*(B$14:B474=B474)*(C$14:C474=C474))>1,0,1)","v":1},0,0,0,0,0,"Otros gastos","NO",{"$f":"IFERROR(VLOOKUP(F474,[1]Tipo!$C$12:$C$27,1,FALSE),\"NO\")","v":"NO"},"Funcionamiento","NO"]
[null,2019,13,"Otros gastos",null,null,"PAGO DEL SERVICIO PUBLICO DE ASEO VIGENCIA 2019, DE LOS INMUEBLES A CARGO DEL FDL SUBA.","Funcionamiento","No aplica",{"$f":"IF(ISERROR(VLOOKUP(I475,[1]Eje_Pilar!$C$2:$E$47,2,FALSE)),\" \",VLOOKUP(I475,[1]Eje_Pilar!$C$2:$E$47,2,FALSE))","v":" "},{"$f":"IF(ISERROR(VLOOKUP(I475,[1]Eje_Pilar!$C$2:$E$47,3,FALSE)),\" \",VLOOKUP(I475,[1]Eje_Pilar!$C$2:$E$47,3,FALSE))","v":" "},"3-1-2-02-02-04-0001-003",null,"CODENSA S. A. ESP",71950,null,0,null,null,71950,71950,"2019-10-04","2019-10-04","2019-12-31",null,null,null,null,null,null,null,100,{"$f":"IF(SUMPRODUCT((A$14:A475=A475)*(B$14:B475=B475)*(C$14:C475=C475))>1,0,1)","v":1},0,0,0,0,0,"Otros gastos","NO",{"$f":"IFERROR(VLOOKUP(F475,[1]Tipo!$C$12:$C$27,1,FALSE),\"NO\")","v":"NO"},"Funcionamiento","NO"]
[null,2019,14,"Otros gastos",null,null,"PAGO DEL SERVICIO PUBLICO DE ASEO VIGENCIA 2019, DE LOS INMUEBLES A CARGO DEL FDL SUBA.","Funcionamiento","No aplica",{"$f":"IF(ISERROR(VLOOKUP(I476,[1]Eje_Pilar!$C$2:$E$47,2,FALSE)),\" \",VLOOKUP(I476,[1]Eje_Pilar!$C$2:$E$47,2,FALSE))","v":" "},{"$f":"IF(ISERROR(VLOOKUP(I476,[1]Eje_Pilar!$C$2:$E$47,3,FALSE)),\" \",VLOOKUP(I476,[1]Eje_Pilar!$C$2:$E$47,3,FALSE))","v":" "},"3-1-2-02-02-04-0001-003",null,"AREA LIMPIA DISTRITO CAPITAL S.A.S. E.S.P.",95790,null,0,null,null,95790,95790,"2019-09-03","2019-09-03","2019-12-31",null,null,null,null,null,null,null,100,{"$f":"IF(SUMPRODUCT((A$14:A476=A476)*(B$14:B476=B476)*(C$14:C476=C476))>1,0,1)","v":1},0,0,0,0,0,"Otros gastos","NO",{"$f":"IFERROR(VLOOKUP(F476,[1]Tipo!$C$12:$C$27,1,FALSE),\"NO\")","v":"NO"},"Funcionamiento","NO"]
[null,2019,15,"Otros gastos",null,null,"PAGO DEL SERVICIO PUBLICO DE ASEO VIGENCIA 2019, DE LOS INMUEBLES A CARGO DEL FDL SUBA.","Funcionamiento","No aplica",{"$f":"IF(ISERROR(VLOOKUP(I477,[1]Eje_Pilar!$C$2:$E$47,2,FALSE)),\" \",VLOOKUP(I477,[1]Eje_Pilar!$C$2:$E$47,2,FALSE))","v":" "},{"$f":"IF(ISERROR(VLOOKUP(I477,[1]Eje_Pilar!$C$2:$E$47,3,FALSE)),\" \",VLOOKUP(I477,[1]Eje_Pilar!$C$2:$E$47,3,FALSE))","v":" "},"3-1-2-02-02-04-0001-003",null,"AREA LIMPIA DISTRITO CAPITAL S.A.S. E.S.P.",211330,null,0,null,null,211330,211330,"2019-11-07","2019-11-07","2019-12-31",null,null,null,null,null,null,null,100,{"$f":"IF(SUMPRODUCT((A$14:A477=A477)*(B$14:B477=B477)*(C$14:C477=C477))>1,0,1)","v":1},0,0,0,0,0,"Otros gastos","NO",{"$f":"IFERROR(VLOOKUP(F477,[1]Tipo!$C$12:$C$27,1,FALSE),\"NO\")","v":"NO"},"Funcionamiento","NO"]
[null,2019,16,"Otros gastos",null,null,"PAGO DEL SERVICIO PUBLICO DE ASEO VIGENCIA 2019, DE LOS INMUEBLES A CARGO DEL FDL SUBA.","Funcionamiento","No aplica",{"$f":"IF(ISERROR(VLOOKUP(I478,[1]Eje_Pilar!$C$2:$E$47,2,FALSE)),\" \",VLOOKUP(I478,[1]Eje_Pilar!$C$2:$E$47,2,FALSE))","v":" "},{"$f":"IF(ISERROR(VLOOKUP(I478,[1]Eje_Pilar!$C$2:$E$47,3,FALSE)),\" \",VLOOKUP(I478,[1]Eje_Pilar!$C$2:$E$47,3,FALSE))","v":" "},"3-1-2-02-02-04-0001-003",null,"AREA LIMPIA DISTRITO CAPITAL S.A.S. E.S.P.",104950,null,0,null,null,104950,104950,"2019-12-09","2019-12-09","2019-12-31",null,null,null,null,null,null,null,100,{"$f":"IF(SUMPRODUCT((A$14:A478=A478)*(B$14:B478=B478)*(C$14:C478=C478))>1,0,1)","v":1},0,0,0,0,0,"Otros gastos","NO",{"$f":"IFERROR(VLOOKUP(F478,[1]Tipo!$C$12:$C$27,1,FALSE),\"NO\")","v":"NO"},"Funcionamiento","NO"]
[null,2019,17,"Otros gastos",null,null,"PAGO DEL SERVICIO PUBLICO DE ASEO VIGENCIA 2019, DE LOS INMUEBLES A CARGO DEL FDL SUBA.","Funcionamiento","No aplica",{"$f":"IF(ISERROR(VLOOKUP(I479,[1]Eje_Pilar!$C$2:$E$47,2,FALSE)),\" \",VLOOKUP(I479,[1]Eje_Pilar!$C$2:$E$47,2,FALSE))","v":" "},{"$f":"IF(ISERROR(VLOOKUP(I479,[1]Eje_Pilar!$C$2:$E$47,3,FALSE)),\" \",VLOOKUP(I479,[1]Eje_Pilar!$C$2:$E$47,3,FALSE))","v":" "},"3-1-2-02-02-04-0001-003",null,"AREA LIMPIA DISTRITO CAPITAL S.A.S. E.S.P.",660370,null,0,null,null,660370,660370,"2019-10-22","2019-10-22","2019-12-31",null,null,null,null,null,null,null,100,{"$f":"IF(SUMPRODUCT((A$14:A479=A479)*(B$14:B479=B479)*(C$14:C479=C479))>1,0,1)","v":1},0,0,0,0,0,"Otros gastos","NO",{"$f":"IFERROR(VLOOKUP(F479,[1]Tipo!$C$12:$C$27,1,FALSE),\"NO\")","v":"NO"},"Funcionamiento","NO"]
[null,2019,18,"Otros gastos",null,null,"PAGO DEL SERVICIO PUBLICO DE ASEO VIGENCIA 2019, DE LOS INMUEBLES A CARGO DEL FDL SUBA.","Funcionamiento","No aplica",{"$f":"IF(ISERROR(VLOOKUP(I480,[1]Eje_Pilar!$C$2:$E$47,2,FALSE)),\" \",VLOOKUP(I480,[1]Eje_Pilar!$C$2:$E$47,2,FALSE))","v":" "},{"$f":"IF(ISERROR(VLOOKUP(I480,[1]Eje_Pilar!$C$2:$E$47,3,FALSE)),\" \",VLOOKUP(I480,[1]Eje_Pilar!$C$2:$E$47,3,FALSE))","v":" "},"3-1-2-02-02-04-0001-003",null,"AREA LIMPIA DISTRITO CAPITAL S.A.S. E.S.P.",716200,null,0,null,null,716200,716200,"2019-11-01","2019-11-01","2019-12-31",null,null,null,null,null,null,null,100,{"$f":"IF(SUMPRODUCT((A$14:A480=A480)*(B$14:B480=B480)*(C$14:C480=C480))>1,0,1)","v":1},0,0,0,0,0,"Otros gastos","NO",{"$f":"IFERROR(VLOOKUP(F480,[1]Tipo!$C$12:$C$27,1,FALSE),\"NO\")","v":"NO"},"Funcionamiento","NO"]
[null,2019,19,"Otros gastos",null,null,"OBJETO: PAGO DEL SERVICIO PUBLICO DE ASEO VIGENCIA 2019, DE LOS INMUEBLES A CARGO DEL FDL SUBA. PREDIO UBICADO EN LA CALLE 147 NO. 90 - 62","Funcionamiento","No aplica",{"$f":"IF(ISERROR(VLOOKUP(I481,[1]Eje_Pilar!$C$2:$E$47,2,FALSE)),\" \",VLOOKUP(I481,[1]Eje_Pilar!$C$2:$E$47,2,FALSE))","v":" "},{"$f":"IF(ISERROR(VLOOKUP(I481,[1]Eje_Pilar!$C$2:$E$47,3,FALSE)),\" \",VLOOKUP(I481,[1]Eje_Pilar!$C$2:$E$47,3,FALSE))","v":" "},"3-1-2-02-02-04-0001-003",null,"EMPRESA DE ACUEDUCTO Y ALCANTARILLADO DE BOGOTA ESP",225295,null,0,null,null,225295,225295,"2019-04-09","2019-04-09","2019-12-31",null,null,null,null,null,null,null,100,{"$f":"IF(SUMPRODUCT((A$14:A481=A481)*(B$14:B481=B481)*(C$14:C481=C481))>1,0,1)","v":1},0,0,0,0,0,"Otros gastos","NO",{"$f":"IFERROR(VLOOKUP(F481,[1]Tipo!$C$12:$C$27,1,FALSE),\"NO\")","v":"NO"},"Funcionamiento","NO"]
[null,2019,20,"Otros gastos",null,null,"PAGO DEL SERVICIO PUBLICO DE ASEO VIGENCIA 2019, DE LOS INMUEBLES A CARGO DEL FDL SUBA.","Funcionamiento","No aplica",{"$f":"IF(ISERROR(VLOOKUP(I482,[1]Eje_Pilar!$C$2:$E$47,2,FALSE)),\" \",VLOOKUP(I482,[1]Eje_Pilar!$C$2:$E$47,2,FALSE))","v":" "},{"$f":"IF(ISERROR(VLOOKUP(I482,[1]Eje_Pilar!$C$2:$E$47,3,FALSE)),\" \",VLOOKUP(I482,[1]Eje_Pilar!$C$2:$E$47,3,FALSE))","v":" "},"3-1-2-02-02-04-0001-003",null,"EMPRESA DE ACUEDUCTO Y ALCANTARILLADO DE BOGOTA ESP",241425,null,0,null,null,241425,241425,"2019-08-12","2019-08-12","2019-12-31",null,null,null,null,null,null,null,100,{"$f":"IF(SUMPRODUCT((A$14:A482=A482)*(B$14:B482=B482)*(C$14:C482=C482))>1,0,1)","v":1},0,0,0,0,0,"Otros gastos","NO",{"$f":"IFERROR(VLOOKUP(F482,[1]Tipo!$C$12:$C$27,1,FALSE),\"NO\")","v":"NO"},"Funcionamiento","NO"]
[null,2019,21,"Otros gastos",null,null,"PAGO DEL SERVICIO PUBLICO DE ASEO VIGENCIA 2019, DE LOS INMUEBLES A CARGO DEL FDL SUBA.","Funcionamiento","No aplica",{"$f":"IF(ISERROR(VLOOKUP(I483,[1]Eje_Pilar!$C$2:$E$47,2,FALSE)),\" \",VLOOKUP(I483,[1]Eje_Pilar!$C$2:$E$47,2,FALSE))","v":" "},{"$f":"IF(ISERROR(VLOOKUP(I483,[1]Eje_Pilar!$C$2:$E$47,3,FALSE)),\" \",VLOOKUP(I483,[1]Eje_Pilar!$C$2:$E$47,3,FALSE))","v":" "},"3-1-2-02-02-04-0001-003",null,"AREA LIMPIA DISTRITO CAPITAL S.A.S. E.S.P.",100230,null,0,null,null,100230,100230,"2019-09-12","2019-09-12","2019-12-31",null,null,null,null,null,null,null,100,{"$f":"IF(SUMPRODUCT((A$14:A483=A483)*(B$14:B483=B483)*(C$14:C483=C483))>1,0,1)","v":1},0,0,0,0,0,"Otros gastos","NO",{"$f":"IFERROR(VLOOKUP(F483,[1]Tipo!$C$12:$C$27,1,FALSE),\"NO\")","v":"NO"},"Funcionamiento","NO"]
[null,2019,22,"Otros gastos",null,null,"PAGO DEL SERVICIO PUBLICO DE ASEO VIGENCIA 2019, DE LOS INMUEBLES A CARGO DEL FDL SUBA.","Funcionamiento","No aplica",{"$f":"IF(ISERROR(VLOOKUP(I484,[1]Eje_Pilar!$C$2:$E$47,2,FALSE)),\" \",VLOOKUP(I484,[1]Eje_Pilar!$C$2:$E$47,2,FALSE))","v":" "},{"$f":"IF(ISERROR(VLOOKUP(I484,[1]Eje_Pilar!$C$2:$E$47,3,FALSE)),\" \",VLOOKUP(I484,[1]Eje_Pilar!$C$2:$E$47,3,FALSE))","v":" "},"3-1-2-02-02-04-0001-003",null,"EMPRESA DE ACUEDUCTO Y ALCANTARILLADO DE BOGOTA ESP",241425,null,0,null,null,241425,241425,"2019-12-03","2019-12-03","2019-12-31",null,null,null,null,null,null,null,100,{"$f":"IF(SUMPRODUCT((A$14:A484=A484)*(B$14:B484=B484)*(C$14:C484=C484))>1,0,1)","v":1},0,0,0,0,0,"Otros gastos","NO",{"$f":"IFERROR(VLOOKUP(F484,[1]Tipo!$C$12:$C$27,1,FALSE),\"NO\")","v":"NO"},"Funcionamiento","NO"]
[null,2019,23,"Otros gastos",null,null,"PAGO DEL SERVICIO PUBLICO DE ASEO VIGENCIA 2019, DE LOS INMUEBLES A CARGO DEL FDL SUBA. KR 56 # 128 B - 01. DEL 21 DE JUNIO AL 20 DE JULIO DE 2019. LAS VILLAS.","Funcionamiento","No aplica",{"$f":"IF(ISERROR(VLOOKUP(I485,[1]Eje_Pilar!$C$2:$E$47,2,FALSE)),\" \",VLOOKUP(I485,[1]Eje_Pilar!$C$2:$E$47,2,FALSE))","v":" "},{"$f":"IF(ISERROR(VLOOKUP(I485,[1]Eje_Pilar!$C$2:$E$47,3,FALSE)),\" \",VLOOKUP(I485,[1]Eje_Pilar!$C$2:$E$47,3,FALSE))","v":" "},"3-1-2-02-02-04-0001-003",null,"CODENSA S. A. ESP",23421,null,0,null,null,23421,23421,"2019-08-20","2019-08-20","2019-12-31",null,null,null,null,null,null,null,100,{"$f":"IF(SUMPRODUCT((A$14:A485=A485)*(B$14:B485=B485)*(C$14:C485=C485))>1,0,1)","v":1},0,0,0,0,0,"Otros gastos","NO",{"$f":"IFERROR(VLOOKUP(F485,[1]Tipo!$C$12:$C$27,1,FALSE),\"NO\")","v":"NO"},"Funcionamiento","NO"]
[null,2019,24,"Otros gastos",null,null,"PAGO DEL SERVICIO PUBLICO DE ASEO VIGENCIA 2019, DE LOS INMUEBLES A CARGO DEL FDL SUBA.","Funcionamiento","No aplica",{"$f":"IF(ISERROR(VLOOKUP(I486,[1]Eje_Pilar!$C$2:$E$47,2,FALSE)),\" \",VLOOKUP(I486,[1]Eje_Pilar!$C$2:$E$47,2,FALSE))","v":" "},{"$f":"IF(ISERROR(VLOOKUP(I486,[1]Eje_Pilar!$C$2:$E$47,3,FALSE)),\" \",VLOOKUP(I486,[1]Eje_Pilar!$C$2:$E$47,3,FALSE))","v":" "},"3-1-2-02-02-04-0001-003",null,"CODENSA S. A. ESP",24440,null,0,null,null,24440,24440,"2019-09-20","2019-09-20","2019-12-31",null,null,null,null,null,null,null,100,{"$f":"IF(SUMPRODUCT((A$14:A486=A486)*(B$14:B486=B486)*(C$14:C486=C486))>1,0,1)","v":1},0,0,0,0,0,"Otros gastos","NO",{"$f":"IFERROR(VLOOKUP(F486,[1]Tipo!$C$12:$C$27,1,FALSE),\"NO\")","v":"NO"},"Funcionamiento","NO"]
[null,2019,25,"Otros gastos",null,null,"PAGO DEL SERVICIO PUBLICO DE ASEO VIGENCIA 2019, DE LOS INMUEBLES A CARGO DEL FDL SUBA.","Funcionamiento","No aplica",{"$f":"IF(ISERROR(VLOOKUP(I487,[1]Eje_Pilar!$C$2:$E$47,2,FALSE)),\" \",VLOOKUP(I487,[1]Eje_Pilar!$C$2:$E$47,2,FALSE))","v":" "},{"$f":"IF(ISERROR(VLOOKUP(I487,[1]Eje_Pilar!$C$2:$E$47,3,FALSE)),\" \",VLOOKUP(I487,[1]Eje_Pilar!$C$2:$E$47,3,FALSE))","v":" "},"3-1-2-02-02-04-0001-003",null,"CODENSA S. A. ESP",25380,null,0,null,null,25380,25380,"2019-10-22","2019-10-22","2019-12-31",null,null,null,null,null,null,null,100,{"$f":"IF(SUMPRODUCT((A$14:A487=A487)*(B$14:B487=B487)*(C$14:C487=C487))>1,0,1)","v":1},0,0,0,0,0,"Otros gastos","NO",{"$f":"IFERROR(VLOOKUP(F487,[1]Tipo!$C$12:$C$27,1,FALSE),\"NO\")","v":"NO"},"Funcionamiento","NO"]
[null,2019,26,"Otros gastos",null,null,"PAGO DEL SERVICIO PUBLICO DE ASEO VIGENCIA 2019, DE LOS INMUEBLES A CARGO DEL FDL SUBA.","Funcionamiento","No aplica",{"$f":"IF(ISERROR(VLOOKUP(I488,[1]Eje_Pilar!$C$2:$E$47,2,FALSE)),\" \",VLOOKUP(I488,[1]Eje_Pilar!$C$2:$E$47,2,FALSE))","v":" "},{"$f":"IF(ISERROR(VLOOKUP(I488,[1]Eje_Pilar!$C$2:$E$47,3,FALSE)),\" \",VLOOKUP(I488,[1]Eje_Pilar!$C$2:$E$47,3,FALSE))","v":" "},"3-1-2-02-02-04-0001-003",null,"CODENSA S. A. ESP",24370,null,0,null,null,24370,24370,"2019-11-21","2019-11-21","2019-12-31",null,null,null,null,null,null,null,100,{"$f":"IF(SUMPRODUCT((A$14:A488=A488)*(B$14:B488=B488)*(C$14:C488=C488))>1,0,1)","v":1},0,0,0,0,0,"Otros gastos","NO",{"$f":"IFERROR(VLOOKUP(F488,[1]Tipo!$C$12:$C$27,1,FALSE),\"NO\")","v":"NO"},"Funcionamiento","NO"]
[null,2019,27,"Otros gastos",null,null,"PAGO DEL SERVICIO PUBLICO DE ASEO VIGENCIA 2019, DE LOS INMUEBLES A CARGO DEL FDL SUBA.","Funcionamiento","No aplica",{"$f":"IF(ISERROR(VLOOKUP(I489,[1]Eje_Pilar!$C$2:$E$47,2,FALSE)),\" \",VLOOKUP(I489,[1]Eje_Pilar!$C$2:$E$47,2,FALSE))","v":" "},{"$f":"IF(ISERROR(VLOOKUP(I489,[1]Eje_Pilar!$C$2:$E$47,3,FALSE)),\" \",VLOOKUP(I489,[1]Eje_Pilar!$C$2:$E$47,3,FALSE))","v":" "},"3-1-2-02-02-04-0001-003",null,"AREA LIMPIA DISTRITO CAPITAL S.A.S. E.S.P.",25540,null,0,null,null,25540,25540,"2019-12-20","2019-12-20","2019-12-31",null,null,null,null,null,null,null,100,{"$f":"IF(SUMPRODUCT((A$14:A489=A489)*(B$14:B489=B489)*(C$14:C489=C489))>1,0,1)","v":1},0,0,0,0,0,"Otros gastos","NO",{"$f":"IFERROR(VLOOKUP(F489,[1]Tipo!$C$12:$C$27,1,FALSE),\"NO\")","v":"NO"},"Funcionamiento","NO"]
[null,2019,28,"Otros gastos",null,null,"PAGO DEL SERVICIO PUBLICO DE ASEO VIGENCIA 2019, DE LOS INMUEBLES A CARGO DEL FDL SUBA.","Funcionamiento","No aplica",{"$f":"IF(ISERROR(VLOOKUP(I490,[1]Eje_Pilar!$C$2:$E$47,2,FALSE)),\" \",VLOOKUP(I490,[1]Eje_Pilar!$C$2:$E$47,2,FALSE))","v":" "},{"$f":"IF(ISERROR(VLOOKUP(I490,[1]Eje_Pilar!$C$2:$E$47,3,FALSE)),\" \",VLOOKUP(I490,[1]Eje_Pilar!$C$2:$E$47,3,FALSE))","v":" "},"3-1-2-02-02-04-0001-003",null,"AREA LIMPIA DISTRITO CAPITAL S.A.S. E.S.P.",129519,null,0,null,null,129519,129519,"2019-12-10","2019-12-10","2019-12-31",null,null,null,null,null,null,null,100,{"$f":"IF(SUMPRODUCT((A$14:A490=A490)*(B$14:B490=B490)*(C$14:C490=C490))>1,0,1)","v":1},0,0,0,0,0,"Otros gastos","NO",{"$f":"IFERROR(VLOOKUP(F490,[1]Tipo!$C$12:$C$27,1,FALSE),\"NO\")","v":"NO"},"Funcionamiento","NO"]
[null,2019,29,"Otros gastos",null,null,"PAGO DEL SERVICIO PUBLICO DE ASEO VIGENCIA 2019, DE LOS INMUEBLES A CARGO DEL FDL SUBA.","Funcionamiento","No aplica",{"$f":"IF(ISERROR(VLOOKUP(I491,[1]Eje_Pilar!$C$2:$E$47,2,FALSE)),\" \",VLOOKUP(I491,[1]Eje_Pilar!$C$2:$E$47,2,FALSE))","v":" "},{"$f":"IF(ISERROR(VLOOKUP(I491,[1]Eje_Pilar!$C$2:$E$47,3,FALSE)),\" \",VLOOKUP(I491,[1]Eje_Pilar!$C$2:$E$47,3,FALSE))","v":" "},"3-1-2-02-02-04-0001-003",null,"CODENSA S. A. ESP",75510,null,0,null,null,75510,75510,"2019-11-05","2019-11-05","2019-12-31",null,null,null,null,null,null,null,100,{"$f":"IF(SUMPRODUCT((A$14:A491=A491)*(B$14:B491=B491)*(C$14:C491=C491))>1,0,1)","v":1},0,0,0,0,0,"Otros gastos","NO",{"$f":"IFERROR(VLOOKUP(F491,[1]Tipo!$C$12:$C$27,1,FALSE),\"NO\")","v":"NO"},"Funcionamiento","NO"]
[null,2019,30,"Otros gastos",null,null,"PAGO DEL SERVICIO PUBLICO DE ASEO VIGENCIA 2019, DE LOS INMUEBLES A CARGO DEL FDL SUBA.","Funcionamiento","No aplica",{"$f":"IF(ISERROR(VLOOKUP(I492,[1]Eje_Pilar!$C$2:$E$47,2,FALSE)),\" \",VLOOKUP(I492,[1]Eje_Pilar!$C$2:$E$47,2,FALSE))","v":" "},{"$f":"IF(ISERROR(VLOOKUP(I492,[1]Eje_Pilar!$C$2:$E$47,3,FALSE)),\" \",VLOOKUP(I492,[1]Eje_Pilar!$C$2:$E$47,3,FALSE))","v":" "},"3-1-2-02-02-04-0001-003",null,"AREA LIMPIA DISTRITO CAPITAL S.A.S. E.S.P.",87189,null,0,null,null,87189,30360,"2019-12-09","2019-12-09","2019-12-31",null,null,null,null,null,null,null,34.82090630698827,{"$f":"IF(SUMPRODUCT((A$14:A492=A492)*(B$14:B492=B492)*(C$14:C492=C492))>1,0,1)","v":1},0,0,0,0,0,"Otros gastos","NO",{"$f":"IFERROR(VLOOKUP(F492,[1]Tipo!$C$12:$C$27,1,FALSE),\"NO\")","v":"NO"},"Funcionamiento","NO"]
[null,2019,31,"Otros gastos",null,null,"PAGO DEL SERVICIO PUBLICO DE ASEO VIGENCIA 2019, DE LOS INMUEBLES A CARGO DEL FDL SUBA.","Funcionamiento","No aplica",{"$f":"IF(ISERROR(VLOOKUP(I493,[1]Eje_Pilar!$C$2:$E$47,2,FALSE)),\" \",VLOOKUP(I493,[1]Eje_Pilar!$C$2:$E$47,2,FALSE))","v":" "},{"$f":"IF(ISERROR(VLOOKUP(I493,[1]Eje_Pilar!$C$2:$E$47,3,FALSE)),\" \",VLOOKUP(I493,[1]Eje_Pilar!$C$2:$E$47,3,FALSE))","v":" "},"3-1-2-02-02-04-0001-003",null,"CODENSA S. A. ESP",55361,null,0,null,null,55361,55361,"2019-10-01","2019-10-01","2019-12-31",null,null,null,null,null,null,null,100,{"$f":"IF(SUMPRODUCT((A$14:A493=A493)*(B$14:B493=B493)*(C$14:C493=C493))>1,0,1)","v":1},0,0,0,0,0,"Otros gastos","NO",{"$f":"IFERROR(VLOOKUP(F493,[1]Tipo!$C$12:$C$27,1,FALSE),\"NO\")","v":"NO"},"Funcionamiento","NO"]
["TOTALES",null,null,null,null,null,null,null,null,null,null,null,null,null,{"$f":"SUM(O14:O493)","v":76373216067},{"$f":"SUM(P14:P269)","v":0},null,135,233231596,{"$f":"SUM(T14:T493)","v":76993756370},{"$f":"SUM(U14:U493)","v":21453195356}]
[]
[]
[]
[]
[]
[]
[]
[]
[]
[]
[]
[]
[]
[]
[]
[]
[]
[]
[]
[]
[]
[]
[]
[]
[]
[]
[]
[]
[]
[]
[]
[]
[]
[]
[]
[]
[]
[]
[]
[]
[]
[]
[]
[]
[]
[]
[]
[]
[]
[]
[]
[]
[]
[]
[]
[]
[]
[]
[]
[]
[]
[]
[]
[]
[]
[]
[]
[]
[]
[]
[]
[]
[]
[]
[]
[null,null,null,null,null,null,null,null,null,null,null,null,null,null,null,null,null,null,null,null,null,null,null,null,null,null,null,null,null,null,null,null,null,{"$f":"IF(AND(AA570=\"X\",AG570=1 ),1,0)","v":0},{"$f":"IF(AND(AB570=\"X\",AG570=1 ),1,0)","v":0},{"$f":"IF(AND(AC570=\"X\",AG570=1 ),1,0)","v":0},{"$f":"IF(AND(AD570=\"X\",AG570=1 ),1,0)","v":0},{"$f":"IF(AND(AE570=\"X\",AG570=1 ),1,0)","v":0}]
[null,null,null,null,null,null,null,null,null,null,null,null,null,null,null,null,null,null,null,null,null,null,null,null,null,null,null,null,null,null,null,null,null,0,0,0,0,0]
[null,null,null,null,null,null,null,null,null,null,null,null,null,null,null,null,null,null,null,null,null,null,null,null,null,null,null,null,null,null,null,null,null,0,0,0,0,0]
[null,null,null,null,null,null,null,null,null,null,null,null,null,null,null,null,null,null,null,null,null,null,null,null,null,null,null,null,null,null,null,null,null,0,0,0,0,0]
[null,null,null,null,null,null,null,null,null,null,null,null,null,null,null,null,null,null,null,null,null,null,null,null,null,null,null,null,null,null,null,null,null,0,0,0,0,0]
[null,null,null,null,null,null,null,null,null,null,null,null,null,null,null,null,null,null,null,null,null,null,null,null,null,null,null,null,null,null,null,null,null,0,0,0,0,0]
[null,null,null,null,null,null,null,null,null,null,null,null,null,null,null,null,null,null,null,null,null,null,null,null,null,null,null,null,null,null,null,null,null,0,0,0,0,0]
[null,null,null,null,null,null,null,null,null,null,null,null,null,null,null,null,null,null,null,null,null,null,null,null,null,null,null,null,null,null,null,null,null,0,0,0,0,0]
[null,null,null,null,null,null,null,null,null,null,null,null,null,null,null,null,null,null,null,null,null,null,null,null,null,null,null,null,null,null,null,null,null,0,0,0,0,0]
[null,null,null,null,null,null,null,null,null,null,null,null,null,null,null,null,null,null,null,null,null,null,null,null,null,null,null,null,null,null,null,null,null,0,0,0,0,0]
[null,null,null,null,null,null,null,null,null,null,null,null,null,null,null,null,null,null,null,null,null,null,null,null,null,null,null,null,null,null,null,null,null,0,0,0,0,0]
[null,null,null,null,null,null,null,null,null,null,null,null,null,null,null,null,null,null,null,null,null,null,null,null,null,null,null,null,null,null,null,null,null,0,0,0,0,0]
[null,null,null,null,null,null,null,null,null,null,null,null,null,null,null,null,null,null,null,null,null,null,null,null,null,null,null,null,null,null,null,null,null,0,0,0,0,0]
[null,null,null,null,null,null,null,null,null,null,null,null,null,null,null,null,null,null,null,null,null,null,null,null,null,null,null,null,null,null,null,null,null,0,0,0,0,0]