{"text_format":"1","workbook":"xlsx","n_sheets":5,"sheets":["Formato2020 ","Instructivo","Tipo","Eje_Pilar_Prop","HOJA 1"],"not_rendered":{"charts":0,"images":1,"macros":1,"external_links":0,"defined_names":14,"comments":0,"pivot_tables":0},"unopened":[],"bounds":{"document_bytes":16777216,"sheet_cells":100000,"rows_first":2000,"rows_last":500,"rows_between":2000,"halvings":0,"cell_chars":16384,"cell_head_chars":4096},"cells_cut":0,"cells_raw":0,"read":"whole","date_system":"1900"}

{"sheet":"Formato2020 ","index":0,"n_rows":597,"n_cols":48,"rows_kept":597,"cut":false,"hidden":false,"merged":[[7,29,7,30],[11,33,11,36],[10,29,10,32],[5,31,5,37],[6,31,6,37],[7,31,7,37],[8,31,8,37],[9,31,9,37],[9,29,9,30],[10,33,10,36],[8,10,9,15],[8,29,8,30],[9,0,9,3],[9,5,9,7],[11,14,11,15],[10,0,10,15],[10,16,10,22],[10,23,10,28],[11,2,11,3],[11,8,11,12],[8,0,8,3],[8,5,8,7],[1,0,1,37],[2,0,2,37],[4,0,4,3],[4,8,4,10],[4,14,4,15],[4,22,4,37],[5,0,5,3],[5,8,5,10],[5,29,5,30],[6,0,6,3],[6,8,6,10],[6,29,6,30]]}
[]
["VEEDURIA DISTRITAL - RENDICION DE CUENTAS DE LA GESTION CONTRACTUAL EN EL DISTRITO CAPITAL (Acuerdo 380 de 2009)"]
["INFORMACION GENERAL DE CONTRATACION ENTIDADES DISTRITALES  -  ENERO 1 A 31 DICIEMBRE DE 2020"]
[]
["1. Entidad",null,null,null,"FONDO DE DESARROLLO LOCAL DE PUENTE ARANDA",null,null,"2. Sector","Gobierno"]
["3. Presupuesto Disponible Inversión Directa PREDIS",null,null,null,27665988902,null,null,"5. Presupuesto Disponible Funcionamiento PREDIS",2559925737,null,null,null,null,null,null,null,null,null,null,null,null,null,null,null,null,null,null,null,null,"9. Nombre de quien diligencia el formato",null,"Jenny Andrea Rocha García"]
["4. Presupuesto Comprometido de Inversión Directa según PREDIS ",null,null,null,24857517388,null,null,"6. Presupuesto Comprometido Funcionamiento según PREDIS",2437869372,null,null,null,null,null,null,null,null,null,null,null,null,null,null,null,null,null,null,null,null,"Cargo",null,"Abogada de Apoyo"]
[null,null,null,null,null,null,null,null,null,null,null,null,null,null,null,null,null,null,null,null,null,null,null,null,null,null,null,null,null,"Dependencia",null,"Oficina de Contratación "]
["7. Presupuesto Disponible Operación (Régimen Privado)",null,null,null,null,null,null,null,null,null,null,null,null,null,null,null,null,null,null,null,null,null,null,null,null,null,null,null,null,"Teléfono",null,3208804151]
["8. Presupuesto Comprometido Operación mediante contratos",null,null,null,null,null,null,null,null,null,null,null,null,null,null,null,null,null,null,null,null,null,null,null,null,null,null,null,null,"Correo Electrónico",null,"jenny.rocha@gobiernobogota.gov.co"]
["1- INFORMACION GENERAL",null,null,null,null,null,null,null,null,null,null,null,null,null,null,null,"2- INFORMACION FINANCIERA",null,null,null,null,null,null,"3 - PLAZOS ",null,null,null,null,null,"4. CESION",null,null,null,null,null,null,null,"5. %  Avance y/o cumplimiento"]
[1,2,3,null,4,5,6,7,8,null,null,null,null,9,10,null,11,12,13,14,15,16,17,18,19,20,21,22,23,24,25,26,27,null,null,null,null,29]
["Número Contrato","Año","Proceso Publicado en","Número de proceso contractual \nSECOP","Tipo de contrato ","Modalidad de Selección","Procedimiento o causal","Objeto","Afectación","Plan de Desarrollo Distrital","Número Programa","Equivalencia número de programa","Eje / Pilar / Propósito","Número Proyecto","Número  de Identificación del contratista\n(NIT con digito de verificación)","Nombre del contratista","Valor Inicial del contrato","Número de reducciones","Valor total reducciones \n(En valor negativo)","Número de adiciones","Valor total de adiciones ","Valor Final ","Giros\n(Valor en pesos)","Fecha de suscripción (DD/MM/AAAA)","Fecha de inicio (DD/MM/AAAA)","Fecha de terminación (DD/MM/AAAA)","Plazo en días","Número de prórrogas","Prorroga en días","Número  de Identificación del cesionario\n(NIT con digito de verificación)","Nombre cesionario","Fecha cesión\n(DD/MM/AAAA)","Valor cesión","Celebrado o por iniciar","En Ejecución","Terminado","Liquidado","% Avance y/o Cumplimiento",null,"Total Contratos","Validación Tipo","Validación Modalidad","Validación procedimiento","Validación afectación","Validación programa","secop","Fecha suscripción","PDD"]
[1,2020,"SECOP I","ALPA-CD-001-2020","Contratos de prestación de servicios profesionales y de apoyo a la gestión","Contratación directa","Contratación de bienes y servicios de la Dirección Nacional de Inteligencia (DNI)","El contratista se obliga con el Fondo de Desarrollo Local a prestar sus servicios como apoyo a la gestión del Área de Gestión Policiva y Jurídica en las diferentes actividades que se derivan de los procesos en la implementación de herramientas de gestión, siguiendo los lineamientos metodológicos establecidos por la Oficina Asesora de Planeación de la Secretaria Distrital de Gobierno, en lo relacionado con la administración documental, de acuerdo con los estudios previos","Inversión","Bogotá Mejor para Todos",45,{"$f":"IF(ISERROR(VLOOKUP(K14,Eje_Pilar_Prop!$C$2:$E$104,2,FALSE)),\" \",VLOOKUP(K14,Eje_Pilar_Prop!$C$2:$E$104,2,FALSE))","v":"Gobernanza e influencia local, regional e internacional"},{"$f":"IF(ISERROR(VLOOKUP(K14,Eje_Pilar_Prop!$C$2:$E$104,3,FALSE)),\" \",VLOOKUP(K14,Eje_Pilar_Prop!$C$2:$E$104,3,FALSE))","v":"Eje Transversal 4 Gobierno Legitimo, Fortalecimiento Local y Eficiencia"},"3-3-1-15-07- 45-1312-000 ",51834988,"CARMEN CECILIA VALBUENA CASTAÑEDA",10000000,null,null,null,null,{"$f":"+Q14+S14+U14","v":10000000},10000000,"2020-01-30","2020-02-01","2020-05-31",120,null,null,null,null,null,null,null,null,"X",null,{"$f":"IF(ISERROR(W14/V14),\"-\",(W14/V14))","v":1},null,{"$f":"IF(SUMPRODUCT((A$14:A14=A14)*(B$14:B14=B14)*(D$14:D14=D14))>1,0,1)","v":1},{"$f":"IF(ISBLANK(E14),1,IFERROR(VLOOKUP(E14,tipo,1,FALSE),\"NO\"))","v":"Contratos de prestación de servicios profesionales y de apoyo a la gestión"},{"$f":"IF(ISBLANK(F14),1,IFERROR(VLOOKUP(F14,modal,1,FALSE),\"NO\"))","v":"Contratación directa"},{"$f":"IF(ISBLANK(G14),1,IFERROR(VLOOKUP(G14,Tipo!$C$12:$C$27,1,FALSE),\"NO\"))","v":"Contratación de bienes y servicios de la Dirección Nacional de Inteligencia (DNI)"},{"$f":"IF(ISBLANK(I14),1,IFERROR(VLOOKUP(I14,afectacion,1,FALSE),\"NO\"))","v":"Inversión"},{"$f":"IF(ISBLANK(K14),1,IFERROR(VLOOKUP(K14,Eje_Pilar_Prop!C3:C104,1,FALSE),\"NO\"))","v":45},{"$f":"IF(ISBLANK(C14),1,IFERROR(VLOOKUP(C14,SECOP,1,FALSE),\"NO\"))","v":"SECOP I"},{"$f":"IF(OR(YEAR(X14)=2020,ISBLANK(X14)),1,\"NO\")","v":1},{"$f":"IF(ISBLANK(J14),1,IFERROR(VLOOKUP(J14,pdd,1,FALSE),\"NO\"))","v":"Bogotá Mejor para Todos"}]
[2,2020,"SECOP II","ALPA-CD-002-2020","Contratos de prestación de servicios profesionales y de apoyo a la gestión","Contratación directa","Prestación de servicios profesionales y de apoyo a la gestión, o para la ejecución de trabajos artísticos que sólo puedan encomendarse a determinadas personas naturales;","Prestación de servicios profesionales para realizar las labores de Administración de la Red soporte técnico y administrativo en el manejo de los programas instalados en todas las áreas de la Alcaldía y Junta Administradora Local.","Inversión","Bogotá Mejor para Todos",45,{"$f":"IF(ISERROR(VLOOKUP(K15,Eje_Pilar_Prop!$C$2:$E$104,2,FALSE)),\" \",VLOOKUP(K15,Eje_Pilar_Prop!$C$2:$E$104,2,FALSE))","v":"Gobernanza e influencia local, regional e internacional"},{"$f":"IF(ISERROR(VLOOKUP(K15,Eje_Pilar_Prop!$C$2:$E$104,3,FALSE)),\" \",VLOOKUP(K15,Eje_Pilar_Prop!$C$2:$E$104,3,FALSE))","v":"Eje Transversal 4 Gobierno Legitimo, Fortalecimiento Local y Eficiencia"},"3-3-1-15-07- 45-1312-000 ",80013691,"OSCAR EDUARDO ROMERO ARTEAGA",21600000,null,null,null,null,21600000,21600000,"2020-01-31","2020-02-03","2020-06-02",120,null,null,null,null,null,null,null,null,"X",null,{"$f":"IF(ISERROR(W15/V15),\"-\",(W15/V15))","v":1},null,{"$f":"IF(SUMPRODUCT((A$14:A15=A15)*(B$14:B15=B15)*(D$14:D15=D15))>1,0,1)","v":1},"Contratos de prestación de servicios profesionales y de apoyo a la gestión","Contratación directa",{"$f":"IF(ISBLANK(G15),1,IFERROR(VLOOKUP(G15,Tipo!$C$12:$C$27,1,FALSE),\"NO\"))","v":"Prestación de servicios profesionales y de apoyo a la gestión, o para la ejecución de trabajos artísticos que sólo puedan encomendarse a determinadas personas naturales;"},"Inversión",{"$f":"IF(ISBLANK(K15),1,IFERROR(VLOOKUP(K15,Eje_Pilar_Prop!C4:C105,1,FALSE),\"NO\"))","v":45},"SECOP II",{"$f":"IF(OR(YEAR(X15)=2020,ISBLANK(X15)),1,\"NO\")","v":1},"Bogotá Mejor para Todos"]
[3,2020,"SECOP II","ALPA-CD-003-2020","Contratos de prestación de servicios profesionales y de apoyo a la gestión","Contratación directa","Prestación de servicios profesionales y de apoyo a la gestión, o para la ejecución de trabajos artísticos que sólo puedan encomendarse a determinadas personas naturales;","El Contratista se obliga con el Fondo de Desarrollo Local de Puente Aranda a prestar sus servicios profesionales al Despacho de la Alcaldía Local para apoyar el trámite de los Despachos Comisorios, descongestionar y tramitar los derechos de petición, -consolidar las proposiciones y solicitudes de los entes de control, así como el apoyo al área de contratación, de acuerdo a los estudios previos","Inversión","Bogotá Mejor para Todos",45,{"$f":"IF(ISERROR(VLOOKUP(K16,Eje_Pilar_Prop!$C$2:$E$104,2,FALSE)),\" \",VLOOKUP(K16,Eje_Pilar_Prop!$C$2:$E$104,2,FALSE))","v":"Gobernanza e influencia local, regional e internacional"},{"$f":"IF(ISERROR(VLOOKUP(K16,Eje_Pilar_Prop!$C$2:$E$104,3,FALSE)),\" \",VLOOKUP(K16,Eje_Pilar_Prop!$C$2:$E$104,3,FALSE))","v":"Eje Transversal 4 Gobierno Legitimo, Fortalecimiento Local y Eficiencia"},"3-3-1-15-07- 45-1312-000 ",1015394445,"EDNA ROCIO CASTIBLANCO CASTELLANOS",18800000,null,null,null,null,18800000,18800000,"2020-01-31","2020-02-03","2020-06-02",120,null,null,null,null,null,null,null,null,"X",null,1,null,{"$f":"IF(SUMPRODUCT((A$14:A16=A16)*(B$14:B16=B16)*(D$14:D16=D16))>1,0,1)","v":1},"Contratos de prestación de servicios profesionales y de apoyo a la gestión","Contratación directa",{"$f":"IF(ISBLANK(G16),1,IFERROR(VLOOKUP(G16,Tipo!$C$12:$C$27,1,FALSE),\"NO\"))","v":"Prestación de servicios profesionales y de apoyo a la gestión, o para la ejecución de trabajos artísticos que sólo puedan encomendarse a determinadas personas naturales;"},"Inversión",{"$f":"IF(ISBLANK(K16),1,IFERROR(VLOOKUP(K16,Eje_Pilar_Prop!C5:C106,1,FALSE),\"NO\"))","v":45},"SECOP II",1,"Bogotá Mejor para Todos"]
[4,2020,"SECOP II","ALPA-CD-004-2020","Contratos de prestación de servicios profesionales y de apoyo a la gestión","Contratación directa","Prestación de servicios profesionales y de apoyo a la gestión, o para la ejecución de trabajos artísticos que sólo puedan encomendarse a determinadas personas naturales;","El contratista se obliga con el Fondo de Desarrollo Local de Puente Aranda a prestar los servicios profesionales requeridos para apoyar la formulación, proceso de contratación, evaluación y seguimiento de proyectos incluidos en el Plan de Desarrollo Local vigente así como liquidación de los contratos suscritos para su ejecución, para asegurar la adecuada inversión de recursos locales y el cumplimiento de las metas del mismo, en lo referente al proyecto 1290 \"Democracia Urbana Mas Vías Para Todos","Inversión","Bogotá Mejor para Todos",18,{"$f":"IF(ISERROR(VLOOKUP(K17,Eje_Pilar_Prop!$C$2:$E$104,2,FALSE)),\" \",VLOOKUP(K17,Eje_Pilar_Prop!$C$2:$E$104,2,FALSE))","v":"Mejor movilidad para todos"},{"$f":"IF(ISERROR(VLOOKUP(K17,Eje_Pilar_Prop!$C$2:$E$104,3,FALSE)),\" \",VLOOKUP(K17,Eje_Pilar_Prop!$C$2:$E$104,3,FALSE))","v":"Pilar 2 Democracía Urbana"},"3-3-1-15-02- 18-1290-000 ",23691527,"ANGIE TATIANA ESPEJO RODRIGUEZ",72000000,null,null,null,null,72000000,72000000,"2020-01-31","2020-02-04","2021-02-03",365,null,null,null,null,null,null,null,null,"X",null,1,null,{"$f":"IF(SUMPRODUCT((A$14:A17=A17)*(B$14:B17=B17)*(D$14:D17=D17))>1,0,1)","v":1},"Contratos de prestación de servicios profesionales y de apoyo a la gestión","Contratación directa",{"$f":"IF(ISBLANK(G17),1,IFERROR(VLOOKUP(G17,Tipo!$C$12:$C$27,1,FALSE),\"NO\"))","v":"Prestación de servicios profesionales y de apoyo a la gestión, o para la ejecución de trabajos artísticos que sólo puedan encomendarse a determinadas personas naturales;"},"Inversión",{"$f":"IF(ISBLANK(K17),1,IFERROR(VLOOKUP(K17,Eje_Pilar_Prop!C6:C107,1,FALSE),\"NO\"))","v":18},"SECOP II",1,"Bogotá Mejor para Todos"]
[5,2020,"SECOP II","ALPA-CD-005-2020","Contratos de prestación de servicios profesionales y de apoyo a la gestión","Contratación directa","Prestación de servicios profesionales y de apoyo a la gestión, o para la ejecución de trabajos artísticos que sólo puedan encomendarse a determinadas personas naturales;","Prestación de servicios profesionales para adelantar trámites precontractuales, contractuales y post contractuales en el marco de los proyectos contemplados en el Plan de Desarrollo Económico, Social, Ambiental y de Obras Públicas para la localidad de Puente Aranda y el plan de contratación, así como las labores de liquidación de contratos y convenios suscritos con cargo a los recursos del Fondo de Desarrollo Local y depuración de obligaciones por pagar. ","Inversión","Bogotá Mejor para Todos",45,{"$f":"IF(ISERROR(VLOOKUP(K18,Eje_Pilar_Prop!$C$2:$E$104,2,FALSE)),\" \",VLOOKUP(K18,Eje_Pilar_Prop!$C$2:$E$104,2,FALSE))","v":"Gobernanza e influencia local, regional e internacional"},{"$f":"IF(ISERROR(VLOOKUP(K18,Eje_Pilar_Prop!$C$2:$E$104,3,FALSE)),\" \",VLOOKUP(K18,Eje_Pilar_Prop!$C$2:$E$104,3,FALSE))","v":"Eje Transversal 4 Gobierno Legitimo, Fortalecimiento Local y Eficiencia"},"3-3-1-15-07- 45-1312-000 ",52952806,"CLARA PAOLA CARDENAS LOPEZ",18800000,null,null,null,null,18800000,18800000,"2020-01-31","2020-02-03","2020-06-02",120,null,null,null,null,null,null,null,null,"X",null,1,null,{"$f":"IF(SUMPRODUCT((A$14:A18=A18)*(B$14:B18=B18)*(D$14:D18=D18))>1,0,1)","v":1},"Contratos de prestación de servicios profesionales y de apoyo a la gestión","Contratación directa",{"$f":"IF(ISBLANK(G18),1,IFERROR(VLOOKUP(G18,Tipo!$C$12:$C$27,1,FALSE),\"NO\"))","v":"Prestación de servicios profesionales y de apoyo a la gestión, o para la ejecución de trabajos artísticos que sólo puedan encomendarse a determinadas personas naturales;"},"Inversión",{"$f":"IF(ISBLANK(K18),1,IFERROR(VLOOKUP(K18,Eje_Pilar_Prop!C7:C108,1,FALSE),\"NO\"))","v":45},"SECOP II",1,"Bogotá Mejor para Todos"]
[6,2020,"SECOP II","ALPA-CD-006-2020","Contratos de prestación de servicios profesionales y de apoyo a la gestión","Contratación directa","Prestación de servicios profesionales y de apoyo a la gestión, o para la ejecución de trabajos artísticos que sólo puedan encomendarse a determinadas personas naturales;","El contratista se obliga con el Fondo de Desarrollo Local de Puente Aranda a prestar sus servicios profesionales en el Área de Gestión del Desarrollo Local necesarios para adelantar los procesos contractuales de los recursos de funcionamiento, así como seguimiento al PAA para verificar la oportuna y adecuada atención de las necesidades de la Entidad, de conformidad con los estudios previos","Inversión","Bogotá Mejor para Todos",45,{"$f":"IF(ISERROR(VLOOKUP(K19,Eje_Pilar_Prop!$C$2:$E$104,2,FALSE)),\" \",VLOOKUP(K19,Eje_Pilar_Prop!$C$2:$E$104,2,FALSE))","v":"Gobernanza e influencia local, regional e internacional"},{"$f":"IF(ISERROR(VLOOKUP(K19,Eje_Pilar_Prop!$C$2:$E$104,3,FALSE)),\" \",VLOOKUP(K19,Eje_Pilar_Prop!$C$2:$E$104,3,FALSE))","v":"Eje Transversal 4 Gobierno Legitimo, Fortalecimiento Local y Eficiencia"},"3-3-1-15-07-45-1312-000",8644982,"JOSE FERNANDO ROCA HOYOS ",16000000,null,null,null,null,16000000,16000000,"2020-02-03","2020-02-04","2020-06-03",120,null,null,null,null,null,null,null,null,"X",null,1,null,{"$f":"IF(SUMPRODUCT((A$14:A19=A19)*(B$14:B19=B19)*(D$14:D19=D19))>1,0,1)","v":1},"Contratos de prestación de servicios profesionales y de apoyo a la gestión","Contratación directa",{"$f":"IF(ISBLANK(G19),1,IFERROR(VLOOKUP(G19,Tipo!$C$12:$C$27,1,FALSE),\"NO\"))","v":"Prestación de servicios profesionales y de apoyo a la gestión, o para la ejecución de trabajos artísticos que sólo puedan encomendarse a determinadas personas naturales;"},"Inversión",{"$f":"IF(ISBLANK(K19),1,IFERROR(VLOOKUP(K19,Eje_Pilar_Prop!C8:C109,1,FALSE),\"NO\"))","v":45},"SECOP II",1,"Bogotá Mejor para Todos"]
[7,2020,"SECOP II","ALPA-CD-007-2020","Contratos de prestación de servicios profesionales y de apoyo a la gestión","Contratación directa","Prestación de servicios profesionales y de apoyo a la gestión, o para la ejecución de trabajos artísticos que sólo puedan encomendarse a determinadas personas naturales;","El contratista se obliga con el Fondo de Desarrollo Local a prestar sus servicios en el Área de radicación y correspondencia realizando el trámite respectivo a la correspondencia de todas las dependencias de acuerdo con los procedimientos establecidos, así como para aplicar encuestas de percepción y la atención de recepción de los visitantes en la alcaldía Local de puente Aranda\", de conformidad con los estudios previos","Inversión","Bogotá Mejor para Todos",45,{"$f":"IF(ISERROR(VLOOKUP(K20,Eje_Pilar_Prop!$C$2:$E$104,2,FALSE)),\" \",VLOOKUP(K20,Eje_Pilar_Prop!$C$2:$E$104,2,FALSE))","v":"Gobernanza e influencia local, regional e internacional"},{"$f":"IF(ISERROR(VLOOKUP(K20,Eje_Pilar_Prop!$C$2:$E$104,3,FALSE)),\" \",VLOOKUP(K20,Eje_Pilar_Prop!$C$2:$E$104,3,FALSE))","v":"Eje Transversal 4 Gobierno Legitimo, Fortalecimiento Local y Eficiencia"},"3-3-1-15-07- 45-1312-000 ",52250446,"PAOLA ORTIZ",10000000,null,null,null,null,10000000,10000000,"2020-01-31","2020-02-04","2020-06-03",120,null,null,null,null,null,null,null,null,"X",null,1,null,{"$f":"IF(SUMPRODUCT((A$14:A20=A20)*(B$14:B20=B20)*(D$14:D20=D20))>1,0,1)","v":1},"Contratos de prestación de servicios profesionales y de apoyo a la gestión","Contratación directa",{"$f":"IF(ISBLANK(G20),1,IFERROR(VLOOKUP(G20,Tipo!$C$12:$C$27,1,FALSE),\"NO\"))","v":"Prestación de servicios profesionales y de apoyo a la gestión, o para la ejecución de trabajos artísticos que sólo puedan encomendarse a determinadas personas naturales;"},"Inversión",{"$f":"IF(ISBLANK(K20),1,IFERROR(VLOOKUP(K20,Eje_Pilar_Prop!C9:C110,1,FALSE),\"NO\"))","v":45},"SECOP II",1,"Bogotá Mejor para Todos"]
[8,2020,"SECOP II","ALPA-CD-008-2020","Contratos de prestación de servicios profesionales y de apoyo a la gestión","Contratación directa","Prestación de servicios profesionales y de apoyo a la gestión, o para la ejecución de trabajos artísticos que sólo puedan encomendarse a determinadas personas naturales;","El Contratista se obliga con el Fondo de Desarrollo Local de Puente Aranda a prestar sus servicios de apoyo a las diferentes labores operativas y administrativas que surjan de la gestión de la Junta Administradora Local, de acuerdo con los estudios previos. ","Inversión","Bogotá Mejor para Todos",45,{"$f":"IF(ISERROR(VLOOKUP(K21,Eje_Pilar_Prop!$C$2:$E$104,2,FALSE)),\" \",VLOOKUP(K21,Eje_Pilar_Prop!$C$2:$E$104,2,FALSE))","v":"Gobernanza e influencia local, regional e internacional"},{"$f":"IF(ISERROR(VLOOKUP(K21,Eje_Pilar_Prop!$C$2:$E$104,3,FALSE)),\" \",VLOOKUP(K21,Eje_Pilar_Prop!$C$2:$E$104,3,FALSE))","v":"Eje Transversal 4 Gobierno Legitimo, Fortalecimiento Local y Eficiencia"},"3-3-1-15-07- 45-1312-000 ",51962571,"GLORIA LUCIA PINTOR VARGAS",10400000,null,null,1,2600000,13000000,13000000,"2020-01-31","2020-02-01","2020-05-31",120,1,30,null,null,null,null,null,null,"X",null,1,null,{"$f":"IF(SUMPRODUCT((A$14:A21=A21)*(B$14:B21=B21)*(D$14:D21=D21))>1,0,1)","v":1},"Contratos de prestación de servicios profesionales y de apoyo a la gestión","Contratación directa",{"$f":"IF(ISBLANK(G21),1,IFERROR(VLOOKUP(G21,Tipo!$C$12:$C$27,1,FALSE),\"NO\"))","v":"Prestación de servicios profesionales y de apoyo a la gestión, o para la ejecución de trabajos artísticos que sólo puedan encomendarse a determinadas personas naturales;"},"Inversión",{"$f":"IF(ISBLANK(K21),1,IFERROR(VLOOKUP(K21,Eje_Pilar_Prop!C10:C111,1,FALSE),\"NO\"))","v":45},"SECOP II",1,"Bogotá Mejor para Todos"]
[9,2020,"SECOP II","ALPA-CD-009-2020","Contratos de prestación de servicios profesionales y de apoyo a la gestión","Contratación directa","Prestación de servicios profesionales y de apoyo a la gestión, o para la ejecución de trabajos artísticos que sólo puedan encomendarse a determinadas personas naturales;","El contratista se obliga con el Fondo de Desarrollo Local a prestar sus servicios en el Área de radicación y correspondencia realizando el trámite respectivo a la correspondencia de todas las dependencias de acuerdo con los procedimientos establecidos, así como para aplicar encuestas de percepción y la atención de recepción de los visitantes en la alcaldía Local de puente Aranda\", de conformidad con los estudios previos","Inversión","Bogotá Mejor para Todos",45,{"$f":"IF(ISERROR(VLOOKUP(K22,Eje_Pilar_Prop!$C$2:$E$104,2,FALSE)),\" \",VLOOKUP(K22,Eje_Pilar_Prop!$C$2:$E$104,2,FALSE))","v":"Gobernanza e influencia local, regional e internacional"},{"$f":"IF(ISERROR(VLOOKUP(K22,Eje_Pilar_Prop!$C$2:$E$104,3,FALSE)),\" \",VLOOKUP(K22,Eje_Pilar_Prop!$C$2:$E$104,3,FALSE))","v":"Eje Transversal 4 Gobierno Legitimo, Fortalecimiento Local y Eficiencia"},"3-3-1-15-07- 45-1312-000 ",65500490,"CARMEN ELENA CASTRO",10000000,null,null,null,null,10000000,10000000,"2020-02-04","2020-02-05","2020-06-04",120,null,null,null,null,null,null,null,null,"X",null,{"$f":"IF(ISERROR(W22/V22),\"-\",(W22/V22))","v":1},null,{"$f":"IF(SUMPRODUCT((A$14:A22=A22)*(B$14:B22=B22)*(D$14:D22=D22))>1,0,1)","v":1},"Contratos de prestación de servicios profesionales y de apoyo a la gestión","Contratación directa",{"$f":"IF(ISBLANK(G22),1,IFERROR(VLOOKUP(G22,Tipo!$C$12:$C$27,1,FALSE),\"NO\"))","v":"Prestación de servicios profesionales y de apoyo a la gestión, o para la ejecución de trabajos artísticos que sólo puedan encomendarse a determinadas personas naturales;"},"Inversión",{"$f":"IF(ISBLANK(K22),1,IFERROR(VLOOKUP(K22,Eje_Pilar_Prop!C4:C105,1,FALSE),\"NO\"))","v":45},"SECOP II",{"$f":"IF(OR(YEAR(X22)=2020,ISBLANK(X22)),1,\"NO\")","v":1},"Bogotá Mejor para Todos"]
[10,2020,"SECOP II","ALPA-CD-010-2020","Contratos de prestación de servicios profesionales y de apoyo a la gestión","Contratación directa","Prestación de servicios profesionales y de apoyo a la gestión, o para la ejecución de trabajos artísticos que sólo puedan encomendarse a determinadas personas naturales;","El contratista se obliga con el Fondo de Desarrollo Local de Puente Aranda a prestar sus servicios en el Despacho de la Alcaldía Local en la ejecución de actividades técnicas para mejorar la comunicación interna de la Alcaldía y fomentar la participación de los servidores públicos en las actividades propias de la gestión local\", de conformidad con los estudios previos","Inversión","Bogotá Mejor para Todos",45,{"$f":"IF(ISERROR(VLOOKUP(K23,Eje_Pilar_Prop!$C$2:$E$104,2,FALSE)),\" \",VLOOKUP(K23,Eje_Pilar_Prop!$C$2:$E$104,2,FALSE))","v":"Gobernanza e influencia local, regional e internacional"},{"$f":"IF(ISERROR(VLOOKUP(K23,Eje_Pilar_Prop!$C$2:$E$104,3,FALSE)),\" \",VLOOKUP(K23,Eje_Pilar_Prop!$C$2:$E$104,3,FALSE))","v":"Eje Transversal 4 Gobierno Legitimo, Fortalecimiento Local y Eficiencia"},"3-3-1-15-07- 45-1312-000 ",1023973882,"KAREN YVETTE ZAMORA AGUILAR",12000000,null,null,null,null,12000000,12000000,"2020-02-04","2020-02-05","2020-06-04",120,null,null,null,null,null,null,null,null,"X",null,{"$f":"IF(ISERROR(W23/V23),\"-\",(W23/V23))","v":1},null,{"$f":"IF(SUMPRODUCT((A$14:A23=A23)*(B$14:B23=B23)*(D$14:D23=D23))>1,0,1)","v":1},"Contratos de prestación de servicios profesionales y de apoyo a la gestión","Contratación directa",{"$f":"IF(ISBLANK(G23),1,IFERROR(VLOOKUP(G23,Tipo!$C$12:$C$27,1,FALSE),\"NO\"))","v":"Prestación de servicios profesionales y de apoyo a la gestión, o para la ejecución de trabajos artísticos que sólo puedan encomendarse a determinadas personas naturales;"},"Inversión",{"$f":"IF(ISBLANK(K23),1,IFERROR(VLOOKUP(K23,Eje_Pilar_Prop!C5:C106,1,FALSE),\"NO\"))","v":45},"SECOP II",1,"Bogotá Mejor para Todos"]
[11,2020,"SECOP II","ALPA-CD-011-2020","Contratos de prestación de servicios profesionales y de apoyo a la gestión","Contratación directa","Prestación de servicios profesionales y de apoyo a la gestión, o para la ejecución de trabajos artísticos que sólo puedan encomendarse a determinadas personas naturales;","El contratista se obliga con el Fondo de Desarrollo local de Puente Aranda a prestar sus servicios profesionales para apoyar el área de Gestión del Desarrollo Local mediante la actualización de la canasta de costos para la formulación de proyectos de inversión, de acuerdo con los estudios previos. ","Inversión","Bogotá Mejor para Todos",45,{"$f":"IF(ISERROR(VLOOKUP(K24,Eje_Pilar_Prop!$C$2:$E$104,2,FALSE)),\" \",VLOOKUP(K24,Eje_Pilar_Prop!$C$2:$E$104,2,FALSE))","v":"Gobernanza e influencia local, regional e internacional"},{"$f":"IF(ISERROR(VLOOKUP(K24,Eje_Pilar_Prop!$C$2:$E$104,3,FALSE)),\" \",VLOOKUP(K24,Eje_Pilar_Prop!$C$2:$E$104,3,FALSE))","v":"Eje Transversal 4 Gobierno Legitimo, Fortalecimiento Local y Eficiencia"},"3-3-1-15-07-45-1312-000",1020769399,"NICOLAS GONZALEZ CORREA",16000000,null,null,null,null,16000000,16000000,"2020-02-04","2020-02-04","2020-06-03",120,null,null,null,null,null,null,null,null,"X",null,1,null,{"$f":"IF(SUMPRODUCT((A$14:A24=A24)*(B$14:B24=B24)*(D$14:D24=D24))>1,0,1)","v":1},"Contratos de prestación de servicios profesionales y de apoyo a la gestión","Contratación directa",{"$f":"IF(ISBLANK(G24),1,IFERROR(VLOOKUP(G24,Tipo!$C$12:$C$27,1,FALSE),\"NO\"))","v":"Prestación de servicios profesionales y de apoyo a la gestión, o para la ejecución de trabajos artísticos que sólo puedan encomendarse a determinadas personas naturales;"},"Inversión",{"$f":"IF(ISBLANK(K24),1,IFERROR(VLOOKUP(K24,Eje_Pilar_Prop!C6:C107,1,FALSE),\"NO\"))","v":45},"SECOP II",1,"Bogotá Mejor para Todos"]
[12,2020,"SECOP II","ALPA-CD-012-2020","Contratos de prestación de servicios profesionales y de apoyo a la gestión","Contratación directa","Prestación de servicios profesionales y de apoyo a la gestión, o para la ejecución de trabajos artísticos que sólo puedan encomendarse a determinadas personas naturales;","Prestar los servicios técnicos para la operación, seguimiento y cumplimiento de los procesos y procedimientos del Servicio Apoyos para la Seguridad Económica Tipo C, requeridos para el oportuno y adecuado registro, cruce y reporte de los datos en el Sistema Misional—SIRBE, que contribuyan a la garantía de los derechos de la población mayor en el marco de la Política Pública Social para el Envejecimiento y la Vejez en el Distrito Capital a cargo de la Alcaldía Local, de acuerdo con los estudios p","Inversión","Bogotá Mejor para Todos",45,{"$f":"IF(ISERROR(VLOOKUP(K25,Eje_Pilar_Prop!$C$2:$E$104,2,FALSE)),\" \",VLOOKUP(K25,Eje_Pilar_Prop!$C$2:$E$104,2,FALSE))","v":"Gobernanza e influencia local, regional e internacional"},{"$f":"IF(ISERROR(VLOOKUP(K25,Eje_Pilar_Prop!$C$2:$E$104,3,FALSE)),\" \",VLOOKUP(K25,Eje_Pilar_Prop!$C$2:$E$104,3,FALSE))","v":"Eje Transversal 4 Gobierno Legitimo, Fortalecimiento Local y Eficiencia"},"3-3-1-15-01-03-1286-000",1031141363,"GERALDINE MONTENEGRO LOZADA",15200000,null,null,null,null,15200000,15200000,"2020-02-04","2020-02-05","2020-06-04",120,null,null,null,null,null,null,null,null,"X",null,{"$f":"IF(ISERROR(W25/V25),\"-\",(W25/V25))","v":1},null,{"$f":"IF(SUMPRODUCT((A$14:A25=A25)*(B$14:B25=B25)*(D$14:D25=D25))>1,0,1)","v":1},"Contratos de prestación de servicios profesionales y de apoyo a la gestión","Contratación directa",{"$f":"IF(ISBLANK(G25),1,IFERROR(VLOOKUP(G25,Tipo!$C$12:$C$27,1,FALSE),\"NO\"))","v":"Prestación de servicios profesionales y de apoyo a la gestión, o para la ejecución de trabajos artísticos que sólo puedan encomendarse a determinadas personas naturales;"},"Inversión",{"$f":"IF(ISBLANK(K25),1,IFERROR(VLOOKUP(K25,Eje_Pilar_Prop!C7:C108,1,FALSE),\"NO\"))","v":45},"SECOP II",1,"Bogotá Mejor para Todos"]
[13,2020,"SECOP II","ALPA-CD-013-2020","Contratos de prestación de servicios profesionales y de apoyo a la gestión","Contratación directa","Prestación de servicios profesionales y de apoyo a la gestión, o para la ejecución de trabajos artísticos que sólo puedan encomendarse a determinadas personas naturales;","El contratista se obliga con el Fondo de Desarrollo Local de Puente Aranda a apoyar el área de Gestión Policiva y Jurídica en el reparto y seguimiento de las actuaciones que se deriven de la aplicación de comparendos impuestos por la Policía Nacional","Inversión","Bogotá Mejor para Todos",45,{"$f":"IF(ISERROR(VLOOKUP(K26,Eje_Pilar_Prop!$C$2:$E$104,2,FALSE)),\" \",VLOOKUP(K26,Eje_Pilar_Prop!$C$2:$E$104,2,FALSE))","v":"Gobernanza e influencia local, regional e internacional"},{"$f":"IF(ISERROR(VLOOKUP(K26,Eje_Pilar_Prop!$C$2:$E$104,3,FALSE)),\" \",VLOOKUP(K26,Eje_Pilar_Prop!$C$2:$E$104,3,FALSE))","v":"Eje Transversal 4 Gobierno Legitimo, Fortalecimiento Local y Eficiencia"},"3-3-1-15-07- 45-1312-000 ",1033803220,"SEBASTIAN VARGAS RENTERIA",10400000,null,null,null,null,10400000,10400000,null,"2020-02-05","2020-06-04",120,null,null,null,null,null,null,null,null,"X",null,{"$f":"IF(ISERROR(W26/V26),\"-\",(W26/V26))","v":1},null,{"$f":"IF(SUMPRODUCT((A$14:A26=A26)*(B$14:B26=B26)*(D$14:D26=D26))>1,0,1)","v":1},"Contratos de prestación de servicios profesionales y de apoyo a la gestión","Contratación directa",{"$f":"IF(ISBLANK(G26),1,IFERROR(VLOOKUP(G26,Tipo!$C$12:$C$27,1,FALSE),\"NO\"))","v":"Prestación de servicios profesionales y de apoyo a la gestión, o para la ejecución de trabajos artísticos que sólo puedan encomendarse a determinadas personas naturales;"},"Inversión",{"$f":"IF(ISBLANK(K26),1,IFERROR(VLOOKUP(K26,Eje_Pilar_Prop!C8:C109,1,FALSE),\"NO\"))","v":45},"SECOP II",{"$f":"IF(OR(YEAR(X26)=2020,ISBLANK(X26)),1,\"NO\")","v":1},"Bogotá Mejor para Todos"]
[14,2020,"SECOP II","ALPA-CD-014-2020","Contratos de prestación de servicios profesionales y de apoyo a la gestión","Contratación directa","Prestación de servicios profesionales y de apoyo a la gestión, o para la ejecución de trabajos artísticos que sólo puedan encomendarse a determinadas personas naturales;","El Contratista se obliga con el Fondo de Desarrollo Local a prestar sus servicios profesionales para apoyar técnicamente las distintas etapas de los procesos de competencia de la Inspecciones de Policía de la Localidad de Puente Aranda, según reparto, de acuerdo con los estudios previos”.","Inversión","Bogotá Mejor para Todos",45,{"$f":"IF(ISERROR(VLOOKUP(K27,Eje_Pilar_Prop!$C$2:$E$104,2,FALSE)),\" \",VLOOKUP(K27,Eje_Pilar_Prop!$C$2:$E$104,2,FALSE))","v":"Gobernanza e influencia local, regional e internacional"},{"$f":"IF(ISERROR(VLOOKUP(K27,Eje_Pilar_Prop!$C$2:$E$104,3,FALSE)),\" \",VLOOKUP(K27,Eje_Pilar_Prop!$C$2:$E$104,3,FALSE))","v":"Eje Transversal 4 Gobierno Legitimo, Fortalecimiento Local y Eficiencia"},"3-3-1-15-07- 45-1312-000 ",79969466," \nLINA MARIA MOJICA",22000000,null,null,null,null,22000000,22000000,"2020-02-04","2020-02-10","2020-06-09",120,null,null,79969466,"IVAN ARTURO VARGAS CUÉLLAR","2020-02-10",22000000,null,null,"X",null,1,null,{"$f":"IF(SUMPRODUCT((A$14:A27=A27)*(B$14:B27=B27)*(D$14:D27=D27))>1,0,1)","v":1},null,"Contratación directa",{"$f":"IF(ISBLANK(G27),1,IFERROR(VLOOKUP(G27,Tipo!$C$12:$C$27,1,FALSE),\"NO\"))","v":"Prestación de servicios profesionales y de apoyo a la gestión, o para la ejecución de trabajos artísticos que sólo puedan encomendarse a determinadas personas naturales;"},"Inversión",{"$f":"IF(ISBLANK(K27),1,IFERROR(VLOOKUP(K27,Eje_Pilar_Prop!C9:C110,1,FALSE),\"NO\"))","v":45},"SECOP II",{"$f":"IF(OR(YEAR(X27)=2020,ISBLANK(X27)),1,\"NO\")","v":1},"Bogotá Mejor para Todos"]
[15,2020,"SECOP II","ALPA-CD-015-2020","Contratos de prestación de servicios profesionales y de apoyo a la gestión","Contratación directa","Prestación de servicios profesionales y de apoyo a la gestión, o para la ejecución de trabajos artísticos que sólo puedan encomendarse a determinadas personas naturales;","El Contratista se obliga con el Fondo de Desarrollo Local a prestar sus servicios profesionales para apoyar técnicamente las distintas etapas de los procesos de competencia de la Inspecciones de Policía de la Localidad de Puente Aranda, según reparto, de acuerdo con los estudios previos","Inversión","Bogotá Mejor para Todos",45,{"$f":"IF(ISERROR(VLOOKUP(K28,Eje_Pilar_Prop!$C$2:$E$104,2,FALSE)),\" \",VLOOKUP(K28,Eje_Pilar_Prop!$C$2:$E$104,2,FALSE))","v":"Gobernanza e influencia local, regional e internacional"},{"$f":"IF(ISERROR(VLOOKUP(K28,Eje_Pilar_Prop!$C$2:$E$104,3,FALSE)),\" \",VLOOKUP(K28,Eje_Pilar_Prop!$C$2:$E$104,3,FALSE))","v":"Eje Transversal 4 Gobierno Legitimo, Fortalecimiento Local y Eficiencia"},"3-3-1-15-07- 45-1312-000 ",53907315,"BEATRIZ HELENA PEREZ PARRA",22000000,null,null,null,null,22000000,22000000,"2020-02-04","2020-02-05","2020-06-04",120,null,null,null,null,null,null,null,null,"X",null,1,null,{"$f":"IF(SUMPRODUCT((A$14:A28=A28)*(B$14:B28=B28)*(D$14:D28=D28))>1,0,1)","v":1},"Contratos de prestación de servicios profesionales y de apoyo a la gestión","Contratación directa",{"$f":"IF(ISBLANK(G28),1,IFERROR(VLOOKUP(G28,Tipo!$C$12:$C$27,1,FALSE),\"NO\"))","v":"Prestación de servicios profesionales y de apoyo a la gestión, o para la ejecución de trabajos artísticos que sólo puedan encomendarse a determinadas personas naturales;"},"Inversión",{"$f":"IF(ISBLANK(K28),1,IFERROR(VLOOKUP(K28,Eje_Pilar_Prop!C10:C111,1,FALSE),\"NO\"))","v":45},"SECOP II",1,"Bogotá Mejor para Todos"]
[16,2020,"SECOP II","ALPA-CD-016-2020","Contratos de prestación de servicios profesionales y de apoyo a la gestión","Contratación directa","Prestación de servicios profesionales y de apoyo a la gestión, o para la ejecución de trabajos artísticos que sólo puedan encomendarse a determinadas personas naturales;","“El contratista se obliga con el Fondo de Desarrollo Local a prestar sus servicios como apoyo a la gestión del Área de Gestión Policiva y Jurídica en las diferentes actividades que se derivan de los procesos en la implementación de herramientas de gestión, siguiendo los lineamientos metodológicos establecidos por la Oficina Asesora de Planeación de la Secretaria Distrital de Gobierno, en lo relacionado con la administración documental, de acuerdo con los estudios previos.","Inversión","Bogotá Mejor para Todos",45,{"$f":"IF(ISERROR(VLOOKUP(K29,Eje_Pilar_Prop!$C$2:$E$104,2,FALSE)),\" \",VLOOKUP(K29,Eje_Pilar_Prop!$C$2:$E$104,2,FALSE))","v":"Gobernanza e influencia local, regional e internacional"},{"$f":"IF(ISERROR(VLOOKUP(K29,Eje_Pilar_Prop!$C$2:$E$104,3,FALSE)),\" \",VLOOKUP(K29,Eje_Pilar_Prop!$C$2:$E$104,3,FALSE))","v":"Eje Transversal 4 Gobierno Legitimo, Fortalecimiento Local y Eficiencia"},"3-3-1-15-07- 45-1312-000 ",80831434,"JOSE DAVID QUINTERO PEÑA",10000000,null,null,1,2500000,12500000,12500000,"2020-02-04","2020-02-05","2020-06-04",120,1,30,null,null,null,null,null,null,"X",null,1,null,{"$f":"IF(SUMPRODUCT((A$14:A29=A29)*(B$14:B29=B29)*(D$14:D29=D29))>1,0,1)","v":1},"Contratos de prestación de servicios profesionales y de apoyo a la gestión","Contratación directa",{"$f":"IF(ISBLANK(G29),1,IFERROR(VLOOKUP(G29,Tipo!$C$12:$C$27,1,FALSE),\"NO\"))","v":"Prestación de servicios profesionales y de apoyo a la gestión, o para la ejecución de trabajos artísticos que sólo puedan encomendarse a determinadas personas naturales;"},"Inversión",{"$f":"IF(ISBLANK(K29),1,IFERROR(VLOOKUP(K29,Eje_Pilar_Prop!C11:C112,1,FALSE),\"NO\"))","v":45},"SECOP II",1,"Bogotá Mejor para Todos"]
[17,2020,"SECOP II","ALPA-CD-017-2020","Contratos de prestación de servicios profesionales y de apoyo a la gestión","Contratación directa","Prestación de servicios profesionales y de apoyo a la gestión, o para la ejecución de trabajos artísticos que sólo puedan encomendarse a determinadas personas naturales;","“El Contratista se obliga con el Fondo de Desarrollo Local a prestar sus servicios profesionales para apoyar técnicamente las distintas etapas de los procesos de competencia de la Inspecciones de Policía de la Localidad de Puente Aranda, según reparto, de acuerdo con los estudios previos”","Inversión","Bogotá Mejor para Todos",45,{"$f":"IF(ISERROR(VLOOKUP(K30,Eje_Pilar_Prop!$C$2:$E$104,2,FALSE)),\" \",VLOOKUP(K30,Eje_Pilar_Prop!$C$2:$E$104,2,FALSE))","v":"Gobernanza e influencia local, regional e internacional"},{"$f":"IF(ISERROR(VLOOKUP(K30,Eje_Pilar_Prop!$C$2:$E$104,3,FALSE)),\" \",VLOOKUP(K30,Eje_Pilar_Prop!$C$2:$E$104,3,FALSE))","v":"Eje Transversal 4 Gobierno Legitimo, Fortalecimiento Local y Eficiencia"},"3-3-1-15-07- 45-1312-000 ",51809461,"NELCY LUCIA PRIETO TRIANA",22000000,null,null,null,null,22000000,22000000,"2020-02-04","2020-02-05","2020-06-04",120,null,null,null,null,null,null,null,null,"X",null,1,null,{"$f":"IF(SUMPRODUCT((A$14:A30=A30)*(B$14:B30=B30)*(D$14:D30=D30))>1,0,1)","v":1},"Contratos de prestación de servicios profesionales y de apoyo a la gestión","Contratación directa",{"$f":"IF(ISBLANK(G30),1,IFERROR(VLOOKUP(G30,Tipo!$C$12:$C$27,1,FALSE),\"NO\"))","v":"Prestación de servicios profesionales y de apoyo a la gestión, o para la ejecución de trabajos artísticos que sólo puedan encomendarse a determinadas personas naturales;"},"Inversión",{"$f":"IF(ISBLANK(K30),1,IFERROR(VLOOKUP(K30,Eje_Pilar_Prop!C12:C113,1,FALSE),\"NO\"))","v":45},"SECOP II",1,"Bogotá Mejor para Todos"]
[18,2020,"SECOP II","ALPA-CD-018-2020","Contratos de prestación de servicios profesionales y de apoyo a la gestión","Contratación directa","Prestación de servicios profesionales y de apoyo a la gestión, o para la ejecución de trabajos artísticos que sólo puedan encomendarse a determinadas personas naturales;","Prestar los servicios profesionales para la operacidn, prestacion, seguimiento y cumplimiento de los procedimientos administrativos, operativos y programaticos del Servicio Apoyo Economico Tipo C, que contribuyan a la garantia de los derechos de la poblacion mayor en el marco de la Politica Publica Social para el Envejecimiento y la Vejez en el Distrito Capital a cargo de la Alcaldia Local, de acuerdo con los estudios previos\"__","Inversión","Bogotá Mejor para Todos",45,{"$f":"IF(ISERROR(VLOOKUP(K31,Eje_Pilar_Prop!$C$2:$E$104,2,FALSE)),\" \",VLOOKUP(K31,Eje_Pilar_Prop!$C$2:$E$104,2,FALSE))","v":"Gobernanza e influencia local, regional e internacional"},{"$f":"IF(ISERROR(VLOOKUP(K31,Eje_Pilar_Prop!$C$2:$E$104,3,FALSE)),\" \",VLOOKUP(K31,Eje_Pilar_Prop!$C$2:$E$104,3,FALSE))","v":"Eje Transversal 4 Gobierno Legitimo, Fortalecimiento Local y Eficiencia"},"3-3-1-15-01-03-1286-000",45563522,"JEIMY PAOLA RAMIREZ VILLAMIL",18000000,null,null,null,null,18000000,18000000,"2020-02-04","2020-02-05","2020-06-04",120,null,null,null,null,null,null,null,null,"X",null,1,null,{"$f":"IF(SUMPRODUCT((A$14:A31=A31)*(B$14:B31=B31)*(D$14:D31=D31))>1,0,1)","v":1},"Contratos de prestación de servicios profesionales y de apoyo a la gestión","Contratación directa",{"$f":"IF(ISBLANK(G31),1,IFERROR(VLOOKUP(G31,Tipo!$C$12:$C$27,1,FALSE),\"NO\"))","v":"Prestación de servicios profesionales y de apoyo a la gestión, o para la ejecución de trabajos artísticos que sólo puedan encomendarse a determinadas personas naturales;"},"Inversión",{"$f":"IF(ISBLANK(K31),1,IFERROR(VLOOKUP(K31,Eje_Pilar_Prop!C13:C114,1,FALSE),\"NO\"))","v":45},"SECOP II",1,"Bogotá Mejor para Todos"]
[19,2020,"SECOP II","ALPA-CD-019-2020","Contratos de prestación de servicios profesionales y de apoyo a la gestión","Contratación directa","Prestación de servicios profesionales y de apoyo a la gestión, o para la ejecución de trabajos artísticos que sólo puedan encomendarse a determinadas personas naturales;","El contratista se obliga con el Fondo de Desarrollo Local de Puente Aranda a prestar los servicios profesionales para apoyar al (la) Alcalde(sa) Local en la gestión de los asuntos relacionados con seguridad ciudadana, convivencia y prevención de conflictos, violencias y delitos en la localidad, de conformidad con el marco normativo aplicable en la materia de acuerdo con los estudios previos","Inversión","Bogotá Mejor para Todos",45,{"$f":"IF(ISERROR(VLOOKUP(K32,Eje_Pilar_Prop!$C$2:$E$104,2,FALSE)),\" \",VLOOKUP(K32,Eje_Pilar_Prop!$C$2:$E$104,2,FALSE))","v":"Gobernanza e influencia local, regional e internacional"},{"$f":"IF(ISERROR(VLOOKUP(K32,Eje_Pilar_Prop!$C$2:$E$104,3,FALSE)),\" \",VLOOKUP(K32,Eje_Pilar_Prop!$C$2:$E$104,3,FALSE))","v":"Eje Transversal 4 Gobierno Legitimo, Fortalecimiento Local y Eficiencia"},"3-3-1-15-03-1310-000",80055625,"JUAN CAMILO GARZON NIÑO",18800000,null,null,1,4700000,23500000,23500000,"2020-02-04","2020-02-05","2020-06-04",120,1,30,null,null,null,null,null,null,"X",null,1,null,{"$f":"IF(SUMPRODUCT((A$14:A32=A32)*(B$14:B32=B32)*(D$14:D32=D32))>1,0,1)","v":1},"Contratos de prestación de servicios profesionales y de apoyo a la gestión","Contratación directa",{"$f":"IF(ISBLANK(G32),1,IFERROR(VLOOKUP(G32,Tipo!$C$12:$C$27,1,FALSE),\"NO\"))","v":"Prestación de servicios profesionales y de apoyo a la gestión, o para la ejecución de trabajos artísticos que sólo puedan encomendarse a determinadas personas naturales;"},"Inversión",{"$f":"IF(ISBLANK(K32),1,IFERROR(VLOOKUP(K32,Eje_Pilar_Prop!C14:C115,1,FALSE),\"NO\"))","v":45},"SECOP II",1,"Bogotá Mejor para Todos"]
[20,2020,"SECOP II","ALPA-CD-020-2020","Contratos de prestación de servicios profesionales y de apoyo a la gestión","Contratación directa","Prestación de servicios profesionales y de apoyo a la gestión, o para la ejecución de trabajos artísticos que sólo puedan encomendarse a determinadas personas naturales;","Prestación de servicios técnicos para apoyar las etapas precontractual, contractual y post-contractual de los procesos de adquisición de bienes y servicios que realice el Fondo de Desarrollo Local de Puente Aranda, de acuerdo con los estudios •revios ","Inversión","Bogotá Mejor para Todos",45,{"$f":"IF(ISERROR(VLOOKUP(K33,Eje_Pilar_Prop!$C$2:$E$104,2,FALSE)),\" \",VLOOKUP(K33,Eje_Pilar_Prop!$C$2:$E$104,2,FALSE))","v":"Gobernanza e influencia local, regional e internacional"},{"$f":"IF(ISERROR(VLOOKUP(K33,Eje_Pilar_Prop!$C$2:$E$104,3,FALSE)),\" \",VLOOKUP(K33,Eje_Pilar_Prop!$C$2:$E$104,3,FALSE))","v":"Eje Transversal 4 Gobierno Legitimo, Fortalecimiento Local y Eficiencia"},"3-3-1-15-07- 45-1312-000 ",1015407312,"ANDREA CATALINA GARCIA FLOREZ",14000000,null,null,null,null,14000000,14000000,"2020-02-04","2020-02-05","2020-06-04",120,null,null,null,null,null,null,null,null,"X",null,1,null,{"$f":"IF(SUMPRODUCT((A$14:A33=A33)*(B$14:B33=B33)*(D$14:D33=D33))>1,0,1)","v":1},"Contratos de prestación de servicios profesionales y de apoyo a la gestión","Contratación directa",{"$f":"IF(ISBLANK(G33),1,IFERROR(VLOOKUP(G33,Tipo!$C$12:$C$27,1,FALSE),\"NO\"))","v":"Prestación de servicios profesionales y de apoyo a la gestión, o para la ejecución de trabajos artísticos que sólo puedan encomendarse a determinadas personas naturales;"},"Inversión",{"$f":"IF(ISBLANK(K33),1,IFERROR(VLOOKUP(K33,Eje_Pilar_Prop!C15:C116,1,FALSE),\"NO\"))","v":45},"SECOP II",1,"Bogotá Mejor para Todos"]
[21,2020,"SECOP II","ALPA-CD-021-2020","Contratos de prestación de servicios profesionales y de apoyo a la gestión","Contratación directa","Prestación de servicios profesionales y de apoyo a la gestión, o para la ejecución de trabajos artísticos que sólo puedan encomendarse a determinadas personas naturales;","Prestar los servicios profesionales para la operación, prestación, seguimiento y cumplimiento de los procedimientos administrativos, operativos y programáticos del Servicio Apoyo Económico Tipo C, que contribuyan a la garantía de los derechos de la población mayor en el marco de la Política Pública Social para el Envejecimiento y la Vejez\" en el Distrito Capital a cargo de la Alcaldía Loca!, de acuerdo con los estudios previos","Inversión","Bogotá Mejor para Todos",45,{"$f":"IF(ISERROR(VLOOKUP(K34,Eje_Pilar_Prop!$C$2:$E$104,2,FALSE)),\" \",VLOOKUP(K34,Eje_Pilar_Prop!$C$2:$E$104,2,FALSE))","v":"Gobernanza e influencia local, regional e internacional"},{"$f":"IF(ISERROR(VLOOKUP(K34,Eje_Pilar_Prop!$C$2:$E$104,3,FALSE)),\" \",VLOOKUP(K34,Eje_Pilar_Prop!$C$2:$E$104,3,FALSE))","v":"Eje Transversal 4 Gobierno Legitimo, Fortalecimiento Local y Eficiencia"},"3-3-1-15-01-03-1286-000",80054462,"WILLIAM PADILLA GONZALEZ",18800000,null,null,null,null,18800000,18800000,"2020-02-05","2020-02-06","2020-06-05",120,null,null,null,null,null,null,null,null,"X",null,1,null,{"$f":"IF(SUMPRODUCT((A$14:A34=A34)*(B$14:B34=B34)*(D$14:D34=D34))>1,0,1)","v":1},"Contratos de prestación de servicios profesionales y de apoyo a la gestión","Contratación directa",{"$f":"IF(ISBLANK(G34),1,IFERROR(VLOOKUP(G34,Tipo!$C$12:$C$27,1,FALSE),\"NO\"))","v":"Prestación de servicios profesionales y de apoyo a la gestión, o para la ejecución de trabajos artísticos que sólo puedan encomendarse a determinadas personas naturales;"},"Inversión",{"$f":"IF(ISBLANK(K34),1,IFERROR(VLOOKUP(K34,Eje_Pilar_Prop!C16:C117,1,FALSE),\"NO\"))","v":45},"SECOP II",null,"Bogotá Mejor para Todos"]
[22,2020,"SECOP II","ALPA-CD-022-2020","Contratos de prestación de servicios profesionales y de apoyo a la gestión","Contratación directa","Prestación de servicios profesionales y de apoyo a la gestión, o para la ejecución de trabajos artísticos que sólo puedan encomendarse a determinadas personas naturales;","El contratista se obliga con El Fondo de DesarrolloLocal de Puente Aranda a apoyar al equipo de prensa y comunicaciones de la Alcaldía Local en larealización de productos y piezas digitales, impresas y publicitarias de gran formato y de animación gráfica,así como apoyar la producción y montaje de eventos., de conformidad con los estudios previo","Inversión","Bogotá Mejor para Todos",45,{"$f":"IF(ISERROR(VLOOKUP(K35,Eje_Pilar_Prop!$C$2:$E$104,2,FALSE)),\" \",VLOOKUP(K35,Eje_Pilar_Prop!$C$2:$E$104,2,FALSE))","v":"Gobernanza e influencia local, regional e internacional"},{"$f":"IF(ISERROR(VLOOKUP(K35,Eje_Pilar_Prop!$C$2:$E$104,3,FALSE)),\" \",VLOOKUP(K35,Eje_Pilar_Prop!$C$2:$E$104,3,FALSE))","v":"Eje Transversal 4 Gobierno Legitimo, Fortalecimiento Local y Eficiencia"},"3-3-1-15-07- 45-1312-000 ",1031152615,"ANGGY LORENA MARTINEZ DIAZ",16000000,null,null,null,null,16000000,16000000,"2020-02-05","2020-02-06","2020-06-05",120,null,null,null,null,null,null,null,null,"X",null,1,null,{"$f":"IF(SUMPRODUCT((A$14:A35=A35)*(B$14:B35=B35)*(D$14:D35=D35))>1,0,1)","v":1},"Contratos de prestación de servicios profesionales y de apoyo a la gestión","Contratación directa",{"$f":"IF(ISBLANK(G35),1,IFERROR(VLOOKUP(G35,Tipo!$C$12:$C$27,1,FALSE),\"NO\"))","v":"Prestación de servicios profesionales y de apoyo a la gestión, o para la ejecución de trabajos artísticos que sólo puedan encomendarse a determinadas personas naturales;"},"Inversión",{"$f":"IF(ISBLANK(K35),1,IFERROR(VLOOKUP(K35,Eje_Pilar_Prop!C17:C118,1,FALSE),\"NO\"))","v":45},"SECOP II",1,"Bogotá Mejor para Todos"]
[23,2020,"SECOP II","ALPA-CD-023-2020","Contratos de prestación de servicios profesionales y de apoyo a la gestión","Contratación directa","Prestación de servicios profesionales y de apoyo a la gestión, o para la ejecución de trabajos artísticos que sólo puedan encomendarse a determinadas personas naturales;","El contratista se obliga con el Fondo de Desarrollo Local de Puente Aranda a apoyar al Alcalde Local en la formulación, seguimiento e implementación de la estrategia local para la terminación jurídica de las actuaciones administrativas que cursan en la Alcaldía Local”.","Inversión","Bogotá Mejor para Todos",45,{"$f":"IF(ISERROR(VLOOKUP(K36,Eje_Pilar_Prop!$C$2:$E$104,2,FALSE)),\" \",VLOOKUP(K36,Eje_Pilar_Prop!$C$2:$E$104,2,FALSE))","v":"Gobernanza e influencia local, regional e internacional"},{"$f":"IF(ISERROR(VLOOKUP(K36,Eje_Pilar_Prop!$C$2:$E$104,3,FALSE)),\" \",VLOOKUP(K36,Eje_Pilar_Prop!$C$2:$E$104,3,FALSE))","v":"Eje Transversal 4 Gobierno Legitimo, Fortalecimiento Local y Eficiencia"},"3-3-1-15-07- 45-1312-000 ",41538642,"NOHRA GEMA GÒMEZ TORRES",29200000,null,null,null,null,29200000,29200000,"2020-02-05","2020-02-06","2020-06-05",120,null,null,null,null,null,null,null,null,"X",null,1,null,{"$f":"IF(SUMPRODUCT((A$14:A36=A36)*(B$14:B36=B36)*(D$14:D36=D36))>1,0,1)","v":1},"Contratos de prestación de servicios profesionales y de apoyo a la gestión","Contratación directa",{"$f":"IF(ISBLANK(G36),1,IFERROR(VLOOKUP(G36,Tipo!$C$12:$C$27,1,FALSE),\"NO\"))","v":"Prestación de servicios profesionales y de apoyo a la gestión, o para la ejecución de trabajos artísticos que sólo puedan encomendarse a determinadas personas naturales;"},"Inversión",{"$f":"IF(ISBLANK(K36),1,IFERROR(VLOOKUP(K36,Eje_Pilar_Prop!C18:C119,1,FALSE),\"NO\"))","v":45},"SECOP II",1,"Bogotá Mejor para Todos"]
[24,2020,"SECOP II","ALPA-CD-024-2020","Contratos de prestación de servicios profesionales y de apoyo a la gestión","Contratación directa","Prestación de servicios profesionales y de apoyo a la gestión, o para la ejecución de trabajos artísticos que sólo puedan encomendarse a determinadas personas naturales;","El contratista se obliga con el Fondo de Desarrollo Local de Puente Aranda a prestar sus servicios profesionales para apoyar las actividades y programas que promuevan el ejercicio del derecho a la participación, así como los procesos comunitarios en la localidad, de acuerdo con los estudios previos.”","Inversión","Bogotá Mejor para Todos",45,{"$f":"IF(ISERROR(VLOOKUP(K37,Eje_Pilar_Prop!$C$2:$E$104,2,FALSE)),\" \",VLOOKUP(K37,Eje_Pilar_Prop!$C$2:$E$104,2,FALSE))","v":"Gobernanza e influencia local, regional e internacional"},{"$f":"IF(ISERROR(VLOOKUP(K37,Eje_Pilar_Prop!$C$2:$E$104,3,FALSE)),\" \",VLOOKUP(K37,Eje_Pilar_Prop!$C$2:$E$104,3,FALSE))","v":"Eje Transversal 4 Gobierno Legitimo, Fortalecimiento Local y Eficiencia"},"3-3-1-15-07-45-1289-000",52953158,"LILAURA GUZMAN MARIN",16800000,null,null,null,null,16800000,16800000,"2020-02-06","2020-02-06","2020-06-05",120,null,null,null,null,null,null,null,null,"X",null,1,null,{"$f":"IF(SUMPRODUCT((A$14:A37=A37)*(B$14:B37=B37)*(D$14:D37=D37))>1,0,1)","v":1},"Contratos de prestación de servicios profesionales y de apoyo a la gestión","Contratación directa",{"$f":"IF(ISBLANK(G37),1,IFERROR(VLOOKUP(G37,Tipo!$C$12:$C$27,1,FALSE),\"NO\"))","v":"Prestación de servicios profesionales y de apoyo a la gestión, o para la ejecución de trabajos artísticos que sólo puedan encomendarse a determinadas personas naturales;"},"Inversión",{"$f":"IF(ISBLANK(K37),1,IFERROR(VLOOKUP(K37,Eje_Pilar_Prop!C19:C120,1,FALSE),\"NO\"))","v":45},"SECOP II",1,"Bogotá Mejor para Todos"]
[25,2020,"SECOP II","ALPA-CD-025-2020","Contratos de prestación de servicios profesionales y de apoyo a la gestión","Contratación directa","Prestación de servicios profesionales y de apoyo a la gestión, o para la ejecución de trabajos artísticos que sólo puedan encomendarse a determinadas personas naturales;","El contratista se obliga con el Fondo de Desarrollo Local de Puente Aranda a prestar sus servicios profesionales para apoyar las actividades y programas que promuevan el ejercicio del derecho a la participación, así como los procesos comunitarios en la localidad, de acuerdo con los estudios previos.”","Inversión","Bogotá Mejor para Todos",45,{"$f":"IF(ISERROR(VLOOKUP(K38,Eje_Pilar_Prop!$C$2:$E$104,2,FALSE)),\" \",VLOOKUP(K38,Eje_Pilar_Prop!$C$2:$E$104,2,FALSE))","v":"Gobernanza e influencia local, regional e internacional"},{"$f":"IF(ISERROR(VLOOKUP(K38,Eje_Pilar_Prop!$C$2:$E$104,3,FALSE)),\" \",VLOOKUP(K38,Eje_Pilar_Prop!$C$2:$E$104,3,FALSE))","v":"Eje Transversal 4 Gobierno Legitimo, Fortalecimiento Local y Eficiencia"},"3-3-1-15-07-45-1289-000",52935032,"GINA VANESSA SILVA",16800000,null,null,null,null,16800000,16800000,"2020-02-05","2020-02-06","2020-06-05",120,null,null,null,null,null,null,null,null,"X",null,1,null,{"$f":"IF(SUMPRODUCT((A$14:A38=A38)*(B$14:B38=B38)*(D$14:D38=D38))>1,0,1)","v":1},"Contratos de prestación de servicios profesionales y de apoyo a la gestión","Contratación directa",{"$f":"IF(ISBLANK(G38),1,IFERROR(VLOOKUP(G38,Tipo!$C$12:$C$27,1,FALSE),\"NO\"))","v":"Prestación de servicios profesionales y de apoyo a la gestión, o para la ejecución de trabajos artísticos que sólo puedan encomendarse a determinadas personas naturales;"},"Inversión",{"$f":"IF(ISBLANK(K38),1,IFERROR(VLOOKUP(K38,Eje_Pilar_Prop!C20:C121,1,FALSE),\"NO\"))","v":45},"SECOP II",1,"Bogotá Mejor para Todos"]
[26,2020,"SECOP II","ALPA-CD-026-2020","Contratos de prestación de servicios profesionales y de apoyo a la gestión","Contratación directa","Prestación de servicios profesionales y de apoyo a la gestión, o para la ejecución de trabajos artísticos que sólo puedan encomendarse a determinadas personas naturales;","El contratista se obliga con el Fondo de Desarrollo Local de la Alcaldia de Puente Aranda a prestar sus servicios profesionales para: Apoyar jundicamente la ejecucion de las acciones requeridas para la depuracibn de las actuaciones administrativas que cursan en la Alcaldia Local, relacionadas con Espacio Publico del Area de Gestion Policiva y Jundica”","Inversión","Bogotá Mejor para Todos",19,{"$f":"IF(ISERROR(VLOOKUP(K39,Eje_Pilar_Prop!$C$2:$E$104,2,FALSE)),\" \",VLOOKUP(K39,Eje_Pilar_Prop!$C$2:$E$104,2,FALSE))","v":"Seguridad y convivencia para todos"},{"$f":"IF(ISERROR(VLOOKUP(K39,Eje_Pilar_Prop!$C$2:$E$104,3,FALSE)),\" \",VLOOKUP(K39,Eje_Pilar_Prop!$C$2:$E$104,3,FALSE))","v":"Pilar 3 Construcción de Comunidad y Cultura Ciudadana"}," 3-3-1-15-07-\n45-1310-000 ",1013583600,"\nPATRICIA CEBALLOS ORDOÑEZ",18800000,null,null,null,null,18800000,18800000,"2020-02-06","2020-02-07","2020-06-06",120,null,null,1013583600,"ABRAHAM PEREZ ROMERO","2020-03-13",12533333,null,null,"X",null,1,null,{"$f":"IF(SUMPRODUCT((A$14:A39=A39)*(B$14:B39=B39)*(D$14:D39=D39))>1,0,1)","v":1},"Contratos de prestación de servicios profesionales y de apoyo a la gestión","Contratación directa",{"$f":"IF(ISBLANK(G39),1,IFERROR(VLOOKUP(G39,Tipo!$C$12:$C$27,1,FALSE),\"NO\"))","v":"Prestación de servicios profesionales y de apoyo a la gestión, o para la ejecución de trabajos artísticos que sólo puedan encomendarse a determinadas personas naturales;"},"Inversión",{"$f":"IF(ISBLANK(K39),1,IFERROR(VLOOKUP(K39,Eje_Pilar_Prop!C21:C122,1,FALSE),\"NO\"))","v":19},"SECOP II",1,"Bogotá Mejor para Todos"]
[27,2020,"SECOP II","ALPA-CD-027-2020","Contratos de prestación de servicios profesionales y de apoyo a la gestión","Contratación directa","Prestación de servicios profesionales y de apoyo a la gestión, o para la ejecución de trabajos artísticos que sólo puedan encomendarse a determinadas personas naturales;","El Contratista se obliga con el Fondo de Desarrollo Local a prestar los servicios como notificador para la distribucion de la correspondencia de las diferentes dependencias de la Alcaldfa Local, de acuerdo con los estudios previos","Inversión","Bogotá Mejor para Todos",45,{"$f":"IF(ISERROR(VLOOKUP(K40,Eje_Pilar_Prop!$C$2:$E$104,2,FALSE)),\" \",VLOOKUP(K40,Eje_Pilar_Prop!$C$2:$E$104,2,FALSE))","v":"Gobernanza e influencia local, regional e internacional"},{"$f":"IF(ISERROR(VLOOKUP(K40,Eje_Pilar_Prop!$C$2:$E$104,3,FALSE)),\" \",VLOOKUP(K40,Eje_Pilar_Prop!$C$2:$E$104,3,FALSE))","v":"Eje Transversal 4 Gobierno Legitimo, Fortalecimiento Local y Eficiencia"},"3-3-1-15-07- 45-1312-000 ",1030632130,"LUIS GUILLERMO NEISA LOPEZ",9200000,null,null,null,null,9200000,9200000,"2020-02-06","2020-02-07","2020-06-06",120,null,null,null,null,null,null,null,null,"X",null,1,null,{"$f":"IF(SUMPRODUCT((A$14:A40=A40)*(B$14:B40=B40)*(D$14:D40=D40))>1,0,1)","v":1},"Contratos de prestación de servicios profesionales y de apoyo a la gestión","Contratación directa",{"$f":"IF(ISBLANK(G40),1,IFERROR(VLOOKUP(G40,Tipo!$C$12:$C$27,1,FALSE),\"NO\"))","v":"Prestación de servicios profesionales y de apoyo a la gestión, o para la ejecución de trabajos artísticos que sólo puedan encomendarse a determinadas personas naturales;"},"Inversión",{"$f":"IF(ISBLANK(K40),1,IFERROR(VLOOKUP(K40,Eje_Pilar_Prop!C22:C123,1,FALSE),\"NO\"))","v":45},"SECOP II",1,"Bogotá Mejor para Todos"]
[28,2020,"SECOP II","ALPA-CD-028-2020","Contratos de prestación de servicios profesionales y de apoyo a la gestión","Contratación directa","Prestación de servicios profesionales y de apoyo a la gestión, o para la ejecución de trabajos artísticos que sólo puedan encomendarse a determinadas personas naturales;","El Contratista se obliga con el Fondo de Desarrollo Local a prestar los servicios como notificador para la distribucion de la correspondencia de las diferentes dependencias de la Alcaldfa Local, de acuerdo con los estudios previos”","Inversión","Bogotá Mejor para Todos",45,{"$f":"IF(ISERROR(VLOOKUP(K41,Eje_Pilar_Prop!$C$2:$E$104,2,FALSE)),\" \",VLOOKUP(K41,Eje_Pilar_Prop!$C$2:$E$104,2,FALSE))","v":"Gobernanza e influencia local, regional e internacional"},{"$f":"IF(ISERROR(VLOOKUP(K41,Eje_Pilar_Prop!$C$2:$E$104,3,FALSE)),\" \",VLOOKUP(K41,Eje_Pilar_Prop!$C$2:$E$104,3,FALSE))","v":"Eje Transversal 4 Gobierno Legitimo, Fortalecimiento Local y Eficiencia"},"3-3-1-15-07- 45-1312-000 ",80113532,"DEINIS FILIMON BARBOSA CRISTANCJHO",9200000,null,null,null,null,9200000,9200000,"2020-02-06","2020-02-07","2020-06-06",120,null,null,null,null,null,null,null,null,"X",null,1,null,{"$f":"IF(SUMPRODUCT((A$14:A41=A41)*(B$14:B41=B41)*(D$14:D41=D41))>1,0,1)","v":1},"Contratos de prestación de servicios profesionales y de apoyo a la gestión","Contratación directa",{"$f":"IF(ISBLANK(G41),1,IFERROR(VLOOKUP(G41,Tipo!$C$12:$C$27,1,FALSE),\"NO\"))","v":"Prestación de servicios profesionales y de apoyo a la gestión, o para la ejecución de trabajos artísticos que sólo puedan encomendarse a determinadas personas naturales;"},"Inversión",{"$f":"IF(ISBLANK(K41),1,IFERROR(VLOOKUP(K41,Eje_Pilar_Prop!C23:C124,1,FALSE),\"NO\"))","v":45},"SECOP II",1,"Bogotá Mejor para Todos"]
[29,2020,"SECOP II","ALPA-CD-029-2020","Contratos de prestación de servicios profesionales y de apoyo a la gestión","Contratación directa","Prestación de servicios profesionales y de apoyo a la gestión, o para la ejecución de trabajos artísticos que sólo puedan encomendarse a determinadas personas naturales;","El contratista se obliga con el Fondo de Desarrollo Local de la Alcaldía de Puente Aranda a prestar sus servicios profesionales para: Apoyar jurídicamente la ejecución de las acciones requeridas para la depuración de las actuaciones administrativas que cursan en la Alcaldía Local.","Inversión","Bogotá Mejor para Todos",45,{"$f":"IF(ISERROR(VLOOKUP(K42,Eje_Pilar_Prop!$C$2:$E$104,2,FALSE)),\" \",VLOOKUP(K42,Eje_Pilar_Prop!$C$2:$E$104,2,FALSE))","v":"Gobernanza e influencia local, regional e internacional"},{"$f":"IF(ISERROR(VLOOKUP(K42,Eje_Pilar_Prop!$C$2:$E$104,3,FALSE)),\" \",VLOOKUP(K42,Eje_Pilar_Prop!$C$2:$E$104,3,FALSE))","v":"Eje Transversal 4 Gobierno Legitimo, Fortalecimiento Local y Eficiencia"},"3-3-1-15-07- 45-1312-000 ",1065578059,"JAIRO ANTONIO QUIROZ HURTADO",18800000,null,null,null,null,18800000,18800000,"2020-02-06","2020-02-07","2020-06-06",120,null,null,null,null,null,null,null,null,"X",null,1,null,{"$f":"IF(SUMPRODUCT((A$14:A42=A42)*(B$14:B42=B42)*(D$14:D42=D42))>1,0,1)","v":1},"Contratos de prestación de servicios profesionales y de apoyo a la gestión","Contratación directa",{"$f":"IF(ISBLANK(G42),1,IFERROR(VLOOKUP(G42,Tipo!$C$12:$C$27,1,FALSE),\"NO\"))","v":"Prestación de servicios profesionales y de apoyo a la gestión, o para la ejecución de trabajos artísticos que sólo puedan encomendarse a determinadas personas naturales;"},"Inversión",{"$f":"IF(ISBLANK(K42),1,IFERROR(VLOOKUP(K42,Eje_Pilar_Prop!C24:C125,1,FALSE),\"NO\"))","v":45},"SECOP II",1,"Bogotá Mejor para Todos"]
[30,2020,"SECOP II","ALPA-CD-030-2020","Contratos de prestación de servicios profesionales y de apoyo a la gestión","Contratación directa","Prestación de servicios profesionales y de apoyo a la gestión, o para la ejecución de trabajos artísticos que sólo puedan encomendarse a determinadas personas naturales;","Prestacion de servicios profesionales para adelantar tramites precontractuales, contractuales y post-contractuales en el marco de los proyectos contemplados en el Plan de Desarrollo Economico, Social, Ambiental y de Obras Publicas para la localidad de Puente Aranda y el plan de contratacion, asi como las labores de liquidacion de contratos y convenios suscritos con cargo a los recursos del Fondo de Desarrollo Local y depuracion de obligaciones por pagar’","Inversión","Bogotá Mejor para Todos",45,{"$f":"IF(ISERROR(VLOOKUP(K43,Eje_Pilar_Prop!$C$2:$E$104,2,FALSE)),\" \",VLOOKUP(K43,Eje_Pilar_Prop!$C$2:$E$104,2,FALSE))","v":"Gobernanza e influencia local, regional e internacional"},{"$f":"IF(ISERROR(VLOOKUP(K43,Eje_Pilar_Prop!$C$2:$E$104,3,FALSE)),\" \",VLOOKUP(K43,Eje_Pilar_Prop!$C$2:$E$104,3,FALSE))","v":"Eje Transversal 4 Gobierno Legitimo, Fortalecimiento Local y Eficiencia"},"3-3-1-15-07- 45-1312-000 ",46665854,"GLORIA STELLA ROBALLO OLMOS",18800000,null,null,null,null,18800000,18800000,"2020-02-06","2020-02-11","2020-06-10",120,null,null,null,null,null,null,null,null,"X",null,1,null,{"$f":"IF(SUMPRODUCT((A$14:A43=A43)*(B$14:B43=B43)*(D$14:D43=D43))>1,0,1)","v":1},"Contratos de prestación de servicios profesionales y de apoyo a la gestión","Contratación directa",{"$f":"IF(ISBLANK(G43),1,IFERROR(VLOOKUP(G43,Tipo!$C$12:$C$27,1,FALSE),\"NO\"))","v":"Prestación de servicios profesionales y de apoyo a la gestión, o para la ejecución de trabajos artísticos que sólo puedan encomendarse a determinadas personas naturales;"},"Inversión",{"$f":"IF(ISBLANK(K43),1,IFERROR(VLOOKUP(K43,Eje_Pilar_Prop!C25:C126,1,FALSE),\"NO\"))","v":45},"SECOP II",1,"Bogotá Mejor para Todos"]
[31,2020,"SECOP II","ALPA-CD-031-2020","Contratos de prestación de servicios profesionales y de apoyo a la gestión","Contratación directa","Prestación de servicios profesionales y de apoyo a la gestión, o para la ejecución de trabajos artísticos que sólo puedan encomendarse a determinadas personas naturales;","El Contratista se obliga con el Fondo de Desarrollo Local de la Alcaldía Local de Puente Aranda a prestar el servicio de conducción para los vehículos propiedad del Fondo de Desarrollo Local y los que se le asignen, de conformidad con los estudios previos","Inversión","Bogotá Mejor para Todos",45,{"$f":"IF(ISERROR(VLOOKUP(K44,Eje_Pilar_Prop!$C$2:$E$104,2,FALSE)),\" \",VLOOKUP(K44,Eje_Pilar_Prop!$C$2:$E$104,2,FALSE))","v":"Gobernanza e influencia local, regional e internacional"},{"$f":"IF(ISERROR(VLOOKUP(K44,Eje_Pilar_Prop!$C$2:$E$104,3,FALSE)),\" \",VLOOKUP(K44,Eje_Pilar_Prop!$C$2:$E$104,3,FALSE))","v":"Eje Transversal 4 Gobierno Legitimo, Fortalecimiento Local y Eficiencia"},"3-3-1-15-07- 45-1312-000 ",79744841,"EDGAR BUSTOS BARON",9200000,null,null,null,null,9200000,9200000,"2020-02-06","2020-02-07","2020-06-06",120,null,null,null,null,null,null,null,null,"X",null,1,null,{"$f":"IF(SUMPRODUCT((A$14:A44=A44)*(B$14:B44=B44)*(D$14:D44=D44))>1,0,1)","v":1},"Contratos de prestación de servicios profesionales y de apoyo a la gestión","Contratación directa",{"$f":"IF(ISBLANK(G44),1,IFERROR(VLOOKUP(G44,Tipo!$C$12:$C$27,1,FALSE),\"NO\"))","v":"Prestación de servicios profesionales y de apoyo a la gestión, o para la ejecución de trabajos artísticos que sólo puedan encomendarse a determinadas personas naturales;"},"Inversión",{"$f":"IF(ISBLANK(K44),1,IFERROR(VLOOKUP(K44,Eje_Pilar_Prop!C26:C127,1,FALSE),\"NO\"))","v":45},"SECOP II",1,"Bogotá Mejor para Todos"]
[32,2020,"SECOP II","ALPA-CD-032-2020","Contratos de prestación de servicios profesionales y de apoyo a la gestión","Contratación directa","Prestación de servicios profesionales y de apoyo a la gestión, o para la ejecución de trabajos artísticos que sólo puedan encomendarse a determinadas personas naturales;","El contrato que se pretende celebrar, tendra por objeto El contratista se obliga con el Fondo de Desarrollo Local de Puente Aranda a prestar los servicios profesionales para apoyar al Alcalde (sa) Local en la promocion, acompanamiento y atencion de las instancias de coordinacton interinstitucionales y las instancias de participacion locales, asi como los procesos comunitarios en la localidad, de acuerdo con los estudios previos","Inversión","Bogotá Mejor para Todos",45,{"$f":"IF(ISERROR(VLOOKUP(K45,Eje_Pilar_Prop!$C$2:$E$104,2,FALSE)),\" \",VLOOKUP(K45,Eje_Pilar_Prop!$C$2:$E$104,2,FALSE))","v":"Gobernanza e influencia local, regional e internacional"},{"$f":"IF(ISERROR(VLOOKUP(K45,Eje_Pilar_Prop!$C$2:$E$104,3,FALSE)),\" \",VLOOKUP(K45,Eje_Pilar_Prop!$C$2:$E$104,3,FALSE))","v":"Eje Transversal 4 Gobierno Legitimo, Fortalecimiento Local y Eficiencia"},"3-3-1-15-07-\n45-1289-000",52235499,"MARGIE CECILIA RODRIGUEZ LOZADA",18800000,null,null,null,null,18800000,18799980,"2020-02-06","2020-02-07","2020-06-06",120,null,null,null,null,null,null,null,null,"X",null,0.99999893617021274,null,{"$f":"IF(SUMPRODUCT((A$14:A45=A45)*(B$14:B45=B45)*(D$14:D45=D45))>1,0,1)","v":1},"Contratos de prestación de servicios profesionales y de apoyo a la gestión","Contratación directa",{"$f":"IF(ISBLANK(G45),1,IFERROR(VLOOKUP(G45,Tipo!$C$12:$C$27,1,FALSE),\"NO\"))","v":"Prestación de servicios profesionales y de apoyo a la gestión, o para la ejecución de trabajos artísticos que sólo puedan encomendarse a determinadas personas naturales;"},"Inversión",{"$f":"IF(ISBLANK(K45),1,IFERROR(VLOOKUP(K45,Eje_Pilar_Prop!C27:C128,1,FALSE),\"NO\"))","v":45},"SECOP II",1,"Bogotá Mejor para Todos"]
[33,2020,"SECOP II","ALPA-CD-033-2020","Contratos de prestación de servicios profesionales y de apoyo a la gestión","Contratación directa","Prestación de servicios profesionales y de apoyo a la gestión, o para la ejecución de trabajos artísticos que sólo puedan encomendarse a determinadas personas naturales;","El contratista se obliga con el Fondo de Desarrollo Local a prestar sus servicios en las tareas operativas de caracter archivistico desarrolladas en la Alcaldia Local para garantizar la aplicacion correcta de los procedimientos tecnicos, conforme los estudios previos","Inversión","Bogotá Mejor para Todos",45,{"$f":"IF(ISERROR(VLOOKUP(K46,Eje_Pilar_Prop!$C$2:$E$104,2,FALSE)),\" \",VLOOKUP(K46,Eje_Pilar_Prop!$C$2:$E$104,2,FALSE))","v":"Gobernanza e influencia local, regional e internacional"},{"$f":"IF(ISERROR(VLOOKUP(K46,Eje_Pilar_Prop!$C$2:$E$104,3,FALSE)),\" \",VLOOKUP(K46,Eje_Pilar_Prop!$C$2:$E$104,3,FALSE))","v":"Eje Transversal 4 Gobierno Legitimo, Fortalecimiento Local y Eficiencia"},"3-3-1-15-07- 45-1312-000 ",51694598,"MARIA DEL TRANSITO AYALA GARCIA",10400000,null,null,null,null,10400000,10400000,"2020-02-06","2020-02-07","2020-06-06",120,null,null,null,null,null,null,null,null,"X",null,1,null,{"$f":"IF(SUMPRODUCT((A$14:A46=A46)*(B$14:B46=B46)*(D$14:D46=D46))>1,0,1)","v":1},"Contratos de prestación de servicios profesionales y de apoyo a la gestión","Contratación directa",{"$f":"IF(ISBLANK(G46),1,IFERROR(VLOOKUP(G46,Tipo!$C$12:$C$27,1,FALSE),\"NO\"))","v":"Prestación de servicios profesionales y de apoyo a la gestión, o para la ejecución de trabajos artísticos que sólo puedan encomendarse a determinadas personas naturales;"},"Inversión",{"$f":"IF(ISBLANK(K46),1,IFERROR(VLOOKUP(K46,Eje_Pilar_Prop!C28:C129,1,FALSE),\"NO\"))","v":45},"SECOP II",1,"Bogotá Mejor para Todos"]
[34,2020,"SECOP II","ALPA-CD-034-2020","Contratos de prestación de servicios profesionales y de apoyo a la gestión","Contratación directa","Prestación de servicios profesionales y de apoyo a la gestión, o para la ejecución de trabajos artísticos que sólo puedan encomendarse a determinadas personas naturales;","\"El contratista se obliga con el Fondo de Desarrollo Local a prestar sus servicios en las tareas operativas de caracter archivistico desarrolladas en la Alcaldia Local para garantizar la aplicacion correcta de los procedimientos tecnicos, conforme los estudios previos","Inversión","Bogotá Mejor para Todos",45,{"$f":"IF(ISERROR(VLOOKUP(K47,Eje_Pilar_Prop!$C$2:$E$104,2,FALSE)),\" \",VLOOKUP(K47,Eje_Pilar_Prop!$C$2:$E$104,2,FALSE))","v":"Gobernanza e influencia local, regional e internacional"},{"$f":"IF(ISERROR(VLOOKUP(K47,Eje_Pilar_Prop!$C$2:$E$104,3,FALSE)),\" \",VLOOKUP(K47,Eje_Pilar_Prop!$C$2:$E$104,3,FALSE))","v":"Eje Transversal 4 Gobierno Legitimo, Fortalecimiento Local y Eficiencia"},"3-3-1-15-07- 45-1312-000 ",93356628,"JOSE VICENTE RAMIREZ QUEVEDO",10400000,null,null,null,null,10400000,10400000,"2020-02-06","2020-02-10","2020-06-09",120,null,null,null,null,null,null,null,null,"X",null,1,null,{"$f":"IF(SUMPRODUCT((A$14:A47=A47)*(B$14:B47=B47)*(D$14:D47=D47))>1,0,1)","v":1},"Contratos de prestación de servicios profesionales y de apoyo a la gestión","Contratación directa",{"$f":"IF(ISBLANK(G47),1,IFERROR(VLOOKUP(G47,Tipo!$C$12:$C$27,1,FALSE),\"NO\"))","v":"Prestación de servicios profesionales y de apoyo a la gestión, o para la ejecución de trabajos artísticos que sólo puedan encomendarse a determinadas personas naturales;"},"Inversión",{"$f":"IF(ISBLANK(K47),1,IFERROR(VLOOKUP(K47,Eje_Pilar_Prop!C29:C130,1,FALSE),\"NO\"))","v":45},"SECOP II",1,"Bogotá Mejor para Todos"]
[35,2020,"SECOP II","ALPA-CD-035-2020","Contratos de prestación de servicios profesionales y de apoyo a la gestión","Contratación directa","Prestación de servicios profesionales y de apoyo a la gestión, o para la ejecución de trabajos artísticos que sólo puedan encomendarse a determinadas personas naturales;","El contratista se obliga con el Fondo de Desarrollo Local de la Alcaldia de Puente Aranda a prestar sus servicios profesionales para: Apoyar jundicamente la ejecucion de las acciones requeridas para la depuracion de las actuaciones administrativas que cursan en la Alcaldia Local","Inversión","Bogotá Mejor para Todos",45,{"$f":"IF(ISERROR(VLOOKUP(K48,Eje_Pilar_Prop!$C$2:$E$104,2,FALSE)),\" \",VLOOKUP(K48,Eje_Pilar_Prop!$C$2:$E$104,2,FALSE))","v":"Gobernanza e influencia local, regional e internacional"},{"$f":"IF(ISERROR(VLOOKUP(K48,Eje_Pilar_Prop!$C$2:$E$104,3,FALSE)),\" \",VLOOKUP(K48,Eje_Pilar_Prop!$C$2:$E$104,3,FALSE))","v":"Eje Transversal 4 Gobierno Legitimo, Fortalecimiento Local y Eficiencia"},"3-3-1-15-07- 45-1312-000 ",1018417323,"CRISTIAN FERNANDO GALEANO AGUILERA",18800000,null,null,null,null,18800000,18800000,"2020-02-06","2020-02-10","2020-06-09",120,null,null,null,null,null,null,null,null,"X",null,1,null,{"$f":"IF(SUMPRODUCT((A$14:A48=A48)*(B$14:B48=B48)*(D$14:D48=D48))>1,0,1)","v":1},"Contratos de prestación de servicios profesionales y de apoyo a la gestión","Contratación directa",{"$f":"IF(ISBLANK(G48),1,IFERROR(VLOOKUP(G48,Tipo!$C$12:$C$27,1,FALSE),\"NO\"))","v":"Prestación de servicios profesionales y de apoyo a la gestión, o para la ejecución de trabajos artísticos que sólo puedan encomendarse a determinadas personas naturales;"},"Inversión",{"$f":"IF(ISBLANK(K48),1,IFERROR(VLOOKUP(K48,Eje_Pilar_Prop!C30:C131,1,FALSE),\"NO\"))","v":45},"SECOP II",1,"Bogotá Mejor para Todos"]
[36,2020,"SECOP II","ALPA-CD-036-2020","Contratos de prestación de servicios profesionales y de apoyo a la gestión","Contratación directa","Prestación de servicios profesionales y de apoyo a la gestión, o para la ejecución de trabajos artísticos que sólo puedan encomendarse a determinadas personas naturales;","\"El contratista se obliga con el Fondo de Desarrollo Local prestar servicios profesionales al Área de Gestión Policiva y Jurídica, para apoyar las labores relacionadas con el cobro persuasivo de multas y sanciones pecuniarias impuestas, así como realizar la remisión y seguimiento de las actuaciones que deban surtir proceso de cobro coactivo, de acuerdo con las obligaciones y competencias de la Alcaldía Local","Inversión","Bogotá Mejor para Todos",45,{"$f":"IF(ISERROR(VLOOKUP(K49,Eje_Pilar_Prop!$C$2:$E$104,2,FALSE)),\" \",VLOOKUP(K49,Eje_Pilar_Prop!$C$2:$E$104,2,FALSE))","v":"Gobernanza e influencia local, regional e internacional"},{"$f":"IF(ISERROR(VLOOKUP(K49,Eje_Pilar_Prop!$C$2:$E$104,3,FALSE)),\" \",VLOOKUP(K49,Eje_Pilar_Prop!$C$2:$E$104,3,FALSE))","v":"Eje Transversal 4 Gobierno Legitimo, Fortalecimiento Local y Eficiencia"},"3-3-1-15-07- 45-1312-000 ",1032419261,"SEBASTIAN DIAZ PINILLA ",18800000,null,null,null,null,18800000,18800000,"2020-02-06","2020-02-07","2020-06-06",120,null,null,null,null,null,null,null,null,"X",null,1,null,{"$f":"IF(SUMPRODUCT((A$14:A49=A49)*(B$14:B49=B49)*(D$14:D49=D49))>1,0,1)","v":1},"Contratos de prestación de servicios profesionales y de apoyo a la gestión","Contratación directa",{"$f":"IF(ISBLANK(G49),1,IFERROR(VLOOKUP(G49,Tipo!$C$12:$C$27,1,FALSE),\"NO\"))","v":"Prestación de servicios profesionales y de apoyo a la gestión, o para la ejecución de trabajos artísticos que sólo puedan encomendarse a determinadas personas naturales;"},"Inversión",{"$f":"IF(ISBLANK(K49),1,IFERROR(VLOOKUP(K49,Eje_Pilar_Prop!C31:C132,1,FALSE),\"NO\"))","v":45},"SECOP II",1,"Bogotá Mejor para Todos"]
[37,2020,"SECOP II","ALPA-CD-037-2020","Contratos de prestación de servicios profesionales y de apoyo a la gestión","Contratación directa","Prestación de servicios profesionales y de apoyo a la gestión, o para la ejecución de trabajos artísticos que sólo puedan encomendarse a determinadas personas naturales;","El contratista se obliga con el Fondo de Desarrollo Local de Puente Aranda a prestar sus servicios en el Despacho de la Alcaldia Local en la ejecucibn de actividades asistenciales administrativas propias de la gestibn local”, de conformidad con los estudios previos”","Inversión","Bogotá Mejor para Todos",45,{"$f":"IF(ISERROR(VLOOKUP(K50,Eje_Pilar_Prop!$C$2:$E$104,2,FALSE)),\" \",VLOOKUP(K50,Eje_Pilar_Prop!$C$2:$E$104,2,FALSE))","v":"Gobernanza e influencia local, regional e internacional"},{"$f":"IF(ISERROR(VLOOKUP(K50,Eje_Pilar_Prop!$C$2:$E$104,3,FALSE)),\" \",VLOOKUP(K50,Eje_Pilar_Prop!$C$2:$E$104,3,FALSE))","v":"Eje Transversal 4 Gobierno Legitimo, Fortalecimiento Local y Eficiencia"},"3-3-1-15-07- 45-1312-000 ",23756146,"SANDRA CONSUELO NUÑEZ GOMEZ",11600000,null,null,null,null,11600000,11600000,"2020-02-06","2020-02-07","2020-06-06",120,null,null,null,null,null,null,null,null,"X",null,1,null,{"$f":"IF(SUMPRODUCT((A$14:A50=A50)*(B$14:B50=B50)*(D$14:D50=D50))>1,0,1)","v":1},"Contratos de prestación de servicios profesionales y de apoyo a la gestión","Contratación directa",{"$f":"IF(ISBLANK(G50),1,IFERROR(VLOOKUP(G50,Tipo!$C$12:$C$27,1,FALSE),\"NO\"))","v":"Prestación de servicios profesionales y de apoyo a la gestión, o para la ejecución de trabajos artísticos que sólo puedan encomendarse a determinadas personas naturales;"},"Inversión",{"$f":"IF(ISBLANK(K50),1,IFERROR(VLOOKUP(K50,Eje_Pilar_Prop!C32:C133,1,FALSE),\"NO\"))","v":45},"SECOP II",1,"Bogotá Mejor para Todos"]
[38,2020,"SECOP II","ALPA-CD-038-2020","Contratos de prestación de servicios profesionales y de apoyo a la gestión","Contratación directa","Prestación de servicios profesionales y de apoyo a la gestión, o para la ejecución de trabajos artísticos que sólo puedan encomendarse a determinadas personas naturales;","El contratista se obliga con el Fondo de Desarrollo Local de Puente Aranda a apoyar al Alcalde Local en la formulación, seguimiento e implementación de la estrategia local para la terminación jurídica de las actuaciones administrativas que cursan en la Alcaldía Local","Inversión","Bogotá Mejor para Todos",45,{"$f":"IF(ISERROR(VLOOKUP(K51,Eje_Pilar_Prop!$C$2:$E$104,2,FALSE)),\" \",VLOOKUP(K51,Eje_Pilar_Prop!$C$2:$E$104,2,FALSE))","v":"Gobernanza e influencia local, regional e internacional"},{"$f":"IF(ISERROR(VLOOKUP(K51,Eje_Pilar_Prop!$C$2:$E$104,3,FALSE)),\" \",VLOOKUP(K51,Eje_Pilar_Prop!$C$2:$E$104,3,FALSE))","v":"Eje Transversal 4 Gobierno Legitimo, Fortalecimiento Local y Eficiencia"},"3-3-1-15-07- 45-1312-000 ",23780953,"GLADYS ESPERANZA LOPEZ VEGA",28800000,null,null,null,null,28800000,28800000,"2020-02-10","2020-02-11","2020-06-10",120,null,null,null,null,null,null,null,null,"X",null,1,null,{"$f":"IF(SUMPRODUCT((A$14:A51=A51)*(B$14:B51=B51)*(D$14:D51=D51))>1,0,1)","v":1},"Contratos de prestación de servicios profesionales y de apoyo a la gestión","Contratación directa",{"$f":"IF(ISBLANK(G51),1,IFERROR(VLOOKUP(G51,Tipo!$C$12:$C$27,1,FALSE),\"NO\"))","v":"Prestación de servicios profesionales y de apoyo a la gestión, o para la ejecución de trabajos artísticos que sólo puedan encomendarse a determinadas personas naturales;"},"Inversión",{"$f":"IF(ISBLANK(K51),1,IFERROR(VLOOKUP(K51,Eje_Pilar_Prop!C33:C134,1,FALSE),\"NO\"))","v":45},"SECOP II",1,"Bogotá Mejor para Todos"]
[39,2020,"SECOP II","ALPA-CD-039-2020","Contratos de prestación de servicios profesionales y de apoyo a la gestión","Contratación directa","Prestación de servicios profesionales y de apoyo a la gestión, o para la ejecución de trabajos artísticos que sólo puedan encomendarse a determinadas personas naturales;","\"El contratista se obliga con el Fondo de Desarrollo Local de Puente Aranda a prestar sus servicios en el Área de Gestión Policiva y Jurídica para apoyar operativamente las funciones y actividades que adelanta la asesoría de obras, de acuerdo con los estudios previos.\"","Inversión","Bogotá Mejor para Todos",45,{"$f":"IF(ISERROR(VLOOKUP(K52,Eje_Pilar_Prop!$C$2:$E$104,2,FALSE)),\" \",VLOOKUP(K52,Eje_Pilar_Prop!$C$2:$E$104,2,FALSE))","v":"Gobernanza e influencia local, regional e internacional"},{"$f":"IF(ISERROR(VLOOKUP(K52,Eje_Pilar_Prop!$C$2:$E$104,3,FALSE)),\" \",VLOOKUP(K52,Eje_Pilar_Prop!$C$2:$E$104,3,FALSE))","v":"Eje Transversal 4 Gobierno Legitimo, Fortalecimiento Local y Eficiencia"},"3-3-1-15-07- 45-1312-000 ",80112111,"DANIEL RICARDO HURTADO BAUTISTA",10000000,null,null,null,null,10000000,10000000,"2020-02-06","2020-02-07","2020-06-06",120,null,null,null,null,null,null,null,null,"X",null,1,null,{"$f":"IF(SUMPRODUCT((A$14:A52=A52)*(B$14:B52=B52)*(D$14:D52=D52))>1,0,1)","v":1},"Contratos de prestación de servicios profesionales y de apoyo a la gestión","Contratación directa",{"$f":"IF(ISBLANK(G52),1,IFERROR(VLOOKUP(G52,Tipo!$C$12:$C$27,1,FALSE),\"NO\"))","v":"Prestación de servicios profesionales y de apoyo a la gestión, o para la ejecución de trabajos artísticos que sólo puedan encomendarse a determinadas personas naturales;"},"Inversión",{"$f":"IF(ISBLANK(K52),1,IFERROR(VLOOKUP(K52,Eje_Pilar_Prop!C34:C135,1,FALSE),\"NO\"))","v":45},"SECOP II",1,"Bogotá Mejor para Todos"]
[40,2020,"SECOP II","ALPA-CD-040-2020","Contratos de prestación de servicios profesionales y de apoyo a la gestión","Contratación directa","Prestación de servicios profesionales y de apoyo a la gestión, o para la ejecución de trabajos artísticos que sólo puedan encomendarse a determinadas personas naturales;","El Contratista se obliga con el Fondo de Desarrollo Local de la Alcaldia Local de Puente Aranda a prestar el servicio de conduccion para los vehiculos propiedad del Fondo de Desarrollo Local y los que se le asignen, de conformidad con los estudios previos","Inversión","Bogotá Mejor para Todos",45,{"$f":"IF(ISERROR(VLOOKUP(K53,Eje_Pilar_Prop!$C$2:$E$104,2,FALSE)),\" \",VLOOKUP(K53,Eje_Pilar_Prop!$C$2:$E$104,2,FALSE))","v":"Gobernanza e influencia local, regional e internacional"},{"$f":"IF(ISERROR(VLOOKUP(K53,Eje_Pilar_Prop!$C$2:$E$104,3,FALSE)),\" \",VLOOKUP(K53,Eje_Pilar_Prop!$C$2:$E$104,3,FALSE))","v":"Eje Transversal 4 Gobierno Legitimo, Fortalecimiento Local y Eficiencia"},"3-3-1-15-07- 45-1312-000 ",11220555,"VICENCIO SUAREZ",9200000,null,null,null,null,9200000,9200000,"2020-02-06","2020-02-07","2020-06-06",120,null,null,null,null,null,null,null,null,"X",null,1,null,{"$f":"IF(SUMPRODUCT((A$14:A53=A53)*(B$14:B53=B53)*(D$14:D53=D53))>1,0,1)","v":1},"Contratos de prestación de servicios profesionales y de apoyo a la gestión","Contratación directa",{"$f":"IF(ISBLANK(G53),1,IFERROR(VLOOKUP(G53,Tipo!$C$12:$C$27,1,FALSE),\"NO\"))","v":"Prestación de servicios profesionales y de apoyo a la gestión, o para la ejecución de trabajos artísticos que sólo puedan encomendarse a determinadas personas naturales;"},"Inversión",{"$f":"IF(ISBLANK(K53),1,IFERROR(VLOOKUP(K53,Eje_Pilar_Prop!C35:C136,1,FALSE),\"NO\"))","v":45},"SECOP II",1,"Bogotá Mejor para Todos"]
[41,2020,"SECOP II","ALPA-CD-041-2020","Contratos de prestación de servicios profesionales y de apoyo a la gestión","Contratación directa","Prestación de servicios profesionales y de apoyo a la gestión, o para la ejecución de trabajos artísticos que sólo puedan encomendarse a determinadas personas naturales;","Apoyar tecnicamente a los responsables e integrantes de los procesos en la implementacion de herramientas de gestion, siguiendo los lineamientos metodologicos establecidos por la Oficina Asesora de Planeacion de la Secretaria Distrital de Gobierno., de acuerdo con los estudios previos","Inversión","Bogotá Mejor para Todos",45,{"$f":"IF(ISERROR(VLOOKUP(K54,Eje_Pilar_Prop!$C$2:$E$104,2,FALSE)),\" \",VLOOKUP(K54,Eje_Pilar_Prop!$C$2:$E$104,2,FALSE))","v":"Gobernanza e influencia local, regional e internacional"},{"$f":"IF(ISERROR(VLOOKUP(K54,Eje_Pilar_Prop!$C$2:$E$104,3,FALSE)),\" \",VLOOKUP(K54,Eje_Pilar_Prop!$C$2:$E$104,3,FALSE))","v":"Eje Transversal 4 Gobierno Legitimo, Fortalecimiento Local y Eficiencia"},"3-3-1-15-07- 45-1312-000 ",51591190,"ELIZABETH PEÑA SALAZAR",18800000,null,null,null,null,18800000,18800000,"2020-02-06","2020-02-07","2020-06-06",120,null,null,null,null,null,null,null,null,"X",null,1,null,{"$f":"IF(SUMPRODUCT((A$14:A54=A54)*(B$14:B54=B54)*(D$14:D54=D54))>1,0,1)","v":1},"Contratos de prestación de servicios profesionales y de apoyo a la gestión","Contratación directa",{"$f":"IF(ISBLANK(G54),1,IFERROR(VLOOKUP(G54,Tipo!$C$12:$C$27,1,FALSE),\"NO\"))","v":"Prestación de servicios profesionales y de apoyo a la gestión, o para la ejecución de trabajos artísticos que sólo puedan encomendarse a determinadas personas naturales;"},"Inversión",{"$f":"IF(ISBLANK(K54),1,IFERROR(VLOOKUP(K54,Eje_Pilar_Prop!C36:C137,1,FALSE),\"NO\"))","v":45},"SECOP II",1,"Bogotá Mejor para Todos"]
[42,2020,"SECOP II","ALPA-CD-042-2020","Contratos de prestación de servicios profesionales y de apoyo a la gestión","Contratación directa","Prestación de servicios profesionales y de apoyo a la gestión, o para la ejecución de trabajos artísticos que sólo puedan encomendarse a determinadas personas naturales;","El contratista se obliga con el Fondo de Desarrollo Local de Puente Aranda a prestar los servicios profesionales requeridos para apoyar la formulación, proceso de contratación, evaluación y seguimiento de proyectos incluidos en el Plan de Desarrollo Local vigente así como liquidación de los contratos suscritos para su ejecución, para asegurar la adecuada inversión de recursos locales y el cumplimiento de las metas del mismo, en lo referente al proyecto 1309 Puente Aranda cultural y deportiva para todos","Inversión","Bogotá Mejor para Todos",45,{"$f":"IF(ISERROR(VLOOKUP(K55,Eje_Pilar_Prop!$C$2:$E$104,2,FALSE)),\" \",VLOOKUP(K55,Eje_Pilar_Prop!$C$2:$E$104,2,FALSE))","v":"Gobernanza e influencia local, regional e internacional"},{"$f":"IF(ISERROR(VLOOKUP(K55,Eje_Pilar_Prop!$C$2:$E$104,3,FALSE)),\" \",VLOOKUP(K55,Eje_Pilar_Prop!$C$2:$E$104,3,FALSE))","v":"Eje Transversal 4 Gobierno Legitimo, Fortalecimiento Local y Eficiencia"},"3-3-1-15-01- 11-1309-000 ",1022327957,"ANGELICA PATRICIA ESPINOSA PINILLA",18800000,null,null,null,null,18800000,18800000,"2020-02-10","2020-02-12","2020-06-11",120,null,null,null,null,null,null,null,null,"X",null,1,null,{"$f":"IF(SUMPRODUCT((A$14:A55=A55)*(B$14:B55=B55)*(D$14:D55=D55))>1,0,1)","v":1},"Contratos de prestación de servicios profesionales y de apoyo a la gestión","Contratación directa",{"$f":"IF(ISBLANK(G55),1,IFERROR(VLOOKUP(G55,Tipo!$C$12:$C$27,1,FALSE),\"NO\"))","v":"Prestación de servicios profesionales y de apoyo a la gestión, o para la ejecución de trabajos artísticos que sólo puedan encomendarse a determinadas personas naturales;"},"Inversión",{"$f":"IF(ISBLANK(K55),1,IFERROR(VLOOKUP(K55,Eje_Pilar_Prop!C37:C138,1,FALSE),\"NO\"))","v":45},"SECOP II",1,"Bogotá Mejor para Todos"]
[43,2020,"SECOP II","ALPA-CD-043-2020","Contratos de prestación de servicios profesionales y de apoyo a la gestión","Contratación directa","Prestación de servicios profesionales y de apoyo a la gestión, o para la ejecución de trabajos artísticos que sólo puedan encomendarse a determinadas personas naturales;","EL CONTRATISTA SE OBLIGA A APOYAR EL GRUPO NORMATIVO Y JURIDICO EN ACTVIDADES OPERTIVAS PROPIAS DEL AREA REQUERIDAS PARA GARANTIZAR EL CUMPLIMIENTO DE LAS FUNCIONES Y METAS EN MATERIA DE PRITECCIÓN DEL ESPACIO PUBLICO","Inversión","Bogotá Mejor para Todos",45,{"$f":"IF(ISERROR(VLOOKUP(K56,Eje_Pilar_Prop!$C$2:$E$104,2,FALSE)),\" \",VLOOKUP(K56,Eje_Pilar_Prop!$C$2:$E$104,2,FALSE))","v":"Gobernanza e influencia local, regional e internacional"},{"$f":"IF(ISERROR(VLOOKUP(K56,Eje_Pilar_Prop!$C$2:$E$104,3,FALSE)),\" \",VLOOKUP(K56,Eje_Pilar_Prop!$C$2:$E$104,3,FALSE))","v":"Eje Transversal 4 Gobierno Legitimo, Fortalecimiento Local y Eficiencia"},"3-3-1-15-07- 45-1312-000 ",1121915840,"JUAN DAVID BARRANTES VALDES",10000000,null,null,null,null,10000000,10000000,"2020-02-10","2020-02-12","2020-06-11",120,null,null,null,null,null,null,null,null,"X",null,1,null,{"$f":"IF(SUMPRODUCT((A$14:A56=A56)*(B$14:B56=B56)*(D$14:D56=D56))>1,0,1)","v":1},"Contratos de prestación de servicios profesionales y de apoyo a la gestión","Contratación directa",{"$f":"IF(ISBLANK(G56),1,IFERROR(VLOOKUP(G56,Tipo!$C$12:$C$27,1,FALSE),\"NO\"))","v":"Prestación de servicios profesionales y de apoyo a la gestión, o para la ejecución de trabajos artísticos que sólo puedan encomendarse a determinadas personas naturales;"},"Inversión",{"$f":"IF(ISBLANK(K56),1,IFERROR(VLOOKUP(K56,Eje_Pilar_Prop!C38:C139,1,FALSE),\"NO\"))","v":45},"SECOP II",1,"Bogotá Mejor para Todos"]
[44,2020,"SECOP II","ALPA-CD-044-2020","Contratos de prestación de servicios profesionales y de apoyo a la gestión","Contratación directa","Prestación de servicios profesionales y de apoyo a la gestión, o para la ejecución de trabajos artísticos que sólo puedan encomendarse a determinadas personas naturales;","El Contratista se obliga con el Fondo de Desarrollo Local a prestar los servicios profesionales para apoyar al referente en el fortalecimiento de la Gestión Local del Riesgo y Cambio Climático en el marco del Sistema Distrital de Gestión de Riesgos y Cambio Climático DSGR-CC, de conformidad con los estudios previos","Inversión","Bogotá Mejor para Todos",45,{"$f":"IF(ISERROR(VLOOKUP(K57,Eje_Pilar_Prop!$C$2:$E$104,2,FALSE)),\" \",VLOOKUP(K57,Eje_Pilar_Prop!$C$2:$E$104,2,FALSE))","v":"Gobernanza e influencia local, regional e internacional"},{"$f":"IF(ISERROR(VLOOKUP(K57,Eje_Pilar_Prop!$C$2:$E$104,3,FALSE)),\" \",VLOOKUP(K57,Eje_Pilar_Prop!$C$2:$E$104,3,FALSE))","v":"Eje Transversal 4 Gobierno Legitimo, Fortalecimiento Local y Eficiencia"},"3-3-1-15-07- 45-1312-000 ",1018479235,"LIZETH TATIANA VEGA VEGA",16000000,null,null,null,null,16000000,16000000,"2020-02-11","2020-02-17","2020-06-16",120,null,null,null,null,null,null,null,null,"X",null,1,null,{"$f":"IF(SUMPRODUCT((A$14:A57=A57)*(B$14:B57=B57)*(D$14:D57=D57))>1,0,1)","v":1},"Contratos de prestación de servicios profesionales y de apoyo a la gestión","Contratación directa",{"$f":"IF(ISBLANK(G57),1,IFERROR(VLOOKUP(G57,Tipo!$C$12:$C$27,1,FALSE),\"NO\"))","v":"Prestación de servicios profesionales y de apoyo a la gestión, o para la ejecución de trabajos artísticos que sólo puedan encomendarse a determinadas personas naturales;"},"Inversión",{"$f":"IF(ISBLANK(K57),1,IFERROR(VLOOKUP(K57,Eje_Pilar_Prop!C39:C140,1,FALSE),\"NO\"))","v":45},"SECOP II",1,"Bogotá Mejor para Todos"]
[45,2020,"SECOP II","ALPA-CD-045-2020","Contratos de prestación de servicios profesionales y de apoyo a la gestión","Contratación directa","Prestación de servicios profesionales y de apoyo a la gestión, o para la ejecución de trabajos artísticos que sólo puedan encomendarse a determinadas personas naturales;","El contratista se obliga con el Fondo de Desarrollo Local de la Alcaldia de Puente Aranda prestar sus servicios profesionales para Apoyar juridicamente la ejecucion de las acciones requeridas para la depuracion de las actuaciones administrativas que cursan en la Alcaldia Local.","Inversión","Bogotá Mejor para Todos",45,{"$f":"IF(ISERROR(VLOOKUP(K58,Eje_Pilar_Prop!$C$2:$E$104,2,FALSE)),\" \",VLOOKUP(K58,Eje_Pilar_Prop!$C$2:$E$104,2,FALSE))","v":"Gobernanza e influencia local, regional e internacional"},{"$f":"IF(ISERROR(VLOOKUP(K58,Eje_Pilar_Prop!$C$2:$E$104,3,FALSE)),\" \",VLOOKUP(K58,Eje_Pilar_Prop!$C$2:$E$104,3,FALSE))","v":"Eje Transversal 4 Gobierno Legitimo, Fortalecimiento Local y Eficiencia"},"3-3-1-15-07- 45-1312-000 ",52118305,"MARIA VICTORIA VALENCIA NIÑO",18800000,null,null,null,null,18800000,18800000,"2020-02-12","2020-02-14","2020-06-13",120,null,null,null,null,null,null,null,null,"X",null,1,null,{"$f":"IF(SUMPRODUCT((A$14:A58=A58)*(B$14:B58=B58)*(D$14:D58=D58))>1,0,1)","v":1},"Contratos de prestación de servicios profesionales y de apoyo a la gestión","Contratación directa",{"$f":"IF(ISBLANK(G58),1,IFERROR(VLOOKUP(G58,Tipo!$C$12:$C$27,1,FALSE),\"NO\"))","v":"Prestación de servicios profesionales y de apoyo a la gestión, o para la ejecución de trabajos artísticos que sólo puedan encomendarse a determinadas personas naturales;"},"Inversión",{"$f":"IF(ISBLANK(K58),1,IFERROR(VLOOKUP(K58,Eje_Pilar_Prop!C40:C141,1,FALSE),\"NO\"))","v":45},"SECOP II",1,"Bogotá Mejor para Todos"]
[46,2020,"SECOP II","ALPA-CD-046-2020","Contratos de prestación de servicios profesionales y de apoyo a la gestión","Contratación directa","Prestación de servicios profesionales y de apoyo a la gestión, o para la ejecución de trabajos artísticos que sólo puedan encomendarse a determinadas personas naturales;","El contrato que se pretende celebrar, tendrá por objeto El contratista se obliga con el Fondo de Desarrollo Local de Puente Aranda a apoyar administrativa y asistencialmente a las Inspecciones de Policía de la Localidad","Inversión","Bogotá Mejor para Todos",45,{"$f":"IF(ISERROR(VLOOKUP(K59,Eje_Pilar_Prop!$C$2:$E$104,2,FALSE)),\" \",VLOOKUP(K59,Eje_Pilar_Prop!$C$2:$E$104,2,FALSE))","v":"Gobernanza e influencia local, regional e internacional"},{"$f":"IF(ISERROR(VLOOKUP(K59,Eje_Pilar_Prop!$C$2:$E$104,3,FALSE)),\" \",VLOOKUP(K59,Eje_Pilar_Prop!$C$2:$E$104,3,FALSE))","v":"Eje Transversal 4 Gobierno Legitimo, Fortalecimiento Local y Eficiencia"},"3-3-1-15-07- 45-1312-000 ",80725691,"JONATHAN HURTADO RINCON",10000000,null,null,null,null,10000000,10000000,"2020-02-10","2020-02-12","2020-06-11",120,null,null,null,null,null,null,null,null,"X",null,1,null,{"$f":"IF(SUMPRODUCT((A$14:A59=A59)*(B$14:B59=B59)*(D$14:D59=D59))>1,0,1)","v":1},"Contratos de prestación de servicios profesionales y de apoyo a la gestión","Contratación directa",{"$f":"IF(ISBLANK(G59),1,IFERROR(VLOOKUP(G59,Tipo!$C$12:$C$27,1,FALSE),\"NO\"))","v":"Prestación de servicios profesionales y de apoyo a la gestión, o para la ejecución de trabajos artísticos que sólo puedan encomendarse a determinadas personas naturales;"},"Inversión",{"$f":"IF(ISBLANK(K59),1,IFERROR(VLOOKUP(K59,Eje_Pilar_Prop!C41:C142,1,FALSE),\"NO\"))","v":45},"SECOP II",1,"Bogotá Mejor para Todos"]
[47,2020,"SECOP II","ALPA-CD-047-2020","Contratos de prestación de servicios profesionales y de apoyo a la gestión","Contratación directa","Prestación de servicios profesionales y de apoyo a la gestión, o para la ejecución de trabajos artísticos que sólo puedan encomendarse a determinadas personas naturales;","El Contratista se obliga con el Fondo de Desarrollo Local de Puente Aranda a prestar sus servicios de apoyo operativo a las diferentes labores administrativas que surjan de la gestión de la Junta Administradora Local, de acuerdo con los estudios previos”.","Inversión","Bogotá Mejor para Todos",45,{"$f":"IF(ISERROR(VLOOKUP(K60,Eje_Pilar_Prop!$C$2:$E$104,2,FALSE)),\" \",VLOOKUP(K60,Eje_Pilar_Prop!$C$2:$E$104,2,FALSE))","v":"Gobernanza e influencia local, regional e internacional"},{"$f":"IF(ISERROR(VLOOKUP(K60,Eje_Pilar_Prop!$C$2:$E$104,3,FALSE)),\" \",VLOOKUP(K60,Eje_Pilar_Prop!$C$2:$E$104,3,FALSE))","v":"Eje Transversal 4 Gobierno Legitimo, Fortalecimiento Local y Eficiencia"},"3-3-1-15-07- 45-1312-000 ",1010194356,"DEIDAD SAMAI CAMACHO URIBE",9200000,null,null,null,null,9200000,9200000,"2020-02-11","2020-02-14","2020-06-13",120,null,null,null,null,null,null,null,null,"X",null,1,null,{"$f":"IF(SUMPRODUCT((A$14:A60=A60)*(B$14:B60=B60)*(D$14:D60=D60))>1,0,1)","v":1},"Contratos de prestación de servicios profesionales y de apoyo a la gestión","Contratación directa",{"$f":"IF(ISBLANK(G60),1,IFERROR(VLOOKUP(G60,Tipo!$C$12:$C$27,1,FALSE),\"NO\"))","v":"Prestación de servicios profesionales y de apoyo a la gestión, o para la ejecución de trabajos artísticos que sólo puedan encomendarse a determinadas personas naturales;"},"Inversión",{"$f":"IF(ISBLANK(K60),1,IFERROR(VLOOKUP(K60,Eje_Pilar_Prop!C42:C143,1,FALSE),\"NO\"))","v":45},"SECOP II",1,"Bogotá Mejor para Todos"]
[48,2020,"SECOP II","ALPA-CD-048-2020","Contratos de prestación de servicios profesionales y de apoyo a la gestión","Contratación directa","Prestación de servicios profesionales y de apoyo a la gestión, o para la ejecución de trabajos artísticos que sólo puedan encomendarse a determinadas personas naturales;","“El contratista se obliga con el Fondo de Desarrollo Local de Puente Aranda a prestar los servicios profesionales requeridos para apoyar la formulación, proceso de contratación, evaluación y seguimiento de proyectos incluidos en el Plan de Desarrollo Local vigente así como liquidación de los contratos suscritos para su ejecución, para asegurar la adecuada inversión de recursos locales y el cumplimiento de las metas del mismo, en lo referente al proyecto 1309Puente Aranda cultural y deportiva para  todos","Inversión","Bogotá Mejor para Todos",45,{"$f":"IF(ISERROR(VLOOKUP(K61,Eje_Pilar_Prop!$C$2:$E$104,2,FALSE)),\" \",VLOOKUP(K61,Eje_Pilar_Prop!$C$2:$E$104,2,FALSE))","v":"Gobernanza e influencia local, regional e internacional"},{"$f":"IF(ISERROR(VLOOKUP(K61,Eje_Pilar_Prop!$C$2:$E$104,3,FALSE)),\" \",VLOOKUP(K61,Eje_Pilar_Prop!$C$2:$E$104,3,FALSE))","v":"Eje Transversal 4 Gobierno Legitimo, Fortalecimiento Local y Eficiencia"},"3-3-1-15-07-45-1309-000",80219702,"FABIO ANDRES CASTRO RINCON",18800000,null,null,null,null,18800000,18800000,"2020-02-10","2020-02-14","2020-06-13",120,null,null,null,null,null,null,null,null,"X",null,1,null,{"$f":"IF(SUMPRODUCT((A$14:A61=A61)*(B$14:B61=B61)*(D$14:D61=D61))>1,0,1)","v":1},"Contratos de prestación de servicios profesionales y de apoyo a la gestión","Contratación directa",{"$f":"IF(ISBLANK(G61),1,IFERROR(VLOOKUP(G61,Tipo!$C$12:$C$27,1,FALSE),\"NO\"))","v":"Prestación de servicios profesionales y de apoyo a la gestión, o para la ejecución de trabajos artísticos que sólo puedan encomendarse a determinadas personas naturales;"},"Inversión",{"$f":"IF(ISBLANK(K61),1,IFERROR(VLOOKUP(K61,Eje_Pilar_Prop!C43:C144,1,FALSE),\"NO\"))","v":45},"SECOP II",1,"Bogotá Mejor para Todos"]
[49,2020,"SECOP II","ALPA-CD-049-2020","Contratos de prestación de servicios profesionales y de apoyo a la gestión","Contratación directa","Prestación de servicios profesionales y de apoyo a la gestión, o para la ejecución de trabajos artísticos que sólo puedan encomendarse a determinadas personas naturales;","El contratista se obliga con el Fondo de Desarrollo Local de Puente Aranda a apoyar administrativa y asistencialmente a las Inspecciones de Policía de la Localidad.","Inversión","Bogotá Mejor para Todos",45,{"$f":"IF(ISERROR(VLOOKUP(K62,Eje_Pilar_Prop!$C$2:$E$104,2,FALSE)),\" \",VLOOKUP(K62,Eje_Pilar_Prop!$C$2:$E$104,2,FALSE))","v":"Gobernanza e influencia local, regional e internacional"},{"$f":"IF(ISERROR(VLOOKUP(K62,Eje_Pilar_Prop!$C$2:$E$104,3,FALSE)),\" \",VLOOKUP(K62,Eje_Pilar_Prop!$C$2:$E$104,3,FALSE))","v":"Eje Transversal 4 Gobierno Legitimo, Fortalecimiento Local y Eficiencia"},"3-3-1-15-07- 45-1312-000 "," 1106738069","VICTOR ALFONSO GALINDO OSORIO",10000000,null,null,null,null,10000000,10000000,"2020-02-11","2020-02-12","2020-06-11",120,null,null,null,null,null,null,null,null,"X",null,1,null,{"$f":"IF(SUMPRODUCT((A$14:A62=A62)*(B$14:B62=B62)*(D$14:D62=D62))>1,0,1)","v":1},"Contratos de prestación de servicios profesionales y de apoyo a la gestión","Contratación directa",{"$f":"IF(ISBLANK(G62),1,IFERROR(VLOOKUP(G62,Tipo!$C$12:$C$27,1,FALSE),\"NO\"))","v":"Prestación de servicios profesionales y de apoyo a la gestión, o para la ejecución de trabajos artísticos que sólo puedan encomendarse a determinadas personas naturales;"},"Inversión",{"$f":"IF(ISBLANK(K62),1,IFERROR(VLOOKUP(K62,Eje_Pilar_Prop!C44:C145,1,FALSE),\"NO\"))","v":45},"SECOP II",1,"Bogotá Mejor para Todos"]
[50,2020,"SECOP II","ALPA-CD-050-2020","Contratos de prestación de servicios profesionales y de apoyo a la gestión","Contratación directa","Prestación de servicios profesionales y de apoyo a la gestión, o para la ejecución de trabajos artísticos que sólo puedan encomendarse a determinadas personas naturales;","El contratista se obliga con el Fondo de Desarrollo Local de Puente Aranda a apoyar administrativa y asistencialmente a las Inspecciones de Policia de la Localidad.","Inversión","Bogotá Mejor para Todos",45,{"$f":"IF(ISERROR(VLOOKUP(K63,Eje_Pilar_Prop!$C$2:$E$104,2,FALSE)),\" \",VLOOKUP(K63,Eje_Pilar_Prop!$C$2:$E$104,2,FALSE))","v":"Gobernanza e influencia local, regional e internacional"},{"$f":"IF(ISERROR(VLOOKUP(K63,Eje_Pilar_Prop!$C$2:$E$104,3,FALSE)),\" \",VLOOKUP(K63,Eje_Pilar_Prop!$C$2:$E$104,3,FALSE))","v":"Eje Transversal 4 Gobierno Legitimo, Fortalecimiento Local y Eficiencia"},"3-3-1 -15-07-45-1312-000",1020465237,"SAMAY STEFANY GONZALEZ TABORDA",10000000,null,null,null,null,10000000,10000000,"2020-02-11","2020-02-13","2020-06-12",120,null,null,null,null,null,null,null,null,"X",null,1,null,{"$f":"IF(SUMPRODUCT((A$14:A63=A63)*(B$14:B63=B63)*(D$14:D63=D63))>1,0,1)","v":1},"Contratos de prestación de servicios profesionales y de apoyo a la gestión","Contratación directa",{"$f":"IF(ISBLANK(G63),1,IFERROR(VLOOKUP(G63,Tipo!$C$12:$C$27,1,FALSE),\"NO\"))","v":"Prestación de servicios profesionales y de apoyo a la gestión, o para la ejecución de trabajos artísticos que sólo puedan encomendarse a determinadas personas naturales;"},"Inversión",{"$f":"IF(ISBLANK(K63),1,IFERROR(VLOOKUP(K63,Eje_Pilar_Prop!C45:C146,1,FALSE),\"NO\"))","v":45},"SECOP II",1,"Bogotá Mejor para Todos"]
[51,2020,"SECOP II","ALPA-CD-051-2020","Contratos de prestación de servicios profesionales y de apoyo a la gestión","Contratación directa","Prestación de servicios profesionales y de apoyo a la gestión, o para la ejecución de trabajos artísticos que sólo puedan encomendarse a determinadas personas naturales;","El contratista se obliga con el Fondo de Desarrollo Local de Puente Aranda a apoyar administrativa y asistencialmente a las Inspecciones de Policia de la Localidad.","Inversión","Bogotá Mejor para Todos",45,{"$f":"IF(ISERROR(VLOOKUP(K64,Eje_Pilar_Prop!$C$2:$E$104,2,FALSE)),\" \",VLOOKUP(K64,Eje_Pilar_Prop!$C$2:$E$104,2,FALSE))","v":"Gobernanza e influencia local, regional e internacional"},{"$f":"IF(ISERROR(VLOOKUP(K64,Eje_Pilar_Prop!$C$2:$E$104,3,FALSE)),\" \",VLOOKUP(K64,Eje_Pilar_Prop!$C$2:$E$104,3,FALSE))","v":"Eje Transversal 4 Gobierno Legitimo, Fortalecimiento Local y Eficiencia"},"3-3-1-15-07- 45-1312-000 ",43997810,"OLGA MILENA OSPINA MONSALVE",10000000,null,null,null,null,10000000,10000000,"2020-02-12","2020-02-17","2020-06-16",120,null,null,null,null,null,null,null,null,"X",null,1,null,{"$f":"IF(SUMPRODUCT((A$14:A64=A64)*(B$14:B64=C68)*(D$14:D64=D64))>1,0,1)","v":1},"Contratos de prestación de servicios profesionales y de apoyo a la gestión","Contratación directa",{"$f":"IF(ISBLANK(G64),1,IFERROR(VLOOKUP(G64,Tipo!$C$12:$C$27,1,FALSE),\"NO\"))","v":"Prestación de servicios profesionales y de apoyo a la gestión, o para la ejecución de trabajos artísticos que sólo puedan encomendarse a determinadas personas naturales;"},"Inversión",{"$f":"IF(ISBLANK(K64),1,IFERROR(VLOOKUP(K64,Eje_Pilar_Prop!C46:C147,1,FALSE),\"NO\"))","v":45},"SECOP II",1,"Bogotá Mejor para Todos"]
[52,2020,"SECOP II","ALPA-CD-052-2020","Contratos de prestación de servicios profesionales y de apoyo a la gestión","Contratación directa","Prestación de servicios profesionales y de apoyo a la gestión, o para la ejecución de trabajos artísticos que sólo puedan encomendarse a determinadas personas naturales;","“El contratista se obliga con el Fondo de Desarrollo Local -Area de Gestion de Desarrollo Local, a prestar sus servicios profesionales para realizar acompahamiento financiero y la estructuracion de los procesos precontractuales, asi como el seguimiento en las fases contractual y post contractual, de conformidad con los estudios previos","Inversión","Bogotá Mejor para Todos",18,{"$f":"IF(ISERROR(VLOOKUP(K65,Eje_Pilar_Prop!$C$2:$E$104,2,FALSE)),\" \",VLOOKUP(K65,Eje_Pilar_Prop!$C$2:$E$104,2,FALSE))","v":"Mejor movilidad para todos"},{"$f":"IF(ISERROR(VLOOKUP(K65,Eje_Pilar_Prop!$C$2:$E$104,3,FALSE)),\" \",VLOOKUP(K65,Eje_Pilar_Prop!$C$2:$E$104,3,FALSE))","v":"Pilar 2 Democracía Urbana"},"3-3-1-15-02- 18-1290-000 ",1030610667,"CARLOS ARTURO GRANADOS SUAREZ",16800000,null,null,null,null,16800000,16800000,"2020-02-13","2020-03-03","2020-07-02",120,null,null,null,null,null,null,null,null,"X",null,1,null,{"$f":"IF(SUMPRODUCT((A$14:A65=A65)*(B$14:B65=B65)*(D$14:D65=D65))>1,0,1)","v":1},"Contratos de prestación de servicios profesionales y de apoyo a la gestión","Contratación directa",{"$f":"IF(ISBLANK(G65),1,IFERROR(VLOOKUP(G65,Tipo!$C$12:$C$27,1,FALSE),\"NO\"))","v":"Prestación de servicios profesionales y de apoyo a la gestión, o para la ejecución de trabajos artísticos que sólo puedan encomendarse a determinadas personas naturales;"},"Inversión",{"$f":"IF(ISBLANK(K65),1,IFERROR(VLOOKUP(K65,Eje_Pilar_Prop!C47:C148,1,FALSE),\"NO\"))","v":"NO"},"SECOP II",1,"Bogotá Mejor para Todos"]
[53,2020,"SECOP II","ALPA-CD-053-2020","Contratos de prestación de servicios profesionales y de apoyo a la gestión","Contratación directa","Prestación de servicios profesionales y de apoyo a la gestión, o para la ejecución de trabajos artísticos que sólo puedan encomendarse a determinadas personas naturales;","El contratista se obliga con el Fondo de Desarrollo Local a apoyar jurldicamente la ejecucion de las acciones requeridas para el tramite e impulse procesal de las actuaciones contravencionales y/o querellas que se cursen en las inspecciones de Policia de la Localidad","Inversión","Bogotá Mejor para Todos",45,{"$f":"IF(ISERROR(VLOOKUP(K66,Eje_Pilar_Prop!$C$2:$E$104,2,FALSE)),\" \",VLOOKUP(K66,Eje_Pilar_Prop!$C$2:$E$104,2,FALSE))","v":"Gobernanza e influencia local, regional e internacional"},{"$f":"IF(ISERROR(VLOOKUP(K66,Eje_Pilar_Prop!$C$2:$E$104,3,FALSE)),\" \",VLOOKUP(K66,Eje_Pilar_Prop!$C$2:$E$104,3,FALSE))","v":"Eje Transversal 4 Gobierno Legitimo, Fortalecimiento Local y Eficiencia"},"3-3-1-15-07- 45-1312-000 ",41774441,"CIELO PIEDAD HERRERA TRIANA",18800000,null,null,null,null,18800000,18800000,"2020-02-12","2020-02-17","2020-06-16",120,null,null,null,null,null,null,null,null,"X",null,1,null,{"$f":"IF(SUMPRODUCT((A$14:A66=A66)*(B$14:B66=B66)*(D$14:D66=D66))>1,0,1)","v":1},"Contratos de prestación de servicios profesionales y de apoyo a la gestión","Contratación directa",{"$f":"IF(ISBLANK(G66),1,IFERROR(VLOOKUP(G66,Tipo!$C$12:$C$27,1,FALSE),\"NO\"))","v":"Prestación de servicios profesionales y de apoyo a la gestión, o para la ejecución de trabajos artísticos que sólo puedan encomendarse a determinadas personas naturales;"},"Inversión",{"$f":"IF(ISBLANK(K66),1,IFERROR(VLOOKUP(K66,Eje_Pilar_Prop!C48:C149,1,FALSE),\"NO\"))","v":"NO"},"SECOP II",1,"Bogotá Mejor para Todos"]
[54,2020,"SECOP II","ALPA-CD-054-2020","Contratos de prestación de servicios profesionales y de apoyo a la gestión","Contratación directa","Prestación de servicios profesionales y de apoyo a la gestión, o para la ejecución de trabajos artísticos que sólo puedan encomendarse a determinadas personas naturales;","El contratista se obliga a prestar los servicios de Apoyo a la Gestion al area de contabilidad y presupuesto del Fondo de Desarrollo Local de Puente Aranda, de acuerdo con los estudios previos","Inversión","Bogotá Mejor para Todos",45,{"$f":"IF(ISERROR(VLOOKUP(K67,Eje_Pilar_Prop!$C$2:$E$104,2,FALSE)),\" \",VLOOKUP(K67,Eje_Pilar_Prop!$C$2:$E$104,2,FALSE))","v":"Gobernanza e influencia local, regional e internacional"},{"$f":"IF(ISERROR(VLOOKUP(K67,Eje_Pilar_Prop!$C$2:$E$104,3,FALSE)),\" \",VLOOKUP(K67,Eje_Pilar_Prop!$C$2:$E$104,3,FALSE))","v":"Eje Transversal 4 Gobierno Legitimo, Fortalecimiento Local y Eficiencia"},"3-3-1 -15-07-45-1312-000 ",1030542144,"EDUARDO ANDRES SALAZAR CARRILLO",11600000,null,null,null,null,11600000,11600000,"2020-02-12","2020-02-13","2020-06-12",120,null,null,null,null,null,null,null,null,"X",null,1,null,{"$f":"IF(SUMPRODUCT((A$14:A67=A67)*(B$14:B67=B67)*(D$14:D67=D67))>1,0,1)","v":1},"Contratos de prestación de servicios profesionales y de apoyo a la gestión","Contratación directa",{"$f":"IF(ISBLANK(G67),1,IFERROR(VLOOKUP(G67,Tipo!$C$12:$C$27,1,FALSE),\"NO\"))","v":"Prestación de servicios profesionales y de apoyo a la gestión, o para la ejecución de trabajos artísticos que sólo puedan encomendarse a determinadas personas naturales;"},"Inversión",{"$f":"IF(ISBLANK(K67),1,IFERROR(VLOOKUP(K67,Eje_Pilar_Prop!C48:C150,1,FALSE),\"NO\"))","v":"NO"},"SECOP II",1,"Bogotá Mejor para Todos"]
[55,2020,"SECOP II","ALPA-CD-055-2020","Contratos de prestación de servicios profesionales y de apoyo a la gestión","Contratación directa","Prestación de servicios profesionales y de apoyo a la gestión, o para la ejecución de trabajos artísticos que sólo puedan encomendarse a determinadas personas naturales;","El contratista se obliga con el Fondo de Desarrollo Local de Puente Aranda a apoyar administrativa y asistencialmente a las Inspecciones de Policía de la Localidad","Inversión","Bogotá Mejor para Todos",45,{"$f":"IF(ISERROR(VLOOKUP(K68,Eje_Pilar_Prop!$C$2:$E$104,2,FALSE)),\" \",VLOOKUP(K68,Eje_Pilar_Prop!$C$2:$E$104,2,FALSE))","v":"Gobernanza e influencia local, regional e internacional"},{"$f":"IF(ISERROR(VLOOKUP(K68,Eje_Pilar_Prop!$C$2:$E$104,3,FALSE)),\" \",VLOOKUP(K68,Eje_Pilar_Prop!$C$2:$E$104,3,FALSE))","v":"Eje Transversal 4 Gobierno Legitimo, Fortalecimiento Local y Eficiencia"},"3-3-1-15-07-45-1312-000 ",83167890,"HECTOR TOVAR ORDOÑEZ",10000000,null,null,null,null,10000000,10000000,"2020-02-13","2020-02-18","2020-06-17",120,null,null,null,null,null,null,null,null,"X",null,1,null,{"$f":"IF(SUMPRODUCT((A$14:A68=A68)*(B$14:B68=B68)*(D$14:D68=D68))>1,0,1)","v":1},"Contratos de prestación de servicios profesionales y de apoyo a la gestión","Contratación directa",{"$f":"IF(ISBLANK(G68),1,IFERROR(VLOOKUP(G68,Tipo!$C$12:$C$27,1,FALSE),\"NO\"))","v":"Prestación de servicios profesionales y de apoyo a la gestión, o para la ejecución de trabajos artísticos que sólo puedan encomendarse a determinadas personas naturales;"},"Inversión",{"$f":"IF(ISBLANK(K68),1,IFERROR(VLOOKUP(K68,Eje_Pilar_Prop!C48:C151,1,FALSE),\"NO\"))","v":"NO"},{"$f":"IF(ISBLANK(#REF!),1,IFERROR(VLOOKUP(#REF!,SECOP,1,FALSE),\"NO\"))","v":"NO"},1,"Bogotá Mejor para Todos"]
[56,2020,"SECOP II","ALPA-CD-056-2020","Contratos de prestación de servicios profesionales y de apoyo a la gestión","Contratación directa","Prestación de servicios profesionales y de apoyo a la gestión, o para la ejecución de trabajos artísticos que sólo puedan encomendarse a determinadas personas naturales;","El contratista se obliga con el Fondo de Desarrollo Local de la Alcaldía de Puente Aranda prestar sus servicios profesionales para Apoyar jurídicamente la ejecución de las acciones requeridas para el trámite e impulso de las actuaciones contravencionales y/o querellas que se cursen en las Inspecciones de Policía de la Localidad.","Inversión","Bogotá Mejor para Todos",45,{"$f":"IF(ISERROR(VLOOKUP(K69,Eje_Pilar_Prop!$C$2:$E$104,2,FALSE)),\" \",VLOOKUP(K69,Eje_Pilar_Prop!$C$2:$E$104,2,FALSE))","v":"Gobernanza e influencia local, regional e internacional"},{"$f":"IF(ISERROR(VLOOKUP(K69,Eje_Pilar_Prop!$C$2:$E$104,3,FALSE)),\" \",VLOOKUP(K69,Eje_Pilar_Prop!$C$2:$E$104,3,FALSE))","v":"Eje Transversal 4 Gobierno Legitimo, Fortalecimiento Local y Eficiencia"},"3-3-1-15-07-45-1312-000",85477211,"JOSE JAIRO DELGADO ZABALA",18800000,null,null,null,null,18800000,18800000,"2020-02-13","2020-02-17","2020-06-16",120,null,null,null,null,null,null,null,null,"X",null,1,null,{"$f":"IF(SUMPRODUCT((A$14:A69=A69)*(B$14:B69=B69)*(D$14:D69=D69))>1,0,1)","v":1},"Contratos de prestación de servicios profesionales y de apoyo a la gestión","Contratación directa",{"$f":"IF(ISBLANK(G69),1,IFERROR(VLOOKUP(G69,Tipo!$C$12:$C$27,1,FALSE),\"NO\"))","v":"Prestación de servicios profesionales y de apoyo a la gestión, o para la ejecución de trabajos artísticos que sólo puedan encomendarse a determinadas personas naturales;"},"Inversión",{"$f":"IF(ISBLANK(K69),1,IFERROR(VLOOKUP(K69,Eje_Pilar_Prop!C48:C152,1,FALSE),\"NO\"))","v":"NO"},"SECOP II",1,"Bogotá Mejor para Todos"]
[57,2020,"SECOP II","ALPA-CD-057-2020","Contratos de prestación de servicios profesionales y de apoyo a la gestión","Contratación directa","Prestación de servicios profesionales y de apoyo a la gestión, o para la ejecución de trabajos artísticos que sólo puedan encomendarse a determinadas personas naturales;","El Contratista se obliga con el Fondo de Desarrollo Local a prestar sus servicios profesionales apoyando tecnicamente las distintas etapas de los procesos de competencias de la Alcaldia Local para la depuracion de actuaciones administrativas, de acuerdo con los estudios previo","Inversión","Bogotá Mejor para Todos",45,{"$f":"IF(ISERROR(VLOOKUP(K70,Eje_Pilar_Prop!$C$2:$E$104,2,FALSE)),\" \",VLOOKUP(K70,Eje_Pilar_Prop!$C$2:$E$104,2,FALSE))","v":"Gobernanza e influencia local, regional e internacional"},{"$f":"IF(ISERROR(VLOOKUP(K70,Eje_Pilar_Prop!$C$2:$E$104,3,FALSE)),\" \",VLOOKUP(K70,Eje_Pilar_Prop!$C$2:$E$104,3,FALSE))","v":"Eje Transversal 4 Gobierno Legitimo, Fortalecimiento Local y Eficiencia"},"3-3-1 -15-07-45-1312-000",80829029,"VLADIMIR MARTINEZ",20800000,null,null,null,null,20800000,20800000,"2020-02-13","2020-02-18","2020-06-18",120,null,null,null,null,null,null,null,null,"X",null,1,null,{"$f":"IF(SUMPRODUCT((A$14:A70=A70)*(B$14:B70=B70)*(D$14:D70=D70))>1,0,1)","v":1},"Contratos de prestación de servicios profesionales y de apoyo a la gestión","Contratación directa",{"$f":"IF(ISBLANK(G70),1,IFERROR(VLOOKUP(G70,Tipo!$C$12:$C$27,1,FALSE),\"NO\"))","v":"Prestación de servicios profesionales y de apoyo a la gestión, o para la ejecución de trabajos artísticos que sólo puedan encomendarse a determinadas personas naturales;"},"Inversión",{"$f":"IF(ISBLANK(K70),1,IFERROR(VLOOKUP(K70,Eje_Pilar_Prop!C48:C153,1,FALSE),\"NO\"))","v":"NO"},"SECOP II",1,"Bogotá Mejor para Todos"]
[58,2020,"SECOP II","ALPA-CD-058-2020","Contratos de prestación de servicios profesionales y de apoyo a la gestión","Contratación directa","Prestación de servicios profesionales y de apoyo a la gestión, o para la ejecución de trabajos artísticos que sólo puedan encomendarse a determinadas personas naturales;","El contratista se obliga con el Fondo de Desarrollo Local Puente Aranda a prestar los servicios profesionales requeridos para apoyar la formulación, proceso de contratación, evaluación y seguimiento de proyectos incluidos en el plan de desarrollo local vigente así como la liquidación de los contratos suscritos para su ejecución para asegurar a adecuada inversión de recursos locales y el cumplimiento de las metas del mismo, en lo referente a temas transversales de infraestructura fisica, de acuerdo con los estudios previos","Inversión","Bogotá Mejor para Todos",45,{"$f":"IF(ISERROR(VLOOKUP(K71,Eje_Pilar_Prop!$C$2:$E$104,2,FALSE)),\" \",VLOOKUP(K71,Eje_Pilar_Prop!$C$2:$E$104,2,FALSE))","v":"Gobernanza e influencia local, regional e internacional"},{"$f":"IF(ISERROR(VLOOKUP(K71,Eje_Pilar_Prop!$C$2:$E$104,3,FALSE)),\" \",VLOOKUP(K71,Eje_Pilar_Prop!$C$2:$E$104,3,FALSE))","v":"Eje Transversal 4 Gobierno Legitimo, Fortalecimiento Local y Eficiencia"},"3-3-1-15-02- 18-1290-000 ",80901308,"DANIEL FELIPE VILLAMIL MARTINEZ",18800000,null,null,1,4700000,23500000,23500000,"2020-02-13","2020-02-14","2020-06-13",120,1,30,null,null,null,null,null,null,"X",null,1,null,{"$f":"IF(SUMPRODUCT((A$14:A71=A71)*(B$14:B71=B71)*(D$14:D71=D71))>1,0,1)","v":1},"Contratos de prestación de servicios profesionales y de apoyo a la gestión","Contratación directa",{"$f":"IF(ISBLANK(G71),1,IFERROR(VLOOKUP(G71,Tipo!$C$12:$C$27,1,FALSE),\"NO\"))","v":"Prestación de servicios profesionales y de apoyo a la gestión, o para la ejecución de trabajos artísticos que sólo puedan encomendarse a determinadas personas naturales;"},"Inversión",{"$f":"IF(ISBLANK(K71),1,IFERROR(VLOOKUP(K71,Eje_Pilar_Prop!C49:C154,1,FALSE),\"NO\"))","v":"NO"},"SECOP II",1,"Bogotá Mejor para Todos"]
[59,2020,"SECOP II","ALPA-CD-059-2020","Contratos de prestación de servicios profesionales y de apoyo a la gestión","Contratación directa","Prestación de servicios profesionales y de apoyo a la gestión, o para la ejecución de trabajos artísticos que sólo puedan encomendarse a determinadas personas naturales;","El Contratista se obliga con el Fondo de Desarrollo Local de la Alcaldia Local de Puente Aranda a prestar el servicio de conduccion para los vehiculos propiedad del Fondo de Desarrollo Local y los que se le asignen, de conformidad con los estudios previos.","Inversión","Bogotá Mejor para Todos",45,{"$f":"IF(ISERROR(VLOOKUP(K72,Eje_Pilar_Prop!$C$2:$E$104,2,FALSE)),\" \",VLOOKUP(K72,Eje_Pilar_Prop!$C$2:$E$104,2,FALSE))","v":"Gobernanza e influencia local, regional e internacional"},{"$f":"IF(ISERROR(VLOOKUP(K72,Eje_Pilar_Prop!$C$2:$E$104,3,FALSE)),\" \",VLOOKUP(K72,Eje_Pilar_Prop!$C$2:$E$104,3,FALSE))","v":"Eje Transversal 4 Gobierno Legitimo, Fortalecimiento Local y Eficiencia"},"3-3-1 -15-07-45-1312-000",19392521,"OSCAR IVAN BARRETO GOMEZ",9200000,null,null,null,null,9200000,9200000,"2020-02-18","2020-02-20","2020-06-19",120,null,null,null,null,null,null,null,null,"X",null,1,null,{"$f":"IF(SUMPRODUCT((A$14:A72=A72)*(B$14:B72=B72)*(D$14:D72=D72))>1,0,1)","v":1},"Contratos de prestación de servicios profesionales y de apoyo a la gestión","Contratación directa",{"$f":"IF(ISBLANK(G72),1,IFERROR(VLOOKUP(G72,Tipo!$C$12:$C$27,1,FALSE),\"NO\"))","v":"Prestación de servicios profesionales y de apoyo a la gestión, o para la ejecución de trabajos artísticos que sólo puedan encomendarse a determinadas personas naturales;"},"Inversión",{"$f":"IF(ISBLANK(K72),1,IFERROR(VLOOKUP(K72,Eje_Pilar_Prop!C50:C155,1,FALSE),\"NO\"))","v":"NO"},"SECOP II",1,"Bogotá Mejor para Todos"]
[60,2020,"SECOP II","ALPA-CD-060-2020","Contratos de prestación de servicios profesionales y de apoyo a la gestión","Contratación directa","Prestación de servicios profesionales y de apoyo a la gestión, o para la ejecución de trabajos artísticos que sólo puedan encomendarse a determinadas personas naturales;","El contrato que se pretende celebrar tendrá por objeto: \"El contratista se obliga con el Fondo de Desarrollo Local de Puente Aranda a prestar los servicios profesionales requeridos para apoyar la formulación, proceso de contratación, evaluación y seguimiento de proyectos incluidos en el Plan de Desarrollo Local vigente así como liquidación de los contratos suscritos para su ejecución, para asegurar la adecuada inversión de recursos locales y el cumplimiento de las metas del mismo, en especial el","Inversión","Bogotá Mejor para Todos",45,{"$f":"IF(ISERROR(VLOOKUP(K73,Eje_Pilar_Prop!$C$2:$E$104,2,FALSE)),\" \",VLOOKUP(K73,Eje_Pilar_Prop!$C$2:$E$104,2,FALSE))","v":"Gobernanza e influencia local, regional e internacional"},{"$f":"IF(ISERROR(VLOOKUP(K73,Eje_Pilar_Prop!$C$2:$E$104,3,FALSE)),\" \",VLOOKUP(K73,Eje_Pilar_Prop!$C$2:$E$104,3,FALSE))","v":"Eje Transversal 4 Gobierno Legitimo, Fortalecimiento Local y Eficiencia"},"3-3-1-15-03-19-1310-000",79593478,"Richard Alexander Romo Guacas",18800000,null,null,null,null,18800000,18800000,"2020-02-13","2020-02-14","2020-06-13",120,null,null,null,null,null,null,null,null,"X",null,1,null,{"$f":"IF(SUMPRODUCT((A$14:A73=A73)*(B$14:B73=B73)*(D$14:D73=D73))>1,0,1)","v":1},"Contratos de prestación de servicios profesionales y de apoyo a la gestión","Contratación directa",{"$f":"IF(ISBLANK(G73),1,IFERROR(VLOOKUP(G73,Tipo!$C$12:$C$27,1,FALSE),\"NO\"))","v":"Prestación de servicios profesionales y de apoyo a la gestión, o para la ejecución de trabajos artísticos que sólo puedan encomendarse a determinadas personas naturales;"},"Inversión",{"$f":"IF(ISBLANK(K73),1,IFERROR(VLOOKUP(K73,Eje_Pilar_Prop!C51:C156,1,FALSE),\"NO\"))","v":"NO"},"SECOP II",1,"Bogotá Mejor para Todos"]
[61,2020,"SECOP II","ALPA-CD-061-2020","Contratos de prestación de servicios profesionales y de apoyo a la gestión","Contratación directa","Prestación de servicios profesionales y de apoyo a la gestión, o para la ejecución de trabajos artísticos que sólo puedan encomendarse a determinadas personas naturales;","El contratista se obliga con el Fondo de Desarrollo Local de Puente Aranda a apoyar y dar soporte técnico al administrador y usuario final de la red de sistemas y tecnología e información de la Alcaldía Local, de acuerdo con los estudios _previos.","Inversión","Bogotá Mejor para Todos",45,{"$f":"IF(ISERROR(VLOOKUP(K74,Eje_Pilar_Prop!$C$2:$E$104,2,FALSE)),\" \",VLOOKUP(K74,Eje_Pilar_Prop!$C$2:$E$104,2,FALSE))","v":"Gobernanza e influencia local, regional e internacional"},{"$f":"IF(ISERROR(VLOOKUP(K74,Eje_Pilar_Prop!$C$2:$E$104,3,FALSE)),\" \",VLOOKUP(K74,Eje_Pilar_Prop!$C$2:$E$104,3,FALSE))","v":"Eje Transversal 4 Gobierno Legitimo, Fortalecimiento Local y Eficiencia"},"3-3-1-15-07-45-1312-000",79360276,"WILLIAM EDUARDO VILLALOBOS MARTINEZ",12400000,null,null,null,null,12400000,12400000,"2020-02-13","2020-02-14","2020-06-13",120,null,null,null,null,null,null,null,null,"X",null,1,null,{"$f":"IF(SUMPRODUCT((A$14:A74=A74)*(B$14:B74=B74)*(D$14:D74=D74))>1,0,1)","v":1},"Contratos de prestación de servicios profesionales y de apoyo a la gestión","Contratación directa",{"$f":"IF(ISBLANK(G74),1,IFERROR(VLOOKUP(G74,Tipo!$C$12:$C$27,1,FALSE),\"NO\"))","v":"Prestación de servicios profesionales y de apoyo a la gestión, o para la ejecución de trabajos artísticos que sólo puedan encomendarse a determinadas personas naturales;"},"Inversión",{"$f":"IF(ISBLANK(K74),1,IFERROR(VLOOKUP(K74,Eje_Pilar_Prop!C52:C157,1,FALSE),\"NO\"))","v":"NO"},"SECOP II",1,"Bogotá Mejor para Todos"]
[62,2020,"SECOP II","ALPA-CD-062-2020","Contratos de prestación de servicios profesionales y de apoyo a la gestión","Contratación directa","Prestación de servicios profesionales y de apoyo a la gestión, o para la ejecución de trabajos artísticos que sólo puedan encomendarse a determinadas personas naturales;","El contratista se obliga con el Fondo de Desarrollo Local de Puente Aranda a prestar los servicios profesionales requeridos para apoyar la formulación, proceso de contratación, evaluación y seguimiento de proyectos incluidos en el Plan de Desarrollo Local vigente referentes a población juvenil, así como servir de enlace y gestionar las acciones sobre el territorio que vinculen a esta población, de acuerdo con los estudios previos","Inversión","Bogotá Mejor para Todos",45,{"$f":"IF(ISERROR(VLOOKUP(K75,Eje_Pilar_Prop!$C$2:$E$104,2,FALSE)),\" \",VLOOKUP(K75,Eje_Pilar_Prop!$C$2:$E$104,2,FALSE))","v":"Gobernanza e influencia local, regional e internacional"},{"$f":"IF(ISERROR(VLOOKUP(K75,Eje_Pilar_Prop!$C$2:$E$104,3,FALSE)),\" \",VLOOKUP(K75,Eje_Pilar_Prop!$C$2:$E$104,3,FALSE))","v":"Eje Transversal 4 Gobierno Legitimo, Fortalecimiento Local y Eficiencia"},"3-3-1-15-07-45-1312-000",80224727,"JOSE RICARDO PACHECO RODRIGUEZ",16800000,null,null,null,null,16800000,16800000,"2020-02-17","2020-02-18","2020-06-17",120,null,null,null,null,null,null,null,null,"X",null,1,null,{"$f":"IF(SUMPRODUCT((A$14:A75=A75)*(B$14:B75=B75)*(D$14:D75=D75))>1,0,1)","v":1},"Contratos de prestación de servicios profesionales y de apoyo a la gestión","Contratación directa",{"$f":"IF(ISBLANK(G75),1,IFERROR(VLOOKUP(G75,Tipo!$C$12:$C$27,1,FALSE),\"NO\"))","v":"Prestación de servicios profesionales y de apoyo a la gestión, o para la ejecución de trabajos artísticos que sólo puedan encomendarse a determinadas personas naturales;"},"Inversión",{"$f":"IF(ISBLANK(K75),1,IFERROR(VLOOKUP(K75,Eje_Pilar_Prop!C53:C158,1,FALSE),\"NO\"))","v":"NO"},"SECOP II",1,"Bogotá Mejor para Todos"]
[63,2020,"SECOP II","ALPA-CD-063-2020","Contratos de prestación de servicios profesionales y de apoyo a la gestión","Contratación directa","Prestación de servicios profesionales y de apoyo a la gestión, o para la ejecución de trabajos artísticos que sólo puedan encomendarse a determinadas personas naturales;","El contratista se obliga con el Fondo de Desarrollo Local de Puente Aranda a prestar sus servicios personales en la ejecución de actividades de orden técnico de apoyo que se requieran para la gestión en el proyecto 1290 DEMOCRACIA URBANA MAS VÍAS PARATODOS","Inversión","Bogotá Mejor para Todos",45,{"$f":"IF(ISERROR(VLOOKUP(K76,Eje_Pilar_Prop!$C$2:$E$104,2,FALSE)),\" \",VLOOKUP(K76,Eje_Pilar_Prop!$C$2:$E$104,2,FALSE))","v":"Gobernanza e influencia local, regional e internacional"},{"$f":"IF(ISERROR(VLOOKUP(K76,Eje_Pilar_Prop!$C$2:$E$104,3,FALSE)),\" \",VLOOKUP(K76,Eje_Pilar_Prop!$C$2:$E$104,3,FALSE))","v":"Eje Transversal 4 Gobierno Legitimo, Fortalecimiento Local y Eficiencia"},"3-3-1-15-02- 18-1290-000"," 52834193","RUTH  HELENA JIMENEZ PEREZ",14800000,null,null,null,null,14800000,14800000,"2020-02-17","2020-03-02","2020-07-01",120,null,null,null,null,null,null,null,null,"X",null,1,null,{"$f":"IF(SUMPRODUCT((A$14:A76=A76)*(B$14:B76=B76)*(D$14:D76=D76))>1,0,1)","v":1},"Contratos de prestación de servicios profesionales y de apoyo a la gestión","Contratación directa",{"$f":"IF(ISBLANK(G76),1,IFERROR(VLOOKUP(G76,Tipo!$C$12:$C$27,1,FALSE),\"NO\"))","v":"Prestación de servicios profesionales y de apoyo a la gestión, o para la ejecución de trabajos artísticos que sólo puedan encomendarse a determinadas personas naturales;"},"Inversión",{"$f":"IF(ISBLANK(K76),1,IFERROR(VLOOKUP(K76,Eje_Pilar_Prop!C54:C159,1,FALSE),\"NO\"))","v":"NO"},"SECOP II",1,"Bogotá Mejor para Todos"]
[64,2020,"SECOP II","ALPA-CD-064-2020","Contratos de prestación de servicios profesionales y de apoyo a la gestión","Contratación directa","Prestación de servicios profesionales y de apoyo a la gestión, o para la ejecución de trabajos artísticos que sólo puedan encomendarse a determinadas personas naturales;","El contratista se obliga con el Fondo de Desarrollo Local de Puente Aranda a prestar sus servicios personales en la ejecución de actividades de orden técnico de apoyo que se requieran para la gestión en el proyecto 1290 DEMOCRACIA URBANA MAS VÍAS PARATODOS","Inversión","Bogotá Mejor para Todos",18,{"$f":"IF(ISERROR(VLOOKUP(K77,Eje_Pilar_Prop!$C$2:$E$104,2,FALSE)),\" \",VLOOKUP(K77,Eje_Pilar_Prop!$C$2:$E$104,2,FALSE))","v":"Mejor movilidad para todos"},{"$f":"IF(ISERROR(VLOOKUP(K77,Eje_Pilar_Prop!$C$2:$E$104,3,FALSE)),\" \",VLOOKUP(K77,Eje_Pilar_Prop!$C$2:$E$104,3,FALSE))","v":"Pilar 2 Democracía Urbana"},"3-3-1-15-02- 18-1290-000 ",1077034682,"FRANCISCO SANCHEZ CARDENAS",14800000,null,null,null,null,14800000,14800000,"2020-02-18","2020-03-02","2020-07-01",120,null,null,null,null,null,null,null,null,"X",null,1,null,{"$f":"IF(SUMPRODUCT((A$14:A77=A77)*(B$14:B77=B77)*(D$14:D77=D77))>1,0,1)","v":1},"Contratos de prestación de servicios profesionales y de apoyo a la gestión","Contratación directa",{"$f":"IF(ISBLANK(G77),1,IFERROR(VLOOKUP(G77,Tipo!$C$12:$C$27,1,FALSE),\"NO\"))","v":"Prestación de servicios profesionales y de apoyo a la gestión, o para la ejecución de trabajos artísticos que sólo puedan encomendarse a determinadas personas naturales;"},"Inversión",{"$f":"IF(ISBLANK(K77),1,IFERROR(VLOOKUP(K77,Eje_Pilar_Prop!C55:C160,1,FALSE),\"NO\"))","v":"NO"},"SECOP II",1,"Bogotá Mejor para Todos"]
[65,2020,"SECOP II","ALPA-CD-065-2020","Contratos de prestación de servicios profesionales y de apoyo a la gestión","Contratación directa","Prestación de servicios profesionales y de apoyo a la gestión, o para la ejecución de trabajos artísticos que sólo puedan encomendarse a determinadas personas naturales;","El contratista se obliga con el Fondo de Desarrollo Local de Puente Aranda a prestar los servicios profesionales requeridos para apoyar la formulación, proceso de contratación, evaluación y seguimiento de proyectos incluidos en el Plan de Desarrollo Local vigente, así como la liquidación de los contratos suscritos para su ejecución, para asegurar la adecuada inversión de recursos locales y el cumplimiento de las metas del mismo, de acuerdo con estudios previos.","Inversión","Bogotá Mejor para Todos",45,{"$f":"IF(ISERROR(VLOOKUP(K78,Eje_Pilar_Prop!$C$2:$E$104,2,FALSE)),\" \",VLOOKUP(K78,Eje_Pilar_Prop!$C$2:$E$104,2,FALSE))","v":"Gobernanza e influencia local, regional e internacional"},{"$f":"IF(ISERROR(VLOOKUP(K78,Eje_Pilar_Prop!$C$2:$E$104,3,FALSE)),\" \",VLOOKUP(K78,Eje_Pilar_Prop!$C$2:$E$104,3,FALSE))","v":"Eje Transversal 4 Gobierno Legitimo, Fortalecimiento Local y Eficiencia"},"3-3-1-15-07-45-1312-000",80097302,"RODOLFO JOYA FORERO",18800000,null,null,null,null,18800000,18800000,"2020-02-17","2020-02-19","2020-06-18",120,null,null,null,null,null,null,null,null,"X",null,1,null,{"$f":"IF(SUMPRODUCT((A$14:A78=A78)*(B$14:B78=B78)*(D$14:D78=D78))>1,0,1)","v":1},"Contratos de prestación de servicios profesionales y de apoyo a la gestión","Contratación directa",{"$f":"IF(ISBLANK(G78),1,IFERROR(VLOOKUP(G78,Tipo!$C$12:$C$27,1,FALSE),\"NO\"))","v":"Prestación de servicios profesionales y de apoyo a la gestión, o para la ejecución de trabajos artísticos que sólo puedan encomendarse a determinadas personas naturales;"},"Inversión",{"$f":"IF(ISBLANK(K78),1,IFERROR(VLOOKUP(K78,Eje_Pilar_Prop!C56:C161,1,FALSE),\"NO\"))","v":"NO"},"SECOP II",1,{"$f":"IF(ISBLANK(J78),1,IFERROR(VLOOKUP(J78,pdd,1,FALSE),\"NO\"))","v":"Bogotá Mejor para Todos"}]
[66,2020,"SECOP II","ALPA-CD-066-2020","Contratos de prestación de servicios profesionales y de apoyo a la gestión","Contratación directa","Prestación de servicios profesionales y de apoyo a la gestión, o para la ejecución de trabajos artísticos que sólo puedan encomendarse a determinadas personas naturales;","El contratista se obliga con el Fondo de Desarrollo Local a prestar sus servicios para apoyar al equipo de prensa y comunicaciones de la Alcaldía Local en la realización y publicación de contenidos de redes sociales y canales de divulgación digital (sitio web) de la Alcaldía local, conforme los estudios previos.","Inversión","Bogotá Mejor para Todos",45,{"$f":"IF(ISERROR(VLOOKUP(K79,Eje_Pilar_Prop!$C$2:$E$104,2,FALSE)),\" \",VLOOKUP(K79,Eje_Pilar_Prop!$C$2:$E$104,2,FALSE))","v":"Gobernanza e influencia local, regional e internacional"},{"$f":"IF(ISERROR(VLOOKUP(K79,Eje_Pilar_Prop!$C$2:$E$104,3,FALSE)),\" \",VLOOKUP(K79,Eje_Pilar_Prop!$C$2:$E$104,3,FALSE))","v":"Eje Transversal 4 Gobierno Legitimo, Fortalecimiento Local y Eficiencia"},"3-3-1-15-07-45-1312-000",1022368792,"NIDIA CECILIA GALINDO VELASCO",16800000,null,null,null,null,16800000,16800000,"2020-02-17","2020-02-18","2020-06-17",120,null,null,null,null,null,null,null,null,"X",null,1,null,{"$f":"IF(SUMPRODUCT((A$14:A79=A79)*(B$14:B79=B79)*(D$14:D79=D79))>1,0,1)","v":1},"Contratos de prestación de servicios profesionales y de apoyo a la gestión","Contratación directa",{"$f":"IF(ISBLANK(G79),1,IFERROR(VLOOKUP(G79,Tipo!$C$12:$C$27,1,FALSE),\"NO\"))","v":"Prestación de servicios profesionales y de apoyo a la gestión, o para la ejecución de trabajos artísticos que sólo puedan encomendarse a determinadas personas naturales;"},"Inversión",{"$f":"IF(ISBLANK(K79),1,IFERROR(VLOOKUP(K79,Eje_Pilar_Prop!C57:C162,1,FALSE),\"NO\"))","v":"NO"},"SECOP II",1,"Bogotá Mejor para Todos"]
[67,2020,"SECOP II","ALPA-CD-067-2020","Contratos de prestación de servicios profesionales y de apoyo a la gestión","Contratación directa","Prestación de servicios profesionales y de apoyo a la gestión, o para la ejecución de trabajos artísticos que sólo puedan encomendarse a determinadas personas naturales;","El Contratista se obliga con el Area de Gestion del Desarrollo Local de Puente Aranda, en la ejecucion de actividades de orden tecnico de apoyo que se requieran para la gestion en el proyecto «3-3-1-15-02-17-1291». “CONSTRUCCION Y ADECUACION DE PARQUES DE LA LOCALIDAD DE PUENTE ARANDA”, de conformidad con los estudios previos.","Inversión","Bogotá Mejor para Todos",18,{"$f":"IF(ISERROR(VLOOKUP(K80,Eje_Pilar_Prop!$C$2:$E$104,2,FALSE)),\" \",VLOOKUP(K80,Eje_Pilar_Prop!$C$2:$E$104,2,FALSE))","v":"Mejor movilidad para todos"},{"$f":"IF(ISERROR(VLOOKUP(K80,Eje_Pilar_Prop!$C$2:$E$104,3,FALSE)),\" \",VLOOKUP(K80,Eje_Pilar_Prop!$C$2:$E$104,3,FALSE))","v":"Pilar 2 Democracía Urbana"},"3-3-1-15-02- 17-1291-000 ",52959448,"KELLY MAGNOLIA BEJARANO RIVERA",14800000,null,null,null,null,14800000,14800000,"2020-02-18","2020-02-19","2020-06-18",120,null,null,null,null,null,null,null,null,"X",null,1,null,{"$f":"IF(SUMPRODUCT((A$14:A80=A80)*(B$14:B80=B80)*(D$14:D80=D80))>1,0,1)","v":1},"Contratos de prestación de servicios profesionales y de apoyo a la gestión","Contratación directa",{"$f":"IF(ISBLANK(G80),1,IFERROR(VLOOKUP(G80,Tipo!$C$12:$C$27,1,FALSE),\"NO\"))","v":"Prestación de servicios profesionales y de apoyo a la gestión, o para la ejecución de trabajos artísticos que sólo puedan encomendarse a determinadas personas naturales;"},"Inversión",{"$f":"IF(ISBLANK(K80),1,IFERROR(VLOOKUP(K80,Eje_Pilar_Prop!C58:C163,1,FALSE),\"NO\"))","v":"NO"},"SECOP II",1,"Bogotá Mejor para Todos"]
[68,2020,"SECOP II","ALPA-CD-068-2020","Contratos de prestación de servicios profesionales y de apoyo a la gestión","Contratación directa","Prestación de servicios profesionales y de apoyo a la gestión, o para la ejecución de trabajos artísticos que sólo puedan encomendarse a determinadas personas naturales;","“El Contratista se obliga con el Fondo de Desarrollo Local a prestar sus servicios profesionales para apoyar tecnicamente las distintas etapas de los procesos de competencia de la Inspecciones de Policia de la Localidad de Puente Aranda, segun reparto, de acuerdo con los estudios previos","Inversión","Bogotá Mejor para Todos",45,{"$f":"IF(ISERROR(VLOOKUP(K81,Eje_Pilar_Prop!$C$2:$E$104,2,FALSE)),\" \",VLOOKUP(K81,Eje_Pilar_Prop!$C$2:$E$104,2,FALSE))","v":"Gobernanza e influencia local, regional e internacional"},{"$f":"IF(ISERROR(VLOOKUP(K81,Eje_Pilar_Prop!$C$2:$E$104,3,FALSE)),\" \",VLOOKUP(K81,Eje_Pilar_Prop!$C$2:$E$104,3,FALSE))","v":"Eje Transversal 4 Gobierno Legitimo, Fortalecimiento Local y Eficiencia"},"3-3-1-15-07-45-1312-000",79693773,"PLINIO AUGUSTO ALBA RODRIGUEZ",22000000,null,null,null,null,22000000,22000000,"2020-02-18","2020-02-19","2020-06-18",120,null,null,null,null,null,null,null,null,"X",null,1,null,{"$f":"IF(SUMPRODUCT((A$14:A81=A81)*(B$14:B81=B81)*(D$14:D81=D81))>1,0,1)","v":1},"Contratos de prestación de servicios profesionales y de apoyo a la gestión","Contratación directa",{"$f":"IF(ISBLANK(G81),1,IFERROR(VLOOKUP(G81,Tipo!$C$12:$C$27,1,FALSE),\"NO\"))","v":"Prestación de servicios profesionales y de apoyo a la gestión, o para la ejecución de trabajos artísticos que sólo puedan encomendarse a determinadas personas naturales;"},"Inversión",{"$f":"IF(ISBLANK(K81),1,IFERROR(VLOOKUP(K81,Eje_Pilar_Prop!C59:C164,1,FALSE),\"NO\"))","v":"NO"},"SECOP II",1,"Bogotá Mejor para Todos"]
[69,2020,"SECOP II","ALPA-CD-069-2020","Contratos de prestación de servicios profesionales y de apoyo a la gestión","Contratación directa","Prestación de servicios profesionales y de apoyo a la gestión, o para la ejecución de trabajos artísticos que sólo puedan encomendarse a determinadas personas naturales;","El contratista se obliga con el Fondo de Desarrollo Local de Puente Aranda a prestar los servicios jurídicos especializados para apoyar al Despacho en materia de contratación estatal y derecho administrativo, de acuerdo con los estudios previos","Inversión","Bogotá Mejor para Todos",45,{"$f":"IF(ISERROR(VLOOKUP(K82,Eje_Pilar_Prop!$C$2:$E$104,2,FALSE)),\" \",VLOOKUP(K82,Eje_Pilar_Prop!$C$2:$E$104,2,FALSE))","v":"Gobernanza e influencia local, regional e internacional"},{"$f":"IF(ISERROR(VLOOKUP(K82,Eje_Pilar_Prop!$C$2:$E$104,3,FALSE)),\" \",VLOOKUP(K82,Eje_Pilar_Prop!$C$2:$E$104,3,FALSE))","v":"Eje Transversal 4 Gobierno Legitimo, Fortalecimiento Local y Eficiencia"},"3-3-1-15-07-45-1312-000",40800318,"JULIETA VENCE MENDOZA",33000000,null,null,null,null,33000000,33000000,"2020-02-17","2020-02-20","2020-06-19",120,null,null,null,null,null,null,null,null,"X",null,1,null,{"$f":"IF(SUMPRODUCT((A$14:A82=A82)*(B$14:B82=B82)*(D$14:D82=D82))>1,0,1)","v":1},"Contratos de prestación de servicios profesionales y de apoyo a la gestión","Contratación directa",{"$f":"IF(ISBLANK(G82),1,IFERROR(VLOOKUP(G82,Tipo!$C$12:$C$27,1,FALSE),\"NO\"))","v":"Prestación de servicios profesionales y de apoyo a la gestión, o para la ejecución de trabajos artísticos que sólo puedan encomendarse a determinadas personas naturales;"},"Inversión",{"$f":"IF(ISBLANK(K82),1,IFERROR(VLOOKUP(K82,Eje_Pilar_Prop!C60:C165,1,FALSE),\"NO\"))","v":"NO"},"SECOP II",1,"Bogotá Mejor para Todos"]
[70,2020,"SECOP II","ALPA-CD-070-2020","Contratos de prestación de servicios profesionales y de apoyo a la gestión","Contratación directa","Prestación de servicios profesionales y de apoyo a la gestión, o para la ejecución de trabajos artísticos que sólo puedan encomendarse a determinadas personas naturales;","El contratista se obliga con el Fondo de Desarrollo Local a prestar sus servicios profesionales apoyando técnicamente las distintas etapas de los procesos de competencias de la Alcaldía Local para la depuración de actuaciones administrativas de acuerdo con los estudios previos","Inversión","Bogotá Mejor para Todos",45,{"$f":"IF(ISERROR(VLOOKUP(K83,Eje_Pilar_Prop!$C$2:$E$104,2,FALSE)),\" \",VLOOKUP(K83,Eje_Pilar_Prop!$C$2:$E$104,2,FALSE))","v":"Gobernanza e influencia local, regional e internacional"},{"$f":"IF(ISERROR(VLOOKUP(K83,Eje_Pilar_Prop!$C$2:$E$104,3,FALSE)),\" \",VLOOKUP(K83,Eje_Pilar_Prop!$C$2:$E$104,3,FALSE))","v":"Eje Transversal 4 Gobierno Legitimo, Fortalecimiento Local y Eficiencia"},"3-3-1-15-07-45-1312-000",72050902,"JEFFERSON ALBERTO MOYA ALVAREZ",20800000,null,null,null,null,20800000,20799990,"2020-02-18","2020-03-02","2020-07-01",120,null,null,null,null,null,null,null,null,"X",null,0.99999951923076924,null,{"$f":"IF(SUMPRODUCT((A$14:A83=A83)*(B$14:B83=B83)*(D$14:D83=D83))>1,0,1)","v":1},"Contratos de prestación de servicios profesionales y de apoyo a la gestión","Contratación directa",{"$f":"IF(ISBLANK(G83),1,IFERROR(VLOOKUP(G83,Tipo!$C$12:$C$27,1,FALSE),\"NO\"))","v":"Prestación de servicios profesionales y de apoyo a la gestión, o para la ejecución de trabajos artísticos que sólo puedan encomendarse a determinadas personas naturales;"},"Inversión",{"$f":"IF(ISBLANK(K83),1,IFERROR(VLOOKUP(K83,Eje_Pilar_Prop!C61:C166,1,FALSE),\"NO\"))","v":"NO"},"SECOP II",1,"Bogotá Mejor para Todos"]
[71,2020,"SECOP II","ALPA-CD-071-2020","Contratos de prestación de servicios profesionales y de apoyo a la gestión","Contratación directa","Prestación de servicios profesionales y de apoyo a la gestión, o para la ejecución de trabajos artísticos que sólo puedan encomendarse a determinadas personas naturales;","El contratista se obliga con el Fondo de Desarrollo Local de Puente Aranda a prestar sus servicios profesionales requeridos para apoyar la formulación, proceso de contratación y seguimiento de proyectos incluidos en el Plan de Desarrollo Local vigente así como la liquidación de los contratos suscritos para la ejecución, para asegurar la adecuada inversión de recursos locales y el cumplimiento de las metas del mismo, en lo referente al proyecto 1309 Puente Aranda cultural y deportiva para todos,","Inversión","Bogotá Mejor para Todos",45,{"$f":"IF(ISERROR(VLOOKUP(K84,Eje_Pilar_Prop!$C$2:$E$104,2,FALSE)),\" \",VLOOKUP(K84,Eje_Pilar_Prop!$C$2:$E$104,2,FALSE))","v":"Gobernanza e influencia local, regional e internacional"},{"$f":"IF(ISERROR(VLOOKUP(K84,Eje_Pilar_Prop!$C$2:$E$104,3,FALSE)),\" \",VLOOKUP(K84,Eje_Pilar_Prop!$C$2:$E$104,3,FALSE))","v":"Eje Transversal 4 Gobierno Legitimo, Fortalecimiento Local y Eficiencia"},"3-3-1-15-07- 45-1312-000 ","\n22.466.530","\nESTHER CARIDAD SUAREZ",18800000,null,null,1,9400000,28200000,28500000,"2020-02-18","2020-02-28","2020-06-27",120,1,60,1013604420,"DANIEL ARMANDO SANDOVAL NIETO","2020-02-28",18800000,null,null,"X",null,1.0106382978723405,null,{"$f":"IF(SUMPRODUCT((A$14:A84=A84)*(B$14:B84=B84)*(D$14:D84=D84))>1,0,1)","v":1},"Contratos de prestación de servicios profesionales y de apoyo a la gestión","Contratación directa",{"$f":"IF(ISBLANK(G84),1,IFERROR(VLOOKUP(G84,Tipo!$C$12:$C$27,1,FALSE),\"NO\"))","v":"Prestación de servicios profesionales y de apoyo a la gestión, o para la ejecución de trabajos artísticos que sólo puedan encomendarse a determinadas personas naturales;"},"Inversión",{"$f":"IF(ISBLANK(K84),1,IFERROR(VLOOKUP(K84,Eje_Pilar_Prop!C62:C167,1,FALSE),\"NO\"))","v":"NO"},"SECOP II",1,"Bogotá Mejor para Todos"]
[72,2020,"SECOP II","ALPA-CD-072-2020","Contratos de prestación de servicios profesionales y de apoyo a la gestión","Contratación directa","Prestación de servicios profesionales y de apoyo a la gestión, o para la ejecución de trabajos artísticos que sólo puedan encomendarse a determinadas personas naturales;","El contratista se obliga con el Fondo de Desarrollo Local a prestar el servicio de auxiliar para apoyar el area de almacen en todas las actividades que esta realiza, de conformidad con los estudios previos”","Inversión","Bogotá Mejor para Todos",45,{"$f":"IF(ISERROR(VLOOKUP(K85,Eje_Pilar_Prop!$C$2:$E$104,2,FALSE)),\" \",VLOOKUP(K85,Eje_Pilar_Prop!$C$2:$E$104,2,FALSE))","v":"Gobernanza e influencia local, regional e internacional"},{"$f":"IF(ISERROR(VLOOKUP(K85,Eje_Pilar_Prop!$C$2:$E$104,3,FALSE)),\" \",VLOOKUP(K85,Eje_Pilar_Prop!$C$2:$E$104,3,FALSE))","v":"Eje Transversal 4 Gobierno Legitimo, Fortalecimiento Local y Eficiencia"},"3-3-1-15-07- 45-1312-000 ",79696458,"JOHN EDUARDO CHARRY ACOSTA",10000000,null,null,null,null,10000000,10000000,"2020-02-18","2020-02-19","2020-06-18",120,null,null,null,null,null,null,null,null,"X",null,1,null,{"$f":"IF(SUMPRODUCT((A$14:A85=A85)*(B$14:B85=B85)*(D$14:D85=D85))>1,0,1)","v":1},"Contratos de prestación de servicios profesionales y de apoyo a la gestión","Contratación directa",{"$f":"IF(ISBLANK(G85),1,IFERROR(VLOOKUP(G85,Tipo!$C$12:$C$27,1,FALSE),\"NO\"))","v":"Prestación de servicios profesionales y de apoyo a la gestión, o para la ejecución de trabajos artísticos que sólo puedan encomendarse a determinadas personas naturales;"},"Inversión",{"$f":"IF(ISBLANK(K85),1,IFERROR(VLOOKUP(K85,Eje_Pilar_Prop!C63:C168,1,FALSE),\"NO\"))","v":"NO"},{"$f":"IF(ISBLANK(C85),1,IFERROR(VLOOKUP(C85,SECOP,1,FALSE),\"NO\"))","v":"SECOP II"},1,"Bogotá Mejor para Todos"]
[73,2020,"SECOP II","ALPA-CD-073-2020","Contratos de prestación de servicios profesionales y de apoyo a la gestión","Contratación directa","Prestación de servicios profesionales y de apoyo a la gestión, o para la ejecución de trabajos artísticos que sólo puedan encomendarse a determinadas personas naturales;","El contratista se obliga con el Fondo de Desarrollo Local a prestar sus servicios como técnico al área del Almacén del FDLPA en la realización de la verificación física de inventarios y apoyo en el manejo y control del inventario de conformidad con los estudios previos","Inversión","Bogotá Mejor para Todos",45,{"$f":"IF(ISERROR(VLOOKUP(K86,Eje_Pilar_Prop!$C$2:$E$104,2,FALSE)),\" \",VLOOKUP(K86,Eje_Pilar_Prop!$C$2:$E$104,2,FALSE))","v":"Gobernanza e influencia local, regional e internacional"},{"$f":"IF(ISERROR(VLOOKUP(K86,Eje_Pilar_Prop!$C$2:$E$104,3,FALSE)),\" \",VLOOKUP(K86,Eje_Pilar_Prop!$C$2:$E$104,3,FALSE))","v":"Eje Transversal 4 Gobierno Legitimo, Fortalecimiento Local y Eficiencia"},"3-3-1-15-07- 45-1312-000 ",11052482,"OSCAR DANIEL PEREZ CUELLO",11600000,null,null,null,null,11600000,11600000,"2020-02-19","2020-02-20","2020-06-19",120,null,null,null,null,null,null,null,null,"X",null,1,null,{"$f":"IF(SUMPRODUCT((A$14:A86=A86)*(B$14:B86=B86)*(D$14:D86=D86))>1,0,1)","v":1},"Contratos de prestación de servicios profesionales y de apoyo a la gestión","Contratación directa",{"$f":"IF(ISBLANK(G86),1,IFERROR(VLOOKUP(G86,Tipo!$C$12:$C$27,1,FALSE),\"NO\"))","v":"Prestación de servicios profesionales y de apoyo a la gestión, o para la ejecución de trabajos artísticos que sólo puedan encomendarse a determinadas personas naturales;"},"Inversión",{"$f":"IF(ISBLANK(K86),1,IFERROR(VLOOKUP(K86,Eje_Pilar_Prop!C64:C169,1,FALSE),\"NO\"))","v":"NO"},"SECOP II",1,"Bogotá Mejor para Todos"]
[74,2020,"SECOP II","ALPA-CD-074-2020","Contratos de prestación de servicios profesionales y de apoyo a la gestión","Contratación directa","Prestación de servicios profesionales y de apoyo a la gestión, o para la ejecución de trabajos artísticos que sólo puedan encomendarse a determinadas personas naturales;","El Contratista se obliga con el Fondo de Desarrollo Local a prestar sus servicios profesionales apoyando técnicamente las distintas etapas de los procesos de competencias de la Alcaldía Local para la depuración de actuaciones administrativas, de acuerdo con los estudios previos”.","Inversión","Bogotá Mejor para Todos",45,{"$f":"IF(ISERROR(VLOOKUP(K87,Eje_Pilar_Prop!$C$2:$E$104,2,FALSE)),\" \",VLOOKUP(K87,Eje_Pilar_Prop!$C$2:$E$104,2,FALSE))","v":"Gobernanza e influencia local, regional e internacional"},{"$f":"IF(ISERROR(VLOOKUP(K87,Eje_Pilar_Prop!$C$2:$E$104,3,FALSE)),\" \",VLOOKUP(K87,Eje_Pilar_Prop!$C$2:$E$104,3,FALSE))","v":"Eje Transversal 4 Gobierno Legitimo, Fortalecimiento Local y Eficiencia"},"3-3-1-15-07- 45-1312-000 ",80111766,"BRAYAN DAVID QUINTERO CORTES",20800000,null,null,null,null,20800000,20800000,"2020-02-19","2020-02-20","2020-06-19",120,null,null,null,null,null,null,null,null,"X",null,1,null,{"$f":"IF(SUMPRODUCT((A$14:A87=A87)*(B$14:B87=B87)*(D$14:D87=D87))>1,0,1)","v":1},"Contratos de prestación de servicios profesionales y de apoyo a la gestión","Contratación directa",{"$f":"IF(ISBLANK(G87),1,IFERROR(VLOOKUP(G87,Tipo!$C$12:$C$27,1,FALSE),\"NO\"))","v":"Prestación de servicios profesionales y de apoyo a la gestión, o para la ejecución de trabajos artísticos que sólo puedan encomendarse a determinadas personas naturales;"},"Inversión",{"$f":"IF(ISBLANK(K87),1,IFERROR(VLOOKUP(K87,Eje_Pilar_Prop!C65:C170,1,FALSE),\"NO\"))","v":"NO"},"SECOP II",1,"Bogotá Mejor para Todos"]
[75,2020,"SECOP II","ALPA-CD-075-2020","Contratos de prestación de servicios profesionales y de apoyo a la gestión","Contratación directa","Prestación de servicios profesionales y de apoyo a la gestión, o para la ejecución de trabajos artísticos que sólo puedan encomendarse a determinadas personas naturales;","El contratista se obliga con el Fondo de Desarrollo Local de Puente Aranda a prestar los servicios profesionales requeridos para apoyar la formulacion. proceso de contratacion, evaluacion y seguimiento de proyectos incluidos en el Plan de Desarrollo Local vigente as! como liquidacion de los contratos suscritos para su ejecucion, para asegurar la adecuada inversion de recursos locales y el cumplimiento de las metas del mismo, en lo referente al proyecto 1291 “CONSTRUCCION Y ADECUACION DE PARQUES","Inversión","Bogotá Mejor para Todos",18,{"$f":"IF(ISERROR(VLOOKUP(K88,Eje_Pilar_Prop!$C$2:$E$104,2,FALSE)),\" \",VLOOKUP(K88,Eje_Pilar_Prop!$C$2:$E$104,2,FALSE))","v":"Mejor movilidad para todos"},{"$f":"IF(ISERROR(VLOOKUP(K88,Eje_Pilar_Prop!$C$2:$E$104,3,FALSE)),\" \",VLOOKUP(K88,Eje_Pilar_Prop!$C$2:$E$104,3,FALSE))","v":"Pilar 2 Democracía Urbana"},"3-3-1 -15-02-17-1291-000  "," 79344520","HERNAN GOMEZ ESPITIA",18800000,null,null,null,null,18800000,16848908,"2020-02-18","2020-02-19","2020-06-18",120,null,null,null,null,null,null,null,null,"X",null,0.89621851063829783,null,{"$f":"IF(SUMPRODUCT((A$14:A88=A88)*(B$14:B88=B88)*(D$14:D88=D88))>1,0,1)","v":1},{"$f":"IF(ISBLANK(E88),1,IFERROR(VLOOKUP(E88,tipo,1,FALSE),\"NO\"))","v":"Contratos de prestación de servicios profesionales y de apoyo a la gestión"},{"$f":"IF(ISBLANK(F88),1,IFERROR(VLOOKUP(F88,modal,1,FALSE),\"NO\"))","v":"Contratación directa"},{"$f":"IF(ISBLANK(G88),1,IFERROR(VLOOKUP(G88,Tipo!$C$12:$C$27,1,FALSE),\"NO\"))","v":"Prestación de servicios profesionales y de apoyo a la gestión, o para la ejecución de trabajos artísticos que sólo puedan encomendarse a determinadas personas naturales;"},{"$f":"IF(ISBLANK(I88),1,IFERROR(VLOOKUP(I88,afectacion,1,FALSE),\"NO\"))","v":"Inversión"},{"$f":"IF(ISBLANK(K88),1,IFERROR(VLOOKUP(K88,Eje_Pilar_Prop!C66:C171,1,FALSE),\"NO\"))","v":"NO"},"SECOP II",1,"Bogotá Mejor para Todos"]
[76,2020,"SECOP II","APA-CD-076-2020","Contratos de prestación de servicios profesionales y de apoyo a la gestión","Contratación directa","Prestación de servicios profesionales y de apoyo a la gestión, o para la ejecución de trabajos artísticos que sólo puedan encomendarse a determinadas personas naturales;","El contratista se obliga con el Fondo de Desarrollo Local a prestar sus servicios de Apoyo a la gestion del Proyecto Punto Vive Digital de la localidad de Puente Aranda” de acuerdo con los estudios previos.","Inversión","Bogotá Mejor para Todos",45,{"$f":"IF(ISERROR(VLOOKUP(K89,Eje_Pilar_Prop!$C$2:$E$104,2,FALSE)),\" \",VLOOKUP(K89,Eje_Pilar_Prop!$C$2:$E$104,2,FALSE))","v":"Gobernanza e influencia local, regional e internacional"},{"$f":"IF(ISERROR(VLOOKUP(K89,Eje_Pilar_Prop!$C$2:$E$104,3,FALSE)),\" \",VLOOKUP(K89,Eje_Pilar_Prop!$C$2:$E$104,3,FALSE))","v":"Eje Transversal 4 Gobierno Legitimo, Fortalecimiento Local y Eficiencia"},"3-3-1-15-07- 45-1312-000 "," 79645749","JHON HENRY ARENAS MARTINEZ",11600000,null,null,null,null,11600000,11600000,"2020-02-18","2020-02-24","2020-06-23",120,null,null,null,null,null,null,null,null,"X",null,1,null,{"$f":"IF(SUMPRODUCT((A$14:A89=A89)*(B$14:B89=B89)*(D$14:D89=D89))>1,0,1)","v":1},"Contratos de prestación de servicios profesionales y de apoyo a la gestión","Contratación directa",{"$f":"IF(ISBLANK(G89),1,IFERROR(VLOOKUP(G89,Tipo!$C$12:$C$27,1,FALSE),\"NO\"))","v":"Prestación de servicios profesionales y de apoyo a la gestión, o para la ejecución de trabajos artísticos que sólo puedan encomendarse a determinadas personas naturales;"},"Inversión",{"$f":"IF(ISBLANK(K89),1,IFERROR(VLOOKUP(K89,Eje_Pilar_Prop!C67:C172,1,FALSE),\"NO\"))","v":"NO"},"SECOP II",1,"Bogotá Mejor para Todos"]
[77,2020,"SECOP II","ALPA-CD-077-2020","Contratos de prestación de servicios profesionales y de apoyo a la gestión","Contratación directa","Prestación de servicios profesionales y de apoyo a la gestión, o para la ejecución de trabajos artísticos que sólo puedan encomendarse a determinadas personas naturales;","El contratista se obliga con el Fondo de Desarrollo Local a prestar sus servicios en las tareas operativas de caracter archivistico desarrolladas en la Alcaldia Local para garantizar la aplicacion correcta de los procedimientos tecnicos, conforme los estudios previos","Inversión","Bogotá Mejor para Todos",45,{"$f":"IF(ISERROR(VLOOKUP(K90,Eje_Pilar_Prop!$C$2:$E$104,2,FALSE)),\" \",VLOOKUP(K90,Eje_Pilar_Prop!$C$2:$E$104,2,FALSE))","v":"Gobernanza e influencia local, regional e internacional"},{"$f":"IF(ISERROR(VLOOKUP(K90,Eje_Pilar_Prop!$C$2:$E$104,3,FALSE)),\" \",VLOOKUP(K90,Eje_Pilar_Prop!$C$2:$E$104,3,FALSE))","v":"Eje Transversal 4 Gobierno Legitimo, Fortalecimiento Local y Eficiencia"},"3-3-1-15-07- 45-1312-000 ",52120354,"LIDA ELIZABETH SILVA RODRIGUEZ",10400000,null,null,null,null,10400000,10400000,"2020-02-20","2020-02-25","2020-06-24",120,null,null,null,null,null,null,null,null,"X",null,1,null,{"$f":"IF(SUMPRODUCT((A$14:A90=A90)*(B$14:B90=B90)*(D$14:D90=D90))>1,0,1)","v":1},"Contratos de prestación de servicios profesionales y de apoyo a la gestión","Contratación directa",{"$f":"IF(ISBLANK(G90),1,IFERROR(VLOOKUP(G90,Tipo!$C$12:$C$27,1,FALSE),\"NO\"))","v":"Prestación de servicios profesionales y de apoyo a la gestión, o para la ejecución de trabajos artísticos que sólo puedan encomendarse a determinadas personas naturales;"},"Inversión",{"$f":"IF(ISBLANK(K90),1,IFERROR(VLOOKUP(K90,Eje_Pilar_Prop!C68:C173,1,FALSE),\"NO\"))","v":"NO"},"SECOP II",1,"Bogotá Mejor para Todos"]
[78,2020,"SECOP II","ALPA-CD-078-2020","Contratos de prestación de servicios profesionales y de apoyo a la gestión","Contratación directa","Prestación de servicios profesionales y de apoyo a la gestión, o para la ejecución de trabajos artísticos que sólo puedan encomendarse a determinadas personas naturales;","El contratista se obliga con el Fondo de Desarrollo Local de Puente Aranda a la prestacion de servicios profesionales para apoyar el area de gestion del desarrollo local en las diferentes actividades que se requieran para la adquisicion de bienes y servicios especialmente para revisar, apoyar y realizar las liquidaciones de los contratos suscritos por el fondo de desarrollo local de Puente Aranda., de conformidad con los estudios previos","Inversión","Bogotá Mejor para Todos",45,{"$f":"IF(ISERROR(VLOOKUP(K91,Eje_Pilar_Prop!$C$2:$E$104,2,FALSE)),\" \",VLOOKUP(K91,Eje_Pilar_Prop!$C$2:$E$104,2,FALSE))","v":"Gobernanza e influencia local, regional e internacional"},{"$f":"IF(ISERROR(VLOOKUP(K91,Eje_Pilar_Prop!$C$2:$E$104,3,FALSE)),\" \",VLOOKUP(K91,Eje_Pilar_Prop!$C$2:$E$104,3,FALSE))","v":"Eje Transversal 4 Gobierno Legitimo, Fortalecimiento Local y Eficiencia"},"3-3-1-15-07- 45-1312-000 ",52715002,"MARIA ISABEL MONTENEGRO SACHICA",50400000,null,null,null,null,50400000,37660000,"2020-02-19","2020-03-02","2021-03-01",365,null,null,null,null,null,null,null,"X",null,null,0.74722222222222223,null,{"$f":"IF(SUMPRODUCT((A$14:A91=A91)*(B$14:B91=B91)*(D$14:D91=D91))>1,0,1)","v":1},"Contratos de prestación de servicios profesionales y de apoyo a la gestión","Contratación directa",{"$f":"IF(ISBLANK(G91),1,IFERROR(VLOOKUP(G91,Tipo!$C$12:$C$27,1,FALSE),\"NO\"))","v":"Prestación de servicios profesionales y de apoyo a la gestión, o para la ejecución de trabajos artísticos que sólo puedan encomendarse a determinadas personas naturales;"},"Inversión",{"$f":"IF(ISBLANK(K91),1,IFERROR(VLOOKUP(K91,Eje_Pilar_Prop!C69:C174,1,FALSE),\"NO\"))","v":"NO"},"SECOP II",1,"Bogotá Mejor para Todos"]
[79,2020,"SECOP II","ALPA-CD-079-2020","Contratos de prestación de servicios profesionales y de apoyo a la gestión","Contratación directa","Prestación de servicios profesionales y de apoyo a la gestión, o para la ejecución de trabajos artísticos que sólo puedan encomendarse a determinadas personas naturales;","El Contratista se obliga con el Fondo de Desarrollo Local a prestar los servicios como notificador para la distribución de la correspondencia de las diferentes dependencias de la Alcaldía Local, de acuerdo con los estudios previos.","Inversión","Bogotá Mejor para Todos",45,{"$f":"IF(ISERROR(VLOOKUP(K92,Eje_Pilar_Prop!$C$2:$E$104,2,FALSE)),\" \",VLOOKUP(K92,Eje_Pilar_Prop!$C$2:$E$104,2,FALSE))","v":"Gobernanza e influencia local, regional e internacional"},{"$f":"IF(ISERROR(VLOOKUP(K92,Eje_Pilar_Prop!$C$2:$E$104,3,FALSE)),\" \",VLOOKUP(K92,Eje_Pilar_Prop!$C$2:$E$104,3,FALSE))","v":"Eje Transversal 4 Gobierno Legitimo, Fortalecimiento Local y Eficiencia"},"3-3-1-15-07- 45-1312-000 ",19363621,"HECTOR WILLIAM NIETO BOCANEGRA",9200000,null,null,null,null,{"$f":"+Q92+S92+U92","v":9200000},9200000,"2020-02-20","2020-02-24","2020-06-23",120,null,null,null,null,null,null,null,null,"X",null,1,null,{"$f":"IF(SUMPRODUCT((A$14:A92=A92)*(B$14:B92=B92)*(D$14:D92=D92))>1,0,1)","v":1},"Contratos de prestación de servicios profesionales y de apoyo a la gestión","Contratación directa",{"$f":"IF(ISBLANK(G92),1,IFERROR(VLOOKUP(G92,Tipo!$C$12:$C$27,1,FALSE),\"NO\"))","v":"Prestación de servicios profesionales y de apoyo a la gestión, o para la ejecución de trabajos artísticos que sólo puedan encomendarse a determinadas personas naturales;"},"Inversión",{"$f":"IF(ISBLANK(K92),1,IFERROR(VLOOKUP(K92,Eje_Pilar_Prop!C74:C175,1,FALSE),\"NO\"))","v":"NO"},"SECOP II",{"$f":"IF(OR(YEAR(X92)=2020,ISBLANK(X92)),1,\"NO\")","v":1},"Bogotá Mejor para Todos"]
[80,2020,"SECOP II","ALPA-CD-080-2020","Contratos de prestación de servicios profesionales y de apoyo a la gestión","Contratación directa","Prestación de servicios profesionales y de apoyo a la gestión, o para la ejecución de trabajos artísticos que sólo puedan encomendarse a determinadas personas naturales;","El contratista se obliga con el Fondo de Desarrollo Local de la Alcaldia de Puente Aranda prestar sus servicios profesionales para Apoyar juridicamente la ejecucion de las acciones requeridas para el tramite e impulse de las actuaciones contravencionales y/o querellas que se cursen en las Inspecciones de Policia de la Localidad.","Inversión","Bogotá Mejor para Todos",45,{"$f":"IF(ISERROR(VLOOKUP(K93,Eje_Pilar_Prop!$C$2:$E$104,2,FALSE)),\" \",VLOOKUP(K93,Eje_Pilar_Prop!$C$2:$E$104,2,FALSE))","v":"Gobernanza e influencia local, regional e internacional"},{"$f":"IF(ISERROR(VLOOKUP(K93,Eje_Pilar_Prop!$C$2:$E$104,3,FALSE)),\" \",VLOOKUP(K93,Eje_Pilar_Prop!$C$2:$E$104,3,FALSE))","v":"Eje Transversal 4 Gobierno Legitimo, Fortalecimiento Local y Eficiencia"},"3-3-1-15-07- 45-1312-000 ",79646039,"WILSON CAPERA RODRIGUEZ",18800000,null,null,null,null,18800000,18800000,"2020-02-28","2020-03-02","2020-07-01",120,null,null,null,null,null,null,null,null,"X",null,1,null,{"$f":"IF(SUMPRODUCT((A$14:A93=A93)*(B$14:B93=B93)*(D$14:D93=D93))>1,0,1)","v":1},"Contratos de prestación de servicios profesionales y de apoyo a la gestión","Contratación directa",{"$f":"IF(ISBLANK(G93),1,IFERROR(VLOOKUP(G93,Tipo!$C$12:$C$27,1,FALSE),\"NO\"))","v":"Prestación de servicios profesionales y de apoyo a la gestión, o para la ejecución de trabajos artísticos que sólo puedan encomendarse a determinadas personas naturales;"},"Inversión",{"$f":"IF(ISBLANK(K93),1,IFERROR(VLOOKUP(K93,Eje_Pilar_Prop!C75:C176,1,FALSE),\"NO\"))","v":"NO"},"SECOP II",1,"Bogotá Mejor para Todos"]
[81,2020,"SECOP II","ALPA-CD-081-2020","Contratos de prestación de servicios profesionales y de apoyo a la gestión","Contratación directa","Prestación de servicios profesionales y de apoyo a la gestión, o para la ejecución de trabajos artísticos que sólo puedan encomendarse a determinadas personas naturales;","Prestar los Servicios profesionales para apoyar la formulación, gestión y seguimiento de actividades enfocadas a la gestión ambiental externa, encaminadas a la mitigación de los diferentes impactos ambientales y la conservación de los recursos naturales de la localidad, de conformidad con los estudios previos.","Inversión","Bogotá Mejor para Todos",45,{"$f":"IF(ISERROR(VLOOKUP(K94,Eje_Pilar_Prop!$C$2:$E$104,2,FALSE)),\" \",VLOOKUP(K94,Eje_Pilar_Prop!$C$2:$E$104,2,FALSE))","v":"Gobernanza e influencia local, regional e internacional"},{"$f":"IF(ISERROR(VLOOKUP(K94,Eje_Pilar_Prop!$C$2:$E$104,3,FALSE)),\" \",VLOOKUP(K94,Eje_Pilar_Prop!$C$2:$E$104,3,FALSE))","v":"Eje Transversal 4 Gobierno Legitimo, Fortalecimiento Local y Eficiencia"},"3-3-1-15-06-38-1311-000","1122650093\n","OSCAR DANILO RENGIFO MAHECHA",18800000,null,null,null,null,18800000,18800000,"2020-02-20","2020-02-24","2020-06-23",120,null,null,52867935,"ELSA MARGARITA FLOREZ","2020-05-13",6000000,null,null,"X",null,{"$f":"IF(ISERROR(W94/V94),\"-\",(W94/V94))","v":1},null,{"$f":"IF(SUMPRODUCT((A$14:A94=A94)*(B$14:B94=B94)*(D$14:D94=D94))>1,0,1)","v":1},"Contratos de prestación de servicios profesionales y de apoyo a la gestión","Contratación directa",{"$f":"IF(ISBLANK(G94),1,IFERROR(VLOOKUP(G94,Tipo!$C$12:$C$27,1,FALSE),\"NO\"))","v":"Prestación de servicios profesionales y de apoyo a la gestión, o para la ejecución de trabajos artísticos que sólo puedan encomendarse a determinadas personas naturales;"},"Inversión",{"$f":"IF(ISBLANK(K94),1,IFERROR(VLOOKUP(K94,Eje_Pilar_Prop!C76:C177,1,FALSE),\"NO\"))","v":"NO"},"SECOP II",1,"Bogotá Mejor para Todos"]
[82,2020,"SECOP II","ALPA.CD-082-2020","Contratos de prestación de servicios profesionales y de apoyo a la gestión","Contratación directa","Prestación de servicios profesionales y de apoyo a la gestión, o para la ejecución de trabajos artísticos que sólo puedan encomendarse a determinadas personas naturales;","El Contratista se obliga con el Fondo de Desarrollo Local a prestar sus servicios profesionales apoyando técnicamente las distintas etapas de los procesos de competencias de la Alcaldía Local para la depuración de actuaciones administrativas, de acuerdo con los estudios previos\"","Inversión","Bogotá Mejor para Todos",45,{"$f":"IF(ISERROR(VLOOKUP(K95,Eje_Pilar_Prop!$C$2:$E$104,2,FALSE)),\" \",VLOOKUP(K95,Eje_Pilar_Prop!$C$2:$E$104,2,FALSE))","v":"Gobernanza e influencia local, regional e internacional"},{"$f":"IF(ISERROR(VLOOKUP(K95,Eje_Pilar_Prop!$C$2:$E$104,3,FALSE)),\" \",VLOOKUP(K95,Eje_Pilar_Prop!$C$2:$E$104,3,FALSE))","v":"Eje Transversal 4 Gobierno Legitimo, Fortalecimiento Local y Eficiencia"},"3-3-1-15-07- 45-1312-000 ",79803637,"CARLOS ERNESTO RIVERA RAMOS",20800000,null,null,null,null,20800000,20800000,"2020-02-20","2020-02-21","2020-06-20",120,null,null,null,null,null,null,null,null,"X",null,1,null,{"$f":"IF(SUMPRODUCT((A$14:A95=A95)*(B$14:B95=B95)*(D$14:D95=D95))>1,0,1)","v":1},"Contratos de prestación de servicios profesionales y de apoyo a la gestión","Contratación directa",{"$f":"IF(ISBLANK(G95),1,IFERROR(VLOOKUP(G95,Tipo!$C$12:$C$27,1,FALSE),\"NO\"))","v":"Prestación de servicios profesionales y de apoyo a la gestión, o para la ejecución de trabajos artísticos que sólo puedan encomendarse a determinadas personas naturales;"},"Inversión",{"$f":"IF(ISBLANK(K95),1,IFERROR(VLOOKUP(K95,Eje_Pilar_Prop!C77:C178,1,FALSE),\"NO\"))","v":"NO"},"SECOP II",1,"Bogotá Mejor para Todos"]
[83,2020,"SECOP II","ALPA-CD-083-2020","Contratos de prestación de servicios profesionales y de apoyo a la gestión","Contratación directa","Prestación de servicios profesionales y de apoyo a la gestión, o para la ejecución de trabajos artísticos que sólo puedan encomendarse a determinadas personas naturales;","El Contratista se obliga con el Fondo de Desarrollo Local a prestar sus servicios profesionales al equipo de prensa y comunicaciones para realizar registros, edición, escritos, videos, fotografías digitales y audiovisuales de los eventos que requiera y desarrolle la Alcaldía Local en medios de comunicación, de acuerdo con los estudios previos","Inversión","Bogotá Mejor para Todos",45,{"$f":"IF(ISERROR(VLOOKUP(K96,Eje_Pilar_Prop!$C$2:$E$104,2,FALSE)),\" \",VLOOKUP(K96,Eje_Pilar_Prop!$C$2:$E$104,2,FALSE))","v":"Gobernanza e influencia local, regional e internacional"},{"$f":"IF(ISERROR(VLOOKUP(K96,Eje_Pilar_Prop!$C$2:$E$104,3,FALSE)),\" \",VLOOKUP(K96,Eje_Pilar_Prop!$C$2:$E$104,3,FALSE))","v":"Eje Transversal 4 Gobierno Legitimo, Fortalecimiento Local y Eficiencia"},"3-3-1-15-07- 45-1312-000 ",1053772952,"OSCAR DAVID DIAZ MAULEDOUX",16000000,null,null,null,null,16000000,16000000,"2020-02-20","2020-02-21","2020-06-20",120,null,null,null,null,null,null,null,null,"X",null,1,null,{"$f":"IF(SUMPRODUCT((A$14:A96=A96)*(B$14:B96=B96)*(D$14:D96=D96))>1,0,1)","v":1},"Contratos de prestación de servicios profesionales y de apoyo a la gestión","Contratación directa",{"$f":"IF(ISBLANK(G96),1,IFERROR(VLOOKUP(G96,Tipo!$C$12:$C$27,1,FALSE),\"NO\"))","v":"Prestación de servicios profesionales y de apoyo a la gestión, o para la ejecución de trabajos artísticos que sólo puedan encomendarse a determinadas personas naturales;"},"Inversión",{"$f":"IF(ISBLANK(K96),1,IFERROR(VLOOKUP(K96,Eje_Pilar_Prop!C78:C179,1,FALSE),\"NO\"))","v":"NO"},"SECOP II",1,"Bogotá Mejor para Todos"]
[84,2020,"SECOP II","ALPA-CD-084-2020","Contratos de prestación de servicios profesionales y de apoyo a la gestión","Contratación directa","Prestación de servicios profesionales y de apoyo a la gestión, o para la ejecución de trabajos artísticos que sólo puedan encomendarse a determinadas personas naturales;","El Contratista se obliga con el Fondo de Desarrollo Local a prestar los servicios profesionales mediante apoyo tecnico y operative a las funciones del Referente de Gestion de Riesgos y Cambio Climatico a fin de generar el fortalecimiento de la Gestion Local del Riesgo y Cambio Climatico en el marco del Sistema Distrital de Gestion de Riesgos y Cambio Climatico DSGR-CC, de conformidad con los estudios previos","Inversión","Bogotá Mejor para Todos",45,{"$f":"IF(ISERROR(VLOOKUP(K97,Eje_Pilar_Prop!$C$2:$E$104,2,FALSE)),\" \",VLOOKUP(K97,Eje_Pilar_Prop!$C$2:$E$104,2,FALSE))","v":"Gobernanza e influencia local, regional e internacional"},{"$f":"IF(ISERROR(VLOOKUP(K97,Eje_Pilar_Prop!$C$2:$E$104,3,FALSE)),\" \",VLOOKUP(K97,Eje_Pilar_Prop!$C$2:$E$104,3,FALSE))","v":"Eje Transversal 4 Gobierno Legitimo, Fortalecimiento Local y Eficiencia"},"3-3-1-15-07- 45-1312-000 ",80074979,"CAMILO ANDRES ANGARITA MOLINA",20800000,null,null,1,5200000,26000000,26000000,"2020-02-24","2020-03-02","2020-07-01",120,1,30,null,null,null,null,null,null,"X",null,1,null,{"$f":"IF(SUMPRODUCT((A$14:A97=A97)*(B$14:B97=B97)*(D$14:D97=D97))>1,0,1)","v":1},"Contratos de prestación de servicios profesionales y de apoyo a la gestión","Contratación directa",{"$f":"IF(ISBLANK(G97),1,IFERROR(VLOOKUP(G97,Tipo!$C$12:$C$27,1,FALSE),\"NO\"))","v":"Prestación de servicios profesionales y de apoyo a la gestión, o para la ejecución de trabajos artísticos que sólo puedan encomendarse a determinadas personas naturales;"},"Inversión",{"$f":"IF(ISBLANK(K97),1,IFERROR(VLOOKUP(K97,Eje_Pilar_Prop!C79:C180,1,FALSE),\"NO\"))","v":"NO"},"SECOP II",1,"Bogotá Mejor para Todos"]
[85,2020,"SECOP II","ALPA-CD-085-2020","Contratos de prestación de servicios profesionales y de apoyo a la gestión","Contratación directa","Prestación de servicios profesionales y de apoyo a la gestión, o para la ejecución de trabajos artísticos que sólo puedan encomendarse a determinadas personas naturales;","El Contratista se obliga con el Fondo de Desarrollo Local a Coordinar, liderar y asesorar los planes y estrategias de comunicación interna y externa para la divulgación de los programas, proyectos y actividades de la Alcaldía Local, de acuerdo con los estudios previos.","Inversión","Bogotá Mejor para Todos",45,{"$f":"IF(ISERROR(VLOOKUP(K98,Eje_Pilar_Prop!$C$2:$E$104,2,FALSE)),\" \",VLOOKUP(K98,Eje_Pilar_Prop!$C$2:$E$104,2,FALSE))","v":"Gobernanza e influencia local, regional e internacional"},{"$f":"IF(ISERROR(VLOOKUP(K98,Eje_Pilar_Prop!$C$2:$E$104,3,FALSE)),\" \",VLOOKUP(K98,Eje_Pilar_Prop!$C$2:$E$104,3,FALSE))","v":"Eje Transversal 4 Gobierno Legitimo, Fortalecimiento Local y Eficiencia"},"3-3-1-15-07- 45-1312-000 ",80808003,"DANIEL ENRIQUE MONTILLA HERRERA",24800000,null,null,null,null,24800000,24800000,"2020-02-24","2020-03-02","2020-07-01",120,null,null,null,null,null,null,null,null,"X",null,1,null,{"$f":"IF(SUMPRODUCT((A$14:A98=A98)*(B$14:B98=B98)*(D$14:D98=D98))>1,0,1)","v":1},"Contratos de prestación de servicios profesionales y de apoyo a la gestión","Contratación directa",{"$f":"IF(ISBLANK(G98),1,IFERROR(VLOOKUP(G98,Tipo!$C$12:$C$27,1,FALSE),\"NO\"))","v":"Prestación de servicios profesionales y de apoyo a la gestión, o para la ejecución de trabajos artísticos que sólo puedan encomendarse a determinadas personas naturales;"},"Inversión",{"$f":"IF(ISBLANK(K98),1,IFERROR(VLOOKUP(K98,Eje_Pilar_Prop!C80:C181,1,FALSE),\"NO\"))","v":"NO"},"SECOP II",1,"Bogotá Mejor para Todos"]
[86,2020,"SECOP II","ALPA-CD-086-2020","Contratos de prestación de servicios profesionales y de apoyo a la gestión","Contratación directa","Prestación de servicios profesionales y de apoyo a la gestión, o para la ejecución de trabajos artísticos que sólo puedan encomendarse a determinadas personas naturales;","El contratista se obliga con el Fondo de Desarrollo Local de Puente Aranda a prestar los servicios profesionales para apoyar la formulacion, ejecucion, seguimiento y mejora continua de las herramientas que conforman la Gestion Ambiental Institucional de la Alcaldla Local, de acuerdo con los estudios previos.”","Inversión","Bogotá Mejor para Todos",45,{"$f":"IF(ISERROR(VLOOKUP(K99,Eje_Pilar_Prop!$C$2:$E$104,2,FALSE)),\" \",VLOOKUP(K99,Eje_Pilar_Prop!$C$2:$E$104,2,FALSE))","v":"Gobernanza e influencia local, regional e internacional"},{"$f":"IF(ISERROR(VLOOKUP(K99,Eje_Pilar_Prop!$C$2:$E$104,3,FALSE)),\" \",VLOOKUP(K99,Eje_Pilar_Prop!$C$2:$E$104,3,FALSE))","v":"Eje Transversal 4 Gobierno Legitimo, Fortalecimiento Local y Eficiencia"},"3-3-1-15-06-\n38-1311-000"," 52737408","NADIA YELENA VEGA RODRIGUEZ",18800000,null,null,null,null,18800000,18800000,"2020-02-25","2020-02-27","2020-06-26",120,null,null,null,null,null,null,null,null,"X",null,1,null,{"$f":"IF(SUMPRODUCT((A$14:A99=A99)*(B$14:B99=B99)*(D$14:D99=D99))>1,0,1)","v":1},"Contratos de prestación de servicios profesionales y de apoyo a la gestión","Contratación directa",{"$f":"IF(ISBLANK(G99),1,IFERROR(VLOOKUP(G99,Tipo!$C$12:$C$27,1,FALSE),\"NO\"))","v":"Prestación de servicios profesionales y de apoyo a la gestión, o para la ejecución de trabajos artísticos que sólo puedan encomendarse a determinadas personas naturales;"},"Inversión",{"$f":"IF(ISBLANK(K99),1,IFERROR(VLOOKUP(K99,Eje_Pilar_Prop!C81:C182,1,FALSE),\"NO\"))","v":"NO"},"SECOP II",1,"Bogotá Mejor para Todos"]
[87,2020,"SECOP II","ALPA-CD-087-2020","Contratos de prestación de servicios profesionales y de apoyo a la gestión","Contratación directa","Prestación de servicios profesionales y de apoyo a la gestión, o para la ejecución de trabajos artísticos que sólo puedan encomendarse a determinadas personas naturales;","El contrato que se pretende celebrar, tendrá por objeto El contratista se obliga con el Fondo de Desarrollo Local de la Alcaldía de Puente Aranda a prestar sus servicios profesionales para: Apoyar jurídicamente la ejecución de las acciones requeridas para la depuración de las actuaciones administrativas que cursan en la Alcaldía Local\".","Inversión","Bogotá Mejor para Todos",45,{"$f":"IF(ISERROR(VLOOKUP(K100,Eje_Pilar_Prop!$C$2:$E$104,2,FALSE)),\" \",VLOOKUP(K100,Eje_Pilar_Prop!$C$2:$E$104,2,FALSE))","v":"Gobernanza e influencia local, regional e internacional"},{"$f":"IF(ISERROR(VLOOKUP(K100,Eje_Pilar_Prop!$C$2:$E$104,3,FALSE)),\" \",VLOOKUP(K100,Eje_Pilar_Prop!$C$2:$E$104,3,FALSE))","v":"Eje Transversal 4 Gobierno Legitimo, Fortalecimiento Local y Eficiencia"},"3-3-1-15-07- 45-1312-000 ",51684141,"MARIA ESPERANZA BRICEÑO",18800000,null,null,null,null,18800000,18800000,"2020-02-24","2020-03-02","2020-07-01",120,null,null,null,null,null,null,null,null,"X",null,1,null,{"$f":"IF(SUMPRODUCT((A$14:A100=A100)*(B$14:B100=B100)*(D$14:D100=D100))>1,0,1)","v":1},"Contratos de prestación de servicios profesionales y de apoyo a la gestión","Contratación directa",{"$f":"IF(ISBLANK(G100),1,IFERROR(VLOOKUP(G100,Tipo!$C$12:$C$27,1,FALSE),\"NO\"))","v":"Prestación de servicios profesionales y de apoyo a la gestión, o para la ejecución de trabajos artísticos que sólo puedan encomendarse a determinadas personas naturales;"},"Inversión",{"$f":"IF(ISBLANK(K100),1,IFERROR(VLOOKUP(K100,Eje_Pilar_Prop!C82:C183,1,FALSE),\"NO\"))","v":"NO"},"SECOP II",1,"Bogotá Mejor para Todos"]
[88,2020,"SECOP II","ALPA-CD-088-2020","Contratos de prestación de servicios profesionales y de apoyo a la gestión","Contratación directa","Prestación de servicios profesionales y de apoyo a la gestión, o para la ejecución de trabajos artísticos que sólo puedan encomendarse a determinadas personas naturales;","El contratista se obliga con el Fondo de Desarrollo Local de la Alcaldía Local de Puente Aranda a prestar el servicio de conducción para los vehículos propiedad del Fondo de Desarrollo Local y los que se le asignen, de conformidad con los estudios previos.","Inversión","Bogotá Mejor para Todos",45,{"$f":"IF(ISERROR(VLOOKUP(K101,Eje_Pilar_Prop!$C$2:$E$104,2,FALSE)),\" \",VLOOKUP(K101,Eje_Pilar_Prop!$C$2:$E$104,2,FALSE))","v":"Gobernanza e influencia local, regional e internacional"},{"$f":"IF(ISERROR(VLOOKUP(K101,Eje_Pilar_Prop!$C$2:$E$104,3,FALSE)),\" \",VLOOKUP(K101,Eje_Pilar_Prop!$C$2:$E$104,3,FALSE))","v":"Eje Transversal 4 Gobierno Legitimo, Fortalecimiento Local y Eficiencia"},"3-3-1-15-07- 45-1312-000 "," 1122137371","JUAN DAVID MARTINEZ URQUIJO",10000000,null,null,null,null,10000000,10000000,"2020-02-26","2020-02-28","2020-06-27",120,null,null,null,null,null,null,null,null,"X",null,1,null,{"$f":"IF(SUMPRODUCT((A$14:A101=A101)*(B$14:B101=B101)*(D$14:D101=D101))>1,0,1)","v":1},"Contratos de prestación de servicios profesionales y de apoyo a la gestión","Contratación directa",{"$f":"IF(ISBLANK(G101),1,IFERROR(VLOOKUP(G101,Tipo!$C$12:$C$27,1,FALSE),\"NO\"))","v":"Prestación de servicios profesionales y de apoyo a la gestión, o para la ejecución de trabajos artísticos que sólo puedan encomendarse a determinadas personas naturales;"},"Inversión",{"$f":"IF(ISBLANK(K101),1,IFERROR(VLOOKUP(K101,Eje_Pilar_Prop!C83:C184,1,FALSE),\"NO\"))","v":"NO"},"SECOP II",1,"Bogotá Mejor para Todos"]
[89,2020,"SECOP II","ALPA-CD-089-2020","Contratos de prestación de servicios profesionales y de apoyo a la gestión","Contratación directa","Prestación de servicios profesionales y de apoyo a la gestión, o para la ejecución de trabajos artísticos que sólo puedan encomendarse a determinadas personas naturales;","Apoyar juridicamente la ejecucion de las acciones requeridas para el tramite e impulse procesal de las actuaciones contravencionales y/o querellas que se cursen en las Inspecciones de Policla de la Localidad.","Inversión","Bogotá Mejor para Todos",45,{"$f":"IF(ISERROR(VLOOKUP(K102,Eje_Pilar_Prop!$C$2:$E$104,2,FALSE)),\" \",VLOOKUP(K102,Eje_Pilar_Prop!$C$2:$E$104,2,FALSE))","v":"Gobernanza e influencia local, regional e internacional"},{"$f":"IF(ISERROR(VLOOKUP(K102,Eje_Pilar_Prop!$C$2:$E$104,3,FALSE)),\" \",VLOOKUP(K102,Eje_Pilar_Prop!$C$2:$E$104,3,FALSE))","v":"Eje Transversal 4 Gobierno Legitimo, Fortalecimiento Local y Eficiencia"},"3-3-1-15-07- 45-1312-000 "," 53124546","YIRA MARCELA DEL PILAR ANA MARIA MARTINEZ",18800000,null,null,null,null,18800000,18800000,"2020-02-26","2020-03-02","2020-07-01",120,null,null,null,null,null,null,null,null,"X",null,1,null,{"$f":"IF(SUMPRODUCT((A$14:A102=A102)*(B$14:B102=B102)*(D$14:D102=D102))>1,0,1)","v":1},"Contratos de prestación de servicios profesionales y de apoyo a la gestión","Contratación directa",{"$f":"IF(ISBLANK(G102),1,IFERROR(VLOOKUP(G102,Tipo!$C$12:$C$27,1,FALSE),\"NO\"))","v":"Prestación de servicios profesionales y de apoyo a la gestión, o para la ejecución de trabajos artísticos que sólo puedan encomendarse a determinadas personas naturales;"},"Inversión",{"$f":"IF(ISBLANK(K102),1,IFERROR(VLOOKUP(K102,Eje_Pilar_Prop!C84:C185,1,FALSE),\"NO\"))","v":"NO"},"SECOP II",1,"Bogotá Mejor para Todos"]
[90,2020,"SECOP II","ALPA-CD-090-2020","Contratos de prestación de servicios profesionales y de apoyo a la gestión","Contratación directa","Prestación de servicios profesionales y de apoyo a la gestión, o para la ejecución de trabajos artísticos que sólo puedan encomendarse a determinadas personas naturales;","El Contratista se obliga con el Fondo de Desarrollo Local a prestar sus servicios profesionales para apoyar tecnicamente las distintas etapas de los procesos de competencia de la Inspecciones de Policla de la Localidad de Puente Aranda, segun reparto.","Inversión","Bogotá Mejor para Todos",45,{"$f":"IF(ISERROR(VLOOKUP(K103,Eje_Pilar_Prop!$C$2:$E$104,2,FALSE)),\" \",VLOOKUP(K103,Eje_Pilar_Prop!$C$2:$E$104,2,FALSE))","v":"Gobernanza e influencia local, regional e internacional"},{"$f":"IF(ISERROR(VLOOKUP(K103,Eje_Pilar_Prop!$C$2:$E$104,3,FALSE)),\" \",VLOOKUP(K103,Eje_Pilar_Prop!$C$2:$E$104,3,FALSE))","v":"Eje Transversal 4 Gobierno Legitimo, Fortalecimiento Local y Eficiencia"},"3-3-1-15-07- 45-1312-000 ",12582410,"CARMELO DE JESUS GALIANO CUMPLIDO",22000000,null,null,null,null,22000000,22000000,"2020-02-26","2020-03-02","2020-07-01",120,null,null,null,null,null,null,null,null,"X",null,1,null,{"$f":"IF(SUMPRODUCT((A$14:A103=A103)*(B$14:B103=B103)*(D$14:D103=D103))>1,0,1)","v":1},"Contratos de prestación de servicios profesionales y de apoyo a la gestión","Contratación directa",{"$f":"IF(ISBLANK(G103),1,IFERROR(VLOOKUP(G103,Tipo!$C$12:$C$27,1,FALSE),\"NO\"))","v":"Prestación de servicios profesionales y de apoyo a la gestión, o para la ejecución de trabajos artísticos que sólo puedan encomendarse a determinadas personas naturales;"},"Inversión",{"$f":"IF(ISBLANK(K103),1,IFERROR(VLOOKUP(K103,Eje_Pilar_Prop!C85:C186,1,FALSE),\"NO\"))","v":"NO"},"SECOP II",1,"Bogotá Mejor para Todos"]
[91,2020,"SECOP II","ALPA-CD-091-2020","Contratos de prestación de servicios profesionales y de apoyo a la gestión","Contratación directa","Prestación de servicios profesionales y de apoyo a la gestión, o para la ejecución de trabajos artísticos que sólo puedan encomendarse a determinadas personas naturales;","“El contrato que se pretende celebrar, tendra por objeto El contratista se obliga con el Fondo de Desarrollo Local de la Alcaldla de Puente Aranda a prestar sus servicios profesionales para apoyar jurldicamente la gestion de la Casa del Consumidor en la Alcaldla Local, de acuerdo a los estudios previos","Inversión","Bogotá Mejor para Todos",45,{"$f":"IF(ISERROR(VLOOKUP(K104,Eje_Pilar_Prop!$C$2:$E$104,2,FALSE)),\" \",VLOOKUP(K104,Eje_Pilar_Prop!$C$2:$E$104,2,FALSE))","v":"Gobernanza e influencia local, regional e internacional"},{"$f":"IF(ISERROR(VLOOKUP(K104,Eje_Pilar_Prop!$C$2:$E$104,3,FALSE)),\" \",VLOOKUP(K104,Eje_Pilar_Prop!$C$2:$E$104,3,FALSE))","v":"Eje Transversal 4 Gobierno Legitimo, Fortalecimiento Local y Eficiencia"},"3-3-1-15-07- 45-1312-000 ",23783118,"DIANA MARCELA RUANO FAJARDO",18800000,null,null,null,null,18800000,18799999,"2020-02-27","2020-03-03","2020-07-02",120,null,null,null,null,null,null,null,null,"X",null,0.99999994680851068,null,{"$f":"IF(SUMPRODUCT((A$14:A104=A104)*(B$14:B104=B104)*(D$14:D104=D104))>1,0,1)","v":1},"Contratos de prestación de servicios profesionales y de apoyo a la gestión","Contratación directa",{"$f":"IF(ISBLANK(G104),1,IFERROR(VLOOKUP(G104,Tipo!$C$12:$C$27,1,FALSE),\"NO\"))","v":"Prestación de servicios profesionales y de apoyo a la gestión, o para la ejecución de trabajos artísticos que sólo puedan encomendarse a determinadas personas naturales;"},"Inversión",{"$f":"IF(ISBLANK(K104),1,IFERROR(VLOOKUP(K104,Eje_Pilar_Prop!C86:C187,1,FALSE),\"NO\"))","v":"NO"},"SECOP II",1,"Bogotá Mejor para Todos"]
[92,2020,"SECOP II","ALPA-CD-092-2020","Contratos de prestación de servicios profesionales y de apoyo a la gestión","Contratación directa","Prestación de servicios profesionales y de apoyo a la gestión, o para la ejecución de trabajos artísticos que sólo puedan encomendarse a determinadas personas naturales;","El contratista se obliga con el Fondo de Desarrollo Local de Puente Aranda a prestar los servicios profesionales requeridos para apoyar la formulacion, proceso de contratacion, evaluacion y seguimiento de proyectos incluidos en el Plan de Desarrollo Local vigente as! como liquidacion de los contratos suscritos para su ejecucion, para asegurar la adecuada inversion de recursos locales y el cumplimiento de las metas del mismo, en lo referente al proyecto 1290 “Democracia Urbana Mas Vlas Para Todos","Inversión","Bogotá Mejor para Todos",18,{"$f":"IF(ISERROR(VLOOKUP(K105,Eje_Pilar_Prop!$C$2:$E$104,2,FALSE)),\" \",VLOOKUP(K105,Eje_Pilar_Prop!$C$2:$E$104,2,FALSE))","v":"Mejor movilidad para todos"},{"$f":"IF(ISERROR(VLOOKUP(K105,Eje_Pilar_Prop!$C$2:$E$104,3,FALSE)),\" \",VLOOKUP(K105,Eje_Pilar_Prop!$C$2:$E$104,3,FALSE))","v":"Pilar 2 Democracía Urbana"},"3-3-1-15-02-18-1290-000 ",1010163288,"VICTOR NAYNN PIÑEROS CUERVO",24000000,null,null,null,null,24000000,24000000,"2020-02-27","2020-03-04","2020-07-03",120,null,null,null,null,null,null,null,null,"X",null,1,null,{"$f":"IF(SUMPRODUCT((A$14:A105=A105)*(B$14:B105=B105)*(D$14:D105=D105))>1,0,1)","v":1},"Contratos de prestación de servicios profesionales y de apoyo a la gestión","Contratación directa",{"$f":"IF(ISBLANK(G105),1,IFERROR(VLOOKUP(G105,Tipo!$C$12:$C$27,1,FALSE),\"NO\"))","v":"Prestación de servicios profesionales y de apoyo a la gestión, o para la ejecución de trabajos artísticos que sólo puedan encomendarse a determinadas personas naturales;"},"Inversión",{"$f":"IF(ISBLANK(K105),1,IFERROR(VLOOKUP(K105,Eje_Pilar_Prop!C87:C188,1,FALSE),\"NO\"))","v":"NO"},"SECOP II",1,"Bogotá Mejor para Todos"]
[93,2020,"SECOP II","ALPA-CD-093-2020","Contratos de prestación de servicios profesionales y de apoyo a la gestión","Contratación directa","Prestación de servicios profesionales y de apoyo a la gestión, o para la ejecución de trabajos artísticos que sólo puedan encomendarse a determinadas personas naturales;","El contratista se obliga con el Fondo de Desarrollo Local de la Alcaldia de Puente Aranda a prestar sus servicios profesionales para: Apoyar juridicamente la ejecucion de las acciones requeridas para la depuracion de las actuaciones administrativas que cursan en la Alcaldia Local","Inversión","Bogotá Mejor para Todos",45,{"$f":"IF(ISERROR(VLOOKUP(K106,Eje_Pilar_Prop!$C$2:$E$104,2,FALSE)),\" \",VLOOKUP(K106,Eje_Pilar_Prop!$C$2:$E$104,2,FALSE))","v":"Gobernanza e influencia local, regional e internacional"},{"$f":"IF(ISERROR(VLOOKUP(K106,Eje_Pilar_Prop!$C$2:$E$104,3,FALSE)),\" \",VLOOKUP(K106,Eje_Pilar_Prop!$C$2:$E$104,3,FALSE))","v":"Eje Transversal 4 Gobierno Legitimo, Fortalecimiento Local y Eficiencia"},"3-3-1-15-07- 45-1312-000 ",46374169,"NUBIA ESPERANZA CARRILLO SILVA",18800000,null,null,null,null,18800000,18800000,"2020-02-27","2020-03-03","2020-07-02",120,null,null,null,null,null,null,null,null,"X",null,1,null,{"$f":"IF(SUMPRODUCT((A$14:A106=A106)*(B$14:B106=B106)*(D$14:D106=D106))>1,0,1)","v":1},"Contratos de prestación de servicios profesionales y de apoyo a la gestión","Contratación directa",{"$f":"IF(ISBLANK(G106),1,IFERROR(VLOOKUP(G106,Tipo!$C$12:$C$27,1,FALSE),\"NO\"))","v":"Prestación de servicios profesionales y de apoyo a la gestión, o para la ejecución de trabajos artísticos que sólo puedan encomendarse a determinadas personas naturales;"},"Inversión",{"$f":"IF(ISBLANK(K106),1,IFERROR(VLOOKUP(K106,Eje_Pilar_Prop!C88:C189,1,FALSE),\"NO\"))","v":"NO"},"SECOP II",1,"Bogotá Mejor para Todos"]
[94,2020,"SECOP II","ALPA-CD-094-2020","Contratos de prestación de servicios profesionales y de apoyo a la gestión","Contratación directa","Prestación de servicios profesionales y de apoyo a la gestión, o para la ejecución de trabajos artísticos que sólo puedan encomendarse a determinadas personas naturales;","El contratista se obliga con el Fondo de Desarrollo Local de Puente Aranda a prestar sus servicios en el Area de Gestion Policiva y Juridica para que apoye las actividades referentes al control de establecimientos de comercio, de acuerdo con los estudios previos.","Inversión","Bogotá Mejor para Todos",45,{"$f":"IF(ISERROR(VLOOKUP(K107,Eje_Pilar_Prop!$C$2:$E$104,2,FALSE)),\" \",VLOOKUP(K107,Eje_Pilar_Prop!$C$2:$E$104,2,FALSE))","v":"Gobernanza e influencia local, regional e internacional"},{"$f":"IF(ISERROR(VLOOKUP(K107,Eje_Pilar_Prop!$C$2:$E$104,3,FALSE)),\" \",VLOOKUP(K107,Eje_Pilar_Prop!$C$2:$E$104,3,FALSE))","v":"Eje Transversal 4 Gobierno Legitimo, Fortalecimiento Local y Eficiencia"},"3-3-1-15-07- 45-1312-000 ",1014275470,"ANGIE PAOLA AVILA LANCHEROS",10000000,null,null,null,null,10000000,10000000,"2020-02-27","2020-03-02","2020-07-01",120,null,null,null,null,null,null,null,null,"X",null,1,null,{"$f":"IF(SUMPRODUCT((A$14:A107=A107)*(B$14:B107=B107)*(D$14:D107=D107))>1,0,1)","v":1},"Contratos de prestación de servicios profesionales y de apoyo a la gestión","Contratación directa",{"$f":"IF(ISBLANK(G107),1,IFERROR(VLOOKUP(G107,Tipo!$C$12:$C$27,1,FALSE),\"NO\"))","v":"Prestación de servicios profesionales y de apoyo a la gestión, o para la ejecución de trabajos artísticos que sólo puedan encomendarse a determinadas personas naturales;"},"Inversión",{"$f":"IF(ISBLANK(K107),1,IFERROR(VLOOKUP(K107,Eje_Pilar_Prop!C89:C190,1,FALSE),\"NO\"))","v":"NO"},"SECOP II",1,"Bogotá Mejor para Todos"]
[95,2020,"SECOP II","ALPA-CD-095-2020","Contratos de prestación de servicios profesionales y de apoyo a la gestión","Contratación directa","Prestación de servicios profesionales y de apoyo a la gestión, o para la ejecución de trabajos artísticos que sólo puedan encomendarse a determinadas personas naturales;","El Contratista se obliga con el Fondo de Desarrollo Local a prestar sus servicios profesionales apoyando técnicamente las distintas etapas de los procesos de competencias de la Alcaldía Local para la depuración de actuaciones administrativas, de acuerdo con los estudios previos","Inversión","Bogotá Mejor para Todos",45,{"$f":"IF(ISERROR(VLOOKUP(K108,Eje_Pilar_Prop!$C$2:$E$104,2,FALSE)),\" \",VLOOKUP(K108,Eje_Pilar_Prop!$C$2:$E$104,2,FALSE))","v":"Gobernanza e influencia local, regional e internacional"},{"$f":"IF(ISERROR(VLOOKUP(K108,Eje_Pilar_Prop!$C$2:$E$104,3,FALSE)),\" \",VLOOKUP(K108,Eje_Pilar_Prop!$C$2:$E$104,3,FALSE))","v":"Eje Transversal 4 Gobierno Legitimo, Fortalecimiento Local y Eficiencia"},"3-3-1-15-07- 45-1312-000 ",79508729,"ROGER MAURICIO FORERO RIVERA",20800000,null,null,null,null,20800000,20800000,"2020-02-27","2020-03-02","2020-07-01",120,null,null,null,null,null,null,null,null,"X",null,1,null,{"$f":"IF(SUMPRODUCT((A$14:A108=A108)*(B$14:B108=B108)*(D$14:D108=D108))>1,0,1)","v":1},"Contratos de prestación de servicios profesionales y de apoyo a la gestión","Contratación directa",{"$f":"IF(ISBLANK(G108),1,IFERROR(VLOOKUP(G108,Tipo!$C$12:$C$27,1,FALSE),\"NO\"))","v":"Prestación de servicios profesionales y de apoyo a la gestión, o para la ejecución de trabajos artísticos que sólo puedan encomendarse a determinadas personas naturales;"},"Inversión",{"$f":"IF(ISBLANK(K108),1,IFERROR(VLOOKUP(K108,Eje_Pilar_Prop!C90:C191,1,FALSE),\"NO\"))","v":"NO"},"SECOP II",1,"Bogotá Mejor para Todos"]
[96,2020,"SECOP II","ALPA-CD-096-2020","Contratos de prestación de servicios profesionales y de apoyo a la gestión","Contratación directa","Prestación de servicios profesionales y de apoyo a la gestión, o para la ejecución de trabajos artísticos que sólo puedan encomendarse a determinadas personas naturales;","Apoyar jurídicamente la ejecución de las acciones requeridas para el trámite e impulso procesal de las actuaciones contravencionales y/o querellas que se cursen en las Inspecciones de Policía de la Localidad.","Inversión","Bogotá Mejor para Todos",45,{"$f":"IF(ISERROR(VLOOKUP(K109,Eje_Pilar_Prop!$C$2:$E$104,2,FALSE)),\" \",VLOOKUP(K109,Eje_Pilar_Prop!$C$2:$E$104,2,FALSE))","v":"Gobernanza e influencia local, regional e internacional"},{"$f":"IF(ISERROR(VLOOKUP(K109,Eje_Pilar_Prop!$C$2:$E$104,3,FALSE)),\" \",VLOOKUP(K109,Eje_Pilar_Prop!$C$2:$E$104,3,FALSE))","v":"Eje Transversal 4 Gobierno Legitimo, Fortalecimiento Local y Eficiencia"},"3-3-1-15-07- 45-1312-000 ",79361902,"CARLOS ARTURO VERGEL GARNICA",18800000,null,null,null,null,18800000,18800000,"2020-02-28","2020-03-04","2020-07-03",120,null,null,null,null,null,null,null,null,"X",null,1,null,{"$f":"IF(SUMPRODUCT((A$14:A109=A109)*(B$14:B109=B109)*(D$14:D109=D109))>1,0,1)","v":1},"Contratos de prestación de servicios profesionales y de apoyo a la gestión","Contratación directa",{"$f":"IF(ISBLANK(G109),1,IFERROR(VLOOKUP(G109,Tipo!$C$12:$C$27,1,FALSE),\"NO\"))","v":"Prestación de servicios profesionales y de apoyo a la gestión, o para la ejecución de trabajos artísticos que sólo puedan encomendarse a determinadas personas naturales;"},"Inversión",{"$f":"IF(ISBLANK(K109),1,IFERROR(VLOOKUP(K109,Eje_Pilar_Prop!C91:C192,1,FALSE),\"NO\"))","v":"NO"},"SECOP II",1,"Bogotá Mejor para Todos"]
[97,2020,"SECOP II","ALPA-CD-097-2020","Contratos de prestación de servicios profesionales y de apoyo a la gestión","Contratación directa","Prestación de servicios profesionales y de apoyo a la gestión, o para la ejecución de trabajos artísticos que sólo puedan encomendarse a determinadas personas naturales;","El contratista se obliga con el Fondo de Desarrollo Local a prestar sus servicios de Apoyo a la gestión del Proyecto Punto Vive Digital de la localidad de Puente Aranda\" de acuerdo con los estudios previos.","Inversión","Bogotá Mejor para Todos",45,{"$f":"IF(ISERROR(VLOOKUP(K110,Eje_Pilar_Prop!$C$2:$E$104,2,FALSE)),\" \",VLOOKUP(K110,Eje_Pilar_Prop!$C$2:$E$104,2,FALSE))","v":"Gobernanza e influencia local, regional e internacional"},{"$f":"IF(ISERROR(VLOOKUP(K110,Eje_Pilar_Prop!$C$2:$E$104,3,FALSE)),\" \",VLOOKUP(K110,Eje_Pilar_Prop!$C$2:$E$104,3,FALSE))","v":"Eje Transversal 4 Gobierno Legitimo, Fortalecimiento Local y Eficiencia"},"3-3-1-15-07- 45-1312-000 ",1143331060,"PABLO ANDRES MONTIEL BELTRAN",11600000,null,null,null,null,11600000,11600000,"2020-03-04","2020-03-04","2020-07-03",120,null,null,null,null,null,null,null,null,"X",null,1,null,{"$f":"IF(SUMPRODUCT((A$14:A110=A110)*(B$14:B110=B110)*(D$14:D110=D110))>1,0,1)","v":1},"Contratos de prestación de servicios profesionales y de apoyo a la gestión","Contratación directa",{"$f":"IF(ISBLANK(G110),1,IFERROR(VLOOKUP(G110,Tipo!$C$12:$C$27,1,FALSE),\"NO\"))","v":"Prestación de servicios profesionales y de apoyo a la gestión, o para la ejecución de trabajos artísticos que sólo puedan encomendarse a determinadas personas naturales;"},"Inversión",{"$f":"IF(ISBLANK(K110),1,IFERROR(VLOOKUP(K110,Eje_Pilar_Prop!C92:C193,1,FALSE),\"NO\"))","v":"NO"},"SECOP II",1,"Bogotá Mejor para Todos"]
[98,2020,"SECOP II","ALPA-CD-098-2020","Contratos de prestación de servicios profesionales y de apoyo a la gestión","Contratación directa","Prestación de servicios profesionales y de apoyo a la gestión, o para la ejecución de trabajos artísticos que sólo puedan encomendarse a determinadas personas naturales;","La prestacion de servicios tecnicos para apoyar al gestor de la mejora en los procesos de implementacion de herramientas de gestion, siguiendo los lineamientos metodologicos establecidos por la Oficina Asesora de Planeacion de la Secretaria Distrital de Gobierno en el Fondo de Desarrollo Local de Puente Aranda, de acuerdo con los estudios previos.","Inversión","Bogotá Mejor para Todos",45,{"$f":"IF(ISERROR(VLOOKUP(K111,Eje_Pilar_Prop!$C$2:$E$104,2,FALSE)),\" \",VLOOKUP(K111,Eje_Pilar_Prop!$C$2:$E$104,2,FALSE))","v":"Gobernanza e influencia local, regional e internacional"},{"$f":"IF(ISERROR(VLOOKUP(K111,Eje_Pilar_Prop!$C$2:$E$104,3,FALSE)),\" \",VLOOKUP(K111,Eje_Pilar_Prop!$C$2:$E$104,3,FALSE))","v":"Eje Transversal 4 Gobierno Legitimo, Fortalecimiento Local y Eficiencia"},"3-3-1-15-07- 45-1312-000 ",15962797,"ANDRES FELIPE AMAYA RINCON",11200000,null,null,null,null,11200000,11200000,"2020-03-02","2020-03-03","2020-07-02",120,null,null,null,null,null,null,null,null,"X",null,1,null,{"$f":"IF(SUMPRODUCT((A$14:A111=A111)*(B$14:B111=B111)*(D$14:D111=D111))>1,0,1)","v":1},"Contratos de prestación de servicios profesionales y de apoyo a la gestión","Contratación directa",{"$f":"IF(ISBLANK(G111),1,IFERROR(VLOOKUP(G111,Tipo!$C$12:$C$27,1,FALSE),\"NO\"))","v":"Prestación de servicios profesionales y de apoyo a la gestión, o para la ejecución de trabajos artísticos que sólo puedan encomendarse a determinadas personas naturales;"},"Inversión",{"$f":"IF(ISBLANK(K111),1,IFERROR(VLOOKUP(K111,Eje_Pilar_Prop!C93:C194,1,FALSE),\"NO\"))","v":"NO"},"SECOP II",1,"Bogotá Mejor para Todos"]
[99,2020,"SECOP II","ALPA-CD-099-2020","Contratos de prestación de servicios profesionales y de apoyo a la gestión","Contratación directa","Prestación de servicios profesionales y de apoyo a la gestión, o para la ejecución de trabajos artísticos que sólo puedan encomendarse a determinadas personas naturales;","El contratista se obliga con el Fondo de Desarrollo Local de Puente Aranda a prestar sus servicios personales en la ejecución de actividades de orden técnico de apoyo que se requieran para la gestión en el proyecto 1290 DEMOCRACIA URBANA MAS VÍAS PARATODOS","Inversión","Bogotá Mejor para Todos",18,{"$f":"IF(ISERROR(VLOOKUP(K112,Eje_Pilar_Prop!$C$2:$E$104,2,FALSE)),\" \",VLOOKUP(K112,Eje_Pilar_Prop!$C$2:$E$104,2,FALSE))","v":"Mejor movilidad para todos"},{"$f":"IF(ISERROR(VLOOKUP(K112,Eje_Pilar_Prop!$C$2:$E$104,3,FALSE)),\" \",VLOOKUP(K112,Eje_Pilar_Prop!$C$2:$E$104,3,FALSE))","v":"Pilar 2 Democracía Urbana"},"3-3-1-15-02--18-1290-000",1016072144,"DIEGO ANDRES ARIAS SANCHEZ",14800000,null,null,null,null,14800000,14800000,"2020-03-04","2020-03-07","2020-07-06",120,null,null,null,null,null,null,null,null,"X",null,1,null,{"$f":"IF(SUMPRODUCT((A$14:A112=A112)*(B$14:B112=B112)*(D$14:D112=D112))>1,0,1)","v":1},"Contratos de prestación de servicios profesionales y de apoyo a la gestión","Contratación directa",{"$f":"IF(ISBLANK(G112),1,IFERROR(VLOOKUP(G112,Tipo!$C$12:$C$27,1,FALSE),\"NO\"))","v":"Prestación de servicios profesionales y de apoyo a la gestión, o para la ejecución de trabajos artísticos que sólo puedan encomendarse a determinadas personas naturales;"},"Inversión",{"$f":"IF(ISBLANK(K112),1,IFERROR(VLOOKUP(K112,Eje_Pilar_Prop!C94:C195,1,FALSE),\"NO\"))","v":"NO"},"SECOP II",1,"Bogotá Mejor para Todos"]
[100,2020,"SECOP II","ALPA-CD-100-2020","Contratos de prestación de servicios profesionales y de apoyo a la gestión","Contratación directa","Prestación de servicios profesionales y de apoyo a la gestión, o para la ejecución de trabajos artísticos que sólo puedan encomendarse a determinadas personas naturales;","\tEl contratista se obliga con el Fondo de Desarrollo Local a prestar sus servicios profesionales para: Apoyar juridicamente la ejecucion de las acciones requeridas y necesidades que se deriven de la aplicacion de las previsiones de la Ley 675 de 2001 o la que haga sus veces","Inversión","Bogotá Mejor para Todos",45,{"$f":"IF(ISERROR(VLOOKUP(K113,Eje_Pilar_Prop!$C$2:$E$104,2,FALSE)),\" \",VLOOKUP(K113,Eje_Pilar_Prop!$C$2:$E$104,2,FALSE))","v":"Gobernanza e influencia local, regional e internacional"},{"$f":"IF(ISERROR(VLOOKUP(K113,Eje_Pilar_Prop!$C$2:$E$104,3,FALSE)),\" \",VLOOKUP(K113,Eje_Pilar_Prop!$C$2:$E$104,3,FALSE))","v":"Eje Transversal 4 Gobierno Legitimo, Fortalecimiento Local y Eficiencia"},"3-3-1-15-07- 45-1312-000 ",79405329,"JORGE ENRIQUE GONZALEZ ARIAS",18800000,null,null,null,null,18800000,18800000,"2020-03-05","2020-03-09","2020-07-08",120,null,null,null,null,null,null,null,null,"X",null,1,null,{"$f":"IF(SUMPRODUCT((A$14:A113=A113)*(B$14:B113=B113)*(D$14:D113=D113))>1,0,1)","v":1},"Contratos de prestación de servicios profesionales y de apoyo a la gestión","Contratación directa",{"$f":"IF(ISBLANK(G113),1,IFERROR(VLOOKUP(G113,Tipo!$C$12:$C$27,1,FALSE),\"NO\"))","v":"Prestación de servicios profesionales y de apoyo a la gestión, o para la ejecución de trabajos artísticos que sólo puedan encomendarse a determinadas personas naturales;"},"Inversión",{"$f":"IF(ISBLANK(K113),1,IFERROR(VLOOKUP(K113,Eje_Pilar_Prop!C95:C196,1,FALSE),\"NO\"))","v":"NO"},"SECOP II",1,"Bogotá Mejor para Todos"]
[101,2020,"SECOP II","ALPA-IPMC-001-2020","Seguros","Contratación mínima cuantia","No aplica","CONTRATAR EL SEGURO DE VIDA PARA LOS EDILES DEL FONDO DE DESARROLLO LOCAL DE PUENTE ARANDA","Funcionamiento","Bogotá Mejor para Todos",null,{"$f":"IF(ISERROR(VLOOKUP(K114,Eje_Pilar_Prop!$C$2:$E$104,2,FALSE)),\" \",VLOOKUP(K114,Eje_Pilar_Prop!$C$2:$E$104,2,FALSE))","v":" "},{"$f":"IF(ISERROR(VLOOKUP(K114,Eje_Pilar_Prop!$C$2:$E$104,3,FALSE)),\" \",VLOOKUP(K114,Eje_Pilar_Prop!$C$2:$E$104,3,FALSE))","v":" "},"3-1-2-02-02-02-0001-005",860011153,"POSITIVA COMPAÑIA DE SEGUROS S.A.",7966062,null,null,null,null,7966062,7936062,"9/03/2020 ","2020-03-12","2021-03-11",365,null,null,null,null,null,null,null,"X",null,null,0.9962340237874121,null,{"$f":"IF(SUMPRODUCT((A$14:A114=A114)*(B$14:B114=B114)*(D$14:D114=D114))>1,0,1)","v":1},"Seguros","Contratación mínima cuantia",{"$f":"IF(ISBLANK(G114),1,IFERROR(VLOOKUP(G114,Tipo!$C$12:$C$27,1,FALSE),\"NO\"))","v":"NO"},"Funcionamiento",{"$f":"IF(ISBLANK(K114),1,IFERROR(VLOOKUP(K114,Eje_Pilar_Prop!C96:C197,1,FALSE),\"NO\"))","v":1},"SECOP II",{"$error":"#VALUE!"},"Bogotá Mejor para Todos"]
[102,2020,"SECOP II","ALPA-CD-102-2020","Contratos de prestación de servicios profesionales y de apoyo a la gestión","Contratación directa","Prestación de servicios profesionales y de apoyo a la gestión, o para la ejecución de trabajos artísticos que sólo puedan encomendarse a determinadas personas naturales;","Prestar los servicios profesionales para administrar la plataforma Secop y adelantar trámites precontractuales, contractuales y post contractuales en el marco de los proyectos contemplados en el Plan de Desarrollo Económico, Social, Ambiental y de Obras Públicas para la localidad de Puente Aranda y el plan de contratación, así como las labores de liquidación de contratos y convenios suscritos con cargo a los recursos del Fondo de Desarrollo Local y depuración de obligaciones por pagar","Inversión","Bogotá Mejor para Todos",45,{"$f":"IF(ISERROR(VLOOKUP(K115,Eje_Pilar_Prop!$C$2:$E$104,2,FALSE)),\" \",VLOOKUP(K115,Eje_Pilar_Prop!$C$2:$E$104,2,FALSE))","v":"Gobernanza e influencia local, regional e internacional"},{"$f":"IF(ISERROR(VLOOKUP(K115,Eje_Pilar_Prop!$C$2:$E$104,3,FALSE)),\" \",VLOOKUP(K115,Eje_Pilar_Prop!$C$2:$E$104,3,FALSE))","v":"Eje Transversal 4 Gobierno Legitimo, Fortalecimiento Local y Eficiencia"},"3-3-1-15-07- 45-1312-000 ",52833324,"ANA MILENA RINCON REY ",16800000,null,null,null,null,16800000,16800000,"2020-04-24","2020-04-27","2020-08-26",120,null,null,null,null,null,null,null,null,"X",null,1,null,{"$f":"IF(SUMPRODUCT((A$14:A115=A115)*(B$14:B115=B115)*(D$14:D115=D115))>1,0,1)","v":1},"Contratos de prestación de servicios profesionales y de apoyo a la gestión","Contratación directa",{"$f":"IF(ISBLANK(G115),1,IFERROR(VLOOKUP(G115,Tipo!$C$12:$C$27,1,FALSE),\"NO\"))","v":"Prestación de servicios profesionales y de apoyo a la gestión, o para la ejecución de trabajos artísticos que sólo puedan encomendarse a determinadas personas naturales;"},"Inversión",{"$f":"IF(ISBLANK(K115),1,IFERROR(VLOOKUP(K115,Eje_Pilar_Prop!C97:C198,1,FALSE),\"NO\"))","v":"NO"},"SECOP II",1,"Bogotá Mejor para Todos"]
[103,2020,"SECOP II","ALPA-CD-103-2020","Contratos de prestación de servicios profesionales y de apoyo a la gestión","Contratación directa","Prestación de servicios profesionales y de apoyo a la gestión, o para la ejecución de trabajos artísticos que sólo puedan encomendarse a determinadas personas naturales;","El contratista se obliga con el área de Gestión de Desarrollo Local de Puente Aranda a prestar sus servicios profesionales como apoyo a la oficina de contabilidad en las actividades propias de conformidad con los estudios previos.","Inversión","Bogotá Mejor para Todos",45,{"$f":"IF(ISERROR(VLOOKUP(K116,Eje_Pilar_Prop!$C$2:$E$104,2,FALSE)),\" \",VLOOKUP(K116,Eje_Pilar_Prop!$C$2:$E$104,2,FALSE))","v":"Gobernanza e influencia local, regional e internacional"},{"$f":"IF(ISERROR(VLOOKUP(K116,Eje_Pilar_Prop!$C$2:$E$104,3,FALSE)),\" \",VLOOKUP(K116,Eje_Pilar_Prop!$C$2:$E$104,3,FALSE))","v":"Eje Transversal 4 Gobierno Legitimo, Fortalecimiento Local y Eficiencia"},"3-3-1-15-07- 45-1312-000 ",53124797,"CLAUDIA PATRICIA VALLEJO GUTIERREZ",16800000,null,null,null,null,16800000,16800000,"2020-04-27","2020-04-28","2020-08-27",120,null,null,null,null,null,null,null,null,"X",null,1,null,{"$f":"IF(SUMPRODUCT((A$14:A116=A116)*(B$14:B116=B116)*(D$14:D116=D116))>1,0,1)","v":1},"Contratos de prestación de servicios profesionales y de apoyo a la gestión","Contratación directa",{"$f":"IF(ISBLANK(G116),1,IFERROR(VLOOKUP(G116,Tipo!$C$12:$C$27,1,FALSE),\"NO\"))","v":"Prestación de servicios profesionales y de apoyo a la gestión, o para la ejecución de trabajos artísticos que sólo puedan encomendarse a determinadas personas naturales;"},"Inversión",{"$f":"IF(ISBLANK(K116),1,IFERROR(VLOOKUP(K116,Eje_Pilar_Prop!C98:C199,1,FALSE),\"NO\"))","v":"NO"},"SECOP II",1,"Bogotá Mejor para Todos"]
[104,2020,"SECOP II","ALPA-CD-104-2020","Contratos de prestación de servicios profesionales y de apoyo a la gestión","Contratación directa","Prestación de servicios profesionales y de apoyo a la gestión, o para la ejecución de trabajos artísticos que sólo puedan encomendarse a determinadas personas naturales;","Prestacion de servicios tecnicos para apoyar las etapas precontractual, contractual y post-contractual de los procesos de adquisicion de bienes y servicios que realice el Fondo de Desarrollo Local de Puente Aranda, de acuerdo con los estudios previos","Inversión","Bogotá Mejor para Todos",45,{"$f":"IF(ISERROR(VLOOKUP(K117,Eje_Pilar_Prop!$C$2:$E$104,2,FALSE)),\" \",VLOOKUP(K117,Eje_Pilar_Prop!$C$2:$E$104,2,FALSE))","v":"Gobernanza e influencia local, regional e internacional"},{"$f":"IF(ISERROR(VLOOKUP(K117,Eje_Pilar_Prop!$C$2:$E$104,3,FALSE)),\" \",VLOOKUP(K117,Eje_Pilar_Prop!$C$2:$E$104,3,FALSE))","v":"Eje Transversal 4 Gobierno Legitimo, Fortalecimiento Local y Eficiencia"},"3-3-1-15-07- 45-1312-000 ",113688470,"PAULA LIZETH DAZA GARCIA ",14000000,null,null,null,null,14000000,13533333,"2020-04-30","2020-05-05","2020-09-04",120,null,null,null,null,null,null,null,null,"X",null,0.96666664285714288,null,{"$f":"IF(SUMPRODUCT((A$14:A117=A117)*(B$14:B117=B117)*(D$14:D117=D117))>1,0,1)","v":1},"Contratos de prestación de servicios profesionales y de apoyo a la gestión","Contratación directa",{"$f":"IF(ISBLANK(G117),1,IFERROR(VLOOKUP(G117,Tipo!$C$12:$C$27,1,FALSE),\"NO\"))","v":"Prestación de servicios profesionales y de apoyo a la gestión, o para la ejecución de trabajos artísticos que sólo puedan encomendarse a determinadas personas naturales;"},"Inversión",{"$f":"IF(ISBLANK(K117),1,IFERROR(VLOOKUP(K117,Eje_Pilar_Prop!C99:C200,1,FALSE),\"NO\"))","v":"NO"},"SECOP II",1,"Bogotá Mejor para Todos"]
[105,2020,"SECOP II","ALPA-CD-105-2020","Contratos de prestación de servicios profesionales y de apoyo a la gestión","Contratación directa","Prestación de servicios profesionales y de apoyo a la gestión, o para la ejecución de trabajos artísticos que sólo puedan encomendarse a determinadas personas naturales;","Prestar los servicios profesionales para adelantar tramites precontractuales, contractuales y post contractuales en el marco de los proyectos contemplados en el Plan de Desarrollo Economico, Social, Ambiental y de Obras Publicas para la localidad de Puente Aranda y el plan de contratacion, asi como las labores de liquidacion de contratos y convenios suscritos con cargo a los recursos del Fondo de Desarrollo Local y depuracion de obligaciones por pagan","Inversión","Bogotá Mejor para Todos",45,{"$f":"IF(ISERROR(VLOOKUP(K118,Eje_Pilar_Prop!$C$2:$E$104,2,FALSE)),\" \",VLOOKUP(K118,Eje_Pilar_Prop!$C$2:$E$104,2,FALSE))","v":"Gobernanza e influencia local, regional e internacional"},{"$f":"IF(ISERROR(VLOOKUP(K118,Eje_Pilar_Prop!$C$2:$E$104,3,FALSE)),\" \",VLOOKUP(K118,Eje_Pilar_Prop!$C$2:$E$104,3,FALSE))","v":"Eje Transversal 4 Gobierno Legitimo, Fortalecimiento Local y Eficiencia"},"3-3-1-15-07- 45-1312-000 ",52837530,"JENNY ANDREA ROCHA GARCIA",18800000,null,null,null,null,18800000,18800000,"2020-05-12","2020-05-13","2020-09-12",120,null,null,null,null,null,null,null,null,"X",null,1,null,{"$f":"IF(SUMPRODUCT((A$14:A118=A118)*(B$14:B118=B118)*(D$14:D118=D118))>1,0,1)","v":1},"Contratos de prestación de servicios profesionales y de apoyo a la gestión","Contratación directa",{"$f":"IF(ISBLANK(G118),1,IFERROR(VLOOKUP(G118,Tipo!$C$12:$C$27,1,FALSE),\"NO\"))","v":"Prestación de servicios profesionales y de apoyo a la gestión, o para la ejecución de trabajos artísticos que sólo puedan encomendarse a determinadas personas naturales;"},"Inversión",{"$f":"IF(ISBLANK(K118),1,IFERROR(VLOOKUP(K118,Eje_Pilar_Prop!C100:C201,1,FALSE),\"NO\"))","v":"NO"},"SECOP II",1,"Bogotá Mejor para Todos"]
[106,2020,"SECOP II","ALPA-CD-106-2020","Contratos de prestación de servicios profesionales y de apoyo a la gestión","Contratación directa","Prestación de servicios profesionales y de apoyo a la gestión, o para la ejecución de trabajos artísticos que sólo puedan encomendarse a determinadas personas naturales;","Prestar los servicios profesionales especializados al despacho de la Alcaldía Local de Puente Aranda para apoyar la ejecución integral de los asuntos administrativos de su competencia","Inversión","Bogotá Mejor para Todos",45,{"$f":"IF(ISERROR(VLOOKUP(K119,Eje_Pilar_Prop!$C$2:$E$104,2,FALSE)),\" \",VLOOKUP(K119,Eje_Pilar_Prop!$C$2:$E$104,2,FALSE))","v":"Gobernanza e influencia local, regional e internacional"},{"$f":"IF(ISERROR(VLOOKUP(K119,Eje_Pilar_Prop!$C$2:$E$104,3,FALSE)),\" \",VLOOKUP(K119,Eje_Pilar_Prop!$C$2:$E$104,3,FALSE))","v":"Eje Transversal 4 Gobierno Legitimo, Fortalecimiento Local y Eficiencia"},"3-3-1-15-07- 45-1312-000 ",52917581,"DIANA MAGARLY MOSQUERA ORDOÑEZ",52500000,null,null,null,null,52500000,36250000,"2020-05-05","2020-05-06","2020-12-05",210,null,null,null,null,null,null,null,null,"X",null,0.69047619047619047,null,{"$f":"IF(SUMPRODUCT((A$14:A119=A119)*(B$14:B119=B119)*(D$14:D119=D119))>1,0,1)","v":1},"Contratos de prestación de servicios profesionales y de apoyo a la gestión","Contratación directa",{"$f":"IF(ISBLANK(G119),1,IFERROR(VLOOKUP(G119,Tipo!$C$12:$C$27,1,FALSE),\"NO\"))","v":"Prestación de servicios profesionales y de apoyo a la gestión, o para la ejecución de trabajos artísticos que sólo puedan encomendarse a determinadas personas naturales;"},"Inversión",{"$f":"IF(ISBLANK(K119),1,IFERROR(VLOOKUP(K119,Eje_Pilar_Prop!C101:C202,1,FALSE),\"NO\"))","v":"NO"},"SECOP II",1,"Bogotá Mejor para Todos"]
[107,2020,"SECOP II","ALPA-CD-107-2020","Contratos de prestación de servicios profesionales y de apoyo a la gestión","Contratación directa","Prestación de servicios profesionales y de apoyo a la gestión, o para la ejecución de trabajos artísticos que sólo puedan encomendarse a determinadas personas naturales;","El contratista se obliga con el Fondo de Desarrollo Local de Puente Aranda a prestar sus servicios especializados en el Despacho del Alcalde Local en el Área de Gestión Policiva y Jurídica, respecto de las actuaciones administrativas que cursan en la Alcaldía Local","Inversión","Bogotá Mejor para Todos",45,{"$f":"IF(ISERROR(VLOOKUP(K120,Eje_Pilar_Prop!$C$2:$E$104,2,FALSE)),\" \",VLOOKUP(K120,Eje_Pilar_Prop!$C$2:$E$104,2,FALSE))","v":"Gobernanza e influencia local, regional e internacional"},{"$f":"IF(ISERROR(VLOOKUP(K120,Eje_Pilar_Prop!$C$2:$E$104,3,FALSE)),\" \",VLOOKUP(K120,Eje_Pilar_Prop!$C$2:$E$104,3,FALSE))","v":"Eje Transversal 4 Gobierno Legitimo, Fortalecimiento Local y Eficiencia"},"3-3-1-15-07- 45-1312-000 ",1026271070,"LOIS ALICIA ROJAS CAMACHO",56000000,null,null,1,14666667,70666667,54133333,"2020-05-05","2020-05-06","2020-12-05",210,1,55,1098306852,"JAIME ANDRES OSPINA ECHEVERRI","2020-11-03",8800000,null,"X",null,null,0.76603772751868993,null,{"$f":"IF(SUMPRODUCT((A$14:A120=A120)*(B$14:B120=B120)*(D$14:D120=D120))>1,0,1)","v":1},"Contratos de prestación de servicios profesionales y de apoyo a la gestión","Contratación directa",{"$f":"IF(ISBLANK(G120),1,IFERROR(VLOOKUP(G120,Tipo!$C$12:$C$27,1,FALSE),\"NO\"))","v":"Prestación de servicios profesionales y de apoyo a la gestión, o para la ejecución de trabajos artísticos que sólo puedan encomendarse a determinadas personas naturales;"},"Inversión",{"$f":"IF(ISBLANK(K120),1,IFERROR(VLOOKUP(K120,Eje_Pilar_Prop!C102:C203,1,FALSE),\"NO\"))","v":"NO"},"SECOP II",1,"Bogotá Mejor para Todos"]
[108,2020,"SECOP II","ALPA-CD-108-2020","Contratos de prestación de servicios profesionales y de apoyo a la gestión","Contratación directa","Prestación de servicios profesionales y de apoyo a la gestión, o para la ejecución de trabajos artísticos que sólo puedan encomendarse a determinadas personas naturales;","Prestar sus servicios profesionales especializados al despacho de la Alcaldía Local, en los procesos de formulación, seguimiento y control de los planes, programas y proyectos del plan de desarrollo local.","Inversión","Bogotá Mejor para Todos",45,{"$f":"IF(ISERROR(VLOOKUP(K121,Eje_Pilar_Prop!$C$2:$E$104,2,FALSE)),\" \",VLOOKUP(K121,Eje_Pilar_Prop!$C$2:$E$104,2,FALSE))","v":"Gobernanza e influencia local, regional e internacional"},{"$f":"IF(ISERROR(VLOOKUP(K121,Eje_Pilar_Prop!$C$2:$E$104,3,FALSE)),\" \",VLOOKUP(K121,Eje_Pilar_Prop!$C$2:$E$104,3,FALSE))","v":"Eje Transversal 4 Gobierno Legitimo, Fortalecimiento Local y Eficiencia"},"3-3-1-15-07- 45-1312-000 ",80124477,"EFRÈN MAURICIO ROMERO GÒMEZ",56000000,null,null,null,null,56000000,54666666,"2020-05-05","2020-05-06","2020-12-05",210,null,null,null,null,null,null,null,null,"X",null,0.97619046428571432,null,{"$f":"IF(SUMPRODUCT((A$14:A121=A121)*(B$14:B121=B121)*(D$14:D121=D121))>1,0,1)","v":1},"Contratos de prestación de servicios profesionales y de apoyo a la gestión","Contratación directa",{"$f":"IF(ISBLANK(G121),1,IFERROR(VLOOKUP(G121,Tipo!$C$12:$C$27,1,FALSE),\"NO\"))","v":"Prestación de servicios profesionales y de apoyo a la gestión, o para la ejecución de trabajos artísticos que sólo puedan encomendarse a determinadas personas naturales;"},"Inversión",{"$f":"IF(ISBLANK(K121),1,IFERROR(VLOOKUP(K121,Eje_Pilar_Prop!C103:C204,1,FALSE),\"NO\"))","v":"NO"},"SECOP II",1,"Bogotá Mejor para Todos"]
[109,2020,"SECOP II","ALPA-CD-RES-121-2020","Arrendamiento de bienes muebles","Contratación directa","El arrendamiento o adquisición de inmuebles","Arrendamiento de Bien Inmueble para bodega del Fondo de Desarrollo Local de Puente Aranda.","Funcionamiento","Bogotá Mejor para Todos",null,{"$f":"IF(ISERROR(VLOOKUP(K122,Eje_Pilar_Prop!$C$2:$E$104,2,FALSE)),\" \",VLOOKUP(K122,Eje_Pilar_Prop!$C$2:$E$104,2,FALSE))","v":" "},{"$f":"IF(ISERROR(VLOOKUP(K122,Eje_Pilar_Prop!$C$2:$E$104,3,FALSE)),\" \",VLOOKUP(K122,Eje_Pilar_Prop!$C$2:$E$104,3,FALSE))","v":" "},"3-1-02-02-02-02-00002-0003 ",41377254,"PAULINA DEL CARMEN DIAZ MESA",53847288,null,null,null,null,53847288,44872740,"2020-03-06","2020-03-07","2021-03-06",365,null,null,null,null,null,null,null,"X",null,null,0.83333333333333337,null,{"$f":"IF(SUMPRODUCT((A$14:A122=A122)*(B$14:B122=B122)*(D$14:D122=D122))>1,0,1)","v":1},"Arrendamiento de bienes muebles","Contratación directa",{"$f":"IF(ISBLANK(G122),1,IFERROR(VLOOKUP(G122,Tipo!$C$12:$C$27,1,FALSE),\"NO\"))","v":"El arrendamiento o adquisición de inmuebles"},"Funcionamiento",{"$f":"IF(ISBLANK(K122),1,IFERROR(VLOOKUP(K122,Eje_Pilar_Prop!C104:C205,1,FALSE),\"NO\"))","v":1},"SECOP II",1,"Bogotá Mejor para Todos"]
[110,2020,"SECOP II","ALPA-SABM-002-2020","Otros","Selección abreviada","Selección abreviada por menor cuantía ","La SCB actuando en nombre propio pero por cuenta de la Entidad, quien en virtud de este contrato de comisión ostenta la calidad de comisionista comprador, adquirirá en el Mercado de Compras Públicas (MCP) la \"PRESTACION DEL SERVICIO DE VIGILANCIA Y SEGURIDAD PRIVADA A TRAVES DE LA BOLSA MERCANTIL DE COLOMBIA S.A. PARA LOS PREDIOS DE PROPIEDAD Y/0 TENENCIA DE LA ALCALDIA LOCAL DE PUENTE ARANDA, DE CONFORMIDAD CON LAS CONDICIONES TECNICAS QUE DESIGNE EL FONDO DE DESARROLLO LOCAL DE PUENTE ARANDA.","Funcionamiento","Bogotá Mejor para Todos",null,{"$f":"IF(ISERROR(VLOOKUP(K123,Eje_Pilar_Prop!$C$2:$E$104,2,FALSE)),\" \",VLOOKUP(K123,Eje_Pilar_Prop!$C$2:$E$104,2,FALSE))","v":" "},{"$f":"IF(ISERROR(VLOOKUP(K123,Eje_Pilar_Prop!$C$2:$E$104,3,FALSE)),\" \",VLOOKUP(K123,Eje_Pilar_Prop!$C$2:$E$104,3,FALSE))","v":" "},"3-1-2-02-02-03-0005-001",830103828,"AGROBOLSA S.A ",272423676,null,null,2,135674817,408098493,404867643,"2020-03-16","2020-03-28","2020-10-28",210,2,103,null,null,null,null,null,"X",null,null,0.9920831611598232,null,{"$f":"IF(SUMPRODUCT((A$14:A123=A123)*(B$14:B123=B123)*(D$14:D123=D123))>1,0,1)","v":1},"Otros","Selección abreviada",{"$f":"IF(ISBLANK(G123),1,IFERROR(VLOOKUP(G123,Tipo!$C$12:$C$27,1,FALSE),\"NO\"))","v":"Selección abreviada por menor cuantía "},"Funcionamiento",{"$f":"IF(ISBLANK(K123),1,IFERROR(VLOOKUP(K123,Eje_Pilar_Prop!C105:C206,1,FALSE),\"NO\"))","v":1},"SECOP II",1,"Bogotá Mejor para Todos"]
[111,2020,"SECOP II","ORDEN DE COMPRA 46311","Otros","Selección abreviada","Acuerdo marco de precios ","El contratista se obliga con La Alcaldía Local de Puente Aranda a prestar el servicio integral de Aseo y Cafetería para la sede principal de la entidad y los espacios ocupados por la Junta Administradora Local; con base al acuerdo marco de precios CCE-972-AMP-2019","Funcionamiento","Bogotá Mejor para Todos",null,{"$f":"IF(ISERROR(VLOOKUP(K124,Eje_Pilar_Prop!$C$2:$E$104,2,FALSE)),\" \",VLOOKUP(K124,Eje_Pilar_Prop!$C$2:$E$104,2,FALSE))","v":" "},{"$f":"IF(ISERROR(VLOOKUP(K124,Eje_Pilar_Prop!$C$2:$E$104,3,FALSE)),\" \",VLOOKUP(K124,Eje_Pilar_Prop!$C$2:$E$104,3,FALSE))","v":" "},"3-3-1-02-02-03-000-5-002",901351411,"UNION TEMPORAL ECOLIMPIEZA ",132968744,null,null,null,null,132968744,102953012,"2020-03-18","2020-04-01","2021-01-31",300,null,null,null,null,null,null,null,"X",null,null,0.77426475503145309,null,{"$f":"IF(SUMPRODUCT((A$14:A124=A124)*(B$14:B124=B124)*(D$14:D124=D124))>1,0,1)","v":1},"Otros","Selección abreviada",{"$f":"IF(ISBLANK(G124),1,IFERROR(VLOOKUP(G124,Tipo!$C$12:$C$27,1,FALSE),\"NO\"))","v":"Acuerdo marco de precios "},"Funcionamiento",{"$f":"IF(ISBLANK(K124),1,IFERROR(VLOOKUP(K124,Eje_Pilar_Prop!C106:C207,1,FALSE),\"NO\"))","v":1},"SECOP II",1,"Bogotá Mejor para Todos"]
[112,2020,"SECOP II","ALPA-IPMC-003-2020","Compraventa de bienes muebles","Contratación mínima cuantia",null,"El contratista se obliga con el Fondo de Desarrollo Local de Puente Aranda a Entregar a título de compraventa, elementos de protección personal certificados para los servidores que realizarán las acciones de Inspección, Vigilancia y Control en atención a la emergencia económica, social y ecológica establecida en el Decreto Nacional 457 de 2020, Decreto Distrital 092 de 2020 y demás normas que los modifiquen.","Inversión","Bogotá Mejor para Todos",45,{"$f":"IF(ISERROR(VLOOKUP(K125,Eje_Pilar_Prop!$C$2:$E$104,2,FALSE)),\" \",VLOOKUP(K125,Eje_Pilar_Prop!$C$2:$E$104,2,FALSE))","v":"Gobernanza e influencia local, regional e internacional"},{"$f":"IF(ISERROR(VLOOKUP(K125,Eje_Pilar_Prop!$C$2:$E$104,3,FALSE)),\" \",VLOOKUP(K125,Eje_Pilar_Prop!$C$2:$E$104,3,FALSE))","v":"Eje Transversal 4 Gobierno Legitimo, Fortalecimiento Local y Eficiencia"},"3-3-1-15-07- 45-1312-000 ",901065278,"HEALTHCORP SAS",9860095,null,null,null,null,9860095,0,"2020-04-20","2020-04-27","2020-05-01",5,1,7,null,null,null,null,null,null,"X",null,0,null,{"$f":"IF(SUMPRODUCT((A$14:A125=A125)*(B$14:B125=B125)*(D$14:D125=D125))>1,0,1)","v":1},"Compraventa de bienes muebles","Contratación mínima cuantia",{"$f":"IF(ISBLANK(G125),1,IFERROR(VLOOKUP(G125,Tipo!$C$12:$C$27,1,FALSE),\"NO\"))","v":1},"Inversión",{"$f":"IF(ISBLANK(K125),1,IFERROR(VLOOKUP(K125,Eje_Pilar_Prop!C107:C208,1,FALSE),\"NO\"))","v":"NO"},"SECOP II",1,"Bogotá Mejor para Todos"]
[113,2020,"SECOP II","ORDEN DE COMPRA 47749","Otros","Selección abreviada","Acuerdo marco de precios ","Suministro de consumibles de impresión, para diferentes dependencias de la Alcaldía Local de Puente Aranda de conformidad con el acuerdo marco de precios CCE-538-1AMP-2017 de Colombia Compra Eficiente ","Funcionamiento","Bogotá Mejor para Todos",null,{"$f":"IF(ISERROR(VLOOKUP(K126,Eje_Pilar_Prop!$C$2:$E$104,2,FALSE)),\" \",VLOOKUP(K126,Eje_Pilar_Prop!$C$2:$E$104,2,FALSE))","v":" "},{"$f":"IF(ISERROR(VLOOKUP(K126,Eje_Pilar_Prop!$C$2:$E$104,3,FALSE)),\" \",VLOOKUP(K126,Eje_Pilar_Prop!$C$2:$E$104,3,FALSE))","v":" "},"3-1-2-02-01-02-000-8-000",830001338,"SUMIMAS SAS",30248650.289999999,null,null,null,null,30248650.289999999,30248650,"2020-04-28","2020-04-28","2020-05-27",30,null,null,null,null,null,null,null,null,"X",null,0.99999999041279541,null,{"$f":"IF(SUMPRODUCT((A$14:A126=A126)*(B$14:B126=B126)*(D$14:D126=D126))>1,0,1)","v":1},"Otros","Selección abreviada",{"$f":"IF(ISBLANK(G126),1,IFERROR(VLOOKUP(G126,Tipo!$C$12:$C$27,1,FALSE),\"NO\"))","v":"Acuerdo marco de precios "},"Funcionamiento",{"$f":"IF(ISBLANK(K126),1,IFERROR(VLOOKUP(K126,Eje_Pilar_Prop!C108:C209,1,FALSE),\"NO\"))","v":1},"SECOP II",1,"Bogotá Mejor para Todos"]
[114,2020,"SECOP II","ORDEN DE COMPRA 47750","Otros","Selección abreviada","Acuerdo marco de precios ","los elementos a entregar deben estar debidamente avalados y aprobados por el apoyo a la supervision, quien tendrá la responsabilidad de verificar el cumplimiento de las condiciones tecnicas ","Funcionamiento","Bogotá Mejor para Todos",null,{"$f":"IF(ISERROR(VLOOKUP(K127,Eje_Pilar_Prop!$C$2:$E$104,2,FALSE)),\" \",VLOOKUP(K127,Eje_Pilar_Prop!$C$2:$E$104,2,FALSE))","v":" "},{"$f":"IF(ISERROR(VLOOKUP(K127,Eje_Pilar_Prop!$C$2:$E$104,3,FALSE)),\" \",VLOOKUP(K127,Eje_Pilar_Prop!$C$2:$E$104,3,FALSE))","v":" "},"3-1-2-02-01-02-000-8-000",811021363,"UNIPLES SAS",48308288,null,null,null,null,48308288,43308288,"2020-04-28","2020-04-28","2020-05-27",30,null,null,null,null,null,null,null,null,"X",null,0.89649809159041194,null,{"$f":"IF(SUMPRODUCT((A$14:A127=A127)*(B$14:B127=B127)*(D$14:D127=D127))>1,0,1)","v":1},"Otros","Selección abreviada",{"$f":"IF(ISBLANK(G127),1,IFERROR(VLOOKUP(G127,Tipo!$C$12:$C$27,1,FALSE),\"NO\"))","v":"Acuerdo marco de precios "},"Funcionamiento",{"$f":"IF(ISBLANK(K127),1,IFERROR(VLOOKUP(K127,Eje_Pilar_Prop!C109:C210,1,FALSE),\"NO\"))","v":1},"SECOP II",1,"Bogotá Mejor para Todos"]
[115,2020,"SECOP II","ORDEN DE COMPRA 47751","Otros","Selección abreviada","Acuerdo marco de precios ","Suministro de consumibles de impresión, para diferentes dependencias de la Alcaldía Local de Puente Aranda de conformidad con el acuerdo marco de precios CCE-538-1AMP-2017 de Colombia Compra Eficiente ","Funcionamiento","Bogotá Mejor para Todos",null,{"$f":"IF(ISERROR(VLOOKUP(K128,Eje_Pilar_Prop!$C$2:$E$104,2,FALSE)),\" \",VLOOKUP(K128,Eje_Pilar_Prop!$C$2:$E$104,2,FALSE))","v":" "},{"$f":"IF(ISERROR(VLOOKUP(K128,Eje_Pilar_Prop!$C$2:$E$104,3,FALSE)),\" \",VLOOKUP(K128,Eje_Pilar_Prop!$C$2:$E$104,3,FALSE))","v":" "},"3-1-2-02-01-02-000-8-000",900157340,"ALIANZA ESTRATEGICA OUTSOURCING Y SUMINITROS SAS",648511,null,null,null,null,648511,null,"2020-04-28","2020-04-28","2020-05-27",30,null,null,null,null,null,null,null,null,"X",null,0,null,{"$f":"IF(SUMPRODUCT((A$14:A128=A128)*(B$14:B128=B128)*(D$14:D128=D128))>1,0,1)","v":1},"Otros","Selección abreviada",{"$f":"IF(ISBLANK(G128),1,IFERROR(VLOOKUP(G128,Tipo!$C$12:$C$27,1,FALSE),\"NO\"))","v":"Acuerdo marco de precios "},"Funcionamiento",{"$f":"IF(ISBLANK(K128),1,IFERROR(VLOOKUP(K128,Eje_Pilar_Prop!C110:C211,1,FALSE),\"NO\"))","v":1},"SECOP II",1,"Bogotá Mejor para Todos"]
[116,2020,"SECOP II","ALPA-CD-116-2020","Contratos de prestación de servicios profesionales y de apoyo a la gestión","Contratación directa","Prestación de servicios profesionales y de apoyo a la gestión, o para la ejecución de trabajos artísticos que sólo puedan encomendarse a determinadas personas naturales;","El contratista se obliga con el Fondo de Desarrollo Local de Puente Aranda a prestar los servicios profesionales brindado apoyo jurídico en el Despacho y en el Área de Gestión para el Desarrollo Local de acuerdo con los estudios previos","Inversión","Bogotá Mejor para Todos",45,{"$f":"IF(ISERROR(VLOOKUP(K129,Eje_Pilar_Prop!$C$2:$E$104,2,FALSE)),\" \",VLOOKUP(K129,Eje_Pilar_Prop!$C$2:$E$104,2,FALSE))","v":"Gobernanza e influencia local, regional e internacional"},{"$f":"IF(ISERROR(VLOOKUP(K129,Eje_Pilar_Prop!$C$2:$E$104,3,FALSE)),\" \",VLOOKUP(K129,Eje_Pilar_Prop!$C$2:$E$104,3,FALSE))","v":"Eje Transversal 4 Gobierno Legitimo, Fortalecimiento Local y Eficiencia"},"3-3-1-15-07- 45-1312-000 ",79520998,"JULIAN ANDRES TASCÒN VALENCIA",51100000,null,null,1,13383333,64483333,49396666,"2020-05-05","2020-05-06","2020-12-05",210,1,55,1143326992,"JOSE DAVID RODRIGUEZ MENDOZA","2020-11-03",5596666,null,"X",null,null,0.76603772947034232,null,{"$f":"IF(SUMPRODUCT((A$14:A129=A129)*(B$14:B129=B129)*(D$14:D129=D129))>1,0,1)","v":1},"Contratos de prestación de servicios profesionales y de apoyo a la gestión","Contratación directa",{"$f":"IF(ISBLANK(G129),1,IFERROR(VLOOKUP(G129,Tipo!$C$12:$C$27,1,FALSE),\"NO\"))","v":"Prestación de servicios profesionales y de apoyo a la gestión, o para la ejecución de trabajos artísticos que sólo puedan encomendarse a determinadas personas naturales;"},"Inversión",{"$f":"IF(ISBLANK(K129),1,IFERROR(VLOOKUP(K129,Eje_Pilar_Prop!C111:C212,1,FALSE),\"NO\"))","v":"NO"},"SECOP II",1,"Bogotá Mejor para Todos"]
[117,2020,"SECOP II","ALPA-CD-117-2020","Contratos de prestación de servicios profesionales y de apoyo a la gestión","Contratación directa","Prestación de servicios profesionales y de apoyo a la gestión, o para la ejecución de trabajos artísticos que sólo puedan encomendarse a determinadas personas naturales;","El contratista se obliga con el fondo de Desarrollo local a prestar sus servicios técnicos en el Despacho de la Alcaldía Local con el fin de contribuir en las actividades asistenciales y de gestión, de conformidad con los estudios previos. ","Inversión","Bogotá Mejor para Todos",45,{"$f":"IF(ISERROR(VLOOKUP(K130,Eje_Pilar_Prop!$C$2:$E$104,2,FALSE)),\" \",VLOOKUP(K130,Eje_Pilar_Prop!$C$2:$E$104,2,FALSE))","v":"Gobernanza e influencia local, regional e internacional"},{"$f":"IF(ISERROR(VLOOKUP(K130,Eje_Pilar_Prop!$C$2:$E$104,3,FALSE)),\" \",VLOOKUP(K130,Eje_Pilar_Prop!$C$2:$E$104,3,FALSE))","v":"Eje Transversal 4 Gobierno Legitimo, Fortalecimiento Local y Eficiencia"},"3-3-1-15-07- 45-1312-000 ",1031140805,"NATALIA XILENA GARCIA ESPINOSA",24500000,null,null,1,5600000,30100000,28700000,"2020-05-11","2020-05-13","2020-12-12",210,1,48,null,null,null,null,null,"X",null,null,0.95348837209302328,null,{"$f":"IF(SUMPRODUCT((A$14:A130=A130)*(B$14:B130=B130)*(D$14:D130=D130))>1,0,1)","v":1},"Contratos de prestación de servicios profesionales y de apoyo a la gestión","Contratación directa",{"$f":"IF(ISBLANK(G130),1,IFERROR(VLOOKUP(G130,Tipo!$C$12:$C$27,1,FALSE),\"NO\"))","v":"Prestación de servicios profesionales y de apoyo a la gestión, o para la ejecución de trabajos artísticos que sólo puedan encomendarse a determinadas personas naturales;"},"Inversión",{"$f":"IF(ISBLANK(K130),1,IFERROR(VLOOKUP(K130,Eje_Pilar_Prop!C112:C213,1,FALSE),\"NO\"))","v":"NO"},"SECOP II",1,"Bogotá Mejor para Todos"]
[118,2020,"SECOP I","ALPA-CD-118-2020","Contratos de prestación de servicios profesionales y de apoyo a la gestión","Contratación directa","Urgencia manifiesta","La Cruz Roja se obliga a prestar, a monto agotable, los servicios y realizar las acciones necesarias para la provisión y entrega de ayuda humanitaria y asistencia para la contingencia de la población pobre y vulnerable de Bogotá D.C., en el marco de la contención y mitigación del Covid-19, la declaratoria de emergencia sanitaria en todo el territorio nacional y la calamidad pública declarada en la ciudad de Bogotá D.C., de acuerdo a lo establecido en el Manual Operativo del Sistema Distrital Bogotá Solidaria en Casa. Parágrafo. Alcance del Objeto: El alcance del presente contrato comprende la administración, planeación estratégica, logística y operación para la entrega de ayudas humanitarias bajo sometimiento de los principios de calidad, oportunidad, pertinencia y eficacia, que permita socorrer, asistir, proteger y atender las necesidades de alimentación, aseo personal, manejo de abastecimientos, utensilios, vestuario, medicamentos, transporte y traslado de emergencia, alojamiento temporal, asistencia de gastos funerarios, trámites documentales, en condiciones dignas para la población pobre y vulnerable de Bogotá D.C., o la entrega de bonos canjeables, tarjetas monedero o similares, dentro de los lineamientos del Sistema Distrital Bogotá Solidaria en Casa y su Manual Operativo.","Inversión","Bogotá Mejor para Todos",45,{"$f":"IF(ISERROR(VLOOKUP(K131,Eje_Pilar_Prop!$C$2:$E$104,2,FALSE)),\" \",VLOOKUP(K131,Eje_Pilar_Prop!$C$2:$E$104,2,FALSE))","v":"Gobernanza e influencia local, regional e internacional"},{"$f":"IF(ISERROR(VLOOKUP(K131,Eje_Pilar_Prop!$C$2:$E$104,3,FALSE)),\" \",VLOOKUP(K131,Eje_Pilar_Prop!$C$2:$E$104,3,FALSE))","v":"Eje Transversal 4 Gobierno Legitimo, Fortalecimiento Local y Eficiencia"},"3-3-1-15-01-03-1286-000 ",860070301,"CRUZ ROJA COLOMBIANA SECCIONAL CUNDINAMARCA Y BOGOTA",1035568007,null,null,null,null,1035568007,null,"2020-05-15","2020-05-15","2020-09-14",120,null,null,null,null,null,null,null,null,"X",null,0,null,{"$f":"IF(SUMPRODUCT((A$14:A131=A131)*(B$14:B131=B131)*(D$14:D131=D131))>1,0,1)","v":1},"Contratos de prestación de servicios profesionales y de apoyo a la gestión","Contratación directa",{"$f":"IF(ISBLANK(G131),1,IFERROR(VLOOKUP(G131,Tipo!$C$12:$C$27,1,FALSE),\"NO\"))","v":"Urgencia manifiesta"},"Inversión",{"$f":"IF(ISBLANK(K131),1,IFERROR(VLOOKUP(K131,Eje_Pilar_Prop!C113:C214,1,FALSE),\"NO\"))","v":"NO"},"SECOP I",1,"Bogotá Mejor para Todos"]
[119,2020,"SECOP II","ALPA-IPMC-004-2020","Contratos de prestación de servicios","Contratación mínima cuantia","No aplica","PRESTAR EL SERVICIO DE MANTENIMIENTO INTEGRAL PREVENTIVO Y CORRECTIVO A MONTO AGOTABLE, INCLUIDO SUMINISTRO DE REPUESTOS, Y MANO DE OBRA ESPECIALIZADA AL PARQUE AUTOMOTOR DEL FDL DE PUENTE ARANDA A PRECIOS FIJOS SIN REAJUSTE","Funcionamiento","Bogotá Mejor para Todos",null,{"$f":"IF(ISERROR(VLOOKUP(K132,Eje_Pilar_Prop!$C$2:$E$104,2,FALSE)),\" \",VLOOKUP(K132,Eje_Pilar_Prop!$C$2:$E$104,2,FALSE))","v":" "},{"$f":"IF(ISERROR(VLOOKUP(K132,Eje_Pilar_Prop!$C$2:$E$104,3,FALSE)),\" \",VLOOKUP(K132,Eje_Pilar_Prop!$C$2:$E$104,3,FALSE))","v":" "},"3-1-2-02-02-03-0006-004",800250589,"CENTRO CAR 19 LIMITADA",6000000,null,null,1,3000000,9000000,8955759,"2020-05-14","2020-05-19","2020-10-18",150,null,null,null,null,null,null,null,null,"X",null,0.99508433333333335,null,{"$f":"IF(SUMPRODUCT((A$14:A132=A132)*(B$14:B132=B132)*(D$14:D132=D132))>1,0,1)","v":1},"Contratos de prestación de servicios","Contratación mínima cuantia",{"$f":"IF(ISBLANK(G132),1,IFERROR(VLOOKUP(G132,Tipo!$C$12:$C$27,1,FALSE),\"NO\"))","v":"NO"},"Funcionamiento",{"$f":"IF(ISBLANK(K132),1,IFERROR(VLOOKUP(K132,Eje_Pilar_Prop!C114:C215,1,FALSE),\"NO\"))","v":1},"SECOP II",1,"Bogotá Mejor para Todos"]
[120,2020,"SECOP II","ALPA-CD-120-2020","Contratos de prestación de servicios profesionales y de apoyo a la gestión","Contratación directa","Prestación de servicios profesionales y de apoyo a la gestión, o para la ejecución de trabajos artísticos que sólo puedan encomendarse a determinadas personas naturales;","Apoyar tecnicamente al Alcalde Local en la prestacion del servicio de logistica, monitoreo, coordinacion y seguimiento de los operatives y actividades que requiera en la localidad relacionados con la atencion de la emergencia del COVID-19”","Inversión","Bogotá Mejor para Todos",45,{"$f":"IF(ISERROR(VLOOKUP(K133,Eje_Pilar_Prop!$C$2:$E$104,2,FALSE)),\" \",VLOOKUP(K133,Eje_Pilar_Prop!$C$2:$E$104,2,FALSE))","v":"Gobernanza e influencia local, regional e internacional"},{"$f":"IF(ISERROR(VLOOKUP(K133,Eje_Pilar_Prop!$C$2:$E$104,3,FALSE)),\" \",VLOOKUP(K133,Eje_Pilar_Prop!$C$2:$E$104,3,FALSE))","v":"Eje Transversal 4 Gobierno Legitimo, Fortalecimiento Local y Eficiencia"},"3-3-1-15-07-45-1312-000",80115902,"ISMAEL ANDRES CASTIBLANCO REYES",24500000,null,null,null,null,24500000,null,"2020-05-29","2020-06-01","2020-12-31",210,null,null,null,null,null,null,null,null,"X",null,0,null,{"$f":"IF(SUMPRODUCT((A$14:A133=A133)*(B$14:B133=B133)*(D$14:D133=D133))>1,0,1)","v":1},"Contratos de prestación de servicios profesionales y de apoyo a la gestión","Contratación directa",{"$f":"IF(ISBLANK(G133),1,IFERROR(VLOOKUP(G133,Tipo!$C$12:$C$27,1,FALSE),\"NO\"))","v":"Prestación de servicios profesionales y de apoyo a la gestión, o para la ejecución de trabajos artísticos que sólo puedan encomendarse a determinadas personas naturales;"},"Inversión",{"$f":"IF(ISBLANK(K133),1,IFERROR(VLOOKUP(K133,Eje_Pilar_Prop!C115:C216,1,FALSE),\"NO\"))","v":"NO"},"SECOP II",1,"Bogotá Mejor para Todos"]
[121,2020,"SECOP II","ALPA-CD-121-2020","Contratos de prestación de servicios profesionales y de apoyo a la gestión","Contratación directa","Prestación de servicios profesionales y de apoyo a la gestión, o para la ejecución de trabajos artísticos que sólo puedan encomendarse a determinadas personas naturales;","Prestar los servicios profesionales para apoyar al equipo de prensa y comunicaciones de la Alcaldia Local en la creacion, realizacion y produccion de videos que transmitan un mensaje en la comunicacion interna y externa, de conformidad con los estudios previos”","Inversión","Bogotá Mejor para Todos",45,{"$f":"IF(ISERROR(VLOOKUP(K134,Eje_Pilar_Prop!$C$2:$E$104,2,FALSE)),\" \",VLOOKUP(K134,Eje_Pilar_Prop!$C$2:$E$104,2,FALSE))","v":"Gobernanza e influencia local, regional e internacional"},{"$f":"IF(ISERROR(VLOOKUP(K134,Eje_Pilar_Prop!$C$2:$E$104,3,FALSE)),\" \",VLOOKUP(K134,Eje_Pilar_Prop!$C$2:$E$104,3,FALSE))","v":"Eje Transversal 4 Gobierno Legitimo, Fortalecimiento Local y Eficiencia"},"3-3-1-15-07-45-1312-000","\n52.433.261 \n","ZULY YOHANA SANTANA BEJARANO",35000000,null,null,null,null,35000000,null,"2020-06-01","2020-06-02","2021-01-01",210,null,null,1033751867,"JUAN SEBASTIAN LONDONO HENAO ","2020-07-06",28833333,null,null,"X",null,0,null,{"$f":"IF(SUMPRODUCT((A$14:A134=A134)*(B$14:B134=B134)*(D$14:D134=D134))>1,0,1)","v":1},"Contratos de prestación de servicios profesionales y de apoyo a la gestión","Contratación directa",{"$f":"IF(ISBLANK(G134),1,IFERROR(VLOOKUP(G134,Tipo!$C$12:$C$27,1,FALSE),\"NO\"))","v":"Prestación de servicios profesionales y de apoyo a la gestión, o para la ejecución de trabajos artísticos que sólo puedan encomendarse a determinadas personas naturales;"},"Inversión",{"$f":"IF(ISBLANK(K134),1,IFERROR(VLOOKUP(K134,Eje_Pilar_Prop!C116:C217,1,FALSE),\"NO\"))","v":"NO"},"SECOP II",1,"Bogotá Mejor para Todos"]
[122,2020,"SECOP II","ALPA-CD-122-2020","Contratos de prestación de servicios profesionales y de apoyo a la gestión","Contratación directa","Prestación de servicios profesionales y de apoyo a la gestión, o para la ejecución de trabajos artísticos que sólo puedan encomendarse a determinadas personas naturales;","Prestar los servicios profesionales para formular e implementar estrategias de emprendimiento en coordinacion con las diferentes entidades de la localidad, empresarios e industriales que mejoren las condiciones de los ciudadanos de localidad”.","Inversión","Bogotá Mejor para Todos",45,{"$f":"IF(ISERROR(VLOOKUP(K135,Eje_Pilar_Prop!$C$2:$E$104,2,FALSE)),\" \",VLOOKUP(K135,Eje_Pilar_Prop!$C$2:$E$104,2,FALSE))","v":"Gobernanza e influencia local, regional e internacional"},{"$f":"IF(ISERROR(VLOOKUP(K135,Eje_Pilar_Prop!$C$2:$E$104,3,FALSE)),\" \",VLOOKUP(K135,Eje_Pilar_Prop!$C$2:$E$104,3,FALSE))","v":"Eje Transversal 4 Gobierno Legitimo, Fortalecimiento Local y Eficiencia"},"3-3-1-15-07-45-1312-000",1018459041,"DAYAN SMITH NARANJO SUAREZ ",35000000,null,null,null,null,35000000,null,"2020-06-01","2020-06-02","2021-01-01",210,null,null,null,null,null,null,null,null,"X",null,0,null,{"$f":"IF(SUMPRODUCT((A$14:A135=A135)*(B$14:B135=B135)*(D$14:D135=D135))>1,0,1)","v":1},"Contratos de prestación de servicios profesionales y de apoyo a la gestión","Contratación directa",{"$f":"IF(ISBLANK(G135),1,IFERROR(VLOOKUP(G135,Tipo!$C$12:$C$27,1,FALSE),\"NO\"))","v":"Prestación de servicios profesionales y de apoyo a la gestión, o para la ejecución de trabajos artísticos que sólo puedan encomendarse a determinadas personas naturales;"},"Inversión",{"$f":"IF(ISBLANK(K135),1,IFERROR(VLOOKUP(K135,Eje_Pilar_Prop!C117:C218,1,FALSE),\"NO\"))","v":"NO"},"SECOP II",1,"Bogotá Mejor para Todos"]
[123,2020,"SECOP II","ALPA-CD-123-2020","Contratos de prestación de servicios profesionales y de apoyo a la gestión","Contratación directa","Prestación de servicios profesionales y de apoyo a la gestión, o para la ejecución de trabajos artísticos que sólo puedan encomendarse a determinadas personas naturales;","Prestación de servicios técnicos para apoyar las etapas precontractual, contractual y post-contractual de los procesos de adquisición de bienes y servicios que realice el Fondo de Desarrollo Local de Puente Aranda, de acuerdo con los estudios previos.","Inversión","Bogotá Mejor para Todos",45,{"$f":"IF(ISERROR(VLOOKUP(K136,Eje_Pilar_Prop!$C$2:$E$104,2,FALSE)),\" \",VLOOKUP(K136,Eje_Pilar_Prop!$C$2:$E$104,2,FALSE))","v":"Gobernanza e influencia local, regional e internacional"},{"$f":"IF(ISERROR(VLOOKUP(K136,Eje_Pilar_Prop!$C$2:$E$104,3,FALSE)),\" \",VLOOKUP(K136,Eje_Pilar_Prop!$C$2:$E$104,3,FALSE))","v":"Eje Transversal 4 Gobierno Legitimo, Fortalecimiento Local y Eficiencia"},"3-3-1-15-07-45-1312-000",1015407312,"ANDREA CATALINA GARCIA FLOREZ",21000000,null,null,1,5716667,26716667,25433333,"2020-06-11","2020-06-12","2020-12-11",180,1,49,null,null,null,null,null,"X",null,null,0.95196504114828395,null,{"$f":"IF(SUMPRODUCT((A$14:A136=A136)*(B$14:B136=B136)*(D$14:D136=D136))>1,0,1)","v":1},"Contratos de prestación de servicios profesionales y de apoyo a la gestión","Contratación directa",{"$f":"IF(ISBLANK(G136),1,IFERROR(VLOOKUP(G136,Tipo!$C$12:$C$27,1,FALSE),\"NO\"))","v":"Prestación de servicios profesionales y de apoyo a la gestión, o para la ejecución de trabajos artísticos que sólo puedan encomendarse a determinadas personas naturales;"},"Inversión",{"$f":"IF(ISBLANK(K136),1,IFERROR(VLOOKUP(K136,Eje_Pilar_Prop!C118:C219,1,FALSE),\"NO\"))","v":"NO"},"SECOP II",1,"Bogotá Mejor para Todos"]
[124,2020,"SECOP II","ALPA-CD-124-2020","Contratos de prestación de servicios profesionales y de apoyo a la gestión","Contratación directa","Prestación de servicios profesionales y de apoyo a la gestión, o para la ejecución de trabajos artísticos que sólo puedan encomendarse a determinadas personas naturales;","El contratista se obliga con el Fondo de Desarrollo Local de La Alcaldia Local de Puente Aranda a prestar sus servicios profesionales para realizar las labores de Administracion de la Red soporte tecnico y administrative en el manejo de los programas instalados en todas las areas de la alcaldia y Junta Administradora Local","Inversión","Bogotá Mejor para Todos",45,{"$f":"IF(ISERROR(VLOOKUP(K137,Eje_Pilar_Prop!$C$2:$E$104,2,FALSE)),\" \",VLOOKUP(K137,Eje_Pilar_Prop!$C$2:$E$104,2,FALSE))","v":"Gobernanza e influencia local, regional e internacional"},{"$f":"IF(ISERROR(VLOOKUP(K137,Eje_Pilar_Prop!$C$2:$E$104,3,FALSE)),\" \",VLOOKUP(K137,Eje_Pilar_Prop!$C$2:$E$104,3,FALSE))","v":"Eje Transversal 4 Gobierno Legitimo, Fortalecimiento Local y Eficiencia"},"3-3-1-15-07-45-1312-000",80013691,"OSCAR EDUARDO ROMERO ARTEAGA",32400000,null,null,1,8820000,41220000,30420000,"2020-06-11","2020-06-12","2020-12-11",180,1,49,null,null,null,null,null,"X",null,null,0.73799126637554591,null,{"$f":"IF(SUMPRODUCT((A$14:A137=A137)*(B$14:B137=B137)*(D$14:D137=D137))>1,0,1)","v":1},"Contratos de prestación de servicios profesionales y de apoyo a la gestión","Contratación directa",{"$f":"IF(ISBLANK(G137),1,IFERROR(VLOOKUP(G137,Tipo!$C$12:$C$27,1,FALSE),\"NO\"))","v":"Prestación de servicios profesionales y de apoyo a la gestión, o para la ejecución de trabajos artísticos que sólo puedan encomendarse a determinadas personas naturales;"},"Inversión",{"$f":"IF(ISBLANK(K137),1,IFERROR(VLOOKUP(K137,Eje_Pilar_Prop!C119:C220,1,FALSE),\"NO\"))","v":"NO"},"SECOP II",1,"Bogotá Mejor para Todos"]
[125,2020,"SECOP II","ALPA-CD-125-2020","Contratos de prestación de servicios profesionales y de apoyo a la gestión","Contratación directa","Prestación de servicios profesionales y de apoyo a la gestión, o para la ejecución de trabajos artísticos que sólo puedan encomendarse a determinadas personas naturales;","Prestacion de servicios profesionales para adelantar tramites precontractuales, contractuales y post contractuales en el marco de los proyectos contemplados en el Plan de Desarrollo Economico, Social, Ambiental y de Obras Publicas para la localidad de Puente Aranda y el plan de contratacion, asf como las labores de liquidacion de contratos y convenios suscritos con cargo a los recursos del Fondo de Desarrollo Local y depuracion de obligaciones por pagar","Inversión","Bogotá Mejor para Todos",45,{"$f":"IF(ISERROR(VLOOKUP(K138,Eje_Pilar_Prop!$C$2:$E$104,2,FALSE)),\" \",VLOOKUP(K138,Eje_Pilar_Prop!$C$2:$E$104,2,FALSE))","v":"Gobernanza e influencia local, regional e internacional"},{"$f":"IF(ISERROR(VLOOKUP(K138,Eje_Pilar_Prop!$C$2:$E$104,3,FALSE)),\" \",VLOOKUP(K138,Eje_Pilar_Prop!$C$2:$E$104,3,FALSE))","v":"Eje Transversal 4 Gobierno Legitimo, Fortalecimiento Local y Eficiencia"},"3-3-1-15-07-45-1312-000",52952806,"CLARA PAOLA CARDENAS LOPEZ",28200000,null,null,1,7676667,35876667,26476667,"2020-06-11","2020-06-12","2020-12-11",180,1,49,null,null,null,null,null,"X",null,null,0.73799126880989252,null,{"$f":"IF(SUMPRODUCT((A$14:A138=A138)*(B$14:B138=B138)*(D$14:D138=D138))>1,0,1)","v":1},"Contratos de prestación de servicios profesionales y de apoyo a la gestión","Contratación directa",{"$f":"IF(ISBLANK(G138),1,IFERROR(VLOOKUP(G138,Tipo!$C$12:$C$27,1,FALSE),\"NO\"))","v":"Prestación de servicios profesionales y de apoyo a la gestión, o para la ejecución de trabajos artísticos que sólo puedan encomendarse a determinadas personas naturales;"},"Inversión",{"$f":"IF(ISBLANK(K138),1,IFERROR(VLOOKUP(K138,Eje_Pilar_Prop!C120:C221,1,FALSE),\"NO\"))","v":"NO"},"SECOP II",1,"Bogotá Mejor para Todos"]
[126,2020,"SECOP II","ALPA-CD-126-2020","Contratos de prestación de servicios profesionales y de apoyo a la gestión","Contratación directa","Prestación de servicios profesionales y de apoyo a la gestión, o para la ejecución de trabajos artísticos que sólo puedan encomendarse a determinadas personas naturales;","“Apoyar tecnicamente a los responsables e integrantes de los procesos en la implementacion de herramientas de gestion, siguiendo los lineamientos metodologicos establecidos por la Oficina Asesora de Planeacion de la Secretaria Distrital de Gobierno., de acuerdo con los estudios previos”","Inversión","Bogotá Mejor para Todos",45,{"$f":"IF(ISERROR(VLOOKUP(K139,Eje_Pilar_Prop!$C$2:$E$104,2,FALSE)),\" \",VLOOKUP(K139,Eje_Pilar_Prop!$C$2:$E$104,2,FALSE))","v":"Gobernanza e influencia local, regional e internacional"},{"$f":"IF(ISERROR(VLOOKUP(K139,Eje_Pilar_Prop!$C$2:$E$104,3,FALSE)),\" \",VLOOKUP(K139,Eje_Pilar_Prop!$C$2:$E$104,3,FALSE))","v":"Eje Transversal 4 Gobierno Legitimo, Fortalecimiento Local y Eficiencia"},"3-3-1-15-07-45-1312-000",51591190,"ELIZABETH PEÑA SALAZAR",28200000,null,null,1,7050000,35250000,null,"2020-06-12","2020-06-16","2020-12-15",180,null,null,null,null,null,null,null,"X",null,null,0,null,{"$f":"IF(SUMPRODUCT((A$14:A139=A139)*(B$14:B139=B139)*(D$14:D139=D139))>1,0,1)","v":1},"Contratos de prestación de servicios profesionales y de apoyo a la gestión","Contratación directa",{"$f":"IF(ISBLANK(G139),1,IFERROR(VLOOKUP(G139,Tipo!$C$12:$C$27,1,FALSE),\"NO\"))","v":"Prestación de servicios profesionales y de apoyo a la gestión, o para la ejecución de trabajos artísticos que sólo puedan encomendarse a determinadas personas naturales;"},"Inversión",{"$f":"IF(ISBLANK(K139),1,IFERROR(VLOOKUP(K139,Eje_Pilar_Prop!C121:C222,1,FALSE),\"NO\"))","v":"NO"},"SECOP II",1,"Bogotá Mejor para Todos"]
[127,2020,"SECOP II","ALPA-CD-127-2020","Contratos de prestación de servicios profesionales y de apoyo a la gestión","Contratación directa","Prestación de servicios profesionales y de apoyo a la gestión, o para la ejecución de trabajos artísticos que sólo puedan encomendarse a determinadas personas naturales;","El contrato que se pretende celebrar, tendra por objeto: El contratista se obliga con el Fondo de Desarrollo Local a prestar sus servicios en el Area de radicacion y correspondencia realizando el tramite respective a la correspondencia de todas las dependencias de acuerdo con los procedimientos establecidos, asi como para aplicar encuestas de percepcion y la atencion de recepcion de los visitantes en la alcaldia Local de puente Aranda, de conformidad con los estudios previos","Inversión","Bogotá Mejor para Todos",45,{"$f":"IF(ISERROR(VLOOKUP(K140,Eje_Pilar_Prop!$C$2:$E$104,2,FALSE)),\" \",VLOOKUP(K140,Eje_Pilar_Prop!$C$2:$E$104,2,FALSE))","v":"Gobernanza e influencia local, regional e internacional"},{"$f":"IF(ISERROR(VLOOKUP(K140,Eje_Pilar_Prop!$C$2:$E$104,3,FALSE)),\" \",VLOOKUP(K140,Eje_Pilar_Prop!$C$2:$E$104,3,FALSE))","v":"Eje Transversal 4 Gobierno Legitimo, Fortalecimiento Local y Eficiencia"},"3-3-1-15-07-45-1312-000",52250446,"PAOLA ORTIZ CALDERON",15000000,null,null,1,3666667,18666667,17333333,"2020-06-16","2020-06-17","2020-12-16",180,1,44,null,null,null,null,null,"X",null,null,0.92857139413265366,null,{"$f":"IF(SUMPRODUCT((A$14:A140=A140)*(B$14:B140=B140)*(D$14:D140=D140))>1,0,1)","v":1},"Contratos de prestación de servicios profesionales y de apoyo a la gestión","Contratación directa",{"$f":"IF(ISBLANK(G140),1,IFERROR(VLOOKUP(G140,Tipo!$C$12:$C$27,1,FALSE),\"NO\"))","v":"Prestación de servicios profesionales y de apoyo a la gestión, o para la ejecución de trabajos artísticos que sólo puedan encomendarse a determinadas personas naturales;"},"Inversión",{"$f":"IF(ISBLANK(K140),1,IFERROR(VLOOKUP(K140,Eje_Pilar_Prop!C122:C223,1,FALSE),\"NO\"))","v":"NO"},"SECOP II",1,"Bogotá Mejor para Todos"]
[128,2020,"SECOP II","ALPA-CD-128-2020","Contratos de prestación de servicios profesionales y de apoyo a la gestión","Contratación directa","Prestación de servicios profesionales y de apoyo a la gestión, o para la ejecución de trabajos artísticos que sólo puedan encomendarse a determinadas personas naturales;","El contratista se obliga con el Fondo de Desarrollo Local a prestar sus servicios en el Area de radicacion y correspondencia realizando el tramite respective a la correspondencia de todas las dependencias de acuerdo con los procedimientos establecidos, as! como para aplicar encuestas de percepcion y la atencion de recepcion de los visitantes en la alcaldia Local de puente Aranda, de conformidad con los estudios previos.","Inversión","Bogotá Mejor para Todos",45,{"$f":"IF(ISERROR(VLOOKUP(K141,Eje_Pilar_Prop!$C$2:$E$104,2,FALSE)),\" \",VLOOKUP(K141,Eje_Pilar_Prop!$C$2:$E$104,2,FALSE))","v":"Gobernanza e influencia local, regional e internacional"},{"$f":"IF(ISERROR(VLOOKUP(K141,Eje_Pilar_Prop!$C$2:$E$104,3,FALSE)),\" \",VLOOKUP(K141,Eje_Pilar_Prop!$C$2:$E$104,3,FALSE))","v":"Eje Transversal 4 Gobierno Legitimo, Fortalecimiento Local y Eficiencia"},"3-3-1-15-07-45-1312-000",65500490,"CARMEN ELENA CASTRO",15000000,null,null,1,1166667,16166667,13666666,"2020-06-16","2020-06-17","2020-12-16",180,1,14,null,null,null,null,null,null,"X",null,0.84536076607503574,null,{"$f":"IF(SUMPRODUCT((A$14:A141=A141)*(B$14:B141=B141)*(D$14:D141=D141))>1,0,1)","v":1},"Contratos de prestación de servicios profesionales y de apoyo a la gestión","Contratación directa",{"$f":"IF(ISBLANK(G141),1,IFERROR(VLOOKUP(G141,Tipo!$C$12:$C$27,1,FALSE),\"NO\"))","v":"Prestación de servicios profesionales y de apoyo a la gestión, o para la ejecución de trabajos artísticos que sólo puedan encomendarse a determinadas personas naturales;"},"Inversión",{"$f":"IF(ISBLANK(K141),1,IFERROR(VLOOKUP(K141,Eje_Pilar_Prop!C123:C224,1,FALSE),\"NO\"))","v":"NO"},"SECOP II",1,"Bogotá Mejor para Todos"]
[129,2020,"SECOP II","ALPA-CD-129-2020","Contratos de prestación de servicios profesionales y de apoyo a la gestión","Contratación directa","Prestación de servicios profesionales y de apoyo a la gestión, o para la ejecución de trabajos artísticos que sólo puedan encomendarse a determinadas personas naturales;","El contratista se obliga con el Fondo de Desarrollo Local de Puente Aranda a prestar los servicios profesionales requeridos para apoyar la formulacion, proceso de contratacion, evaluacion, seguimiento y liquidacion de proyectos incluidos en el Plan de Desarrollo Local vigente, para asegurar la adecuada inversion de recursos locales y el cumplimiento de las metas del mismo, de acuerdo con los estudios previos","Inversión","Bogotá Mejor para Todos",45,{"$f":"IF(ISERROR(VLOOKUP(K142,Eje_Pilar_Prop!$C$2:$E$104,2,FALSE)),\" \",VLOOKUP(K142,Eje_Pilar_Prop!$C$2:$E$104,2,FALSE))","v":"Gobernanza e influencia local, regional e internacional"},{"$f":"IF(ISERROR(VLOOKUP(K142,Eje_Pilar_Prop!$C$2:$E$104,3,FALSE)),\" \",VLOOKUP(K142,Eje_Pilar_Prop!$C$2:$E$104,3,FALSE))","v":"Eje Transversal 4 Gobierno Legitimo, Fortalecimiento Local y Eficiencia"},"3-3-1-15-07-45-1312-000",79891249,"DARLYNG CLAVIJO",28200000,null,null,1,1880000,30080000,25380000,"2020-06-18","2020-06-19","2020-12-18",180,1,12,null,null,null,null,null,null,"X",null,0.84375,null,{"$f":"IF(SUMPRODUCT((A$14:A142=A142)*(B$14:B142=B142)*(D$14:D142=D142))>1,0,1)","v":1},"Contratos de prestación de servicios profesionales y de apoyo a la gestión","Contratación directa",{"$f":"IF(ISBLANK(G142),1,IFERROR(VLOOKUP(G142,Tipo!$C$12:$C$27,1,FALSE),\"NO\"))","v":"Prestación de servicios profesionales y de apoyo a la gestión, o para la ejecución de trabajos artísticos que sólo puedan encomendarse a determinadas personas naturales;"},"Inversión",{"$f":"IF(ISBLANK(K142),1,IFERROR(VLOOKUP(K142,Eje_Pilar_Prop!C124:C225,1,FALSE),\"NO\"))","v":"NO"},"SECOP II",1,{"$f":"IF(ISBLANK(J142),1,IFERROR(VLOOKUP(J142,pdd,1,FALSE),\"NO\"))","v":"Bogotá Mejor para Todos"}]
[130,2020,"SECOP II","ALPA-CD-130-2020","Contratos de prestación de servicios profesionales y de apoyo a la gestión","Contratación directa","Prestación de servicios profesionales y de apoyo a la gestión, o para la ejecución de trabajos artísticos que sólo puedan encomendarse a determinadas personas naturales;","El contratista se obliga con el Fondo de Desarrollo Local de Puente Aranda a prestar los servicios profesionales requeridos para apoyar la formulacion, proceso de contratacion, evaluacion y seguimiento de proyectos incluidos en el Plan de Desarrollo Local vigente asi como liquidacion de los contratos suscritos para su ejecucion, para asegurar la adecuada inversion de recursos locales y el cumplimiento de las metas del mismo, en lo referente al proyecto 1291 CONSTRUCCION Y ADECUACION DE PARQUES DE LA LOCALIDAD DE PUENTE ARANDA, de conformidad con los estudios previos.","Inversión","Bogotá Mejor para Todos",45,{"$f":"IF(ISERROR(VLOOKUP(K143,Eje_Pilar_Prop!$C$2:$E$104,2,FALSE)),\" \",VLOOKUP(K143,Eje_Pilar_Prop!$C$2:$E$104,2,FALSE))","v":"Gobernanza e influencia local, regional e internacional"},{"$f":"IF(ISERROR(VLOOKUP(K143,Eje_Pilar_Prop!$C$2:$E$104,3,FALSE)),\" \",VLOOKUP(K143,Eje_Pilar_Prop!$C$2:$E$104,3,FALSE))","v":"Eje Transversal 4 Gobierno Legitimo, Fortalecimiento Local y Eficiencia"},"3-3-1-15-02-17-1291-000 ",1024553703,"YENCY VIVIANA GARCIA VARGAS ",30000000,null,null,null,null,30000000,null,"2020-06-18","2020-06-19","2020-12-18",180,null,null,null,null,null,null,null,null,"X",null,0,null,{"$f":"IF(SUMPRODUCT((A$14:A143=A143)*(B$14:B143=B143)*(D$14:D143=D143))>1,0,1)","v":1},"Contratos de prestación de servicios profesionales y de apoyo a la gestión","Contratación directa",{"$f":"IF(ISBLANK(G143),1,IFERROR(VLOOKUP(G143,Tipo!$C$12:$C$27,1,FALSE),\"NO\"))","v":"Prestación de servicios profesionales y de apoyo a la gestión, o para la ejecución de trabajos artísticos que sólo puedan encomendarse a determinadas personas naturales;"},"Inversión",{"$f":"IF(ISBLANK(K143),1,IFERROR(VLOOKUP(K143,Eje_Pilar_Prop!C125:C226,1,FALSE),\"NO\"))","v":"NO"},"SECOP II",1,"Bogotá Mejor para Todos"]
[131,2020,"SECOP II","ALPA-CD-131-2020","Contratos de prestación de servicios profesionales y de apoyo a la gestión","Contratación directa","Prestación de servicios profesionales y de apoyo a la gestión, o para la ejecución de trabajos artísticos que sólo puedan encomendarse a determinadas personas naturales;","El Contratista se obliga con el Fondo de Desarrollo Local a prestar los servicios como notificador para la distribucion de la correspondencia de las diferentes dependencias de la Alcaldia Local, de acuerdo con los estudios previos","Inversión","Bogotá Mejor para Todos",45,{"$f":"IF(ISERROR(VLOOKUP(K144,Eje_Pilar_Prop!$C$2:$E$104,2,FALSE)),\" \",VLOOKUP(K144,Eje_Pilar_Prop!$C$2:$E$104,2,FALSE))","v":"Gobernanza e influencia local, regional e internacional"},{"$f":"IF(ISERROR(VLOOKUP(K144,Eje_Pilar_Prop!$C$2:$E$104,3,FALSE)),\" \",VLOOKUP(K144,Eje_Pilar_Prop!$C$2:$E$104,3,FALSE))","v":"Eje Transversal 4 Gobierno Legitimo, Fortalecimiento Local y Eficiencia"},"3-3-1-15-07- 45-1312-000 ",80113532,"DEINIS FILIMON BARBOSA CRISTANCHO",13800000,null,null,1,3220000,17020000,15640000,"2020-06-18","2020-06-19","2020-12-18",180,1,42,null,null,null,null,null,"X",null,null,0.91891891891891897,null,{"$f":"IF(SUMPRODUCT((A$14:A144=A144)*(B$14:B144=B144)*(D$14:D144=D144))>1,0,1)","v":1},"Contratos de prestación de servicios profesionales y de apoyo a la gestión","Contratación directa",{"$f":"IF(ISBLANK(G144),1,IFERROR(VLOOKUP(G144,Tipo!$C$12:$C$27,1,FALSE),\"NO\"))","v":"Prestación de servicios profesionales y de apoyo a la gestión, o para la ejecución de trabajos artísticos que sólo puedan encomendarse a determinadas personas naturales;"},"Inversión",{"$f":"IF(ISBLANK(K144),1,IFERROR(VLOOKUP(K144,Eje_Pilar_Prop!C126:C227,1,FALSE),\"NO\"))","v":"NO"},"SECOP II",1,"Bogotá Mejor para Todos"]
[132,2020,"SECOP II","ALPA-CD-132-2020","Contratos de prestación de servicios profesionales y de apoyo a la gestión","Contratación directa","Prestación de servicios profesionales y de apoyo a la gestión, o para la ejecución de trabajos artísticos que sólo puedan encomendarse a determinadas personas naturales;","El Contratista se obliga con el Fondo de Desarrollo Local a prestar los servicios como notificador para la distribución de la correspondencia de las diferentes dependencias de la Alcaldía Local, de acuerdo con los estudios previos.","Inversión","Bogotá Mejor para Todos",45,{"$f":"IF(ISERROR(VLOOKUP(K145,Eje_Pilar_Prop!$C$2:$E$104,2,FALSE)),\" \",VLOOKUP(K145,Eje_Pilar_Prop!$C$2:$E$104,2,FALSE))","v":"Gobernanza e influencia local, regional e internacional"},{"$f":"IF(ISERROR(VLOOKUP(K145,Eje_Pilar_Prop!$C$2:$E$104,3,FALSE)),\" \",VLOOKUP(K145,Eje_Pilar_Prop!$C$2:$E$104,3,FALSE))","v":"Eje Transversal 4 Gobierno Legitimo, Fortalecimiento Local y Eficiencia"},"3-3-1-15-07- 45-1312-000 ",1030632130,"LUIS GUILLERMO NEISA LOPEZ",13800000,null,null,1,3220000,17020000,15640000,"2020-06-18","2020-06-19","2020-12-18",180,1,42,null,null,null,null,null,"X",null,null,0.91891891891891897,null,{"$f":"IF(SUMPRODUCT((A$14:A145=A145)*(B$14:B145=B145)*(D$14:D145=D145))>1,0,1)","v":1},"Contratos de prestación de servicios profesionales y de apoyo a la gestión","Contratación directa",{"$f":"IF(ISBLANK(G145),1,IFERROR(VLOOKUP(G145,Tipo!$C$12:$C$27,1,FALSE),\"NO\"))","v":"Prestación de servicios profesionales y de apoyo a la gestión, o para la ejecución de trabajos artísticos que sólo puedan encomendarse a determinadas personas naturales;"},"Inversión",{"$f":"IF(ISBLANK(K145),1,IFERROR(VLOOKUP(K145,Eje_Pilar_Prop!C127:C228,1,FALSE),\"NO\"))","v":"NO"},"SECOP II",1,"Bogotá Mejor para Todos"]
[133,2020,"SECOP II","ALPA-CD-133-2020","Contratos de prestación de servicios profesionales y de apoyo a la gestión","Contratación directa","Prestación de servicios profesionales y de apoyo a la gestión, o para la ejecución de trabajos artísticos que sólo puedan encomendarse a determinadas personas naturales;","El contratista se obliga con el Fondo de Desarrollo Local de Puente Aranda a apoyar al equipo de prensa y comunicaciones de la alcaldia local en la realizacion de productos y piezas digitales, impresas y publicitarias de gran format© y de animacion grafica, asi como apoyar la produccion y montaje conformidad con los estudios","Inversión","Bogotá Mejor para Todos",45,{"$f":"IF(ISERROR(VLOOKUP(K146,Eje_Pilar_Prop!$C$2:$E$104,2,FALSE)),\" \",VLOOKUP(K146,Eje_Pilar_Prop!$C$2:$E$104,2,FALSE))","v":"Gobernanza e influencia local, regional e internacional"},{"$f":"IF(ISERROR(VLOOKUP(K146,Eje_Pilar_Prop!$C$2:$E$104,3,FALSE)),\" \",VLOOKUP(K146,Eje_Pilar_Prop!$C$2:$E$104,3,FALSE))","v":"Eje Transversal 4 Gobierno Legitimo, Fortalecimiento Local y Eficiencia"},"3-3-1-15-07- 45-1312-000 ",1031152615,"ANGGY LORENA MARTINEZ DIAZ",24000000,null,null,1,5066667,29066667,null,"2020-06-18","2020-06-23","2020-12-22",180,1,38,null,null,null,null,null,"X",null,null,0,null,{"$f":"IF(SUMPRODUCT((A$14:A146=A146)*(B$14:B146=B146)*(D$14:D146=D146))>1,0,1)","v":1},"Contratos de prestación de servicios profesionales y de apoyo a la gestión","Contratación directa",{"$f":"IF(ISBLANK(G146),1,IFERROR(VLOOKUP(G146,Tipo!$C$12:$C$27,1,FALSE),\"NO\"))","v":"Prestación de servicios profesionales y de apoyo a la gestión, o para la ejecución de trabajos artísticos que sólo puedan encomendarse a determinadas personas naturales;"},"Inversión",{"$f":"IF(ISBLANK(K146),1,IFERROR(VLOOKUP(K146,Eje_Pilar_Prop!C128:C229,1,FALSE),\"NO\"))","v":"NO"},"SECOP II",1,"Bogotá Mejor para Todos"]
[134,2020,"SECOP II","ALPA-CD-134-2020","Contratos de prestación de servicios profesionales y de apoyo a la gestión","Contratación directa","Prestación de servicios profesionales y de apoyo a la gestión, o para la ejecución de trabajos artísticos que sólo puedan encomendarse a determinadas personas naturales;","El contratista se obliga con el Fondo de Desarrollo Local de Puente Aranda a prestar servicios profesionales requeridos para apoyar la formulacion, proceso de contratacion, evaluacion y seguimiento de proyectos incluidos en el plan de desarrollo local vigente, asi como la liquidacion de los contratos suscritos para su ejecucion para asegurar la adecuada inversion de recursos locales y el cumplimiento de las metas del mismo, en lo referente al proyecto 1290- democracia urbana mas vias para todos.","Inversión","Bogotá Mejor para Todos",45,{"$f":"IF(ISERROR(VLOOKUP(K147,Eje_Pilar_Prop!$C$2:$E$104,2,FALSE)),\" \",VLOOKUP(K147,Eje_Pilar_Prop!$C$2:$E$104,2,FALSE))","v":"Gobernanza e influencia local, regional e internacional"},{"$f":"IF(ISERROR(VLOOKUP(K147,Eje_Pilar_Prop!$C$2:$E$104,3,FALSE)),\" \",VLOOKUP(K147,Eje_Pilar_Prop!$C$2:$E$104,3,FALSE))","v":"Eje Transversal 4 Gobierno Legitimo, Fortalecimiento Local y Eficiencia"},"3-3-1-15-02-18-1290-000 ",52787345,"YUDY MILENA PATARROYO BAEZ",30000000,null,null,null,null,30000000,null,"2020-06-18","2020-06-19","2020-12-18",180,null,null,null,null,null,null,null,null,"X",null,0,null,{"$f":"IF(SUMPRODUCT((A$14:A147=A147)*(B$14:B147=B147)*(D$14:D147=D147))>1,0,1)","v":1},"Contratos de prestación de servicios profesionales y de apoyo a la gestión","Contratación directa",{"$f":"IF(ISBLANK(G147),1,IFERROR(VLOOKUP(G147,Tipo!$C$12:$C$27,1,FALSE),\"NO\"))","v":"Prestación de servicios profesionales y de apoyo a la gestión, o para la ejecución de trabajos artísticos que sólo puedan encomendarse a determinadas personas naturales;"},"Inversión",{"$f":"IF(ISBLANK(K147),1,IFERROR(VLOOKUP(K147,Eje_Pilar_Prop!C129:C230,1,FALSE),\"NO\"))","v":"NO"},"SECOP II",1,"Bogotá Mejor para Todos"]
[135,2020,"SECOP II","ALPA-CD-135-2020","Contratos de prestación de servicios profesionales y de apoyo a la gestión","Contratación directa","Prestación de servicios profesionales y de apoyo a la gestión, o para la ejecución de trabajos artísticos que sólo puedan encomendarse a determinadas personas naturales;","El Contratista se obliga con el Fondo de Desarrollo Local a prestar sus servicios profesionales para apoyar tecnicamente las distintas etapas de los procesos de competencia de la Inspecciones de Polida de la Localidad de Puente Aranda, segun reparto, de acuerdo con los estudios previo","Inversión","Bogotá Mejor para Todos",45,{"$f":"IF(ISERROR(VLOOKUP(K148,Eje_Pilar_Prop!$C$2:$E$104,2,FALSE)),\" \",VLOOKUP(K148,Eje_Pilar_Prop!$C$2:$E$104,2,FALSE))","v":"Gobernanza e influencia local, regional e internacional"},{"$f":"IF(ISERROR(VLOOKUP(K148,Eje_Pilar_Prop!$C$2:$E$104,3,FALSE)),\" \",VLOOKUP(K148,Eje_Pilar_Prop!$C$2:$E$104,3,FALSE))","v":"Eje Transversal 4 Gobierno Legitimo, Fortalecimiento Local y Eficiencia"},"3-3-1-15-07- 45-1312-000 ",79707971,"GIOVANNI VALDES OSORIO",33000000,null,null,1,2200000,35200000,null,"2020-06-18","2020-06-19","2020-12-18",180,1,12,null,null,null,null,null,null,"X",null,0,null,{"$f":"IF(SUMPRODUCT((A$14:A148=A148)*(B$14:B148=B148)*(D$14:D148=D148))>1,0,1)","v":1},"Contratos de prestación de servicios profesionales y de apoyo a la gestión","Contratación directa",{"$f":"IF(ISBLANK(G148),1,IFERROR(VLOOKUP(G148,Tipo!$C$12:$C$27,1,FALSE),\"NO\"))","v":"Prestación de servicios profesionales y de apoyo a la gestión, o para la ejecución de trabajos artísticos que sólo puedan encomendarse a determinadas personas naturales;"},"Inversión",{"$f":"IF(ISBLANK(K148),1,IFERROR(VLOOKUP(K148,Eje_Pilar_Prop!C130:C231,1,FALSE),\"NO\"))","v":"NO"},"SECOP II",1,"Bogotá Mejor para Todos"]
[136,2020,"SECOP II","ALPA-CD-136-2020","Contratos de prestación de servicios profesionales y de apoyo a la gestión","Contratación directa","Prestación de servicios profesionales y de apoyo a la gestión, o para la ejecución de trabajos artísticos que sólo puedan encomendarse a determinadas personas naturales;","El Contratista se obliga con el Fondo de Desarrollo Local a prestar sus servicios profesionales para apoyar tecnicamente las distintas etapas de los procesos de competencia de la Inspecciones de Policia de la Localidad de Puente Aranda, segun reparto, de acuerdo con los estudios previos","Inversión","Bogotá Mejor para Todos",45,{"$f":"IF(ISERROR(VLOOKUP(K149,Eje_Pilar_Prop!$C$2:$E$104,2,FALSE)),\" \",VLOOKUP(K149,Eje_Pilar_Prop!$C$2:$E$104,2,FALSE))","v":"Gobernanza e influencia local, regional e internacional"},{"$f":"IF(ISERROR(VLOOKUP(K149,Eje_Pilar_Prop!$C$2:$E$104,3,FALSE)),\" \",VLOOKUP(K149,Eje_Pilar_Prop!$C$2:$E$104,3,FALSE))","v":"Eje Transversal 4 Gobierno Legitimo, Fortalecimiento Local y Eficiencia"},"3-3-1-15-07- 45-1312-000 ",79693773,"PLINIO AUGUSTO ALBA RODRIGUEZ ",33000000,null,null,null,null,33000000,null,"2020-06-18","2020-06-24","2020-12-23",180,null,null,null,null,null,null,null,null,"X",null,0,null,{"$f":"IF(SUMPRODUCT((A$14:A149=A149)*(B$14:B149=B149)*(D$14:D149=D149))>1,0,1)","v":1},"Contratos de prestación de servicios profesionales y de apoyo a la gestión","Contratación directa",{"$f":"IF(ISBLANK(G149),1,IFERROR(VLOOKUP(G149,Tipo!$C$12:$C$27,1,FALSE),\"NO\"))","v":"Prestación de servicios profesionales y de apoyo a la gestión, o para la ejecución de trabajos artísticos que sólo puedan encomendarse a determinadas personas naturales;"},"Inversión",{"$f":"IF(ISBLANK(K149),1,IFERROR(VLOOKUP(K149,Eje_Pilar_Prop!C131:C232,1,FALSE),\"NO\"))","v":"NO"},{"$f":"IF(ISBLANK(C149),1,IFERROR(VLOOKUP(C149,SECOP,1,FALSE),\"NO\"))","v":"SECOP II"},1,"Bogotá Mejor para Todos"]
[137,2020,"SECOP II","ALPA-CD-137-2020","Contratos de prestación de servicios profesionales y de apoyo a la gestión","Contratación directa","Prestación de servicios profesionales y de apoyo a la gestión, o para la ejecución de trabajos artísticos que sólo puedan encomendarse a determinadas personas naturales;","El Contratista se obliga con el Fondo de Desarrollo Local a prestar sus servicios profesionales para apoyar técnicamente las distintas etapas de los procesos de competencia de la Inspecciones de Policía de la Localidad de Puente Aranda, según reparto, de acuerdo con los estudios previos.","Inversión","Bogotá Mejor para Todos",45,{"$f":"IF(ISERROR(VLOOKUP(K150,Eje_Pilar_Prop!$C$2:$E$104,2,FALSE)),\" \",VLOOKUP(K150,Eje_Pilar_Prop!$C$2:$E$104,2,FALSE))","v":"Gobernanza e influencia local, regional e internacional"},{"$f":"IF(ISERROR(VLOOKUP(K150,Eje_Pilar_Prop!$C$2:$E$104,3,FALSE)),\" \",VLOOKUP(K150,Eje_Pilar_Prop!$C$2:$E$104,3,FALSE))","v":"Eje Transversal 4 Gobierno Legitimo, Fortalecimiento Local y Eficiencia"},"3-3-1-15-07- 45-1312-000 ",53907315,"BEATRIZ HELENA PEREZ PARRA",33000000,null,null,1,2200000,35200000,null,"2020-06-18","2020-06-19","2020-12-18",180,null,null,null,null,null,null,null,"X",null,null,0,null,{"$f":"IF(SUMPRODUCT((A$14:A150=A150)*(B$14:B150=B150)*(D$14:D150=D150))>1,0,1)","v":1},"Contratos de prestación de servicios profesionales y de apoyo a la gestión","Contratación directa",{"$f":"IF(ISBLANK(G150),1,IFERROR(VLOOKUP(G150,Tipo!$C$12:$C$27,1,FALSE),\"NO\"))","v":"Prestación de servicios profesionales y de apoyo a la gestión, o para la ejecución de trabajos artísticos que sólo puedan encomendarse a determinadas personas naturales;"},"Inversión",{"$f":"IF(ISBLANK(K150),1,IFERROR(VLOOKUP(K150,Eje_Pilar_Prop!C132:C233,1,FALSE),\"NO\"))","v":"NO"},"SECOP II",1,"Bogotá Mejor para Todos"]
[138,2020,"SECOP II","ALPA-CD-138-2020","Contratos de prestación de servicios profesionales y de apoyo a la gestión","Contratación directa","Prestación de servicios profesionales y de apoyo a la gestión, o para la ejecución de trabajos artísticos que sólo puedan encomendarse a determinadas personas naturales;","Prestar los servicios profesionales para la operacion, prestacion, seguimiento y cumplimiento de los procedimientos administrativos, operatives y programaticos del Servicio Apoyo Economico Tipo C, que contribuyan a la garantia de los derechos de la poblacion mayor en el marco de la Politica Publica Social para el Envejecimiento y la Vejez en el Distrito Capital a cargo de la Alcaldia Local, de acuerdo con los estudios previos","Inversión","Bogotá Mejor para Todos",45,{"$f":"IF(ISERROR(VLOOKUP(K151,Eje_Pilar_Prop!$C$2:$E$104,2,FALSE)),\" \",VLOOKUP(K151,Eje_Pilar_Prop!$C$2:$E$104,2,FALSE))","v":"Gobernanza e influencia local, regional e internacional"},{"$f":"IF(ISERROR(VLOOKUP(K151,Eje_Pilar_Prop!$C$2:$E$104,3,FALSE)),\" \",VLOOKUP(K151,Eje_Pilar_Prop!$C$2:$E$104,3,FALSE))","v":"Eje Transversal 4 Gobierno Legitimo, Fortalecimiento Local y Eficiencia"},"3-3-1 -15-01 -03-1286-000 ",45563522,"JEIMY PAOLA RAMIREZ VILLAMIL",28200000,null,null,1,5953333,34153333,null,"2020-06-18","2020-06-23","22/12//2020",180,1,38,null,null,null,null,null,"X",null,null,0,null,{"$f":"IF(SUMPRODUCT((A$14:A151=A151)*(B$14:B151=B151)*(D$14:D151=D151))>1,0,1)","v":1},"Contratos de prestación de servicios profesionales y de apoyo a la gestión","Contratación directa",{"$f":"IF(ISBLANK(G151),1,IFERROR(VLOOKUP(G151,Tipo!$C$12:$C$27,1,FALSE),\"NO\"))","v":"Prestación de servicios profesionales y de apoyo a la gestión, o para la ejecución de trabajos artísticos que sólo puedan encomendarse a determinadas personas naturales;"},"Inversión",{"$f":"IF(ISBLANK(K151),1,IFERROR(VLOOKUP(K151,Eje_Pilar_Prop!C133:C234,1,FALSE),\"NO\"))","v":"NO"},"SECOP II",1,"Bogotá Mejor para Todos"]
[139,2020,"SECOP II","ALPA-CD-139-2020","Contratos de prestación de servicios profesionales y de apoyo a la gestión","Contratación directa","Prestación de servicios profesionales y de apoyo a la gestión, o para la ejecución de trabajos artísticos que sólo puedan encomendarse a determinadas personas naturales;","Prestar los servicios profesionales para la operacion, prestacion, seguimiento y cumplimiento de los procedimientos administrativos, operatives y programaticos del Servicio Apoyo Economico Tipo C, que contribuyan a la garantia de los derechos de la poblacion mayor en el marco de la Politica Publica Social para el Envejecimiento y la Vejez en el Distrito Capital a cargo de la Alcaldia Local, de acuerdo con los estudios previos","Inversión","Bogotá Mejor para Todos",45,{"$f":"IF(ISERROR(VLOOKUP(K152,Eje_Pilar_Prop!$C$2:$E$104,2,FALSE)),\" \",VLOOKUP(K152,Eje_Pilar_Prop!$C$2:$E$104,2,FALSE))","v":"Gobernanza e influencia local, regional e internacional"},{"$f":"IF(ISERROR(VLOOKUP(K152,Eje_Pilar_Prop!$C$2:$E$104,3,FALSE)),\" \",VLOOKUP(K152,Eje_Pilar_Prop!$C$2:$E$104,3,FALSE))","v":"Eje Transversal 4 Gobierno Legitimo, Fortalecimiento Local y Eficiencia"},"3-3-1 -15-01 -03-1286-000 ",80054462,"WILLIAM VENTURA PADILLA GONZALEZ ",28200000,null,null,1,5953333,34153333,null,"2020-06-18","2020-06-23","2020-12-22",180,1,38,null,null,null,null,null,"X",null,null,0,null,{"$f":"IF(SUMPRODUCT((A$14:A152=A152)*(B$14:B152=B152)*(D$14:D152=D152))>1,0,1)","v":1},{"$f":"IF(ISBLANK(E152),1,IFERROR(VLOOKUP(E152,tipo,1,FALSE),\"NO\"))","v":"Contratos de prestación de servicios profesionales y de apoyo a la gestión"},{"$f":"IF(ISBLANK(F152),1,IFERROR(VLOOKUP(F152,modal,1,FALSE),\"NO\"))","v":"Contratación directa"},{"$f":"IF(ISBLANK(G152),1,IFERROR(VLOOKUP(G152,Tipo!$C$12:$C$27,1,FALSE),\"NO\"))","v":"Prestación de servicios profesionales y de apoyo a la gestión, o para la ejecución de trabajos artísticos que sólo puedan encomendarse a determinadas personas naturales;"},{"$f":"IF(ISBLANK(I152),1,IFERROR(VLOOKUP(I152,afectacion,1,FALSE),\"NO\"))","v":"Inversión"},{"$f":"IF(ISBLANK(K152),1,IFERROR(VLOOKUP(K152,Eje_Pilar_Prop!C134:C235,1,FALSE),\"NO\"))","v":"NO"},"SECOP II",1,"Bogotá Mejor para Todos"]
[140,2020,"SECOP II","ALPA-CD-140-2020","Contratos de prestación de servicios profesionales y de apoyo a la gestión","Contratación directa","Prestación de servicios profesionales y de apoyo a la gestión, o para la ejecución de trabajos artísticos que sólo puedan encomendarse a determinadas personas naturales;","El Contratista se obliga con el Fondo de Desarrollo Local de la Alcaldia Local de Puente Aranda a prestar el servicio de conduccion para los vehiculos propiedad del Fondo de Desarrollo Local y los que se le asignen, de conformidad con los estudios previos”","Inversión","Bogotá Mejor para Todos",45,{"$f":"IF(ISERROR(VLOOKUP(K153,Eje_Pilar_Prop!$C$2:$E$104,2,FALSE)),\" \",VLOOKUP(K153,Eje_Pilar_Prop!$C$2:$E$104,2,FALSE))","v":"Gobernanza e influencia local, regional e internacional"},{"$f":"IF(ISERROR(VLOOKUP(K153,Eje_Pilar_Prop!$C$2:$E$104,3,FALSE)),\" \",VLOOKUP(K153,Eje_Pilar_Prop!$C$2:$E$104,3,FALSE))","v":"Eje Transversal 4 Gobierno Legitimo, Fortalecimiento Local y Eficiencia"},"3-3-1-15-07- 45-1312-000 ",79330054,"FERNANDO PEREZ BEDOYA ",15000000,null,null,1,3500000,18500000,null,"2020-06-18","2020-06-19","2020-12-18",180,1,42,null,null,null,null,null,"X",null,null,0,null,{"$f":"IF(SUMPRODUCT((A$14:A153=A153)*(B$14:B153=B153)*(D$14:D153=D153))>1,0,1)","v":1},"Contratos de prestación de servicios profesionales y de apoyo a la gestión","Contratación directa",{"$f":"IF(ISBLANK(G153),1,IFERROR(VLOOKUP(G153,Tipo!$C$12:$C$27,1,FALSE),\"NO\"))","v":"Prestación de servicios profesionales y de apoyo a la gestión, o para la ejecución de trabajos artísticos que sólo puedan encomendarse a determinadas personas naturales;"},"Inversión",{"$f":"IF(ISBLANK(K153),1,IFERROR(VLOOKUP(K153,Eje_Pilar_Prop!C135:C236,1,FALSE),\"NO\"))","v":"NO"},"SECOP II",1,"Bogotá Mejor para Todos"]
[141,2020,"SECOP II","ALPA-CD-141-2020","Contratos de prestación de servicios profesionales y de apoyo a la gestión","Contratación directa","Prestación de servicios profesionales y de apoyo a la gestión, o para la ejecución de trabajos artísticos que sólo puedan encomendarse a determinadas personas naturales;","El contratista se obliga con el Fondo de Desarrollo Local de la Alcaldia de Puente Aranda a prestar sus servicios profesionales para: Apoyar juridicamente la ejecucion de las acciones requeridas para la depuracion de las actuaciones administrativas que cursan en la Alcaldia Local","Inversión","Bogotá Mejor para Todos",45,{"$f":"IF(ISERROR(VLOOKUP(K154,Eje_Pilar_Prop!$C$2:$E$104,2,FALSE)),\" \",VLOOKUP(K154,Eje_Pilar_Prop!$C$2:$E$104,2,FALSE))","v":"Gobernanza e influencia local, regional e internacional"},{"$f":"IF(ISERROR(VLOOKUP(K154,Eje_Pilar_Prop!$C$2:$E$104,3,FALSE)),\" \",VLOOKUP(K154,Eje_Pilar_Prop!$C$2:$E$104,3,FALSE))","v":"Eje Transversal 4 Gobierno Legitimo, Fortalecimiento Local y Eficiencia"},"3-3-1-15-07- 45-1312-000 ",1013588626,"CAMILO AUGUSTO GONZALEZ RODRIGUEZ ",28200000,null,null,1,1880000,30080000,25380000,"2020-06-18","2020-06-19","2020-12-18",180,1,12,null,null,null,null,null,null,"X",null,0.84375,null,{"$f":"IF(SUMPRODUCT((A$14:A154=A154)*(B$14:B154=B154)*(D$14:D154=D154))>1,0,1)","v":1},"Contratos de prestación de servicios profesionales y de apoyo a la gestión","Contratación directa",{"$f":"IF(ISBLANK(G154),1,IFERROR(VLOOKUP(G154,Tipo!$C$12:$C$27,1,FALSE),\"NO\"))","v":"Prestación de servicios profesionales y de apoyo a la gestión, o para la ejecución de trabajos artísticos que sólo puedan encomendarse a determinadas personas naturales;"},"Inversión",{"$f":"IF(ISBLANK(K154),1,IFERROR(VLOOKUP(K154,Eje_Pilar_Prop!C136:C237,1,FALSE),\"NO\"))","v":"NO"},"SECOP II",1,"Bogotá Mejor para Todos"]
[142,2020,"SECOP II","ALPA-CD-142-2020","Contratos de prestación de servicios profesionales y de apoyo a la gestión","Contratación directa","Prestación de servicios profesionales y de apoyo a la gestión, o para la ejecución de trabajos artísticos que sólo puedan encomendarse a determinadas personas naturales;","El Contratista se obliga con el Fondo de Desarrollo Local de la Alcaldia Local de Puente Aranda a prestar el servicio de conduccion para los vehiculos propiedad del Fondo de Desarrollo Local y los que se le asignen, de conformidad con los estudios previos","Inversión","Bogotá Mejor para Todos",45,{"$f":"IF(ISERROR(VLOOKUP(K155,Eje_Pilar_Prop!$C$2:$E$104,2,FALSE)),\" \",VLOOKUP(K155,Eje_Pilar_Prop!$C$2:$E$104,2,FALSE))","v":"Gobernanza e influencia local, regional e internacional"},{"$f":"IF(ISERROR(VLOOKUP(K155,Eje_Pilar_Prop!$C$2:$E$104,3,FALSE)),\" \",VLOOKUP(K155,Eje_Pilar_Prop!$C$2:$E$104,3,FALSE))","v":"Eje Transversal 4 Gobierno Legitimo, Fortalecimiento Local y Eficiencia"},"3-3-1-15-07- 45-1312-000 ",79744841,"EDGAR BUSTOS BARON",15000000,null,null,1,1000000,16000000,13500000,"2020-06-18","2020-06-19","2020-12-18",180,1,12,null,null,null,null,null,null,"X",null,0.84375,null,{"$f":"IF(SUMPRODUCT((A$14:A155=A155)*(B$14:B155=B155)*(D$14:D155=D155))>1,0,1)","v":1},"Contratos de prestación de servicios profesionales y de apoyo a la gestión","Contratación directa",{"$f":"IF(ISBLANK(G155),1,IFERROR(VLOOKUP(G155,Tipo!$C$12:$C$27,1,FALSE),\"NO\"))","v":"Prestación de servicios profesionales y de apoyo a la gestión, o para la ejecución de trabajos artísticos que sólo puedan encomendarse a determinadas personas naturales;"},"Inversión",{"$f":"IF(ISBLANK(K155),1,IFERROR(VLOOKUP(K155,Eje_Pilar_Prop!C137:C238,1,FALSE),\"NO\"))","v":"NO"},"SECOP II",1,"Bogotá Mejor para Todos"]
[143,2020,"SECOP II","ALPA-CD-143-2020","Contratos de prestación de servicios profesionales y de apoyo a la gestión","Contratación directa","Prestación de servicios profesionales y de apoyo a la gestión, o para la ejecución de trabajos artísticos que sólo puedan encomendarse a determinadas personas naturales;","Prestar los servicios profesionales en el Area de Gestión del Desarrollo Local de la Alcaldía de Puente Aranda para realizar el seguimiento y apoyar los procesos tendientes a lograr el cumplimiento de las metas del plan de desarrollo local y la ejecución de los proyectos de inversión previstos para la vigencia.","Inversión","Bogotá Mejor para Todos",45,{"$f":"IF(ISERROR(VLOOKUP(K156,Eje_Pilar_Prop!$C$2:$E$104,2,FALSE)),\" \",VLOOKUP(K156,Eje_Pilar_Prop!$C$2:$E$104,2,FALSE))","v":"Gobernanza e influencia local, regional e internacional"},{"$f":"IF(ISERROR(VLOOKUP(K156,Eje_Pilar_Prop!$C$2:$E$104,3,FALSE)),\" \",VLOOKUP(K156,Eje_Pilar_Prop!$C$2:$E$104,3,FALSE))","v":"Eje Transversal 4 Gobierno Legitimo, Fortalecimiento Local y Eficiencia"},"3-3-1-15-07- 45-1312-000 ",79593478,"RICHARD ALEXANDER ROMO GUACAS",33000000,null,null,1,7700000,40700000,null,"2020-06-18","2020-06-19","2020-12-18",180,1,42,null,null,null,null,null,"X",null,null,0,null,{"$f":"IF(SUMPRODUCT((A$14:A156=A156)*(B$14:B156=B156)*(D$14:D156=D156))>1,0,1)","v":1},"Contratos de prestación de servicios profesionales y de apoyo a la gestión","Contratación directa",{"$f":"IF(ISBLANK(G156),1,IFERROR(VLOOKUP(G156,Tipo!$C$12:$C$27,1,FALSE),\"NO\"))","v":"Prestación de servicios profesionales y de apoyo a la gestión, o para la ejecución de trabajos artísticos que sólo puedan encomendarse a determinadas personas naturales;"},"Inversión",{"$f":"IF(ISBLANK(K156),1,IFERROR(VLOOKUP(K156,Eje_Pilar_Prop!C138:C239,1,FALSE),\"NO\"))","v":"NO"},"SECOP II",{"$f":"IF(OR(YEAR(X156)=2020,ISBLANK(X156)),1,\"NO\")","v":1},"Bogotá Mejor para Todos"]
[144,2020,"SECOP II","ALPA-CD-144-2020","Contratos de prestación de servicios profesionales y de apoyo a la gestión","Contratación directa","Prestación de servicios profesionales y de apoyo a la gestión, o para la ejecución de trabajos artísticos que sólo puedan encomendarse a determinadas personas naturales;","El contratista se obliga con el Fondo de Desarrollo Local de la Alcaldia de Puente Aranda a prestar sus servicios profesionales para: Apoyar jurldicamente la ejecucion de las acciones requeridas para la depuracion de las actuaciones administrativas que cursan en la Alcaldia Local","Inversión","Bogotá Mejor para Todos",45,{"$f":"IF(ISERROR(VLOOKUP(K157,Eje_Pilar_Prop!$C$2:$E$104,2,FALSE)),\" \",VLOOKUP(K157,Eje_Pilar_Prop!$C$2:$E$104,2,FALSE))","v":"Gobernanza e influencia local, regional e internacional"},{"$f":"IF(ISERROR(VLOOKUP(K157,Eje_Pilar_Prop!$C$2:$E$104,3,FALSE)),\" \",VLOOKUP(K157,Eje_Pilar_Prop!$C$2:$E$104,3,FALSE))","v":"Eje Transversal 4 Gobierno Legitimo, Fortalecimiento Local y Eficiencia"},"3-3-1-15-07- 45-1312-000 ",79756697,"ALIRIO HUMBERTO LOZANO ROMERO",28200000,null,null,1,5796667,33996667,null,"2020-06-23","2020-06-24","2020-12-23",180,1,37,null,null,null,null,null,"X",null,null,0,null,{"$f":"IF(SUMPRODUCT((A$14:A157=A157)*(B$14:B157=B157)*(D$14:D157=D157))>1,0,1)","v":1},"Contratos de prestación de servicios profesionales y de apoyo a la gestión","Contratación directa",{"$f":"IF(ISBLANK(G157),1,IFERROR(VLOOKUP(G157,Tipo!$C$12:$C$27,1,FALSE),\"NO\"))","v":"Prestación de servicios profesionales y de apoyo a la gestión, o para la ejecución de trabajos artísticos que sólo puedan encomendarse a determinadas personas naturales;"},"Inversión",{"$f":"IF(ISBLANK(K157),1,IFERROR(VLOOKUP(K157,Eje_Pilar_Prop!C139:C240,1,FALSE),\"NO\"))","v":"NO"},"SECOP II",1,"Bogotá Mejor para Todos"]
[145,2020,"SECOP II","ALPA-CD-145-2020","Contratos de prestación de servicios profesionales y de apoyo a la gestión","Contratación directa","Prestación de servicios profesionales y de apoyo a la gestión, o para la ejecución de trabajos artísticos que sólo puedan encomendarse a determinadas personas naturales;","El contratista se obliga con el Fondo de Desarrollo Local de la Alcaldia de Puente Aranda a prestar sus servicios profesionales para: Apoyar juridicamente la ejecucion de las acciones requeridas para la depuracion de las actuaciones administrativas que cursan en la Alcaldia Local","Inversión","Bogotá Mejor para Todos",45,{"$f":"IF(ISERROR(VLOOKUP(K158,Eje_Pilar_Prop!$C$2:$E$104,2,FALSE)),\" \",VLOOKUP(K158,Eje_Pilar_Prop!$C$2:$E$104,2,FALSE))","v":"Gobernanza e influencia local, regional e internacional"},{"$f":"IF(ISERROR(VLOOKUP(K158,Eje_Pilar_Prop!$C$2:$E$104,3,FALSE)),\" \",VLOOKUP(K158,Eje_Pilar_Prop!$C$2:$E$104,3,FALSE))","v":"Eje Transversal 4 Gobierno Legitimo, Fortalecimiento Local y Eficiencia"},"3-3-1-15-07- 45-1312-000 ",80741873,"WILLIAM FERNEY MARTINEZ VASQUEZ",28200000,null,null,1,5640000,33840000,null,"2020-06-23","2020-06-25","2020-12-24",180,null,null,null,null,null,null,null,null,"X",null,{"$f":"IF(ISERROR(W158/V158),\"-\",(W158/V158))","v":0},null,{"$f":"IF(SUMPRODUCT((A$14:A158=A158)*(B$14:B158=B158)*(D$14:D158=D158))>1,0,1)","v":1},"Contratos de prestación de servicios profesionales y de apoyo a la gestión","Contratación directa",{"$f":"IF(ISBLANK(G158),1,IFERROR(VLOOKUP(G158,Tipo!$C$12:$C$27,1,FALSE),\"NO\"))","v":"Prestación de servicios profesionales y de apoyo a la gestión, o para la ejecución de trabajos artísticos que sólo puedan encomendarse a determinadas personas naturales;"},"Inversión",{"$f":"IF(ISBLANK(K158),1,IFERROR(VLOOKUP(K158,Eje_Pilar_Prop!C140:C241,1,FALSE),\"NO\"))","v":"NO"},"SECOP II",1,"Bogotá Mejor para Todos"]
[146,2020,"SECOP II","ALPA-CD-146-2020","Contratos de prestación de servicios profesionales y de apoyo a la gestión","Contratación directa","Prestación de servicios profesionales y de apoyo a la gestión, o para la ejecución de trabajos artísticos que sólo puedan encomendarse a determinadas personas naturales;","El contrato que se pretende celebrar, tendra por objeto La prestacion de servicios de Apoyo a la Gestion al area Administrativa y Finanzas del Fondo de Desarrollo Local de Puente Aranda, de acuerdo con los estudios previos","Inversión","Bogotá Mejor para Todos",45,{"$f":"IF(ISERROR(VLOOKUP(K159,Eje_Pilar_Prop!$C$2:$E$104,2,FALSE)),\" \",VLOOKUP(K159,Eje_Pilar_Prop!$C$2:$E$104,2,FALSE))","v":"Gobernanza e influencia local, regional e internacional"},{"$f":"IF(ISERROR(VLOOKUP(K159,Eje_Pilar_Prop!$C$2:$E$104,3,FALSE)),\" \",VLOOKUP(K159,Eje_Pilar_Prop!$C$2:$E$104,3,FALSE))","v":"Eje Transversal 4 Gobierno Legitimo, Fortalecimiento Local y Eficiencia"},"3-3-1-15-07- 45-1312-000 ",1030542144,"EDUARDO ANDRES SALAZAR CARRILLO",14500000,null,null,1,4930000,{"$f":"+Q159+S159+U159","v":19430000},null,"2020-06-24","2020-06-25","2020-11-24",150,1,51,null,null,null,null,null,null,"X",null,0,null,{"$f":"IF(SUMPRODUCT((A$14:A159=A159)*(B$14:B159=B159)*(D$14:D159=D159))>1,0,1)","v":1},"Contratos de prestación de servicios profesionales y de apoyo a la gestión","Contratación directa",{"$f":"IF(ISBLANK(G159),1,IFERROR(VLOOKUP(G159,Tipo!$C$12:$C$27,1,FALSE),\"NO\"))","v":"Prestación de servicios profesionales y de apoyo a la gestión, o para la ejecución de trabajos artísticos que sólo puedan encomendarse a determinadas personas naturales;"},"Inversión",{"$f":"IF(ISBLANK(K159),1,IFERROR(VLOOKUP(K159,Eje_Pilar_Prop!C141:C242,1,FALSE),\"NO\"))","v":"NO"},"SECOP II",1,"Bogotá Mejor para Todos"]
[147,2020,"SECOP I","ALPA-CD-147-2020","Contratos interadministrativos","Contratación directa","Contratos interadministrativos","PROVEER UNA PLATAFORMA VIRTUAL Y SERVICIOS TECNOLOGICOS NECESARIOS A LOS FONDOS DE DESARROLLO LOCAL, EN LA REALIZACIÓN DE LAS ASAMBLEAS, EVENTOS Y FOROS DIGITALES, EN EL MARCO DE LOS ENCUENTROS CIUDADANOS Y PRESUPUESTOS PARTICIPATIVOS, DE ACUERDO CON LOS LINEAMIENTOS ESTRATÉGICOS QUE DETERMINEN LOS FDL.","Inversión","Bogotá Mejor para Todos",45,{"$f":"IF(ISERROR(VLOOKUP(K160,Eje_Pilar_Prop!$C$2:$E$104,2,FALSE)),\" \",VLOOKUP(K160,Eje_Pilar_Prop!$C$2:$E$104,2,FALSE))","v":"Gobernanza e influencia local, regional e internacional"},{"$f":"IF(ISERROR(VLOOKUP(K160,Eje_Pilar_Prop!$C$2:$E$104,3,FALSE)),\" \",VLOOKUP(K160,Eje_Pilar_Prop!$C$2:$E$104,3,FALSE))","v":"Eje Transversal 4 Gobierno Legitimo, Fortalecimiento Local y Eficiencia"},"3-3-1-15-07-45-1289-000 "," 899999115","EMPRESA DE TELECOMUNICACIONES DE BOGOTÁ SA ESP",19782744,null,null,null,null,19782744,null,"2020-06-20","2020-07-03","2020-07-31",29,null,null,null,null,null,null,null,null,"X",null,0,null,{"$f":"IF(SUMPRODUCT((A$14:A160=A160)*(B$14:B160=B160)*(D$14:D160=D160))>1,0,1)","v":1},"Contratos interadministrativos","Contratación directa",{"$f":"IF(ISBLANK(G160),1,IFERROR(VLOOKUP(G160,Tipo!$C$12:$C$27,1,FALSE),\"NO\"))","v":"Contratos interadministrativos"},"Inversión",{"$f":"IF(ISBLANK(K160),1,IFERROR(VLOOKUP(K160,Eje_Pilar_Prop!C142:C243,1,FALSE),\"NO\"))","v":"NO"},"SECOP I",1,"Bogotá Mejor para Todos"]
[148,2020,"SECOP II","ALPA-CD-148-2020","Contratos de prestación de servicios profesionales y de apoyo a la gestión","Contratación directa","Prestación de servicios profesionales y de apoyo a la gestión, o para la ejecución de trabajos artísticos que sólo puedan encomendarse a determinadas personas naturales;","El contratista se obliga con el Fondo de Desarrollo Local de Puente Aranda a prestar los servicios profesionales requeridos para apoyar la formulacion, proceso de contratacion, evaluacion y seguimiento de proyectos incluidos en el Plan de Desarrollo Local vigente, asi como la liquidacion de los contratos suscritos para su ejecucion, para asegurar la adecuada inversion de recursos locales y el cumplimiento de las metas del mismo, de acuerdo con estudios previos.","Inversión","Bogotá Mejor para Todos",45,{"$f":"IF(ISERROR(VLOOKUP(K161,Eje_Pilar_Prop!$C$2:$E$104,2,FALSE)),\" \",VLOOKUP(K161,Eje_Pilar_Prop!$C$2:$E$104,2,FALSE))","v":"Gobernanza e influencia local, regional e internacional"},{"$f":"IF(ISERROR(VLOOKUP(K161,Eje_Pilar_Prop!$C$2:$E$104,3,FALSE)),\" \",VLOOKUP(K161,Eje_Pilar_Prop!$C$2:$E$104,3,FALSE))","v":"Eje Transversal 4 Gobierno Legitimo, Fortalecimiento Local y Eficiencia"},"3-3-1-15-07- 45-1312-000 ",80097302,"RODOLFO JOYA FORERO",28200000,null,null,null,null,28200000,null,"2020-06-24","2020-06-30","2020-12-29",180,null,null,null,null,null,null,null,null,"X",null,0,null,{"$f":"IF(SUMPRODUCT((A$14:A161=A161)*(B$14:B161=B161)*(D$14:D161=D161))>1,0,1)","v":1},"Contratos de prestación de servicios profesionales y de apoyo a la gestión","Contratación directa",{"$f":"IF(ISBLANK(G161),1,IFERROR(VLOOKUP(G161,Tipo!$C$12:$C$27,1,FALSE),\"NO\"))","v":"Prestación de servicios profesionales y de apoyo a la gestión, o para la ejecución de trabajos artísticos que sólo puedan encomendarse a determinadas personas naturales;"},"Inversión",{"$f":"IF(ISBLANK(K161),1,IFERROR(VLOOKUP(K161,Eje_Pilar_Prop!C143:C244,1,FALSE),\"NO\"))","v":"NO"},"SECOP II",1,"Bogotá Mejor para Todos"]
[149,2020,"SECOP II","ALPA-CD-149-2020","Contratos de prestación de servicios profesionales y de apoyo a la gestión","Contratación directa","Prestación de servicios profesionales y de apoyo a la gestión, o para la ejecución de trabajos artísticos que sólo puedan encomendarse a determinadas personas naturales;","El contratista se obliga con el Fondo de Desarrollo Local de la Alcaldia de Puente Aranda a prestar sus servicios profesionales para: Apoyar juridicamente la ejecucion de las acciones requeridas para la depuracion de las actuaciones administrativas que cursan en la Alcaldia Local","Inversión","Bogotá Mejor para Todos",45,{"$f":"IF(ISERROR(VLOOKUP(K162,Eje_Pilar_Prop!$C$2:$E$104,2,FALSE)),\" \",VLOOKUP(K162,Eje_Pilar_Prop!$C$2:$E$104,2,FALSE))","v":"Gobernanza e influencia local, regional e internacional"},{"$f":"IF(ISERROR(VLOOKUP(K162,Eje_Pilar_Prop!$C$2:$E$104,3,FALSE)),\" \",VLOOKUP(K162,Eje_Pilar_Prop!$C$2:$E$104,3,FALSE))","v":"Eje Transversal 4 Gobierno Legitimo, Fortalecimiento Local y Eficiencia"},"3-3-1-15-07- 45-1312-000 ",1013583600,"ABRAHAM PEREZ ROMERO",28200000,null,null,null,null,28200000,null,"2020-06-26","2020-06-30","2020-12-29",180,null,null,null,null,null,null,null,null,"X",null,0,null,{"$f":"IF(SUMPRODUCT((A$14:A162=A162)*(B$14:B162=B162)*(D$14:D162=D162))>1,0,1)","v":1},"Contratos de prestación de servicios profesionales y de apoyo a la gestión","Contratación directa",{"$f":"IF(ISBLANK(G162),1,IFERROR(VLOOKUP(G162,Tipo!$C$12:$C$27,1,FALSE),\"NO\"))","v":"Prestación de servicios profesionales y de apoyo a la gestión, o para la ejecución de trabajos artísticos que sólo puedan encomendarse a determinadas personas naturales;"},"Inversión",{"$f":"IF(ISBLANK(K162),1,IFERROR(VLOOKUP(K162,Eje_Pilar_Prop!C144:C245,1,FALSE),\"NO\"))","v":"NO"},"SECOP II",1,"Bogotá Mejor para Todos"]
[150,2020,"SECOP II","ALPA-CD-150-2020","Contratos de prestación de servicios profesionales y de apoyo a la gestión","Contratación directa","Prestación de servicios profesionales y de apoyo a la gestión, o para la ejecución de trabajos artísticos que sólo puedan encomendarse a determinadas personas naturales;","El contrato que se pretende celebrar, tendra por objeto El contratista se obliga con el Fondo de Desarrollo Local de Puente Aranda a apoyar administrativa y asistencialmente a las Inspecciones de Policia de la Localidad. ","Inversión","Bogotá Mejor para Todos",45,{"$f":"IF(ISERROR(VLOOKUP(K163,Eje_Pilar_Prop!$C$2:$E$104,2,FALSE)),\" \",VLOOKUP(K163,Eje_Pilar_Prop!$C$2:$E$104,2,FALSE))","v":"Gobernanza e influencia local, regional e internacional"},{"$f":"IF(ISERROR(VLOOKUP(K163,Eje_Pilar_Prop!$C$2:$E$104,3,FALSE)),\" \",VLOOKUP(K163,Eje_Pilar_Prop!$C$2:$E$104,3,FALSE))","v":"Eje Transversal 4 Gobierno Legitimo, Fortalecimiento Local y Eficiencia"},"3-3-1-15-07- 45-1312-000 ",80725691,"JONATHAN HURTADO RINCON",15000000,null,null,1,2500000,17500000,null,"2020-06-30","2020-07-01","2020-12-30",180,1,30,null,null,null,null,null,"X",null,null,0,null,{"$f":"IF(SUMPRODUCT((A$14:A163=A163)*(B$14:B163=B163)*(D$14:D163=D163))>1,0,1)","v":1},"Contratos de prestación de servicios profesionales y de apoyo a la gestión","Contratación directa",{"$f":"IF(ISBLANK(G163),1,IFERROR(VLOOKUP(G163,Tipo!$C$12:$C$27,1,FALSE),\"NO\"))","v":"Prestación de servicios profesionales y de apoyo a la gestión, o para la ejecución de trabajos artísticos que sólo puedan encomendarse a determinadas personas naturales;"},"Inversión",{"$f":"IF(ISBLANK(K163),1,IFERROR(VLOOKUP(K163,Eje_Pilar_Prop!C145:C246,1,FALSE),\"NO\"))","v":"NO"},"SECOP II",1,"Bogotá Mejor para Todos"]
[151,2020,"SECOP II","ALPA-CD-151-2020","Contratos de prestación de servicios profesionales y de apoyo a la gestión","Contratación directa","Prestación de servicios profesionales y de apoyo a la gestión, o para la ejecución de trabajos artísticos que sólo puedan encomendarse a determinadas personas naturales;","El contratista se obliga con el Fondo de Desarrollo Local de Puente Aranda a prestar los servicios profesionales requeridos para apoyar la formulación, proceso de contratación, evaluación y seguimiento de proyectos incluidos en el Plan de Desarrollo Local vigente así como liquidación de los contratos suscritos para su ejecución, para asegurar la adecuada inversión de recursos locales y el cumplimiento de las metas del mismo, en lo referente al proyecto 1291, \"CONSTRUCCIÓN Y ADECUACIÓN DE PARQUES","Inversión","Bogotá Mejor para Todos",45,{"$f":"IF(ISERROR(VLOOKUP(K164,Eje_Pilar_Prop!$C$2:$E$104,2,FALSE)),\" \",VLOOKUP(K164,Eje_Pilar_Prop!$C$2:$E$104,2,FALSE))","v":"Gobernanza e influencia local, regional e internacional"},{"$f":"IF(ISERROR(VLOOKUP(K164,Eje_Pilar_Prop!$C$2:$E$104,3,FALSE)),\" \",VLOOKUP(K164,Eje_Pilar_Prop!$C$2:$E$104,3,FALSE))","v":"Eje Transversal 4 Gobierno Legitimo, Fortalecimiento Local y Eficiencia"},"3-3-1-15-02-17-1291-000 ",79344520,"HERNAN GOMEZ ESPITIA",28200000,null,null,null,null,28200000,null,"2020-06-25","2020-06-30","2020-12-29",180,null,null,null,null,null,null,null,null,"X",null,0,null,{"$f":"IF(SUMPRODUCT((A$14:A164=A164)*(B$14:B164=B164)*(D$14:D164=D164))>1,0,1)","v":1},"Contratos de prestación de servicios profesionales y de apoyo a la gestión","Contratación directa",{"$f":"IF(ISBLANK(G164),1,IFERROR(VLOOKUP(G164,Tipo!$C$12:$C$27,1,FALSE),\"NO\"))","v":"Prestación de servicios profesionales y de apoyo a la gestión, o para la ejecución de trabajos artísticos que sólo puedan encomendarse a determinadas personas naturales;"},"Inversión",{"$f":"IF(ISBLANK(K164),1,IFERROR(VLOOKUP(K164,Eje_Pilar_Prop!C146:C247,1,FALSE),\"NO\"))","v":"NO"},"SECOP II",1,"Bogotá Mejor para Todos"]
[152,2020,"SECOP II","ALPA-CD-152-2020","Contratos de prestación de servicios profesionales y de apoyo a la gestión","Contratación directa","Prestación de servicios profesionales y de apoyo a la gestión, o para la ejecución de trabajos artísticos que sólo puedan encomendarse a determinadas personas naturales;","El contratista se obliga con el Fondo de Desarrollo Local a prestar sus servicios en las tareas operativas de caracter archivistico desarrolladas en la Alcaldia Local para garantizar la aplicacion correcta de los procedimientos tecnicos, conforme los estudios previos","Inversión","Bogotá Mejor para Todos",45,{"$f":"IF(ISERROR(VLOOKUP(K165,Eje_Pilar_Prop!$C$2:$E$104,2,FALSE)),\" \",VLOOKUP(K165,Eje_Pilar_Prop!$C$2:$E$104,2,FALSE))","v":"Gobernanza e influencia local, regional e internacional"},{"$f":"IF(ISERROR(VLOOKUP(K165,Eje_Pilar_Prop!$C$2:$E$104,3,FALSE)),\" \",VLOOKUP(K165,Eje_Pilar_Prop!$C$2:$E$104,3,FALSE))","v":"Eje Transversal 4 Gobierno Legitimo, Fortalecimiento Local y Eficiencia"},"3-3-1-15-07- 45-1312-000 ",51694598,"MARÍA DEL TRÁNSITO AYALA GARCÍA ",15600000,null,null,1,3033333,18633333,null,"2020-06-25","2020-06-26","2020-12-25",180,1,35,null,null,null,null,null,"X",null,null,0,null,{"$f":"IF(SUMPRODUCT((A$14:A165=A165)*(B$14:B165=B165)*(D$14:D165=D165))>1,0,1)","v":1},"Contratos de prestación de servicios profesionales y de apoyo a la gestión","Contratación directa",{"$f":"IF(ISBLANK(G165),1,IFERROR(VLOOKUP(G165,Tipo!$C$12:$C$27,1,FALSE),\"NO\"))","v":"Prestación de servicios profesionales y de apoyo a la gestión, o para la ejecución de trabajos artísticos que sólo puedan encomendarse a determinadas personas naturales;"},"Inversión",{"$f":"IF(ISBLANK(K165),1,IFERROR(VLOOKUP(K165,Eje_Pilar_Prop!C147:C248,1,FALSE),\"NO\"))","v":"NO"},"SECOP II",1,"Bogotá Mejor para Todos"]
[153,2020,"SECOP II","ALPA-CD-153-2020","Contratos de prestación de servicios profesionales y de apoyo a la gestión","Contratación directa","Prestación de servicios profesionales y de apoyo a la gestión, o para la ejecución de trabajos artísticos que sólo puedan encomendarse a determinadas personas naturales;","El contratista se obliga con el Fondo de Desarrollo Local a prestar sus servicios en las tareas operativas de caracter archivistico desarrolladas en la Alcaldia Local para garantizar la aplicacion correcta de los procedimientos tecnicos, conforme los estudios previos","Inversión","Bogotá Mejor para Todos",45,{"$f":"IF(ISERROR(VLOOKUP(K166,Eje_Pilar_Prop!$C$2:$E$104,2,FALSE)),\" \",VLOOKUP(K166,Eje_Pilar_Prop!$C$2:$E$104,2,FALSE))","v":"Gobernanza e influencia local, regional e internacional"},{"$f":"IF(ISERROR(VLOOKUP(K166,Eje_Pilar_Prop!$C$2:$E$104,3,FALSE)),\" \",VLOOKUP(K166,Eje_Pilar_Prop!$C$2:$E$104,3,FALSE))","v":"Eje Transversal 4 Gobierno Legitimo, Fortalecimiento Local y Eficiencia"},"3-3-1-15-07- 45-1312-000 ",93356628,"JOSE VICENTE RAMIREZ QUEVEDO",15600000,null,null,1,3033333,18633333,null,"2020-06-25","2020-06-26","2020-12-25",180,1,35,null,null,null,null,null,"X",null,null,0,null,{"$f":"IF(SUMPRODUCT((A$14:A166=A166)*(B$14:B166=B166)*(D$14:D166=D166))>1,0,1)","v":1},"Contratos de prestación de servicios profesionales y de apoyo a la gestión","Contratación directa",{"$f":"IF(ISBLANK(G166),1,IFERROR(VLOOKUP(G166,Tipo!$C$12:$C$27,1,FALSE),\"NO\"))","v":"Prestación de servicios profesionales y de apoyo a la gestión, o para la ejecución de trabajos artísticos que sólo puedan encomendarse a determinadas personas naturales;"},"Inversión",{"$f":"IF(ISBLANK(K166),1,IFERROR(VLOOKUP(K166,Eje_Pilar_Prop!C148:C249,1,FALSE),\"NO\"))","v":"NO"},"SECOP II",1,"Bogotá Mejor para Todos"]
[154,2020,"SECOP II","ALPA-CD-154-2020","Contratos de prestación de servicios profesionales y de apoyo a la gestión","Contratación directa","Prestación de servicios profesionales y de apoyo a la gestión, o para la ejecución de trabajos artísticos que sólo puedan encomendarse a determinadas personas naturales;","El contratista se obliga con el Fondo de Desarrollo Local de Puente Aranda a prestar los servicios profesionales para apoyar al alcalde (sa) Local en la promocion, acompañamiento y atencion de las instancias de coordinacion interinstitucionales y las instancias de participacion locales, asi como los procesos comunitarios en la localidad, de acuerdo con los estudios previos","Inversión","Bogotá Mejor para Todos",45,{"$f":"IF(ISERROR(VLOOKUP(K167,Eje_Pilar_Prop!$C$2:$E$104,2,FALSE)),\" \",VLOOKUP(K167,Eje_Pilar_Prop!$C$2:$E$104,2,FALSE))","v":"Gobernanza e influencia local, regional e internacional"},{"$f":"IF(ISERROR(VLOOKUP(K167,Eje_Pilar_Prop!$C$2:$E$104,3,FALSE)),\" \",VLOOKUP(K167,Eje_Pilar_Prop!$C$2:$E$104,3,FALSE))","v":"Eje Transversal 4 Gobierno Legitimo, Fortalecimiento Local y Eficiencia"},"3-3-1-15-07-45-1289-00",52235499,"MARGIE CECILIA RODRIGUEZ LOZADA",28200000,null,null,1,5483333,33683333,null,"2020-06-26","2020-06-26","2020-12-25",180,1,35,null,null,null,null,null,"X",null,null,0,null,{"$f":"IF(SUMPRODUCT((A$14:A167=A167)*(B$14:B167=B167)*(D$14:D167=D167))>1,0,1)","v":1},"Contratos de prestación de servicios profesionales y de apoyo a la gestión","Contratación directa",{"$f":"IF(ISBLANK(G167),1,IFERROR(VLOOKUP(G167,Tipo!$C$12:$C$27,1,FALSE),\"NO\"))","v":"Prestación de servicios profesionales y de apoyo a la gestión, o para la ejecución de trabajos artísticos que sólo puedan encomendarse a determinadas personas naturales;"},"Inversión",{"$f":"IF(ISBLANK(K167),1,IFERROR(VLOOKUP(K167,Eje_Pilar_Prop!C149:C250,1,FALSE),\"NO\"))","v":"NO"},"SECOP II",1,"Bogotá Mejor para Todos"]
[155,2020,"SECOP II","ALPA-CD-155-2020","Contratos de prestación de servicios profesionales y de apoyo a la gestión","Contratación directa","Prestación de servicios profesionales y de apoyo a la gestión, o para la ejecución de trabajos artísticos que sólo puedan encomendarse a determinadas personas naturales;","El contratista se obliga con el Fondo de Desarrollo Local a prestar sus servicios como tecnico al area del Almacen del FDLPA en la realizacion de la verificacion fisica de inventarios y apoyo en el manejo y control del inventario de conformidad con los estudios previos","Inversión","Bogotá Mejor para Todos",45,{"$f":"IF(ISERROR(VLOOKUP(K168,Eje_Pilar_Prop!$C$2:$E$104,2,FALSE)),\" \",VLOOKUP(K168,Eje_Pilar_Prop!$C$2:$E$104,2,FALSE))","v":"Gobernanza e influencia local, regional e internacional"},{"$f":"IF(ISERROR(VLOOKUP(K168,Eje_Pilar_Prop!$C$2:$E$104,3,FALSE)),\" \",VLOOKUP(K168,Eje_Pilar_Prop!$C$2:$E$104,3,FALSE))","v":"Eje Transversal 4 Gobierno Legitimo, Fortalecimiento Local y Eficiencia"},"3-3-1-15-07- 45-1312-000 ",11052482,"OSCAR DANIEL PEREZ CUELLO",14500000,null,null,1,5800000,20300000,null,"2020-06-26","2020-06-30","2020-11-29",150,1,60,null,null,null,null,null,"X",null,null,0,null,{"$f":"IF(SUMPRODUCT((A$14:A168=A168)*(B$14:B168=B168)*(D$14:D168=D168))>1,0,1)","v":1},"Contratos de prestación de servicios profesionales y de apoyo a la gestión","Contratación directa",{"$f":"IF(ISBLANK(G168),1,IFERROR(VLOOKUP(G168,Tipo!$C$12:$C$27,1,FALSE),\"NO\"))","v":"Prestación de servicios profesionales y de apoyo a la gestión, o para la ejecución de trabajos artísticos que sólo puedan encomendarse a determinadas personas naturales;"},"Inversión",{"$f":"IF(ISBLANK(K168),1,IFERROR(VLOOKUP(K168,Eje_Pilar_Prop!C150:C251,1,FALSE),\"NO\"))","v":"NO"},"SECOP II",1,"Bogotá Mejor para Todos"]
[156,2020,"SECOP II","ALPA-CD-156-2020","Contratos de prestación de servicios profesionales y de apoyo a la gestión","Contratación directa","Prestación de servicios profesionales y de apoyo a la gestión, o para la ejecución de trabajos artísticos que sólo puedan encomendarse a determinadas personas naturales;","El contratista se obliga con el Fondo de Desarrollo Local a prestar sus servicios como tecnico al area del Almacen del FDLPA en la realizacion de la verificacion fisica de inventarios y apoyo en el manejo y control del inventario de conformidad con los estudios previ","Inversión","Bogotá Mejor para Todos",45,{"$f":"IF(ISERROR(VLOOKUP(K169,Eje_Pilar_Prop!$C$2:$E$104,2,FALSE)),\" \",VLOOKUP(K169,Eje_Pilar_Prop!$C$2:$E$104,2,FALSE))","v":"Gobernanza e influencia local, regional e internacional"},{"$f":"IF(ISERROR(VLOOKUP(K169,Eje_Pilar_Prop!$C$2:$E$104,3,FALSE)),\" \",VLOOKUP(K169,Eje_Pilar_Prop!$C$2:$E$104,3,FALSE))","v":"Eje Transversal 4 Gobierno Legitimo, Fortalecimiento Local y Eficiencia"},"3-3-1-15-07- 45-1312-000 ",79696458,"JOHN EDUARDO CHARRY ACOSTA",12500000,null,null,1,2500000,15000000,null,"2020-06-26","2020-06-30","2020-11-29",150,1,30,null,null,null,null,null,null,"X",null,0,null,{"$f":"IF(SUMPRODUCT((A$14:A169=A169)*(B$14:B169=B169)*(D$14:D169=D169))>1,0,1)","v":1},"Contratos de prestación de servicios profesionales y de apoyo a la gestión","Contratación directa",{"$f":"IF(ISBLANK(G169),1,IFERROR(VLOOKUP(G169,Tipo!$C$12:$C$27,1,FALSE),\"NO\"))","v":"Prestación de servicios profesionales y de apoyo a la gestión, o para la ejecución de trabajos artísticos que sólo puedan encomendarse a determinadas personas naturales;"},"Inversión",{"$f":"IF(ISBLANK(K169),1,IFERROR(VLOOKUP(K169,Eje_Pilar_Prop!C151:C252,1,FALSE),\"NO\"))","v":"NO"},"SECOP II",1,"Bogotá Mejor para Todos"]
[157,2020,"SECOP II","ALPA-CD-157-2020","Contratos de prestación de servicios profesionales y de apoyo a la gestión","Contratación directa","Prestación de servicios profesionales y de apoyo a la gestión, o para la ejecución de trabajos artísticos que sólo puedan encomendarse a determinadas personas naturales;","El Contratista se obliga con el Fondo de Desarrollo Local de Puente Aranda a prestar sus servicios profesionales al Despacho de la Alcaldia Local para apoyar el tramite de los Despachos Comisorios, descongestionar y tramitar los derechos de peticion, consolidar las proposiciones y solicitudes de los entes de control, asi como el apoyo al area de contratacion, de acuerdo a los estudios previos.","Inversión","Bogotá Mejor para Todos",45,{"$f":"IF(ISERROR(VLOOKUP(K170,Eje_Pilar_Prop!$C$2:$E$104,2,FALSE)),\" \",VLOOKUP(K170,Eje_Pilar_Prop!$C$2:$E$104,2,FALSE))","v":"Gobernanza e influencia local, regional e internacional"},{"$f":"IF(ISERROR(VLOOKUP(K170,Eje_Pilar_Prop!$C$2:$E$104,3,FALSE)),\" \",VLOOKUP(K170,Eje_Pilar_Prop!$C$2:$E$104,3,FALSE))","v":"Eje Transversal 4 Gobierno Legitimo, Fortalecimiento Local y Eficiencia"},"3-3-1-15-07- 45-1312-000 ",51898177,"LUZ YOLANDA VASQUÈZ SALAZAR",23500000,null,null,1,4543333,28043333,27886666,"2020-06-26","2020-07-02","2020-12-01",150,1,29,null,null,null,null,null,null,"X",null,0.99441339586845834,null,{"$f":"IF(SUMPRODUCT((A$14:A170=A170)*(B$14:B170=B170)*(D$14:D170=D170))>1,0,1)","v":1},"Contratos de prestación de servicios profesionales y de apoyo a la gestión","Contratación directa",{"$f":"IF(ISBLANK(G170),1,IFERROR(VLOOKUP(G170,Tipo!$C$12:$C$27,1,FALSE),\"NO\"))","v":"Prestación de servicios profesionales y de apoyo a la gestión, o para la ejecución de trabajos artísticos que sólo puedan encomendarse a determinadas personas naturales;"},"Inversión",{"$f":"IF(ISBLANK(K170),1,IFERROR(VLOOKUP(K170,Eje_Pilar_Prop!C152:C253,1,FALSE),\"NO\"))","v":"NO"},"SECOP II",1,"Bogotá Mejor para Todos"]
[158,2020,"SECOP II","ALPA-CD-158-2020","Contratos de prestación de servicios profesionales y de apoyo a la gestión","Contratación directa","Prestación de servicios profesionales y de apoyo a la gestión, o para la ejecución de trabajos artísticos que sólo puedan encomendarse a determinadas personas naturales;","El contratista se obliga con el Fondo de Desarrollo Local de Puente Aranda a prestar los servicios profesionales requeridos para apoyar la formulacion, proceso de contratacion, evaluacion y seguimiento de proyectos incluidos en el Plan de Desarrollo Local vigente asi como liquidacion de los contratos suscritos para su ejecucion, para asegurar la adecuada inversion de recursos locales y el cumplimiento de las metas del mismo, en especial el proyecto 1310 'Puente Aranda una localidad segura', de acuerdo con los estudios previos.","Inversión","Bogotá Mejor para Todos",45,{"$f":"IF(ISERROR(VLOOKUP(K171,Eje_Pilar_Prop!$C$2:$E$104,2,FALSE)),\" \",VLOOKUP(K171,Eje_Pilar_Prop!$C$2:$E$104,2,FALSE))","v":"Gobernanza e influencia local, regional e internacional"},{"$f":"IF(ISERROR(VLOOKUP(K171,Eje_Pilar_Prop!$C$2:$E$104,3,FALSE)),\" \",VLOOKUP(K171,Eje_Pilar_Prop!$C$2:$E$104,3,FALSE))","v":"Eje Transversal 4 Gobierno Legitimo, Fortalecimiento Local y Eficiencia"},"3-3-1-15-03-19-1310-000 ",52727823,"ISIS ALEXANDRA OVIEDO GARCIA",28200000,null,null,null,null,28200000,null,"2020-06-26","2020-07-01","2020-12-30",180,null,null,null,null,null,null,null,null,"X",null,0,null,{"$f":"IF(SUMPRODUCT((A$14:A171=A171)*(B$14:B171=B171)*(D$14:D171=D171))>1,0,1)","v":1},"Contratos de prestación de servicios profesionales y de apoyo a la gestión","Contratación directa",{"$f":"IF(ISBLANK(G171),1,IFERROR(VLOOKUP(G171,Tipo!$C$12:$C$27,1,FALSE),\"NO\"))","v":"Prestación de servicios profesionales y de apoyo a la gestión, o para la ejecución de trabajos artísticos que sólo puedan encomendarse a determinadas personas naturales;"},"Inversión",{"$f":"IF(ISBLANK(K171),1,IFERROR(VLOOKUP(K171,Eje_Pilar_Prop!C153:C254,1,FALSE),\"NO\"))","v":"NO"},"SECOP II",1,"Bogotá Mejor para Todos"]
[159,2020,"SECOP II","ALPA-CD-159-2020","Contratos de prestación de servicios profesionales y de apoyo a la gestión","Contratación directa","Prestación de servicios profesionales y de apoyo a la gestión, o para la ejecución de trabajos artísticos que sólo puedan encomendarse a determinadas personas naturales;","El contratista se obliga con el Fondo de Desarrollo Local de Puente Aranda a prestar los servicios profesionales requeridos para apoyar la formulación, proceso de contratación, evaluación y seguimiento de proyectos incluidos en el Plan de Desarrollo Local vigente así como liquidación de los contratos suscritos para su ejecución, para asegurar la adecuada inversión de recursos locales y el cumplimiento de las metas del mismo, en lo referente al proyecto 1309,13uente Aranda cultural y deportiva para todos, en especial a los componentes de Deportes, de acuerdo con los estudios previos. ","Inversión","Bogotá Mejor para Todos",45,{"$f":"IF(ISERROR(VLOOKUP(K172,Eje_Pilar_Prop!$C$2:$E$104,2,FALSE)),\" \",VLOOKUP(K172,Eje_Pilar_Prop!$C$2:$E$104,2,FALSE))","v":"Gobernanza e influencia local, regional e internacional"},{"$f":"IF(ISERROR(VLOOKUP(K172,Eje_Pilar_Prop!$C$2:$E$104,3,FALSE)),\" \",VLOOKUP(K172,Eje_Pilar_Prop!$C$2:$E$104,3,FALSE))","v":"Eje Transversal 4 Gobierno Legitimo, Fortalecimiento Local y Eficiencia"},"3-3-1-15-07-45-1309-000 ",80219702,"FABIO ANDRÉS CASTRO RINCÓN ",28200000,null,null,1,4700000,32900000,null,"2020-06-30","2020-07-01","2020-12-31",180,1,30,null,null,null,null,null,"X",null,null,0,null,{"$f":"IF(SUMPRODUCT((A$14:A172=A172)*(B$14:B172=B172)*(D$14:D172=D172))>1,0,1)","v":1},"Contratos de prestación de servicios profesionales y de apoyo a la gestión","Contratación directa",{"$f":"IF(ISBLANK(G172),1,IFERROR(VLOOKUP(G172,Tipo!$C$12:$C$27,1,FALSE),\"NO\"))","v":"Prestación de servicios profesionales y de apoyo a la gestión, o para la ejecución de trabajos artísticos que sólo puedan encomendarse a determinadas personas naturales;"},"Inversión",{"$f":"IF(ISBLANK(K172),1,IFERROR(VLOOKUP(K172,Eje_Pilar_Prop!C154:C255,1,FALSE),\"NO\"))","v":"NO"},"SECOP II",1,"Bogotá Mejor para Todos"]
[160,2020,"SECOP II","ALPA-CD-160-2020","Contratos de prestación de servicios profesionales y de apoyo a la gestión","Contratación directa","Prestación de servicios profesionales y de apoyo a la gestión, o para la ejecución de trabajos artísticos que sólo puedan encomendarse a determinadas personas naturales;","El contratista se obliga con el Fondo de Desarrollo Local de Puente Aranda a prestar sus servicios profesionales para apoyar las actividades y programas que promuevan el ejercicio del derecho a la participacion, asi como los o comunitarios en la localidad, de acuerdo con los estudios previos.","Inversión","Bogotá Mejor para Todos",45,{"$f":"IF(ISERROR(VLOOKUP(K173,Eje_Pilar_Prop!$C$2:$E$104,2,FALSE)),\" \",VLOOKUP(K173,Eje_Pilar_Prop!$C$2:$E$104,2,FALSE))","v":"Gobernanza e influencia local, regional e internacional"},{"$f":"IF(ISERROR(VLOOKUP(K173,Eje_Pilar_Prop!$C$2:$E$104,3,FALSE)),\" \",VLOOKUP(K173,Eje_Pilar_Prop!$C$2:$E$104,3,FALSE))","v":"Eje Transversal 4 Gobierno Legitimo, Fortalecimiento Local y Eficiencia"},"3-3-1-15-07-45-1289-000 ",80224727,"JOSE RICARDO PACHECO RODRIGUEZ",21000000,null,null,1,4200000,25200000,null,"2020-06-26","2020-07-01","2020-11-30",150,1,30,null,null,null,null,null,null,"X",null,0,null,{"$f":"IF(SUMPRODUCT((A$14:A173=A173)*(B$14:B173=B173)*(D$14:D173=D173))>1,0,1)","v":1},"Contratos de prestación de servicios profesionales y de apoyo a la gestión","Contratación directa",{"$f":"IF(ISBLANK(G173),1,IFERROR(VLOOKUP(G173,Tipo!$C$12:$C$27,1,FALSE),\"NO\"))","v":"Prestación de servicios profesionales y de apoyo a la gestión, o para la ejecución de trabajos artísticos que sólo puedan encomendarse a determinadas personas naturales;"},"Inversión",{"$f":"IF(ISBLANK(K173),1,IFERROR(VLOOKUP(K173,Eje_Pilar_Prop!C155:C256,1,FALSE),\"NO\"))","v":"NO"},"SECOP II",1,"Bogotá Mejor para Todos"]
[161,2020,"SECOP II","ALPA-CD-161-2020","Contratos de prestación de servicios profesionales y de apoyo a la gestión","Contratación directa","Prestación de servicios profesionales y de apoyo a la gestión, o para la ejecución de trabajos artísticos que sólo puedan encomendarse a determinadas personas naturales;","El contratista se obliga con el Fondo de Desarrollo Local de Puente Aranda a prestar sus servicios profesionales para apoyar las actividades y programas que promuevan el ejercicio del derecho a la participacion, asi como los procesos comunitarios en la localidad, de acuerdo con los estudios previos.","Inversión","Bogotá Mejor para Todos",45,{"$f":"IF(ISERROR(VLOOKUP(K174,Eje_Pilar_Prop!$C$2:$E$104,2,FALSE)),\" \",VLOOKUP(K174,Eje_Pilar_Prop!$C$2:$E$104,2,FALSE))","v":"Gobernanza e influencia local, regional e internacional"},{"$f":"IF(ISERROR(VLOOKUP(K174,Eje_Pilar_Prop!$C$2:$E$104,3,FALSE)),\" \",VLOOKUP(K174,Eje_Pilar_Prop!$C$2:$E$104,3,FALSE))","v":"Eje Transversal 4 Gobierno Legitimo, Fortalecimiento Local y Eficiencia"},"3-3-1-15-07-45-1289-000 ",52953158,"LILAURA GUZMAN MARIN",21000000,null,null,1,4060000,25060000,25060000,"2020-07-01","2020-07-02","2020-12-01",150,1,30,null,null,null,null,null,null,"X",null,1,null,{"$f":"IF(SUMPRODUCT((A$14:A174=A174)*(B$14:B174=B174)*(D$14:D174=D174))>1,0,1)","v":1},"Contratos de prestación de servicios profesionales y de apoyo a la gestión","Contratación directa",{"$f":"IF(ISBLANK(G174),1,IFERROR(VLOOKUP(G174,Tipo!$C$12:$C$27,1,FALSE),\"NO\"))","v":"Prestación de servicios profesionales y de apoyo a la gestión, o para la ejecución de trabajos artísticos que sólo puedan encomendarse a determinadas personas naturales;"},"Inversión",{"$f":"IF(ISBLANK(K174),1,IFERROR(VLOOKUP(K174,Eje_Pilar_Prop!C156:C257,1,FALSE),\"NO\"))","v":"NO"},"SECOP II",1,"Bogotá Mejor para Todos"]
[162,2020,"SECOP II","ALPA-CD-162-2020","Contratos de prestación de servicios profesionales y de apoyo a la gestión","Contratación directa","Prestación de servicios profesionales y de apoyo a la gestión, o para la ejecución de trabajos artísticos que sólo puedan encomendarse a determinadas personas naturales;","El contratista se obliga con el Fondo de Desarrollo Local de Puente Aranda a prestar sus servicios profesionales para apoyar las actividades y programas que promuevan el ejercicio del derecho a la participacion, asi como los procesos comunitarios en la localidad, de acuerdo con los estudios previos.","Inversión","Bogotá Mejor para Todos",45,{"$f":"IF(ISERROR(VLOOKUP(K175,Eje_Pilar_Prop!$C$2:$E$104,2,FALSE)),\" \",VLOOKUP(K175,Eje_Pilar_Prop!$C$2:$E$104,2,FALSE))","v":"Gobernanza e influencia local, regional e internacional"},{"$f":"IF(ISERROR(VLOOKUP(K175,Eje_Pilar_Prop!$C$2:$E$104,3,FALSE)),\" \",VLOOKUP(K175,Eje_Pilar_Prop!$C$2:$E$104,3,FALSE))","v":"Eje Transversal 4 Gobierno Legitimo, Fortalecimiento Local y Eficiencia"},"3-3-1-15-07-45-1289-000 ",1102808521,"NEIR LOMBO VILLADIEGO",21000000,null,null,1,4060000,25060000,24920000,"2020-06-30","2020-07-02","2020-12-01",150,1,30,null,null,null,null,null,null,"X",null,0.994413407821229,null,{"$f":"IF(SUMPRODUCT((A$14:A175=A175)*(B$14:B175=B175)*(D$14:D175=D175))>1,0,1)","v":1},"Contratos de prestación de servicios profesionales y de apoyo a la gestión","Contratación directa",{"$f":"IF(ISBLANK(G175),1,IFERROR(VLOOKUP(G175,Tipo!$C$12:$C$27,1,FALSE),\"NO\"))","v":"Prestación de servicios profesionales y de apoyo a la gestión, o para la ejecución de trabajos artísticos que sólo puedan encomendarse a determinadas personas naturales;"},"Inversión",{"$f":"IF(ISBLANK(K175),1,IFERROR(VLOOKUP(K175,Eje_Pilar_Prop!C157:C258,1,FALSE),\"NO\"))","v":"NO"},"SECOP II",1,"Bogotá Mejor para Todos"]
[163,2020,"SECOP II","ALPA-CD-163-2020","Contratos de prestación de servicios profesionales y de apoyo a la gestión","Contratación directa","Prestación de servicios profesionales y de apoyo a la gestión, o para la ejecución de trabajos artísticos que sólo puedan encomendarse a determinadas personas naturales;","El contratista se obliga a prestar sus Servicios Profesionales en el Area de Gestion del Desarrollo Local de la Alcaldla Local de Puente Aranda, para el apoyo a la ejecucion integral de los diferentes proyectos de inversion relacionados con infraestructura","Inversión","Bogotá Mejor para Todos",45,{"$f":"IF(ISERROR(VLOOKUP(K176,Eje_Pilar_Prop!$C$2:$E$104,2,FALSE)),\" \",VLOOKUP(K176,Eje_Pilar_Prop!$C$2:$E$104,2,FALSE))","v":"Gobernanza e influencia local, regional e internacional"},{"$f":"IF(ISERROR(VLOOKUP(K176,Eje_Pilar_Prop!$C$2:$E$104,3,FALSE)),\" \",VLOOKUP(K176,Eje_Pilar_Prop!$C$2:$E$104,3,FALSE))","v":"Eje Transversal 4 Gobierno Legitimo, Fortalecimiento Local y Eficiencia"},"3-3-1-15-02-18- 1290-000 ",79463217,"WILLIAM MOLANO RODRÍGUEZ ",33000000,null,null,null,null,33000000,null,"2020-06-30","2020-07-02","2020-12-16",165,null,null,null,null,null,null,null,null,"X",null,0,null,{"$f":"IF(SUMPRODUCT((A$14:A176=A176)*(B$14:B176=B176)*(D$14:D176=D176))>1,0,1)","v":1},"Contratos de prestación de servicios profesionales y de apoyo a la gestión","Contratación directa",{"$f":"IF(ISBLANK(G176),1,IFERROR(VLOOKUP(G176,Tipo!$C$12:$C$27,1,FALSE),\"NO\"))","v":"Prestación de servicios profesionales y de apoyo a la gestión, o para la ejecución de trabajos artísticos que sólo puedan encomendarse a determinadas personas naturales;"},"Inversión",{"$f":"IF(ISBLANK(K176),1,IFERROR(VLOOKUP(K176,Eje_Pilar_Prop!C158:C259,1,FALSE),\"NO\"))","v":"NO"},"SECOP II",1,"Bogotá Mejor para Todos"]
[164,2020,"SECOP II","ALPA-CD-164-2020","Contratos de prestación de servicios profesionales y de apoyo a la gestión","Contratación directa","Prestación de servicios profesionales y de apoyo a la gestión, o para la ejecución de trabajos artísticos que sólo puedan encomendarse a determinadas personas naturales;","Prestacion de servicios profesionales para adelantar tramites precontractuales, contractuales y post contractuales en el marco de los proyectos contemplados en el Plan de Desarrollo Economico, Social, Ambiental y de Obras Publicas para la localidad de Puente Aranda y el plan de contratacion, asi como las labores de liquidacion de contratos y convenios suscritos con cargo a los recursos del Fondo de Desarrollo Local y depuracion de obligaciones por pagar","Inversión","Bogotá Mejor para Todos",45,{"$f":"IF(ISERROR(VLOOKUP(K177,Eje_Pilar_Prop!$C$2:$E$104,2,FALSE)),\" \",VLOOKUP(K177,Eje_Pilar_Prop!$C$2:$E$104,2,FALSE))","v":"Gobernanza e influencia local, regional e internacional"},{"$f":"IF(ISERROR(VLOOKUP(K177,Eje_Pilar_Prop!$C$2:$E$104,3,FALSE)),\" \",VLOOKUP(K177,Eje_Pilar_Prop!$C$2:$E$104,3,FALSE))","v":"Eje Transversal 4 Gobierno Legitimo, Fortalecimiento Local y Eficiencia"},"3-3-1-15-07- 45-1312-000 ",80772514,"CHRISTIAN RODRIGUEZ RODRIGUEZ",25850000,null,null,1,6893333,32743333,null,"2020-06-30","2020-07-02","2020-12-16",165,1,44,null,null,null,null,null,"X",null,null,0,null,{"$f":"IF(SUMPRODUCT((A$14:A177=A177)*(B$14:B177=B177)*(D$14:D177=D177))>1,0,1)","v":1},"Contratos de prestación de servicios profesionales y de apoyo a la gestión","Contratación directa",{"$f":"IF(ISBLANK(G177),1,IFERROR(VLOOKUP(G177,Tipo!$C$12:$C$27,1,FALSE),\"NO\"))","v":"Prestación de servicios profesionales y de apoyo a la gestión, o para la ejecución de trabajos artísticos que sólo puedan encomendarse a determinadas personas naturales;"},"Inversión",{"$f":"IF(ISBLANK(K177),1,IFERROR(VLOOKUP(K177,Eje_Pilar_Prop!C159:C260,1,FALSE),\"NO\"))","v":"NO"},"SECOP II",1,"Bogotá Mejor para Todos"]
[165,2020,"SECOP II","ALPA-CD- 165-2020","Contratos de prestación de servicios profesionales y de apoyo a la gestión","Contratación directa","Prestación de servicios profesionales y de apoyo a la gestión, o para la ejecución de trabajos artísticos que sólo puedan encomendarse a determinadas personas naturales;","El contratista se obliga con el Fondo de Desarrollo Local a prestar los servicios profesionales en el Área de Gestión del Desarrollo Local, apoyando el seguimiento a los proyectos de inversión previstos en el Plan de Desarrollo Local, conforme a los estudios previos.","Inversión","Bogotá Mejor para Todos",45,{"$f":"IF(ISERROR(VLOOKUP(K178,Eje_Pilar_Prop!$C$2:$E$104,2,FALSE)),\" \",VLOOKUP(K178,Eje_Pilar_Prop!$C$2:$E$104,2,FALSE))","v":"Gobernanza e influencia local, regional e internacional"},{"$f":"IF(ISERROR(VLOOKUP(K178,Eje_Pilar_Prop!$C$2:$E$104,3,FALSE)),\" \",VLOOKUP(K178,Eje_Pilar_Prop!$C$2:$E$104,3,FALSE))","v":"Eje Transversal 4 Gobierno Legitimo, Fortalecimiento Local y Eficiencia"},"3-3-1-15-07- 45-1312-000 ",1023973882,"KAREN YVETTE ZAMORA AGUILAR",23400000,null,null,1,3900000,27300000,null,"2020-06-30","2020-07-01","2020-12-31",180,1,30,null,null,null,null,null,"X",null,null,0,null,{"$f":"IF(SUMPRODUCT((A$14:A178=A178)*(B$14:B178=B178)*(D$14:D178=D178))>1,0,1)","v":1},"Contratos de prestación de servicios profesionales y de apoyo a la gestión","Contratación directa",{"$f":"IF(ISBLANK(G178),1,IFERROR(VLOOKUP(G178,Tipo!$C$12:$C$27,1,FALSE),\"NO\"))","v":"Prestación de servicios profesionales y de apoyo a la gestión, o para la ejecución de trabajos artísticos que sólo puedan encomendarse a determinadas personas naturales;"},"Inversión",{"$f":"IF(ISBLANK(K178),1,IFERROR(VLOOKUP(K178,Eje_Pilar_Prop!C160:C261,1,FALSE),\"NO\"))","v":"NO"},"SECOP II",1,"Bogotá Mejor para Todos"]
[166,2020,"SECOP II","ALPA-CD-166-2020","Contratos de prestación de servicios profesionales y de apoyo a la gestión","Contratación directa","Prestación de servicios profesionales y de apoyo a la gestión, o para la ejecución de trabajos artísticos que sólo puedan encomendarse a determinadas personas naturales;","El contrato que se pretende celebrar, tendra por objeto El contratista se obliga con el Fondo de Desarrollo Local de Puente Aranda a apoyar y dar soporte tecnico al administrador y usuario final de la red de sistemas y tecnologia e informacion de la Alcaldia Lo-cal, de acuerdo con los estudios previos.","Inversión","Bogotá Mejor para Todos",45,{"$f":"IF(ISERROR(VLOOKUP(K179,Eje_Pilar_Prop!$C$2:$E$104,2,FALSE)),\" \",VLOOKUP(K179,Eje_Pilar_Prop!$C$2:$E$104,2,FALSE))","v":"Gobernanza e influencia local, regional e internacional"},{"$f":"IF(ISERROR(VLOOKUP(K179,Eje_Pilar_Prop!$C$2:$E$104,3,FALSE)),\" \",VLOOKUP(K179,Eje_Pilar_Prop!$C$2:$E$104,3,FALSE))","v":"Eje Transversal 4 Gobierno Legitimo, Fortalecimiento Local y Eficiencia"},"3-3-1-15-07- 45-1312-000 ",79360276,"WILLIAM EDUARDO VILLALOBOS MARTINEZ",15500000,null,null,1,5993333,21493333,21286666,"2020-07-02","2020-07-03","2020-12-02",150,1,60,null,null,null,null,null,"X",null,null,0.99038459972680826,null,{"$f":"IF(SUMPRODUCT((A$14:A179=A179)*(B$14:B179=B179)*(D$14:D179=D179))>1,0,1)","v":1},"Contratos de prestación de servicios profesionales y de apoyo a la gestión","Contratación directa",{"$f":"IF(ISBLANK(G179),1,IFERROR(VLOOKUP(G179,Tipo!$C$12:$C$27,1,FALSE),\"NO\"))","v":"Prestación de servicios profesionales y de apoyo a la gestión, o para la ejecución de trabajos artísticos que sólo puedan encomendarse a determinadas personas naturales;"},"Inversión",{"$f":"IF(ISBLANK(K179),1,IFERROR(VLOOKUP(K179,Eje_Pilar_Prop!C161:C262,1,FALSE),\"NO\"))","v":"NO"},"SECOP II",1,"Bogotá Mejor para Todos"]
[167,2020,"SECOP II","ALPA-CD-167-2020","Contratos de prestación de servicios profesionales y de apoyo a la gestión","Contratación directa","Prestación de servicios profesionales y de apoyo a la gestión, o para la ejecución de trabajos artísticos que sólo puedan encomendarse a determinadas personas naturales;","El Contratista se obliga con el Fondo de Desarrollo Local de Puente Aranda a prestar sus servicios de apoyo tecnico a las diferentes labores operativas y administrativas que surjan de la gestion de la Junta Administradora Local, de acuerdo con los estudios previos","Inversión","Bogotá Mejor para Todos",45,{"$f":"IF(ISERROR(VLOOKUP(K180,Eje_Pilar_Prop!$C$2:$E$104,2,FALSE)),\" \",VLOOKUP(K180,Eje_Pilar_Prop!$C$2:$E$104,2,FALSE))","v":"Gobernanza e influencia local, regional e internacional"},{"$f":"IF(ISERROR(VLOOKUP(K180,Eje_Pilar_Prop!$C$2:$E$104,3,FALSE)),\" \",VLOOKUP(K180,Eje_Pilar_Prop!$C$2:$E$104,3,FALSE))","v":"Eje Transversal 4 Gobierno Legitimo, Fortalecimiento Local y Eficiencia"},"3-3-1-15-07- 45-1312-000 ",1014260928,"NATALIA BETANCOURT SIERRA",13000000,null,null,1,5026667,18026667,17853334,"2020-07-02","2020-07-03","2020-12-02",150,1,60,null,null,null,null,null,"X",null,null,0.9903846340535386,null,{"$f":"IF(SUMPRODUCT((A$14:A180=A180)*(B$14:B180=B180)*(D$14:D180=D180))>1,0,1)","v":1},"Contratos de prestación de servicios profesionales y de apoyo a la gestión","Contratación directa",{"$f":"IF(ISBLANK(G180),1,IFERROR(VLOOKUP(G180,Tipo!$C$12:$C$27,1,FALSE),\"NO\"))","v":"Prestación de servicios profesionales y de apoyo a la gestión, o para la ejecución de trabajos artísticos que sólo puedan encomendarse a determinadas personas naturales;"},"Inversión",{"$f":"IF(ISBLANK(K180),1,IFERROR(VLOOKUP(K180,Eje_Pilar_Prop!C162:C263,1,FALSE),\"NO\"))","v":"NO"},"SECOP II",1,"Bogotá Mejor para Todos"]
[168,2020,"SECOP II","ALPA-CD-168-2020","Contratos de prestación de servicios profesionales y de apoyo a la gestión","Contratación directa","Prestación de servicios profesionales y de apoyo a la gestión, o para la ejecución de trabajos artísticos que sólo puedan encomendarse a determinadas personas naturales;","El contrato que se pretende celebrar, tendra por objeto Prestar apoyo administrative y asistencial a la Junta Administradora Local de Puente Aranda en los procesos de digitacion, elaboracion, proyeccion y actualizacion de documentos fisicos y en medio magnetico, proyecciones de mejoramiento en bases de dates, manejo de sistemas y demas herramientas tecnologicas de la Jal y el apoyo en las sesiones, asi como la distribucion de la correspondencia producida por la misma.","Inversión","Bogotá Mejor para Todos",45,{"$f":"IF(ISERROR(VLOOKUP(K181,Eje_Pilar_Prop!$C$2:$E$104,2,FALSE)),\" \",VLOOKUP(K181,Eje_Pilar_Prop!$C$2:$E$104,2,FALSE))","v":"Gobernanza e influencia local, regional e internacional"},{"$f":"IF(ISERROR(VLOOKUP(K181,Eje_Pilar_Prop!$C$2:$E$104,3,FALSE)),\" \",VLOOKUP(K181,Eje_Pilar_Prop!$C$2:$E$104,3,FALSE))","v":"Eje Transversal 4 Gobierno Legitimo, Fortalecimiento Local y Eficiencia"},"3-3-1-15-07- 45-1312-000 ","65741527\n ","CLAUDIA PATRICIA ARIAS GALINDO",11500000,null,null,1,4446667,15946667,15793332,"2020-07-02","2020-07-03","2020-12-02",150,1,58,52807630,"NURY YAMIRA LUIS ZAPATA ","2020-08-27",7360036,null,"X",null,null,0.99038451107055792,null,{"$f":"IF(SUMPRODUCT((A$14:A181=A181)*(B$14:B181=B181)*(D$14:D181=D181))>1,0,1)","v":1},"Contratos de prestación de servicios profesionales y de apoyo a la gestión","Contratación directa",{"$f":"IF(ISBLANK(G181),1,IFERROR(VLOOKUP(G181,Tipo!$C$12:$C$27,1,FALSE),\"NO\"))","v":"Prestación de servicios profesionales y de apoyo a la gestión, o para la ejecución de trabajos artísticos que sólo puedan encomendarse a determinadas personas naturales;"},"Inversión",{"$f":"IF(ISBLANK(K181),1,IFERROR(VLOOKUP(K181,Eje_Pilar_Prop!C163:C264,1,FALSE),\"NO\"))","v":"NO"},"SECOP II",1,"Bogotá Mejor para Todos"]
[169,2020,"SECOP II","ALPA-CD-169-2020","Contratos de prestación de servicios profesionales y de apoyo a la gestión","Contratación directa","Prestación de servicios profesionales y de apoyo a la gestión, o para la ejecución de trabajos artísticos que sólo puedan encomendarse a determinadas personas naturales;","El contrato que se pretende celebrar, tendra por objeto: El Contratista se obliga con el Fondo de Desarrollo Local a prestar sus servicios profesionales para apoyar tecnicamente las distintas etapas de los procesos de competencia de la Inspecciones de Policia de la Localidad de Puente Aranda, segun reparto, de acuerdo con los estudios previos","Inversión","Bogotá Mejor para Todos",45,{"$f":"IF(ISERROR(VLOOKUP(K182,Eje_Pilar_Prop!$C$2:$E$104,2,FALSE)),\" \",VLOOKUP(K182,Eje_Pilar_Prop!$C$2:$E$104,2,FALSE))","v":"Gobernanza e influencia local, regional e internacional"},{"$f":"IF(ISERROR(VLOOKUP(K182,Eje_Pilar_Prop!$C$2:$E$104,3,FALSE)),\" \",VLOOKUP(K182,Eje_Pilar_Prop!$C$2:$E$104,3,FALSE))","v":"Eje Transversal 4 Gobierno Legitimo, Fortalecimiento Local y Eficiencia"},"3-3-1-15-07- 45-1312-000 "," 1032408231","MONICA PEREZ FERNANDEZ ",30250000,null,null,null,null,30250000,null,"2020-07-02","2020-07-03","2020-12-17",165,null,null,null,null,null,null,null,null,"X",null,0,null,{"$f":"IF(SUMPRODUCT((A$14:A182=A182)*(B$14:B182=B182)*(D$14:D182=D182))>1,0,1)","v":1},"Contratos de prestación de servicios profesionales y de apoyo a la gestión","Contratación directa",{"$f":"IF(ISBLANK(G182),1,IFERROR(VLOOKUP(G182,Tipo!$C$12:$C$27,1,FALSE),\"NO\"))","v":"Prestación de servicios profesionales y de apoyo a la gestión, o para la ejecución de trabajos artísticos que sólo puedan encomendarse a determinadas personas naturales;"},"Inversión",{"$f":"IF(ISBLANK(K182),1,IFERROR(VLOOKUP(K182,Eje_Pilar_Prop!C164:C265,1,FALSE),\"NO\"))","v":"NO"},"SECOP II",1,"Bogotá Mejor para Todos"]
[170,2020,"SECOP II","ALPA-CD-170-2020,","Contratos de prestación de servicios profesionales y de apoyo a la gestión","Contratación directa","Prestación de servicios profesionales y de apoyo a la gestión, o para la ejecución de trabajos artísticos que sólo puedan encomendarse a determinadas personas naturales;","El contratista se obliga con el Fondo de Desarrollo Local de la Alcaldia de Puente Aranda a prestar sus servicios profesionales para: Apoyar juridicamente la ejecucion de las acciones requeridas para la depuracion de las actuaciones administrativas que cursan en la Alcaldia Local","Inversión","Bogotá Mejor para Todos",45,{"$f":"IF(ISERROR(VLOOKUP(K183,Eje_Pilar_Prop!$C$2:$E$104,2,FALSE)),\" \",VLOOKUP(K183,Eje_Pilar_Prop!$C$2:$E$104,2,FALSE))","v":"Gobernanza e influencia local, regional e internacional"},{"$f":"IF(ISERROR(VLOOKUP(K183,Eje_Pilar_Prop!$C$2:$E$104,3,FALSE)),\" \",VLOOKUP(K183,Eje_Pilar_Prop!$C$2:$E$104,3,FALSE))","v":"Eje Transversal 4 Gobierno Legitimo, Fortalecimiento Local y Eficiencia"},"3-3-1-15-07- 45-1312-000 ",1019026678,"ANA MARIA MAZO LOPEZ",25850000,null,null,1,1880000,27730000,23186666,"2020-07-02","2020-07-03","2020-12-17",165,1,12,null,null,null,null,null,"X",null,null,0.8361581680490443,null,{"$f":"IF(SUMPRODUCT((A$14:A183=A183)*(B$14:B183=B183)*(D$14:D183=D183))>1,0,1)","v":1},"Contratos de prestación de servicios profesionales y de apoyo a la gestión","Contratación directa",{"$f":"IF(ISBLANK(G183),1,IFERROR(VLOOKUP(G183,Tipo!$C$12:$C$27,1,FALSE),\"NO\"))","v":"Prestación de servicios profesionales y de apoyo a la gestión, o para la ejecución de trabajos artísticos que sólo puedan encomendarse a determinadas personas naturales;"},"Inversión",{"$f":"IF(ISBLANK(K183),1,IFERROR(VLOOKUP(K183,Eje_Pilar_Prop!C165:C266,1,FALSE),\"NO\"))","v":"NO"},"SECOP II",1,"Bogotá Mejor para Todos"]
[171,2020,"SECOP II","ALPA-CD-171-2020","Contratos de prestación de servicios profesionales y de apoyo a la gestión","Contratación directa","Prestación de servicios profesionales y de apoyo a la gestión, o para la ejecución de trabajos artísticos que sólo puedan encomendarse a determinadas personas naturales;","EL CONTRATISTA SE OBLIGA CON EL FONDO DE DESARROLLO LOCAL DE PUENTE ARANDA A APOYAR ADMINISTRATIVAMENTE Y ASISTENCIALMENTE A LAS INSPECCIONES DE POLICIA DE LA LOCALIDAD ","Inversión","Bogotá Mejor para Todos",45,{"$f":"IF(ISERROR(VLOOKUP(K184,Eje_Pilar_Prop!$C$2:$E$104,2,FALSE)),\" \",VLOOKUP(K184,Eje_Pilar_Prop!$C$2:$E$104,2,FALSE))","v":"Gobernanza e influencia local, regional e internacional"},{"$f":"IF(ISERROR(VLOOKUP(K184,Eje_Pilar_Prop!$C$2:$E$104,3,FALSE)),\" \",VLOOKUP(K184,Eje_Pilar_Prop!$C$2:$E$104,3,FALSE))","v":"Eje Transversal 4 Gobierno Legitimo, Fortalecimiento Local y Eficiencia"},"3-3-1-15-07- 45-1312-000 ",1106738069,"VICTOR ALFONSO GALINDO OSORIO",13750000,null,null,1,3250000,17000000,12083333,"2020-07-03","2020-07-06","2020-12-21",180,1,39,null,null,null,null,null,"X",null,null,0.7107842941176471,null,{"$f":"IF(SUMPRODUCT((A$14:A184=A184)*(B$14:B184=B184)*(D$14:D184=D184))>1,0,1)","v":1},"Contratos de prestación de servicios profesionales y de apoyo a la gestión","Contratación directa",{"$f":"IF(ISBLANK(G184),1,IFERROR(VLOOKUP(G184,Tipo!$C$12:$C$27,1,FALSE),\"NO\"))","v":"Prestación de servicios profesionales y de apoyo a la gestión, o para la ejecución de trabajos artísticos que sólo puedan encomendarse a determinadas personas naturales;"},"Inversión",{"$f":"IF(ISBLANK(K184),1,IFERROR(VLOOKUP(K184,Eje_Pilar_Prop!C166:C267,1,FALSE),\"NO\"))","v":"NO"},"SECOP II",1,"Bogotá Mejor para Todos"]
[172,2020,"SECOP II","ALPA-CD-172-2020","Contratos de prestación de servicios profesionales y de apoyo a la gestión","Contratación directa","Prestación de servicios profesionales y de apoyo a la gestión, o para la ejecución de trabajos artísticos que sólo puedan encomendarse a determinadas personas naturales;","El Contratista se obliga con el Fondo de Desarrollo Local de la Alcaldia Local de Puente Aranda a prestar el servicio de conduccion para los vehiculos propiedad del Fondo de Desarrollo Local y los que se le asignen, de^ebnformidad con los estudios previos","Inversión","Bogotá Mejor para Todos",45,{"$f":"IF(ISERROR(VLOOKUP(K185,Eje_Pilar_Prop!$C$2:$E$104,2,FALSE)),\" \",VLOOKUP(K185,Eje_Pilar_Prop!$C$2:$E$104,2,FALSE))","v":"Gobernanza e influencia local, regional e internacional"},{"$f":"IF(ISERROR(VLOOKUP(K185,Eje_Pilar_Prop!$C$2:$E$104,3,FALSE)),\" \",VLOOKUP(K185,Eje_Pilar_Prop!$C$2:$E$104,3,FALSE))","v":"Eje Transversal 4 Gobierno Legitimo, Fortalecimiento Local y Eficiencia"},"3-3-1-15-07- 45-1312-000 ",19472731,"LIBARDO ALONSO RODRIGUEZ ",13750000,null,null,1,3333334,17083334,12083325,"2020-07-02","2020-07-06","2020-12-20",165,1,40,null,null,null,null,null,"X",null,null,0.7073165577632563,null,{"$f":"IF(SUMPRODUCT((A$14:A185=A185)*(B$14:B185=B185)*(D$14:D185=D185))>1,0,1)","v":1},"Contratos de prestación de servicios profesionales y de apoyo a la gestión","Contratación directa",{"$f":"IF(ISBLANK(G185),1,IFERROR(VLOOKUP(G185,Tipo!$C$12:$C$27,1,FALSE),\"NO\"))","v":"Prestación de servicios profesionales y de apoyo a la gestión, o para la ejecución de trabajos artísticos que sólo puedan encomendarse a determinadas personas naturales;"},"Inversión",{"$f":"IF(ISBLANK(K185),1,IFERROR(VLOOKUP(K185,Eje_Pilar_Prop!C167:C268,1,FALSE),\"NO\"))","v":"NO"},"SECOP II",1,"Bogotá Mejor para Todos"]
[173,2020,"SECOP II","ALPA-CD-173-2020","Contratos de prestación de servicios profesionales y de apoyo a la gestión","Contratación directa","Prestación de servicios profesionales y de apoyo a la gestión, o para la ejecución de trabajos artísticos que sólo puedan encomendarse a determinadas personas naturales;","El contratista se obliga con el Fondo de Desarrollo Local de Puente Aranda a prestar los servicios profesionales para apoyar al (la) Alcalde(sa) Local en la gestion de los asuntos relacionados con seguridad ciudadana, convivencia y prevencion de conflictos, violencias y delitos en la localidad, de conformidad con el marco normative aplicable en la materia de acuerdo con los estudios previos.","Inversión","Bogotá Mejor para Todos",45,{"$f":"IF(ISERROR(VLOOKUP(K186,Eje_Pilar_Prop!$C$2:$E$104,2,FALSE)),\" \",VLOOKUP(K186,Eje_Pilar_Prop!$C$2:$E$104,2,FALSE))","v":"Gobernanza e influencia local, regional e internacional"},{"$f":"IF(ISERROR(VLOOKUP(K186,Eje_Pilar_Prop!$C$2:$E$104,3,FALSE)),\" \",VLOOKUP(K186,Eje_Pilar_Prop!$C$2:$E$104,3,FALSE))","v":"Eje Transversal 4 Gobierno Legitimo, Fortalecimiento Local y Eficiencia"},"3-3-1-15-03-19-1310-000 ",1018454328,"STEFANY  RIVERA",23500000,null,null,1,9086667,32586667,32273334,"2020-07-02","2020-07-03","2020-12-02",150,1,58,null,null,null,null,null,"X",null,null,0.99038462571210484,null,{"$f":"IF(SUMPRODUCT((A$14:A186=A186)*(B$14:B186=B186)*(D$14:D186=D186))>1,0,1)","v":1},"Contratos de prestación de servicios profesionales y de apoyo a la gestión","Contratación directa",{"$f":"IF(ISBLANK(G186),1,IFERROR(VLOOKUP(G186,Tipo!$C$12:$C$27,1,FALSE),\"NO\"))","v":"Prestación de servicios profesionales y de apoyo a la gestión, o para la ejecución de trabajos artísticos que sólo puedan encomendarse a determinadas personas naturales;"},"Inversión",{"$f":"IF(ISBLANK(K186),1,IFERROR(VLOOKUP(K186,Eje_Pilar_Prop!C168:C269,1,FALSE),\"NO\"))","v":"NO"},"SECOP II",1,"Bogotá Mejor para Todos"]
[174,2020,"SECOP II","ALPA-CD-174-2020","Contratos de prestación de servicios profesionales y de apoyo a la gestión","Contratación directa","Prestación de servicios profesionales y de apoyo a la gestión, o para la ejecución de trabajos artísticos que sólo puedan encomendarse a determinadas personas naturales;","EL CONTRATISTA SE OBLIGA CON EL FONDO DE DESARROLLO LOCAL DE PUENTE ARANDA A APOYAR ADMINISTRATIVA Y ASISTENCIALMENTE A LAS INSPECCIONES DE LA POLICIA DE LA LOCALIDAD ","Inversión","Bogotá Mejor para Todos",45,{"$f":"IF(ISERROR(VLOOKUP(K187,Eje_Pilar_Prop!$C$2:$E$104,2,FALSE)),\" \",VLOOKUP(K187,Eje_Pilar_Prop!$C$2:$E$104,2,FALSE))","v":"Gobernanza e influencia local, regional e internacional"},{"$f":"IF(ISERROR(VLOOKUP(K187,Eje_Pilar_Prop!$C$2:$E$104,3,FALSE)),\" \",VLOOKUP(K187,Eje_Pilar_Prop!$C$2:$E$104,3,FALSE))","v":"Eje Transversal 4 Gobierno Legitimo, Fortalecimiento Local y Eficiencia"},"3-3-1-15-07- 45-1312-000 ",43997810,"OLGA MILENA OSPINA MONSALVE",13750000,null,null,1,3166667,16916667,12000000,"2020-07-03","2020-07-07","2020-12-22",165,1,38,null,null,null,null,null,"X",null,null,0.70935959193380116,null,{"$f":"IF(SUMPRODUCT((A$14:A187=A187)*(B$14:B187=B187)*(D$14:D187=D187))>1,0,1)","v":1},"Contratos de prestación de servicios profesionales y de apoyo a la gestión","Contratación directa",{"$f":"IF(ISBLANK(G187),1,IFERROR(VLOOKUP(G187,Tipo!$C$12:$C$27,1,FALSE),\"NO\"))","v":"Prestación de servicios profesionales y de apoyo a la gestión, o para la ejecución de trabajos artísticos que sólo puedan encomendarse a determinadas personas naturales;"},"Inversión",{"$f":"IF(ISBLANK(K187),1,IFERROR(VLOOKUP(K187,Eje_Pilar_Prop!C169:C270,1,FALSE),\"NO\"))","v":"NO"},"SECOP II",1,"Bogotá Mejor para Todos"]
[175,2020,"SECOP II","ALPA-CD-175-2020","Contratos de prestación de servicios profesionales y de apoyo a la gestión","Contratación directa","Prestación de servicios profesionales y de apoyo a la gestión, o para la ejecución de trabajos artísticos que sólo puedan encomendarse a determinadas personas naturales;","El contrato que se pretende celebrar, tendra por objeto El contratista se obliga con el Fondo de Desarrollo Local prestar servicios profesionales al Area de Gestion Policiva y Juridica, para apoyar las labores relacionadas con el cobro persuasive de multas y sanciones pecuniarias impuestas, as! como realizar el remision y seguimiento de las actuaciones que deban surtir proceso de cobro coactivo, de acuerdo con las obligaciones y competencias de la Alcaldla Local","Inversión","Bogotá Mejor para Todos",45,{"$f":"IF(ISERROR(VLOOKUP(K188,Eje_Pilar_Prop!$C$2:$E$104,2,FALSE)),\" \",VLOOKUP(K188,Eje_Pilar_Prop!$C$2:$E$104,2,FALSE))","v":"Gobernanza e influencia local, regional e internacional"},{"$f":"IF(ISERROR(VLOOKUP(K188,Eje_Pilar_Prop!$C$2:$E$104,3,FALSE)),\" \",VLOOKUP(K188,Eje_Pilar_Prop!$C$2:$E$104,3,FALSE))","v":"Eje Transversal 4 Gobierno Legitimo, Fortalecimiento Local y Eficiencia"},"3-3-1-15-07- 45-1312-000 ","1032419261\n\n","SEBASTIAN DIAZ PINILLA\n\n",23500000,null,null,1,4386648,27886648,27573314,"2020-07-02","2020-07-03","2020-12-02",150,1,29,51920607,"CECILIA SOSA GOMEZ","2020-09-01",9086666,null,null,"X",null,0.98876401351643262,null,{"$f":"IF(SUMPRODUCT((A$14:A188=A188)*(B$14:B188=B188)*(D$14:D188=D188))>1,0,1)","v":1},"Contratos de prestación de servicios profesionales y de apoyo a la gestión","Contratación directa",{"$f":"IF(ISBLANK(G188),1,IFERROR(VLOOKUP(G188,Tipo!$C$12:$C$27,1,FALSE),\"NO\"))","v":"Prestación de servicios profesionales y de apoyo a la gestión, o para la ejecución de trabajos artísticos que sólo puedan encomendarse a determinadas personas naturales;"},"Inversión",{"$f":"IF(ISBLANK(K188),1,IFERROR(VLOOKUP(K188,Eje_Pilar_Prop!C170:C271,1,FALSE),\"NO\"))","v":"NO"},"SECOP II",1,"Bogotá Mejor para Todos"]
[176,2020,"SECOP II","ALPA-CD-176-2020","Contratos de prestación de servicios profesionales y de apoyo a la gestión","Contratación directa","Prestación de servicios profesionales y de apoyo a la gestión, o para la ejecución de trabajos artísticos que sólo puedan encomendarse a determinadas personas naturales;","El contratista se obliga con el Fondo de Desarrollo Local de Puente Aranda a prestar los servicios profesionales para apoyar la formulación, gestión y seguimiento de actividades enfocadas a la gestión ambiental externa, encaminadas a la mitigación de los diferentes impactos ambientales y la conservación de los recursos naturales de la localidad, de conformidad con los estudios previos.","Inversión","Bogotá Mejor para Todos",45,{"$f":"IF(ISERROR(VLOOKUP(K189,Eje_Pilar_Prop!$C$2:$E$104,2,FALSE)),\" \",VLOOKUP(K189,Eje_Pilar_Prop!$C$2:$E$104,2,FALSE))","v":"Gobernanza e influencia local, regional e internacional"},{"$f":"IF(ISERROR(VLOOKUP(K189,Eje_Pilar_Prop!$C$2:$E$104,3,FALSE)),\" \",VLOOKUP(K189,Eje_Pilar_Prop!$C$2:$E$104,3,FALSE))","v":"Eje Transversal 4 Gobierno Legitimo, Fortalecimiento Local y Eficiencia"},"3-3-1-15-06-38-1311-000 ",52867935,"ELSA MARGARITA FLOREZ LOPEZ",25850000,null,null,1,5796667,31646667,null,"2020-07-06","2020-07-09","2020-12-23",165,1,37,null,null,null,null,null,"X",null,null,0,null,{"$f":"IF(SUMPRODUCT((A$14:A189=A189)*(B$14:B189=B189)*(D$14:D189=D189))>1,0,1)","v":1},"Contratos de prestación de servicios profesionales y de apoyo a la gestión","Contratación directa",{"$f":"IF(ISBLANK(G189),1,IFERROR(VLOOKUP(G189,Tipo!$C$12:$C$27,1,FALSE),\"NO\"))","v":"Prestación de servicios profesionales y de apoyo a la gestión, o para la ejecución de trabajos artísticos que sólo puedan encomendarse a determinadas personas naturales;"},"Inversión",{"$f":"IF(ISBLANK(K189),1,IFERROR(VLOOKUP(K189,Eje_Pilar_Prop!C171:C272,1,FALSE),\"NO\"))","v":"NO"},"SECOP II",1,"Bogotá Mejor para Todos"]
[177,2020,"SECOP II","ALPA-CD-177-2020","Contratos de prestación de servicios profesionales y de apoyo a la gestión","Contratación directa","Prestación de servicios profesionales y de apoyo a la gestión, o para la ejecución de trabajos artísticos que sólo puedan encomendarse a determinadas personas naturales;","Apoyar juridicamente la ejecucion de las acciones requeridas para el tramite e impulse procesal de las actuaciones contravencionales y/o querellas que se cursen en las Inspecciones de Policia de la Localidad","Inversión","Bogotá Mejor para Todos",45,{"$f":"IF(ISERROR(VLOOKUP(K190,Eje_Pilar_Prop!$C$2:$E$104,2,FALSE)),\" \",VLOOKUP(K190,Eje_Pilar_Prop!$C$2:$E$104,2,FALSE))","v":"Gobernanza e influencia local, regional e internacional"},{"$f":"IF(ISERROR(VLOOKUP(K190,Eje_Pilar_Prop!$C$2:$E$104,3,FALSE)),\" \",VLOOKUP(K190,Eje_Pilar_Prop!$C$2:$E$104,3,FALSE))","v":"Eje Transversal 4 Gobierno Legitimo, Fortalecimiento Local y Eficiencia"},"3-3-1-15-07-45-1312-000 ",53124546,"YIRA MARCELA DEL PILAR ANA MARIA MARTINEZ",23500000,null,null,1,3446666.6666666665,26946666.666666668,25693333,"2020-07-08","2020-07-09","2020-12-08",150,1,22,null,null,null,null,null,null,"X",null,0.95348835972290946,null,{"$f":"IF(SUMPRODUCT((A$14:A190=A190)*(B$14:B190=B190)*(D$14:D190=D190))>1,0,1)","v":1},"Contratos de prestación de servicios profesionales y de apoyo a la gestión","Contratación directa",{"$f":"IF(ISBLANK(G190),1,IFERROR(VLOOKUP(G190,Tipo!$C$12:$C$27,1,FALSE),\"NO\"))","v":"Prestación de servicios profesionales y de apoyo a la gestión, o para la ejecución de trabajos artísticos que sólo puedan encomendarse a determinadas personas naturales;"},"Inversión",{"$f":"IF(ISBLANK(K190),1,IFERROR(VLOOKUP(K190,Eje_Pilar_Prop!C172:C273,1,FALSE),\"NO\"))","v":"NO"},"SECOP II",1,"Bogotá Mejor para Todos"]
[178,2020,"SECOP II","ALPA-CD-178-2020","Contratos de prestación de servicios profesionales y de apoyo a la gestión","Contratación directa","Prestación de servicios profesionales y de apoyo a la gestión, o para la ejecución de trabajos artísticos que sólo puedan encomendarse a determinadas personas naturales;","El Contratista se obliga con el Fondo de Desarrollo Local a Coordinar, liderar y asesorar los planes y estrategias de comunicacion interna y externa para la divulgacion de los programas, proyectos y actividades de la Alcaldia Local, de acuerdo con los estudios previos","Inversión","Bogotá Mejor para Todos",45,{"$f":"IF(ISERROR(VLOOKUP(K191,Eje_Pilar_Prop!$C$2:$E$104,2,FALSE)),\" \",VLOOKUP(K191,Eje_Pilar_Prop!$C$2:$E$104,2,FALSE))","v":"Gobernanza e influencia local, regional e internacional"},{"$f":"IF(ISERROR(VLOOKUP(K191,Eje_Pilar_Prop!$C$2:$E$104,3,FALSE)),\" \",VLOOKUP(K191,Eje_Pilar_Prop!$C$2:$E$104,3,FALSE))","v":"Eje Transversal 4 Gobierno Legitimo, Fortalecimiento Local y Eficiencia"},"3-3-1-15-07-45-1312-000 ",52433261,"ZULY YOHANA SANTA BEJARANO",31000000,null,null,null,null,31000000,null,"2020-07-10","2020-07-13","2020-12-12",150,null,null,null,null,null,null,null,null,"X",null,0,null,{"$f":"IF(SUMPRODUCT((A$14:A191=A191)*(B$14:B191=B191)*(D$14:D191=D191))>1,0,1)","v":1},"Contratos de prestación de servicios profesionales y de apoyo a la gestión","Contratación directa",{"$f":"IF(ISBLANK(G191),1,IFERROR(VLOOKUP(G191,Tipo!$C$12:$C$27,1,FALSE),\"NO\"))","v":"Prestación de servicios profesionales y de apoyo a la gestión, o para la ejecución de trabajos artísticos que sólo puedan encomendarse a determinadas personas naturales;"},"Inversión",{"$f":"IF(ISBLANK(K191),1,IFERROR(VLOOKUP(K191,Eje_Pilar_Prop!C173:C274,1,FALSE),\"NO\"))","v":"NO"},"SECOP II",1,"Bogotá Mejor para Todos"]
[179,2020,"SECOP II","ALPA-CD-179-2020","Contratos de prestación de servicios profesionales y de apoyo a la gestión","Contratación directa","Prestación de servicios profesionales y de apoyo a la gestión, o para la ejecución de trabajos artísticos que sólo puedan encomendarse a determinadas personas naturales;","El contratista se obliga con el Fondo de Desarrollo Local a prestar sus servicios de Apoyo a la gestion del Proyecto Punto Vive Digital de la localidad de Puente Aranda ”.de acuerdo a los estudios previos","Inversión","Bogotá Mejor para Todos",45,{"$f":"IF(ISERROR(VLOOKUP(K192,Eje_Pilar_Prop!$C$2:$E$104,2,FALSE)),\" \",VLOOKUP(K192,Eje_Pilar_Prop!$C$2:$E$104,2,FALSE))","v":"Gobernanza e influencia local, regional e internacional"},{"$f":"IF(ISERROR(VLOOKUP(K192,Eje_Pilar_Prop!$C$2:$E$104,3,FALSE)),\" \",VLOOKUP(K192,Eje_Pilar_Prop!$C$2:$E$104,3,FALSE))","v":"Eje Transversal 4 Gobierno Legitimo, Fortalecimiento Local y Eficiencia"},"3-3-1-15-07- 45-1312-000 ",79645749,"JHON HENRY ARENAS MARTINEZ",14500000,null,null,1,2223333,16723333,16046666,"2020-07-07","2020-07-08","2020-12-07",150,1,23,null,null,null,null,null,null,"X",null,0.95953755151559794,null,{"$f":"IF(SUMPRODUCT((A$14:A192=A192)*(B$14:B192=B192)*(D$14:D192=D192))>1,0,1)","v":1},"Contratos de prestación de servicios profesionales y de apoyo a la gestión","Contratación directa",{"$f":"IF(ISBLANK(G192),1,IFERROR(VLOOKUP(G192,Tipo!$C$12:$C$27,1,FALSE),\"NO\"))","v":"Prestación de servicios profesionales y de apoyo a la gestión, o para la ejecución de trabajos artísticos que sólo puedan encomendarse a determinadas personas naturales;"},"Inversión",{"$f":"IF(ISBLANK(K192),1,IFERROR(VLOOKUP(K192,Eje_Pilar_Prop!C174:C275,1,FALSE),\"NO\"))","v":"NO"},"SECOP II",1,"Bogotá Mejor para Todos"]
[180,2020,"SECOP II","ALPA-CD-180-2020","Contratos de prestación de servicios profesionales y de apoyo a la gestión","Contratación directa","Prestación de servicios profesionales y de apoyo a la gestión, o para la ejecución de trabajos artísticos que sólo puedan encomendarse a determinadas personas naturales;","El contratista se obliga con el Fondo de Desarrollo Local a prestar sus servicios en las tareas operativas de caracter archivistico desarrolladas en la Alcaldia Local para garantizar la aplicacion correcta de los procedimientos tecnicos, conforme los estudios previos.","Inversión","Bogotá Mejor para Todos",45,{"$f":"IF(ISERROR(VLOOKUP(K193,Eje_Pilar_Prop!$C$2:$E$104,2,FALSE)),\" \",VLOOKUP(K193,Eje_Pilar_Prop!$C$2:$E$104,2,FALSE))","v":"Gobernanza e influencia local, regional e internacional"},{"$f":"IF(ISERROR(VLOOKUP(K193,Eje_Pilar_Prop!$C$2:$E$104,3,FALSE)),\" \",VLOOKUP(K193,Eje_Pilar_Prop!$C$2:$E$104,3,FALSE))","v":"Eje Transversal 4 Gobierno Legitimo, Fortalecimiento Local y Eficiencia"},"3-3-1-15-07- 45-1312-000 ",19385050,"JOSE ANICETO LEON ORJUELA",14300000,null,null,1,2860000,17160000,null,"2020-07-07","2020-07-13","2020-12-27",165,1,33,null,null,null,null,null,"X",null,null,0,null,{"$f":"IF(SUMPRODUCT((A$14:A193=A193)*(B$14:B193=B193)*(D$14:D193=D193))>1,0,1)","v":1},"Contratos de prestación de servicios profesionales y de apoyo a la gestión","Contratación directa",{"$f":"IF(ISBLANK(G193),1,IFERROR(VLOOKUP(G193,Tipo!$C$12:$C$27,1,FALSE),\"NO\"))","v":"Prestación de servicios profesionales y de apoyo a la gestión, o para la ejecución de trabajos artísticos que sólo puedan encomendarse a determinadas personas naturales;"},"Inversión",{"$f":"IF(ISBLANK(K193),1,IFERROR(VLOOKUP(K193,Eje_Pilar_Prop!C175:C276,1,FALSE),\"NO\"))","v":"NO"},"SECOP II",1,"Bogotá Mejor para Todos"]
[181,2020,"SECOP II","ALPA-CD-181-2020","Contratos de prestación de servicios profesionales y de apoyo a la gestión","Contratación directa","Prestación de servicios profesionales y de apoyo a la gestión, o para la ejecución de trabajos artísticos que sólo puedan encomendarse a determinadas personas naturales;","El contrato que se pretende celebrar, tendrá por objeto: El Contratista se obliga con el Fondo de Desarrollo Local a prestar sus servicios profesionales para apoyar técnicamente las distintas etapas de los procesos de competencia de la Inspecciones de Policía de la Loca71 d de Puente Aranda, según reparto, de acuerdo con los estudios previos.","Inversión","Bogotá Mejor para Todos",45,{"$f":"IF(ISERROR(VLOOKUP(K194,Eje_Pilar_Prop!$C$2:$E$104,2,FALSE)),\" \",VLOOKUP(K194,Eje_Pilar_Prop!$C$2:$E$104,2,FALSE))","v":"Gobernanza e influencia local, regional e internacional"},{"$f":"IF(ISERROR(VLOOKUP(K194,Eje_Pilar_Prop!$C$2:$E$104,3,FALSE)),\" \",VLOOKUP(K194,Eje_Pilar_Prop!$C$2:$E$104,3,FALSE))","v":"Eje Transversal 4 Gobierno Legitimo, Fortalecimiento Local y Eficiencia"},"3-3-1-15-07- 45-1312-000 ",79508729,"ROGER MAURICIO FORERO RIVERA",30250000,null,null,1,6600000,36850000,null,"2020-07-08","2020-07-09","2020-12-24",165,1,36,null,null,null,null,null,"X",null,null,0,null,{"$f":"IF(SUMPRODUCT((A$14:A194=A194)*(B$14:B194=B194)*(D$14:D194=D194))>1,0,1)","v":1},"Contratos de prestación de servicios profesionales y de apoyo a la gestión","Contratación directa",{"$f":"IF(ISBLANK(G194),1,IFERROR(VLOOKUP(G194,Tipo!$C$12:$C$27,1,FALSE),\"NO\"))","v":"Prestación de servicios profesionales y de apoyo a la gestión, o para la ejecución de trabajos artísticos que sólo puedan encomendarse a determinadas personas naturales;"},"Inversión",{"$f":"IF(ISBLANK(K194),1,IFERROR(VLOOKUP(K194,Eje_Pilar_Prop!C176:C277,1,FALSE),\"NO\"))","v":"NO"},"SECOP II",1,"Bogotá Mejor para Todos"]
[182,2020,"SECOP II","ALPA-CD-182-2020","Contratos de prestación de servicios profesionales y de apoyo a la gestión","Contratación directa","Prestación de servicios profesionales y de apoyo a la gestión, o para la ejecución de trabajos artísticos que sólo puedan encomendarse a determinadas personas naturales;","Prestar los servicios profesionales para apoyar al alcalde local en la promocion, articulacion, acompafiamiento y seguimiento para la atencion y proteccion de los animates domesticos y silvestres de la localidad.","Inversión","Bogotá Mejor para Todos",45,{"$f":"IF(ISERROR(VLOOKUP(K195,Eje_Pilar_Prop!$C$2:$E$104,2,FALSE)),\" \",VLOOKUP(K195,Eje_Pilar_Prop!$C$2:$E$104,2,FALSE))","v":"Gobernanza e influencia local, regional e internacional"},{"$f":"IF(ISERROR(VLOOKUP(K195,Eje_Pilar_Prop!$C$2:$E$104,3,FALSE)),\" \",VLOOKUP(K195,Eje_Pilar_Prop!$C$2:$E$104,3,FALSE))","v":"Eje Transversal 4 Gobierno Legitimo, Fortalecimiento Local y Eficiencia"},"3-3-1-15-06-38-1311-000",1032455505,"MIGUEL ANGEL GUARIN ESCOBAR ",22000000,null,null,null,null,22000000,null,"2020-07-08","2020-07-13","2020-12-27",165,null,null,null,null,null,null,null,"X",null,null,0,null,{"$f":"IF(SUMPRODUCT((A$14:A195=A195)*(B$14:B195=B195)*(D$14:D195=D195))>1,0,1)","v":1},"Contratos de prestación de servicios profesionales y de apoyo a la gestión","Contratación directa",{"$f":"IF(ISBLANK(G195),1,IFERROR(VLOOKUP(G195,Tipo!$C$12:$C$27,1,FALSE),\"NO\"))","v":"Prestación de servicios profesionales y de apoyo a la gestión, o para la ejecución de trabajos artísticos que sólo puedan encomendarse a determinadas personas naturales;"},"Inversión",{"$f":"IF(ISBLANK(K195),1,IFERROR(VLOOKUP(K195,Eje_Pilar_Prop!C177:C278,1,FALSE),\"NO\"))","v":"NO"},"SECOP II",1,"Bogotá Mejor para Todos"]
[183,2020,"SECOP II","ALPA-CD-RES-208-2020","Contratos interadministrativos","Contratación directa","Contratos interadministrativos","PRESTACION DE SERVICIOS DE CORREO CERTIFICADO URBANO, REGIONAL Y NACIONAL PARA LA REMISIÓN DE RESPUESTA A SOLICITUDES, COMUNICACIONES, CITACIONES, REQUERIMIENTOS Y LA CORRESPONDENCIA EN GENERAL QUE REQUIERA LAALCALDIA LOCAL DE PUENTE ARANDA, EN SUS DIFERENTES DEPENDENCIAS","Funcionamiento","Bogotá Mejor para Todos",null,{"$f":"IF(ISERROR(VLOOKUP(K196,Eje_Pilar_Prop!$C$2:$E$104,2,FALSE)),\" \",VLOOKUP(K196,Eje_Pilar_Prop!$C$2:$E$104,2,FALSE))","v":" "},{"$f":"IF(ISERROR(VLOOKUP(K196,Eje_Pilar_Prop!$C$2:$E$104,3,FALSE)),\" \",VLOOKUP(K196,Eje_Pilar_Prop!$C$2:$E$104,3,FALSE))","v":" "},"3-1-2-02-02-01-0006-00",900062917,"SERVICIOS POSTALES NACIONALES S.A. \"4-72 ",3000000,null,null,null,null,3000000,null,"2020-07-08","2020-07-14","2021-05-13",300,null,null,null,null,null,null,null,null,"X",null,0,null,{"$f":"IF(SUMPRODUCT((A$14:A196=A196)*(B$14:B196=B196)*(D$14:D196=D196))>1,0,1)","v":1},"Contratos interadministrativos","Contratación directa",{"$f":"IF(ISBLANK(G196),1,IFERROR(VLOOKUP(G196,Tipo!$C$12:$C$27,1,FALSE),\"NO\"))","v":"Contratos interadministrativos"},"Funcionamiento",{"$f":"IF(ISBLANK(K196),1,IFERROR(VLOOKUP(K196,Eje_Pilar_Prop!C178:C279,1,FALSE),\"NO\"))","v":1},"SECOP II",1,"Bogotá Mejor para Todos"]
[184,2020,"SECOP II","ALPA-CD-184-2020","Contratos de prestación de servicios profesionales y de apoyo a la gestión","Contratación directa","Prestación de servicios profesionales y de apoyo a la gestión, o para la ejecución de trabajos artísticos que sólo puedan encomendarse a determinadas personas naturales;","El contratista se obliga con el Fondo de Desarrollo Local de Puente Aranda a Apoyar juridicamente la ejecucion de las acciones requeridas para el tramite e impulse procesal de las actuaciones contravencional^s y/o querellas que se cursen en las Inspecciones de Policla de la Localidad.","Inversión","Bogotá Mejor para Todos",45,{"$f":"IF(ISERROR(VLOOKUP(K197,Eje_Pilar_Prop!$C$2:$E$104,2,FALSE)),\" \",VLOOKUP(K197,Eje_Pilar_Prop!$C$2:$E$104,2,FALSE))","v":"Gobernanza e influencia local, regional e internacional"},{"$f":"IF(ISERROR(VLOOKUP(K197,Eje_Pilar_Prop!$C$2:$E$104,3,FALSE)),\" \",VLOOKUP(K197,Eje_Pilar_Prop!$C$2:$E$104,3,FALSE))","v":"Eje Transversal 4 Gobierno Legitimo, Fortalecimiento Local y Eficiencia"},"3-3-1-15-07- 45-1312-000 ",41774441,"CIELO PIEDAD HERRERA TRIANA",23500000,null,null,1,2819999,26319999,21620000,"2020-07-08","2020-07-13","2020-12-12",150,1,18,null,null,null,null,null,"X",null,null,0.82142860263786488,null,{"$f":"IF(SUMPRODUCT((A$14:A197=A197)*(B$14:B197=B197)*(D$14:D197=D197))>1,0,1)","v":1},"Contratos de prestación de servicios profesionales y de apoyo a la gestión","Contratación directa",{"$f":"IF(ISBLANK(G197),1,IFERROR(VLOOKUP(G197,Tipo!$C$12:$C$27,1,FALSE),\"NO\"))","v":"Prestación de servicios profesionales y de apoyo a la gestión, o para la ejecución de trabajos artísticos que sólo puedan encomendarse a determinadas personas naturales;"},"Inversión",{"$f":"IF(ISBLANK(K197),1,IFERROR(VLOOKUP(K197,Eje_Pilar_Prop!C179:C280,1,FALSE),\"NO\"))","v":"NO"},"SECOP II",1,"Bogotá Mejor para Todos"]
[185,2020,"SECOP II","ALPA-CD-185-2020","Contratos de prestación de servicios profesionales y de apoyo a la gestión","Contratación directa","Prestación de servicios profesionales y de apoyo a la gestión, o para la ejecución de trabajos artísticos que sólo puedan encomendarse a determinadas personas naturales;","El contratista se obliga con el Fondo de Desarrollo Local de Puente Aranda a apoyar el área de Gestión Policiva y Jurídica en el reparto y seguimiento de las actuaciones que se deriven de la aplicación de comparendos impuestos por la Policía Nacional","Inversión","Bogotá Mejor para Todos",45,{"$f":"IF(ISERROR(VLOOKUP(K198,Eje_Pilar_Prop!$C$2:$E$104,2,FALSE)),\" \",VLOOKUP(K198,Eje_Pilar_Prop!$C$2:$E$104,2,FALSE))","v":"Gobernanza e influencia local, regional e internacional"},{"$f":"IF(ISERROR(VLOOKUP(K198,Eje_Pilar_Prop!$C$2:$E$104,3,FALSE)),\" \",VLOOKUP(K198,Eje_Pilar_Prop!$C$2:$E$104,3,FALSE))","v":"Eje Transversal 4 Gobierno Legitimo, Fortalecimiento Local y Eficiencia"},"3-3-1-15-07- 45-1312-000 ",1033803220,"JUAN SEBASTIAN RENTERIA VARGAS",13000000,null,null,1,1820000,14820000,12220000,"2020-07-09","2020-07-10","2020-12-09",150,1,21,null,null,null,null,null,null,"X",null,0.82456140350877194,null,{"$f":"IF(SUMPRODUCT((A$14:A198=A198)*(B$14:B198=B198)*(D$14:D198=D198))>1,0,1)","v":1},"Contratos de prestación de servicios profesionales y de apoyo a la gestión","Contratación directa",{"$f":"IF(ISBLANK(G198),1,IFERROR(VLOOKUP(G198,Tipo!$C$12:$C$27,1,FALSE),\"NO\"))","v":"Prestación de servicios profesionales y de apoyo a la gestión, o para la ejecución de trabajos artísticos que sólo puedan encomendarse a determinadas personas naturales;"},"Inversión",{"$f":"IF(ISBLANK(K198),1,IFERROR(VLOOKUP(K198,Eje_Pilar_Prop!C180:C281,1,FALSE),\"NO\"))","v":"NO"},"SECOP II",1,"Bogotá Mejor para Todos"]
[186,2020,"SECOP II","ALPA-CD-186-2020","Contratos de prestación de servicios profesionales y de apoyo a la gestión","Contratación directa","Prestación de servicios profesionales y de apoyo a la gestión, o para la ejecución de trabajos artísticos que sólo puedan encomendarse a determinadas personas naturales;","El contratista se obliga con el Fondo de Desarrollo Local de Puente Aranda a apoyar administrativa y asistencialmente a las Inspecciones de Policia de la Localidad.","Inversión","Bogotá Mejor para Todos",45,{"$f":"IF(ISERROR(VLOOKUP(K199,Eje_Pilar_Prop!$C$2:$E$104,2,FALSE)),\" \",VLOOKUP(K199,Eje_Pilar_Prop!$C$2:$E$104,2,FALSE))","v":"Gobernanza e influencia local, regional e internacional"},{"$f":"IF(ISERROR(VLOOKUP(K199,Eje_Pilar_Prop!$C$2:$E$104,3,FALSE)),\" \",VLOOKUP(K199,Eje_Pilar_Prop!$C$2:$E$104,3,FALSE))","v":"Eje Transversal 4 Gobierno Legitimo, Fortalecimiento Local y Eficiencia"},"3-3-1-15-07- 45-1312-000 ",83167890,"HECTOR TOVAR ORDOÑEZ",13750000,null,null,null,null,13750000,null,"2020-07-09","2020-07-13","2020-12-12",165,null,null,null,null,null,null,null,null,"X",null,0,null,{"$f":"IF(SUMPRODUCT((A$14:A199=A199)*(B$14:B199=B199)*(D$14:D199=D199))>1,0,1)","v":1},"Contratos de prestación de servicios profesionales y de apoyo a la gestión","Contratación directa",{"$f":"IF(ISBLANK(G199),1,IFERROR(VLOOKUP(G199,Tipo!$C$12:$C$27,1,FALSE),\"NO\"))","v":"Prestación de servicios profesionales y de apoyo a la gestión, o para la ejecución de trabajos artísticos que sólo puedan encomendarse a determinadas personas naturales;"},"Inversión",{"$f":"IF(ISBLANK(K199),1,IFERROR(VLOOKUP(K199,Eje_Pilar_Prop!C181:C282,1,FALSE),\"NO\"))","v":"NO"},"SECOP II",1,"Bogotá Mejor para Todos"]
[187,2020,"SECOP II","ALPA-IPMC-005-2020","Contratos de prestación de servicios","Contratación mínima cuantia","No aplica","CONTRATAR PRESTACIÓN DE SERVICIOS DE APOYO METODOLÓGICO Y LOGÍSTICO PARA LA REALIZACIÓN DE LOS ENCUENTROS CIUDADANOS EN LA LOCALIDAD DE PUENTE ARANDA, EN EL MARCO DEL PROCESO DE FORMULACIÓN DEL PLAN DE DESARROLLO LOCAL 2021-2024","Inversión","Bogotá Mejor para Todos",45,{"$f":"IF(ISERROR(VLOOKUP(K200,Eje_Pilar_Prop!$C$2:$E$104,2,FALSE)),\" \",VLOOKUP(K200,Eje_Pilar_Prop!$C$2:$E$104,2,FALSE))","v":"Gobernanza e influencia local, regional e internacional"},{"$f":"IF(ISERROR(VLOOKUP(K200,Eje_Pilar_Prop!$C$2:$E$104,3,FALSE)),\" \",VLOOKUP(K200,Eje_Pilar_Prop!$C$2:$E$104,3,FALSE))","v":"Eje Transversal 4 Gobierno Legitimo, Fortalecimiento Local y Eficiencia"},"3-3-1-15-07-45-1289 -000",9003609485,"CORPORACIÓN COLECTIVO DIGERATI",23000000,null,null,null,null,23000000,null,"2020-07-08","2020-07-09","2020-08-08",30,1,30,null,null,null,null,null,null,"X",null,0,null,{"$f":"IF(SUMPRODUCT((A$14:A200=A200)*(B$14:B200=B200)*(D$14:D200=D200))>1,0,1)","v":1},"Contratos de prestación de servicios","Contratación mínima cuantia",{"$f":"IF(ISBLANK(G200),1,IFERROR(VLOOKUP(G200,Tipo!$C$12:$C$27,1,FALSE),\"NO\"))","v":"NO"},"Inversión",{"$f":"IF(ISBLANK(K200),1,IFERROR(VLOOKUP(K200,Eje_Pilar_Prop!C182:C283,1,FALSE),\"NO\"))","v":"NO"},"SECOP II",1,"Bogotá Mejor para Todos"]
[188,2020,"SECOP II","ALPA-CD-188-2020","Contratos de prestación de servicios profesionales y de apoyo a la gestión","Contratación directa","Prestación de servicios profesionales y de apoyo a la gestión, o para la ejecución de trabajos artísticos que sólo puedan encomendarse a determinadas personas naturales;","El contrato que se pretende celebrar, tendra por objeto Apoyar juridicamente la ejecucion de las acciones requeridas para el tramite e impulse procesal de las actuaciones contravencionales y/o querellas que se cursen en las Inspecciones de Policia de la Localidad","Inversión","Bogotá Mejor para Todos",45,{"$f":"IF(ISERROR(VLOOKUP(K201,Eje_Pilar_Prop!$C$2:$E$104,2,FALSE)),\" \",VLOOKUP(K201,Eje_Pilar_Prop!$C$2:$E$104,2,FALSE))","v":"Gobernanza e influencia local, regional e internacional"},{"$f":"IF(ISERROR(VLOOKUP(K201,Eje_Pilar_Prop!$C$2:$E$104,3,FALSE)),\" \",VLOOKUP(K201,Eje_Pilar_Prop!$C$2:$E$104,3,FALSE))","v":"Eje Transversal 4 Gobierno Legitimo, Fortalecimiento Local y Eficiencia"},"3-3-1-15-07- 45-1312-000 ",85477211,"JOSE JAIRO DELGADO ZABALA",23500000,null,null,1,3290000,26790000,25380000,"2020-07-09","2020-07-10","2020-12-09",150,1,21,null,null,null,null,null,null,"X",null,0.94736842105263153,null,{"$f":"IF(SUMPRODUCT((A$14:A201=A201)*(B$14:B201=B201)*(D$14:D201=D201))>1,0,1)","v":1},"Contratos de prestación de servicios profesionales y de apoyo a la gestión","Contratación directa",{"$f":"IF(ISBLANK(G201),1,IFERROR(VLOOKUP(G201,Tipo!$C$12:$C$27,1,FALSE),\"NO\"))","v":"Prestación de servicios profesionales y de apoyo a la gestión, o para la ejecución de trabajos artísticos que sólo puedan encomendarse a determinadas personas naturales;"},"Inversión",{"$f":"IF(ISBLANK(K201),1,IFERROR(VLOOKUP(K201,Eje_Pilar_Prop!C183:C284,1,FALSE),\"NO\"))","v":"NO"},"SECOP II",1,"Bogotá Mejor para Todos"]
[189,2020,"SECOP II","ALPA-CD-189-2020","Contratos de prestación de servicios profesionales y de apoyo a la gestión","Contratación directa","Prestación de servicios profesionales y de apoyo a la gestión, o para la ejecución de trabajos artísticos que sólo puedan encomendarse a determinadas personas naturales;","El contratista se obliga con el Fondo de Desarrollo Local de Puente Aranda a prestar sus servicios profesionales en el Area de Gestion del Desarrollo Local necesarios para adelantar los procesos contractuales de los recursos de funcionamiento, as! como seguimiento al PAA para verificar la oportuna y adecuada atencion de las necesidades de la Entidad, de conformidad con los estudios previos","Inversión","Bogotá Mejor para Todos",45,{"$f":"IF(ISERROR(VLOOKUP(K202,Eje_Pilar_Prop!$C$2:$E$104,2,FALSE)),\" \",VLOOKUP(K202,Eje_Pilar_Prop!$C$2:$E$104,2,FALSE))","v":"Gobernanza e influencia local, regional e internacional"},{"$f":"IF(ISERROR(VLOOKUP(K202,Eje_Pilar_Prop!$C$2:$E$104,3,FALSE)),\" \",VLOOKUP(K202,Eje_Pilar_Prop!$C$2:$E$104,3,FALSE))","v":"Eje Transversal 4 Gobierno Legitimo, Fortalecimiento Local y Eficiencia"},"3-3-1-15-07- 45-1312-000 ",1033731351,"HAROL EDUARDO CASTRO ",22000000,null,null,1,4400000,26400000,null,"2020-07-09","2020-07-13","2020-12-27",165,1,33,null,null,null,null,null,"X",null,null,0,null,{"$f":"IF(SUMPRODUCT((A$14:A202=A202)*(B$14:B202=B202)*(D$14:D202=D202))>1,0,1)","v":1},"Contratos de prestación de servicios profesionales y de apoyo a la gestión","Contratación directa",{"$f":"IF(ISBLANK(G202),1,IFERROR(VLOOKUP(G202,Tipo!$C$12:$C$27,1,FALSE),\"NO\"))","v":"Prestación de servicios profesionales y de apoyo a la gestión, o para la ejecución de trabajos artísticos que sólo puedan encomendarse a determinadas personas naturales;"},"Inversión",{"$f":"IF(ISBLANK(K202),1,IFERROR(VLOOKUP(K202,Eje_Pilar_Prop!C184:C285,1,FALSE),\"NO\"))","v":"NO"},"SECOP II",1,"Bogotá Mejor para Todos"]
[190,2020,"SECOP II","ALPA-CD-190-2020","Contratos de prestación de servicios profesionales y de apoyo a la gestión","Contratación directa","Prestación de servicios profesionales y de apoyo a la gestión, o para la ejecución de trabajos artísticos que sólo puedan encomendarse a determinadas personas naturales;","El contratista se obliga con el Fondo de Desarrollo Local de Puente Aranda a prestar los servicios profesionales requeridos para apoyar la formulación, proceso de contratación, evaluación y seguimiento de proyectos incluidos en el Plan de Desarrollo Local vigente así como liquidación de los contratos suscritos para su ejecución, para asegurar la adecuada inversión de recursos locales y el cumplimiento de las metas del mismo, en lo referente al proyecto 1309 Puente Aranda cultural y deportiva par","Inversión","Bogotá Mejor para Todos",45,{"$f":"IF(ISERROR(VLOOKUP(K203,Eje_Pilar_Prop!$C$2:$E$104,2,FALSE)),\" \",VLOOKUP(K203,Eje_Pilar_Prop!$C$2:$E$104,2,FALSE))","v":"Gobernanza e influencia local, regional e internacional"},{"$f":"IF(ISERROR(VLOOKUP(K203,Eje_Pilar_Prop!$C$2:$E$104,3,FALSE)),\" \",VLOOKUP(K203,Eje_Pilar_Prop!$C$2:$E$104,3,FALSE))","v":"Eje Transversal 4 Gobierno Legitimo, Fortalecimiento Local y Eficiencia"},"3-3-1-15-07-45-1309-090 ",1013633328,"CARLA VIVIANA FERNANDEZ",25850000,null,null,1,5013333,30863333,null,"2020-07-13","2020-07-14","2020-12-28",165,1,32,null,null,null,null,null,"X",null,null,0,null,{"$f":"IF(SUMPRODUCT((A$14:A203=A203)*(B$14:B203=B203)*(D$14:D203=D203))>1,0,1)","v":1},"Contratos de prestación de servicios profesionales y de apoyo a la gestión","Contratación directa",{"$f":"IF(ISBLANK(G203),1,IFERROR(VLOOKUP(G203,Tipo!$C$12:$C$27,1,FALSE),\"NO\"))","v":"Prestación de servicios profesionales y de apoyo a la gestión, o para la ejecución de trabajos artísticos que sólo puedan encomendarse a determinadas personas naturales;"},"Inversión",{"$f":"IF(ISBLANK(K203),1,IFERROR(VLOOKUP(K203,Eje_Pilar_Prop!C185:C286,1,FALSE),\"NO\"))","v":"NO"},"SECOP II",1,"Bogotá Mejor para Todos"]
[191,2020,"SECOP II","ALPA-CD-191-2020","Contratos de prestación de servicios profesionales y de apoyo a la gestión","Contratación directa","Prestación de servicios profesionales y de apoyo a la gestión, o para la ejecución de trabajos artísticos que sólo puedan encomendarse a determinadas personas naturales;","El contratista se obliga con el Fondo de Desarrollo Local a prestar sus servicios para apoyar al equipo de prensa y comunicaciones de la Alcaldía Local en la realización y publicación de contenidos de redes sociales y canales de divulgación digital (sitio web) de la Alcaldía local, conforme los estudios previos","Inversión","Bogotá Mejor para Todos",45,{"$f":"IF(ISERROR(VLOOKUP(K204,Eje_Pilar_Prop!$C$2:$E$104,2,FALSE)),\" \",VLOOKUP(K204,Eje_Pilar_Prop!$C$2:$E$104,2,FALSE))","v":"Gobernanza e influencia local, regional e internacional"},{"$f":"IF(ISERROR(VLOOKUP(K204,Eje_Pilar_Prop!$C$2:$E$104,3,FALSE)),\" \",VLOOKUP(K204,Eje_Pilar_Prop!$C$2:$E$104,3,FALSE))","v":"Eje Transversal 4 Gobierno Legitimo, Fortalecimiento Local y Eficiencia"},"3-3-1-15-07- 45-1312-000 ",1073244984,"EDISON ALEJANDRO AGUDELO ",23100000,null,null,1,4480000,27580000,null,"2020-07-13","2020-07-14","2020-12-28",165,1,32,null,null,null,null,null,"X",null,null,0,null,{"$f":"IF(SUMPRODUCT((A$14:A204=A204)*(B$14:B204=B204)*(D$14:D204=D204))>1,0,1)","v":1},"Contratos de prestación de servicios profesionales y de apoyo a la gestión","Contratación directa",{"$f":"IF(ISBLANK(G204),1,IFERROR(VLOOKUP(G204,Tipo!$C$12:$C$27,1,FALSE),\"NO\"))","v":"Prestación de servicios profesionales y de apoyo a la gestión, o para la ejecución de trabajos artísticos que sólo puedan encomendarse a determinadas personas naturales;"},"Inversión",{"$f":"IF(ISBLANK(K204),1,IFERROR(VLOOKUP(K204,Eje_Pilar_Prop!C186:C287,1,FALSE),\"NO\"))","v":"NO"},"SECOP II",1,"Bogotá Mejor para Todos"]
[192,2020,"SECOP II","ALPA-CD-192-2020","Contratos de prestación de servicios profesionales y de apoyo a la gestión","Contratación directa","Prestación de servicios profesionales y de apoyo a la gestión, o para la ejecución de trabajos artísticos que sólo puedan encomendarse a determinadas personas naturales;","El Contratista se obliga con el Fondo de Desarrollo Local a prestar sus servicios profesionales apoyando tecnicamente las distintas etapas de los procesos de competencias de la Alcaldia Local para la depuracion de actuaciones administrativas, de acuerdo con los estudios previos.","Inversión","Bogotá Mejor para Todos",45,{"$f":"IF(ISERROR(VLOOKUP(K205,Eje_Pilar_Prop!$C$2:$E$104,2,FALSE)),\" \",VLOOKUP(K205,Eje_Pilar_Prop!$C$2:$E$104,2,FALSE))","v":"Gobernanza e influencia local, regional e internacional"},{"$f":"IF(ISERROR(VLOOKUP(K205,Eje_Pilar_Prop!$C$2:$E$104,3,FALSE)),\" \",VLOOKUP(K205,Eje_Pilar_Prop!$C$2:$E$104,3,FALSE))","v":"Eje Transversal 4 Gobierno Legitimo, Fortalecimiento Local y Eficiencia"},"3-3-1-15-07- 45-1312-000 ",80851712,"CARLOS ARLEY NIÑO ",28600000,null,null,null,null,28600000,null,"2020-07-09","2020-07-13","2020-12-27",165,null,null,null,null,null,null,null,null,"X",null,0,null,{"$f":"IF(SUMPRODUCT((A$14:A205=A205)*(B$14:B205=B205)*(D$14:D205=D205))>1,0,1)","v":1},"Contratos de prestación de servicios profesionales y de apoyo a la gestión","Contratación directa",{"$f":"IF(ISBLANK(G205),1,IFERROR(VLOOKUP(G205,Tipo!$C$12:$C$27,1,FALSE),\"NO\"))","v":"Prestación de servicios profesionales y de apoyo a la gestión, o para la ejecución de trabajos artísticos que sólo puedan encomendarse a determinadas personas naturales;"},"Inversión",{"$f":"IF(ISBLANK(K205),1,IFERROR(VLOOKUP(K205,Eje_Pilar_Prop!C187:C288,1,FALSE),\"NO\"))","v":"NO"},"SECOP II",1,"Bogotá Mejor para Todos"]
[193,2020,"SECOP II","ALPA-CD-193-2020","Contratos de prestación de servicios profesionales y de apoyo a la gestión","Contratación directa","Prestación de servicios profesionales y de apoyo a la gestión, o para la ejecución de trabajos artísticos que sólo puedan encomendarse a determinadas personas naturales;","El Contratista se obliga con el Fondo de Desarrollo Local de la Alcaldia Local de Puente Aranda a prestar el servicio de conduccibn para los vehiculos propiedad del Fondo de Desarrollo Local y los que se le asignen, de conformidad con los estudios previos","Inversión","Bogotá Mejor para Todos",45,{"$f":"IF(ISERROR(VLOOKUP(K206,Eje_Pilar_Prop!$C$2:$E$104,2,FALSE)),\" \",VLOOKUP(K206,Eje_Pilar_Prop!$C$2:$E$104,2,FALSE))","v":"Gobernanza e influencia local, regional e internacional"},{"$f":"IF(ISERROR(VLOOKUP(K206,Eje_Pilar_Prop!$C$2:$E$104,3,FALSE)),\" \",VLOOKUP(K206,Eje_Pilar_Prop!$C$2:$E$104,3,FALSE))","v":"Eje Transversal 4 Gobierno Legitimo, Fortalecimiento Local y Eficiencia"},"3-3-1-15-07- 45-1312-000 ",79109455,"PEDRO PABLO DUARTE URIZA",12500000,null,null,null,null,12500000,null,"2020-07-28","2020-07-30","2020-12-29",150,null,null,null,null,null,null,null,null,"X",null,0,null,{"$f":"IF(SUMPRODUCT((A$14:A206=A206)*(B$14:B206=B206)*(D$14:D206=D206))>1,0,1)","v":1},"Contratos de prestación de servicios profesionales y de apoyo a la gestión","Contratación directa",{"$f":"IF(ISBLANK(G206),1,IFERROR(VLOOKUP(G206,Tipo!$C$12:$C$27,1,FALSE),\"NO\"))","v":"Prestación de servicios profesionales y de apoyo a la gestión, o para la ejecución de trabajos artísticos que sólo puedan encomendarse a determinadas personas naturales;"},"Inversión",{"$f":"IF(ISBLANK(K206),1,IFERROR(VLOOKUP(K206,Eje_Pilar_Prop!C188:C289,1,FALSE),\"NO\"))","v":"NO"},"SECOP II",1,{"$f":"IF(ISBLANK(J206),1,IFERROR(VLOOKUP(J206,pdd,1,FALSE),\"NO\"))","v":"Bogotá Mejor para Todos"}]
[194,2020,"SECOP II","ALPA-CD-194-2020","Contratos de prestación de servicios profesionales y de apoyo a la gestión","Contratación directa","Prestación de servicios profesionales y de apoyo a la gestión, o para la ejecución de trabajos artísticos que sólo puedan encomendarse a determinadas personas naturales;","El contratista se obliga con el Fondo de Desarrollo Local de Puente Aranda a Prestar servicios profesionales para apoyar el area de gestion del desarrollo local y realizar la solicitud de cotizaciones, unificacion de canasta de precios y analisis de precios de mercado, de todos los proyectos de la entidad.","Inversión","Bogotá Mejor para Todos",45,{"$f":"IF(ISERROR(VLOOKUP(K207,Eje_Pilar_Prop!$C$2:$E$104,2,FALSE)),\" \",VLOOKUP(K207,Eje_Pilar_Prop!$C$2:$E$104,2,FALSE))","v":"Gobernanza e influencia local, regional e internacional"},{"$f":"IF(ISERROR(VLOOKUP(K207,Eje_Pilar_Prop!$C$2:$E$104,3,FALSE)),\" \",VLOOKUP(K207,Eje_Pilar_Prop!$C$2:$E$104,3,FALSE))","v":"Eje Transversal 4 Gobierno Legitimo, Fortalecimiento Local y Eficiencia"},"3-3-1-15-07- 45-1312-000 ",80055320,"HUMBERTO HORACIO DEMOYA MORALES",22000000,null,null,null,null,22000000,null," 9/07/2020","2020-07-13","2020-12-27",150,null,null,null,null,null,null,null,null,"X",null,0,null,{"$f":"IF(SUMPRODUCT((A$14:A207=A207)*(B$14:B207=B207)*(D$14:D207=D207))>1,0,1)","v":1},"Contratos de prestación de servicios profesionales y de apoyo a la gestión","Contratación directa",{"$f":"IF(ISBLANK(G207),1,IFERROR(VLOOKUP(G207,Tipo!$C$12:$C$27,1,FALSE),\"NO\"))","v":"Prestación de servicios profesionales y de apoyo a la gestión, o para la ejecución de trabajos artísticos que sólo puedan encomendarse a determinadas personas naturales;"},"Inversión",{"$f":"IF(ISBLANK(K207),1,IFERROR(VLOOKUP(K207,Eje_Pilar_Prop!C189:C290,1,FALSE),\"NO\"))","v":"NO"},"SECOP II",{"$error":"#VALUE!"},"Bogotá Mejor para Todos"]
[195,2020,"SECOP II","ALPA-CD-195-2020","Contratos de prestación de servicios profesionales y de apoyo a la gestión","Contratación directa","Prestación de servicios profesionales y de apoyo a la gestión, o para la ejecución de trabajos artísticos que sólo puedan encomendarse a determinadas personas naturales;","El contratista se obliga con el Fondo de Desarrollo Local de la Alcaldia de Puente Aranda a prestar sus servicios profesionales para: Apoyar juridicamente la ejecucion de las acciones requeridas y necesidades que se deriven de la aplicacion de las previsiones de la Ley 675 de 2001 o la que haga sus veces","Inversión","Bogotá Mejor para Todos",45,{"$f":"IF(ISERROR(VLOOKUP(K208,Eje_Pilar_Prop!$C$2:$E$104,2,FALSE)),\" \",VLOOKUP(K208,Eje_Pilar_Prop!$C$2:$E$104,2,FALSE))","v":"Gobernanza e influencia local, regional e internacional"},{"$f":"IF(ISERROR(VLOOKUP(K208,Eje_Pilar_Prop!$C$2:$E$104,3,FALSE)),\" \",VLOOKUP(K208,Eje_Pilar_Prop!$C$2:$E$104,3,FALSE))","v":"Eje Transversal 4 Gobierno Legitimo, Fortalecimiento Local y Eficiencia"},"3-3-1-15-07- 45-1312-000 ",79405329,"JORGE ENRIQUE GONZALEZ ARIAS",23500000,null,null,1,2663322,26163322,null,"2020-07-10","2020-07-14","2020-12-13",150,1,18,null,null,null,null,null,"X",null,null,0,null,{"$f":"IF(SUMPRODUCT((A$14:A208=A208)*(B$14:B208=B208)*(D$14:D208=D208))>1,0,1)","v":1},"Contratos de prestación de servicios profesionales y de apoyo a la gestión","Contratación directa",{"$f":"IF(ISBLANK(G208),1,IFERROR(VLOOKUP(G208,Tipo!$C$12:$C$27,1,FALSE),\"NO\"))","v":"Prestación de servicios profesionales y de apoyo a la gestión, o para la ejecución de trabajos artísticos que sólo puedan encomendarse a determinadas personas naturales;"},"Inversión",{"$f":"IF(ISBLANK(K208),1,IFERROR(VLOOKUP(K208,Eje_Pilar_Prop!C190:C291,1,FALSE),\"NO\"))","v":"NO"},"SECOP II",1,"Bogotá Mejor para Todos"]
[196,2020,"SECOP II","ALPA-CD-196-2020","Contratos de prestación de servicios profesionales y de apoyo a la gestión","Contratación directa","Prestación de servicios profesionales y de apoyo a la gestión, o para la ejecución de trabajos artísticos que sólo puedan encomendarse a determinadas personas naturales;","El contrato que se pretende celebrar, tendrá por objeto El contratista se obliga con el Fondo de Desarrollo Local de Puente Aranda a prestar sus servicios profesionales brindado apoyo jurídico en él Área de Gestión para el Desarrollo Local, en los aspectos precontractuales, contractuales y post-contractuales que se adelanten en la Entidad.","Inversión","Bogotá Mejor para Todos",45,{"$f":"IF(ISERROR(VLOOKUP(K209,Eje_Pilar_Prop!$C$2:$E$104,2,FALSE)),\" \",VLOOKUP(K209,Eje_Pilar_Prop!$C$2:$E$104,2,FALSE))","v":"Gobernanza e influencia local, regional e internacional"},{"$f":"IF(ISERROR(VLOOKUP(K209,Eje_Pilar_Prop!$C$2:$E$104,3,FALSE)),\" \",VLOOKUP(K209,Eje_Pilar_Prop!$C$2:$E$104,3,FALSE))","v":"Eje Transversal 4 Gobierno Legitimo, Fortalecimiento Local y Eficiencia"},"3-3-1-15-07- 45-1312-000 ",40800318,"JULIETA VENCE MENDOZA",30000000,null,null,1,9400000,39400000,null,"2020-07-09","2020-07-14","2020-12-13",150,1,47,43259788,"MARIA MAGDALENA POLACO ECHEVERRI","2020-11-26",3400000,null,"X",null,null,0,null,{"$f":"IF(SUMPRODUCT((A$14:A209=A209)*(B$14:B209=B209)*(D$14:D209=D209))>1,0,1)","v":1},"Contratos de prestación de servicios profesionales y de apoyo a la gestión","Contratación directa",{"$f":"IF(ISBLANK(G209),1,IFERROR(VLOOKUP(G209,Tipo!$C$12:$C$27,1,FALSE),\"NO\"))","v":"Prestación de servicios profesionales y de apoyo a la gestión, o para la ejecución de trabajos artísticos que sólo puedan encomendarse a determinadas personas naturales;"},"Inversión",{"$f":"IF(ISBLANK(K209),1,IFERROR(VLOOKUP(K209,Eje_Pilar_Prop!C191:C292,1,FALSE),\"NO\"))","v":"NO"},"SECOP II",1,"Bogotá Mejor para Todos"]
[197,2020,"SECOP II","ALPA-CD-197-2020","Contratos de prestación de servicios profesionales y de apoyo a la gestión","Contratación directa","Prestación de servicios profesionales y de apoyo a la gestión, o para la ejecución de trabajos artísticos que sólo puedan encomendarse a determinadas personas naturales;","La prestacion de servicios tecnicos para apoyar al promotor de la mejora en los procesos de implementacion de herramientas de gestion, siguiendo los lineamientos metodologicos establecidos por la Oficina Asesora de Planeacion de la Secretaria Distrital de Gobierno en el Fondo de Desarrollo Local de Puente Aranda, de acuerdo con los estudios previos","Inversión","Bogotá Mejor para Todos",45,{"$f":"IF(ISERROR(VLOOKUP(K210,Eje_Pilar_Prop!$C$2:$E$104,2,FALSE)),\" \",VLOOKUP(K210,Eje_Pilar_Prop!$C$2:$E$104,2,FALSE))","v":"Gobernanza e influencia local, regional e internacional"},{"$f":"IF(ISERROR(VLOOKUP(K210,Eje_Pilar_Prop!$C$2:$E$104,3,FALSE)),\" \",VLOOKUP(K210,Eje_Pilar_Prop!$C$2:$E$104,3,FALSE))","v":"Eje Transversal 4 Gobierno Legitimo, Fortalecimiento Local y Eficiencia"},"3-3-1-15-07- 45-1312-000 ",52816765,"MARIA JIMENA DIAZ DIAZ",14000000,null,null,1,4293333,18293333,16986666,"2020-07-14","2020-07-15","2020-12-14",150,1,46,null,null,null,null,null,"X",null,null,0.92857140904831281,null,{"$f":"IF(SUMPRODUCT((A$14:A210=A210)*(B$14:B210=B210)*(D$14:D210=D210))>1,0,1)","v":1},"Contratos de prestación de servicios profesionales y de apoyo a la gestión","Contratación directa",{"$f":"IF(ISBLANK(G210),1,IFERROR(VLOOKUP(G210,Tipo!$C$12:$C$27,1,FALSE),\"NO\"))","v":"Prestación de servicios profesionales y de apoyo a la gestión, o para la ejecución de trabajos artísticos que sólo puedan encomendarse a determinadas personas naturales;"},"Inversión",{"$f":"IF(ISBLANK(K210),1,IFERROR(VLOOKUP(K210,Eje_Pilar_Prop!C192:C293,1,FALSE),\"NO\"))","v":"NO"},"SECOP II",1,"Bogotá Mejor para Todos"]
[198,2020,"SECOP II","ALPA-CD-198-2020","Contratos de prestación de servicios profesionales y de apoyo a la gestión","Contratación directa","Prestación de servicios profesionales y de apoyo a la gestión, o para la ejecución de trabajos artísticos que sólo puedan encomendarse a determinadas personas naturales;","El contratista se obliga con el Fondo de Desarrollo Local de Puente Aranda a prestar los servicios profesionales para apoyar la formulacion, ejecucion, seguimiento y mejora continua de las herramientas que conforman la Gestion Ambiental Institucional de la Alcaldia Local, de acuerdo con los estudios previos","Inversión","Bogotá Mejor para Todos",45,{"$f":"IF(ISERROR(VLOOKUP(K211,Eje_Pilar_Prop!$C$2:$E$104,2,FALSE)),\" \",VLOOKUP(K211,Eje_Pilar_Prop!$C$2:$E$104,2,FALSE))","v":"Gobernanza e influencia local, regional e internacional"},{"$f":"IF(ISERROR(VLOOKUP(K211,Eje_Pilar_Prop!$C$2:$E$104,3,FALSE)),\" \",VLOOKUP(K211,Eje_Pilar_Prop!$C$2:$E$104,3,FALSE))","v":"Eje Transversal 4 Gobierno Legitimo, Fortalecimiento Local y Eficiencia"},"3-3-1-15-07- 45-1312-000 ",52737408,"NADIA YELENA VEGA RODRIGUEZ",23500000,null,null,1,7206667,30706667,null,"2020-07-14","2020-07-15","2020-12-14",150,1,46,null,null,null,null,null,"X",null,null,0,null,{"$f":"IF(SUMPRODUCT((A$14:A211=A211)*(B$14:B211=B211)*(D$14:D211=D211))>1,0,1)","v":1},"Contratos de prestación de servicios profesionales y de apoyo a la gestión","Contratación directa",{"$f":"IF(ISBLANK(G211),1,IFERROR(VLOOKUP(G211,Tipo!$C$12:$C$27,1,FALSE),\"NO\"))","v":"Prestación de servicios profesionales y de apoyo a la gestión, o para la ejecución de trabajos artísticos que sólo puedan encomendarse a determinadas personas naturales;"},"Inversión",{"$f":"IF(ISBLANK(K211),1,IFERROR(VLOOKUP(K211,Eje_Pilar_Prop!C193:C294,1,FALSE),\"NO\"))","v":"NO"},"SECOP II",1,"Bogotá Mejor para Todos"]
[199,2020,"SECOP II","ALPA-CD-199-2020","Contratos de prestación de servicios profesionales y de apoyo a la gestión","Contratación directa","Prestación de servicios profesionales y de apoyo a la gestión, o para la ejecución de trabajos artísticos que sólo puedan encomendarse a determinadas personas naturales;","El contratista se obliga con el Fondo de Desarrollo Local a prestar sus servicios de Apoyo a la gestidn del Proyecto Punto Vive Digital de la localidad de Puente Aranda ” de acuerdo a los estudios previos","Inversión","Bogotá Mejor para Todos",45,{"$f":"IF(ISERROR(VLOOKUP(K212,Eje_Pilar_Prop!$C$2:$E$104,2,FALSE)),\" \",VLOOKUP(K212,Eje_Pilar_Prop!$C$2:$E$104,2,FALSE))","v":"Gobernanza e influencia local, regional e internacional"},{"$f":"IF(ISERROR(VLOOKUP(K212,Eje_Pilar_Prop!$C$2:$E$104,3,FALSE)),\" \",VLOOKUP(K212,Eje_Pilar_Prop!$C$2:$E$104,3,FALSE))","v":"Eje Transversal 4 Gobierno Legitimo, Fortalecimiento Local y Eficiencia"},"3-3-1-15-07- 45-1312-000 ",1143331060,"PABLO ANDRES MONTIEL BELTRAN",14500000,null,null,1,4446667,18946667,17593333,"2020-07-14","2020-07-15","2020-12-14",150,1,46,null,null,null,null,null,"X",null,null,0.9285713946416011,null,{"$f":"IF(SUMPRODUCT((A$14:A212=A212)*(B$14:B212=B212)*(D$14:D212=D212))>1,0,1)","v":1},"Contratos de prestación de servicios profesionales y de apoyo a la gestión","Contratación directa",{"$f":"IF(ISBLANK(G212),1,IFERROR(VLOOKUP(G212,Tipo!$C$12:$C$27,1,FALSE),\"NO\"))","v":"Prestación de servicios profesionales y de apoyo a la gestión, o para la ejecución de trabajos artísticos que sólo puedan encomendarse a determinadas personas naturales;"},"Inversión",{"$f":"IF(ISBLANK(K212),1,IFERROR(VLOOKUP(K212,Eje_Pilar_Prop!C194:C295,1,FALSE),\"NO\"))","v":"NO"},"SECOP II",1,"Bogotá Mejor para Todos"]
[200,2020,"SECOP II","ALPA-CD-200-2020","Contratos de prestación de servicios profesionales y de apoyo a la gestión","Contratación directa","Prestación de servicios profesionales y de apoyo a la gestión, o para la ejecución de trabajos artísticos que sólo puedan encomendarse a determinadas personas naturales;","El contratista se obliga con el Fondo de Desarrollo Local de Puente Aranda a apoyar admiryistrativa y asistencialmente a las Inspecciones de Policía de la localidad","Inversión","Bogotá Mejor para Todos",45,{"$f":"IF(ISERROR(VLOOKUP(K213,Eje_Pilar_Prop!$C$2:$E$104,2,FALSE)),\" \",VLOOKUP(K213,Eje_Pilar_Prop!$C$2:$E$104,2,FALSE))","v":"Gobernanza e influencia local, regional e internacional"},{"$f":"IF(ISERROR(VLOOKUP(K213,Eje_Pilar_Prop!$C$2:$E$104,3,FALSE)),\" \",VLOOKUP(K213,Eje_Pilar_Prop!$C$2:$E$104,3,FALSE))","v":"Eje Transversal 4 Gobierno Legitimo, Fortalecimiento Local y Eficiencia"},"3-3-1-15-07- 45-1312-000 ",1020465237,"SAMAY STEFANY GONZALEZ TABORDA",12500000,null,null,1,2833333,15333333,null,"2020-07-15","2020-07-27","2020-12-26",150,1,34,null,null,null,null,null,"X",null,null,0,null,{"$f":"IF(SUMPRODUCT((A$14:A213=A213)*(B$14:B213=B213)*(D$14:D213=D213))>1,0,1)","v":1},"Contratos de prestación de servicios profesionales y de apoyo a la gestión","Contratación directa",{"$f":"IF(ISBLANK(G213),1,IFERROR(VLOOKUP(G213,Tipo!$C$12:$C$27,1,FALSE),\"NO\"))","v":"Prestación de servicios profesionales y de apoyo a la gestión, o para la ejecución de trabajos artísticos que sólo puedan encomendarse a determinadas personas naturales;"},"Inversión",{"$f":"IF(ISBLANK(K213),1,IFERROR(VLOOKUP(K213,Eje_Pilar_Prop!C195:C296,1,FALSE),\"NO\"))","v":"NO"},{"$f":"IF(ISBLANK(C213),1,IFERROR(VLOOKUP(C213,SECOP,1,FALSE),\"NO\"))","v":"SECOP II"},1,"Bogotá Mejor para Todos"]
[201,2020,"SECOP II","ALPA-CD-201-2020","Contratos de prestación de servicios profesionales y de apoyo a la gestión","Contratación directa","Prestación de servicios profesionales y de apoyo a la gestión, o para la ejecución de trabajos artísticos que sólo puedan encomendarse a determinadas personas naturales;","El contratista se obliga con el Fondo de Desarrollo Local de la Alcaldia de Puente Aranda a prestar sus servicios profesionales para: Apoyar juridicamente la ejecucion de las acciones requeridas para la depuracion de las actuaciones administrativas que cursan en la Alcaldia Loca","Inversión","Bogotá Mejor para Todos",45,{"$f":"IF(ISERROR(VLOOKUP(K214,Eje_Pilar_Prop!$C$2:$E$104,2,FALSE)),\" \",VLOOKUP(K214,Eje_Pilar_Prop!$C$2:$E$104,2,FALSE))","v":"Gobernanza e influencia local, regional e internacional"},{"$f":"IF(ISERROR(VLOOKUP(K214,Eje_Pilar_Prop!$C$2:$E$104,3,FALSE)),\" \",VLOOKUP(K214,Eje_Pilar_Prop!$C$2:$E$104,3,FALSE))","v":"Eje Transversal 4 Gobierno Legitimo, Fortalecimiento Local y Eficiencia"},"3-3-1-15-07- 45-1312-000 ",52790989,"SANDRA MILENA MURCIA DURAN",25067000,null,null,1,4700000,29767000,null,"2020-07-15","2020-07-21","2020-12-30",160,1,30,null,null,null,null,null,"X",null,null,0,null,{"$f":"IF(SUMPRODUCT((A$14:A214=A214)*(B$14:B214=B214)*(D$14:D214=D214))>1,0,1)","v":1},"Contratos de prestación de servicios profesionales y de apoyo a la gestión","Contratación directa",{"$f":"IF(ISBLANK(G214),1,IFERROR(VLOOKUP(G214,Tipo!$C$12:$C$27,1,FALSE),\"NO\"))","v":"Prestación de servicios profesionales y de apoyo a la gestión, o para la ejecución de trabajos artísticos que sólo puedan encomendarse a determinadas personas naturales;"},"Inversión",{"$f":"IF(ISBLANK(K214),1,IFERROR(VLOOKUP(K214,Eje_Pilar_Prop!C196:C297,1,FALSE),\"NO\"))","v":"NO"},"SECOP II",1,"Bogotá Mejor para Todos"]
[202,2020,"SECOP II","ALPA-CD-202-2020","Contratos de prestación de servicios profesionales y de apoyo a la gestión","Contratación directa","Prestación de servicios profesionales y de apoyo a la gestión, o para la ejecución de trabajos artísticos que sólo puedan encomendarse a determinadas personas naturales;","El contratista se obliga con el Fondo de Desarrollo Local de Puente Aranda a prestar los servicios profesionales para apoyar la formulación, proceso de contratación, evaluación, seguimiento y liquidación de proyectos incluidos en el plan de desarrollo local vigente, para asegurar la adecuada inversión de recursos locales y el cumplimiento de las metas del mismo, en lo referente a la autonomía y a la calidad de vida de las personas con discapacidad y sus cuidadores o en situación de pobreza extre","Inversión","Bogotá Mejor para Todos",45,{"$f":"IF(ISERROR(VLOOKUP(K215,Eje_Pilar_Prop!$C$2:$E$104,2,FALSE)),\" \",VLOOKUP(K215,Eje_Pilar_Prop!$C$2:$E$104,2,FALSE))","v":"Gobernanza e influencia local, regional e internacional"},{"$f":"IF(ISERROR(VLOOKUP(K215,Eje_Pilar_Prop!$C$2:$E$104,3,FALSE)),\" \",VLOOKUP(K215,Eje_Pilar_Prop!$C$2:$E$104,3,FALSE))","v":"Eje Transversal 4 Gobierno Legitimo, Fortalecimiento Local y Eficiencia"},"3-3-1-15-01-03-1308-000 ",74080099,"HECTOR MAURICIO CARRILLO SILVA",25850000,null,null,1,4700000,30550000,null,"2020-07-15","2020-07-16","2020-12-30",165,null,null,null,null,null,null,null,"X",null,null,0,null,{"$f":"IF(SUMPRODUCT((A$14:A215=A215)*(B$14:B215=B215)*(D$14:D215=D215))>1,0,1)","v":1},"Contratos de prestación de servicios profesionales y de apoyo a la gestión","Contratación directa",{"$f":"IF(ISBLANK(G215),1,IFERROR(VLOOKUP(G215,Tipo!$C$12:$C$27,1,FALSE),\"NO\"))","v":"Prestación de servicios profesionales y de apoyo a la gestión, o para la ejecución de trabajos artísticos que sólo puedan encomendarse a determinadas personas naturales;"},"Inversión",{"$f":"IF(ISBLANK(K215),1,IFERROR(VLOOKUP(K215,Eje_Pilar_Prop!C197:C298,1,FALSE),\"NO\"))","v":"NO"},"SECOP II",1,"Bogotá Mejor para Todos"]
[203,2020,"SECOP II","ALPA-CD-203-2020","Contratos de prestación de servicios profesionales y de apoyo a la gestión","Contratación directa","Prestación de servicios profesionales y de apoyo a la gestión, o para la ejecución de trabajos artísticos que sólo puedan encomendarse a determinadas personas naturales;","El Contratista se obliga con el Fondo de Desarrollo Local a prestar sus servicios profesionales apoyando tecnicamente las distintas etapas de los procesos de competencias de la Alcaldia Local para la depuracion de actuaciones administrativas, de acuerdo con los estudios previos”","Inversión","Bogotá Mejor para Todos",45,{"$f":"IF(ISERROR(VLOOKUP(K216,Eje_Pilar_Prop!$C$2:$E$104,2,FALSE)),\" \",VLOOKUP(K216,Eje_Pilar_Prop!$C$2:$E$104,2,FALSE))","v":"Gobernanza e influencia local, regional e internacional"},{"$f":"IF(ISERROR(VLOOKUP(K216,Eje_Pilar_Prop!$C$2:$E$104,3,FALSE)),\" \",VLOOKUP(K216,Eje_Pilar_Prop!$C$2:$E$104,3,FALSE))","v":"Eje Transversal 4 Gobierno Legitimo, Fortalecimiento Local y Eficiencia"},"3-3-1-15-07- 45-1312-000 ",79803637,"CARLOS ERNESTO RIVERA RAMOS",28600000,null,null,null,null,28600000,null,"2020-07-15","2020-07-16","2020-12-30",165,null,null,null,null,null,null,null,null,"X",null,0,null,{"$f":"IF(SUMPRODUCT((A$14:A216=A216)*(B$14:B216=B216)*(D$14:D216=D216))>1,0,1)","v":1},{"$f":"IF(ISBLANK(E216),1,IFERROR(VLOOKUP(E216,tipo,1,FALSE),\"NO\"))","v":"Contratos de prestación de servicios profesionales y de apoyo a la gestión"},{"$f":"IF(ISBLANK(F216),1,IFERROR(VLOOKUP(F216,modal,1,FALSE),\"NO\"))","v":"Contratación directa"},{"$f":"IF(ISBLANK(G216),1,IFERROR(VLOOKUP(G216,Tipo!$C$12:$C$27,1,FALSE),\"NO\"))","v":"Prestación de servicios profesionales y de apoyo a la gestión, o para la ejecución de trabajos artísticos que sólo puedan encomendarse a determinadas personas naturales;"},{"$f":"IF(ISBLANK(I216),1,IFERROR(VLOOKUP(I216,afectacion,1,FALSE),\"NO\"))","v":"Inversión"},{"$f":"IF(ISBLANK(K216),1,IFERROR(VLOOKUP(K216,Eje_Pilar_Prop!C198:C299,1,FALSE),\"NO\"))","v":"NO"},"SECOP II",1,"Bogotá Mejor para Todos"]
[204,2020,"SECOP II","ALPA-CD-204-2020","Contratos de prestación de servicios profesionales y de apoyo a la gestión","Contratación directa","Prestación de servicios profesionales y de apoyo a la gestión, o para la ejecución de trabajos artísticos que sólo puedan encomendarse a determinadas personas naturales;","El Contratista se obliga con el Fondo de Desarrollo Local a prestar sus servicios profesionales apoyando tecnicamente las distintas etapas de los procesos de competencias de la Alcaldia Local para la depuracion de actuaciones administrativas, de acuerdo con los estudios previo$","Inversión","Bogotá Mejor para Todos",45,{"$f":"IF(ISERROR(VLOOKUP(K217,Eje_Pilar_Prop!$C$2:$E$104,2,FALSE)),\" \",VLOOKUP(K217,Eje_Pilar_Prop!$C$2:$E$104,2,FALSE))","v":"Gobernanza e influencia local, regional e internacional"},{"$f":"IF(ISERROR(VLOOKUP(K217,Eje_Pilar_Prop!$C$2:$E$104,3,FALSE)),\" \",VLOOKUP(K217,Eje_Pilar_Prop!$C$2:$E$104,3,FALSE))","v":"Eje Transversal 4 Gobierno Legitimo, Fortalecimiento Local y Eficiencia"},"3-3-1-15-07- 45-1312-000 ",1072647997,"CRISTIAN DAVID GUZMAN MARIN",27734000,null,null,null,null,27734000,null,"2020-07-16","2020-07-21","2020-12-30",160,null,null,null,null,null,null,null,null,"X",null,0,null,{"$f":"IF(SUMPRODUCT((A$14:A217=A217)*(B$14:B217=B217)*(D$14:D217=D217))>1,0,1)","v":1},"Contratos de prestación de servicios profesionales y de apoyo a la gestión","Contratación directa",{"$f":"IF(ISBLANK(G217),1,IFERROR(VLOOKUP(G217,Tipo!$C$12:$C$27,1,FALSE),\"NO\"))","v":"Prestación de servicios profesionales y de apoyo a la gestión, o para la ejecución de trabajos artísticos que sólo puedan encomendarse a determinadas personas naturales;"},"Inversión",{"$f":"IF(ISBLANK(K217),1,IFERROR(VLOOKUP(K217,Eje_Pilar_Prop!C199:C300,1,FALSE),\"NO\"))","v":"NO"},"SECOP II",1,"Bogotá Mejor para Todos"]
[205,2020,"SECOP II","ALPA-CD-205-2020","Contratos de prestación de servicios profesionales y de apoyo a la gestión","Contratación directa","Prestación de servicios profesionales y de apoyo a la gestión, o para la ejecución de trabajos artísticos que sólo puedan encomendarse a determinadas personas naturales;","El Contratista se obliga con el Fondo de Desarrollo Local a prestar sus servicios profesionales apoyando tecnicamente las distintas etapas de los procesos de competencias de la Alcaldia Local para la depuracion de acjjuaciones administrativas, de acuerdo con los estudios previos","Inversión","Bogotá Mejor para Todos",45,{"$f":"IF(ISERROR(VLOOKUP(K218,Eje_Pilar_Prop!$C$2:$E$104,2,FALSE)),\" \",VLOOKUP(K218,Eje_Pilar_Prop!$C$2:$E$104,2,FALSE))","v":"Gobernanza e influencia local, regional e internacional"},{"$f":"IF(ISERROR(VLOOKUP(K218,Eje_Pilar_Prop!$C$2:$E$104,3,FALSE)),\" \",VLOOKUP(K218,Eje_Pilar_Prop!$C$2:$E$104,3,FALSE))","v":"Eje Transversal 4 Gobierno Legitimo, Fortalecimiento Local y Eficiencia"},"3-3-1-15-07- 45-1312-000 ",80829029,"Vladymir Martinez Martinez",27734000,null,null,1,5200000,32934000,null,"2020-07-17","2020-07-21","2020-12-30",160,1,30,null,null,null,null,null,"X",null,null,0,null,{"$f":"IF(SUMPRODUCT((A$14:A218=A218)*(B$14:B218=B218)*(D$14:D218=D218))>1,0,1)","v":1},"Contratos de prestación de servicios profesionales y de apoyo a la gestión","Contratación directa",{"$f":"IF(ISBLANK(G218),1,IFERROR(VLOOKUP(G218,Tipo!$C$12:$C$27,1,FALSE),\"NO\"))","v":"Prestación de servicios profesionales y de apoyo a la gestión, o para la ejecución de trabajos artísticos que sólo puedan encomendarse a determinadas personas naturales;"},"Inversión",{"$f":"IF(ISBLANK(K218),1,IFERROR(VLOOKUP(K218,Eje_Pilar_Prop!C200:C301,1,FALSE),\"NO\"))","v":"NO"},"SECOP II",1,"Bogotá Mejor para Todos"]
[206,2020,"SECOP II","ALPA-CD-206-2020","Contratos de prestación de servicios profesionales y de apoyo a la gestión","Contratación directa","Prestación de servicios profesionales y de apoyo a la gestión, o para la ejecución de trabajos artísticos que sólo puedan encomendarse a determinadas personas naturales;","El contratista se obliga con el Fondo de Desarrollo Local de Puente Aranda a prestar los servicios profesionales requeridos para apoyar el proceso de contratación, supervisión, evaluación, seguimiento y liquidación de proyectos incluidos en el Plan de Desarrollo Local vigente, para asegurar la adecuada inversión de recursos locales y el cumplimiento de las metas del mismo, en lo referente al proyecto 1310 Puente Aranda a localidad segura, de acuerdo con los estudios previos.","Inversión","Bogotá Mejor para Todos",45,{"$f":"IF(ISERROR(VLOOKUP(K219,Eje_Pilar_Prop!$C$2:$E$104,2,FALSE)),\" \",VLOOKUP(K219,Eje_Pilar_Prop!$C$2:$E$104,2,FALSE))","v":"Gobernanza e influencia local, regional e internacional"},{"$f":"IF(ISERROR(VLOOKUP(K219,Eje_Pilar_Prop!$C$2:$E$104,3,FALSE)),\" \",VLOOKUP(K219,Eje_Pilar_Prop!$C$2:$E$104,3,FALSE))","v":"Eje Transversal 4 Gobierno Legitimo, Fortalecimiento Local y Eficiencia"},"3-3-1-15-03-19-1310-000 ",74376193,"JOHN MAURICIO MORALES TORRES",20000000,null,null,1,5333333,25333333,null,"2020-07-17","2020-07-21","2020-12-30",150,1,40,null,null,null,null,null,"X",null,null,0,null,{"$f":"IF(SUMPRODUCT((A$14:A219=A219)*(B$14:B219=B219)*(D$14:D219=D219))>1,0,1)","v":1},"Contratos de prestación de servicios profesionales y de apoyo a la gestión","Contratación directa",{"$f":"IF(ISBLANK(G219),1,IFERROR(VLOOKUP(G219,Tipo!$C$12:$C$27,1,FALSE),\"NO\"))","v":"Prestación de servicios profesionales y de apoyo a la gestión, o para la ejecución de trabajos artísticos que sólo puedan encomendarse a determinadas personas naturales;"},"Inversión",{"$f":"IF(ISBLANK(K219),1,IFERROR(VLOOKUP(K219,Eje_Pilar_Prop!C201:C302,1,FALSE),\"NO\"))","v":"NO"},"SECOP II",1,"Bogotá Mejor para Todos"]
[207,2020,"SECOP II","ALPA-CD-207-2020","Contratos de prestación de servicios profesionales y de apoyo a la gestión","Contratación directa","Prestación de servicios profesionales y de apoyo a la gestión, o para la ejecución de trabajos artísticos que sólo puedan encomendarse a determinadas personas naturales;","El Contratista se obliga con el Fondo de Desarrollo Local a prestar sus servicios profesionales apoyando tecnicamente las distintas etapas de los procesos de competencias de la Alcaldia Local para la depuracion de actuaciones administrativas, de acuerdo con los estudios previos","Inversión","Bogotá Mejor para Todos",45,{"$f":"IF(ISERROR(VLOOKUP(K220,Eje_Pilar_Prop!$C$2:$E$104,2,FALSE)),\" \",VLOOKUP(K220,Eje_Pilar_Prop!$C$2:$E$104,2,FALSE))","v":"Gobernanza e influencia local, regional e internacional"},{"$f":"IF(ISERROR(VLOOKUP(K220,Eje_Pilar_Prop!$C$2:$E$104,3,FALSE)),\" \",VLOOKUP(K220,Eje_Pilar_Prop!$C$2:$E$104,3,FALSE))","v":"Eje Transversal 4 Gobierno Legitimo, Fortalecimiento Local y Eficiencia"},"3-3-1-15-07- 45-1312-000 ",1018426710,"DIEGO ALEXANDER BARRETO SILVA",27734000,null,null,null,null,27734000,null,"2020-07-17","2020-07-21","2020-12-30",160,null,null,null,null,null,null,null,null,"X",null,0,null,{"$f":"IF(SUMPRODUCT((A$14:A220=A220)*(B$14:B220=B220)*(D$14:D220=D220))>1,0,1)","v":1},"Contratos de prestación de servicios profesionales y de apoyo a la gestión","Contratación directa",{"$f":"IF(ISBLANK(G220),1,IFERROR(VLOOKUP(G220,Tipo!$C$12:$C$27,1,FALSE),\"NO\"))","v":"Prestación de servicios profesionales y de apoyo a la gestión, o para la ejecución de trabajos artísticos que sólo puedan encomendarse a determinadas personas naturales;"},"Inversión",{"$f":"IF(ISBLANK(K220),1,IFERROR(VLOOKUP(K220,Eje_Pilar_Prop!C202:C303,1,FALSE),\"NO\"))","v":"NO"},"SECOP II",{"$f":"IF(OR(YEAR(X220)=2020,ISBLANK(X220)),1,\"NO\")","v":1},"Bogotá Mejor para Todos"]
[208,2020,"SECOP II","ALPA-CD-208-2020","Contratos de prestación de servicios profesionales y de apoyo a la gestión","Contratación directa","Prestación de servicios profesionales y de apoyo a la gestión, o para la ejecución de trabajos artísticos que sólo puedan encomendarse a determinadas personas naturales;","Prestar los servicios técnicos para la operación, seguimiento y cumplimiento de los procesos y procedimientos del Servicio Apoyos para Seguridad Económica tipo C, requeridos para el oportuno y adecuado registro, cruce y reporte de los datos en el Sistema Misional SIRBE, que contribuyan a la garantía de los derechos de la población mayor en el marco de la política pública Social para el Envejecimiento y la Vejez en el Distrito Capitalcargo de la Alcaldía Local, de acuerdo con los estudios previos","Inversión","Bogotá Mejor para Todos",45,{"$f":"IF(ISERROR(VLOOKUP(K221,Eje_Pilar_Prop!$C$2:$E$104,2,FALSE)),\" \",VLOOKUP(K221,Eje_Pilar_Prop!$C$2:$E$104,2,FALSE))","v":"Gobernanza e influencia local, regional e internacional"},{"$f":"IF(ISERROR(VLOOKUP(K221,Eje_Pilar_Prop!$C$2:$E$104,3,FALSE)),\" \",VLOOKUP(K221,Eje_Pilar_Prop!$C$2:$E$104,3,FALSE))","v":"Eje Transversal 4 Gobierno Legitimo, Fortalecimiento Local y Eficiencia"},"3-3-1-15-01-03-1286-000",79986268,"ALEXANDER PICO GUTIERREZ",19000000,null,null,1,4813333,23813333,null,"2020-07-22","2020-07-23","2020-12-22",150,1,38,null,null,null,null,null,"X",null,null,0,null,{"$f":"IF(SUMPRODUCT((A$14:A221=A221)*(B$14:B221=B221)*(D$14:D221=D221))>1,0,1)","v":1},"Contratos de prestación de servicios profesionales y de apoyo a la gestión","Contratación directa",{"$f":"IF(ISBLANK(G221),1,IFERROR(VLOOKUP(G221,Tipo!$C$12:$C$27,1,FALSE),\"NO\"))","v":"Prestación de servicios profesionales y de apoyo a la gestión, o para la ejecución de trabajos artísticos que sólo puedan encomendarse a determinadas personas naturales;"},"Inversión",{"$f":"IF(ISBLANK(K221),1,IFERROR(VLOOKUP(K221,Eje_Pilar_Prop!C203:C304,1,FALSE),\"NO\"))","v":"NO"},"SECOP II",1,"Bogotá Mejor para Todos"]
[209,2020,"SECOP II","ALPA-CD-209-2020","Contratos de prestación de servicios profesionales y de apoyo a la gestión","Contratación directa","Prestación de servicios profesionales y de apoyo a la gestión, o para la ejecución de trabajos artísticos que sólo puedan encomendarse a determinadas personas naturales;","El contratista se obliga con el Fondo de Desarrollo Local de Puente Aranda a Apoyar jurldicamente la ejecución de las actuaciones requeridas para el trámite e impulso procesal de las actuaciones contravencionales y/o querellas que se cursen en las Inspecciones de Policia de la Localidad.","Inversión","Bogotá Mejor para Todos",45,{"$f":"IF(ISERROR(VLOOKUP(K222,Eje_Pilar_Prop!$C$2:$E$104,2,FALSE)),\" \",VLOOKUP(K222,Eje_Pilar_Prop!$C$2:$E$104,2,FALSE))","v":"Gobernanza e influencia local, regional e internacional"},{"$f":"IF(ISERROR(VLOOKUP(K222,Eje_Pilar_Prop!$C$2:$E$104,3,FALSE)),\" \",VLOOKUP(K222,Eje_Pilar_Prop!$C$2:$E$104,3,FALSE))","v":"Eje Transversal 4 Gobierno Legitimo, Fortalecimiento Local y Eficiencia"},"3-3-1-15-07- 45-1312-000 ",1090420225,"KARLA YULIANA ORTEGA NIÑO",23500000,null,null,1,5170000,28670000,null,"2020-07-24","2020-07-28","2020-12-27",150,1,33,null,null,null,null,null,"X",null,null,{"$f":"IF(ISERROR(W222/V222),\"-\",(W222/V222))","v":0},null,{"$f":"IF(SUMPRODUCT((A$14:A222=A222)*(B$14:B222=B222)*(D$14:D222=D222))>1,0,1)","v":1},"Contratos de prestación de servicios profesionales y de apoyo a la gestión","Contratación directa",{"$f":"IF(ISBLANK(G222),1,IFERROR(VLOOKUP(G222,Tipo!$C$12:$C$27,1,FALSE),\"NO\"))","v":"Prestación de servicios profesionales y de apoyo a la gestión, o para la ejecución de trabajos artísticos que sólo puedan encomendarse a determinadas personas naturales;"},"Inversión",{"$f":"IF(ISBLANK(K222),1,IFERROR(VLOOKUP(K222,Eje_Pilar_Prop!C204:C305,1,FALSE),\"NO\"))","v":"NO"},"SECOP II",1,"Bogotá Mejor para Todos"]
[210,2020,"SECOP II","ALPA-CD-210-2020","Contratos de prestación de servicios profesionales y de apoyo a la gestión","Contratación directa","Prestación de servicios profesionales y de apoyo a la gestión, o para la ejecución de trabajos artísticos que sólo puedan encomendarse a determinadas personas naturales;","El contratista se obliga con el Fondo de Desarrollo Local de Puente Aranda a prestar los servicios profesionales requeridos para apoyar los procesos de formulacion, revision, liquidacion de proyectos y el seguimiento del cumplimiento de las metasdel mismo, en loreferente al proyecto 1309£uente Aranda cultural y deportiva para todos, en especial a los componente^oe Cultura, de acuerdo con los estudios previos”","Inversión","Bogotá Mejor para Todos",45,{"$f":"IF(ISERROR(VLOOKUP(K223,Eje_Pilar_Prop!$C$2:$E$104,2,FALSE)),\" \",VLOOKUP(K223,Eje_Pilar_Prop!$C$2:$E$104,2,FALSE))","v":"Gobernanza e influencia local, regional e internacional"},{"$f":"IF(ISERROR(VLOOKUP(K223,Eje_Pilar_Prop!$C$2:$E$104,3,FALSE)),\" \",VLOOKUP(K223,Eje_Pilar_Prop!$C$2:$E$104,3,FALSE))","v":"Eje Transversal 4 Gobierno Legitimo, Fortalecimiento Local y Eficiencia"},"3-3-1-15-01-11-1309-000",1026297550,"SERGIO DAVID ALVAREZ RODRIGUEZ",20000000,null,null,1,4000000,{"$f":"+Q223+S223+U223","v":24000000},null,"2020-07-30","2020-08-01","2020-12-30",150,1,30,null,null,null,null,null,"X",null,null,0,null,{"$f":"IF(SUMPRODUCT((A$14:A223=A223)*(B$14:B223=B223)*(D$14:D223=D223))>1,0,1)","v":1},"Contratos de prestación de servicios profesionales y de apoyo a la gestión","Contratación directa",{"$f":"IF(ISBLANK(G223),1,IFERROR(VLOOKUP(G223,Tipo!$C$12:$C$27,1,FALSE),\"NO\"))","v":"Prestación de servicios profesionales y de apoyo a la gestión, o para la ejecución de trabajos artísticos que sólo puedan encomendarse a determinadas personas naturales;"},"Inversión",{"$f":"IF(ISBLANK(K223),1,IFERROR(VLOOKUP(K223,Eje_Pilar_Prop!C205:C306,1,FALSE),\"NO\"))","v":"NO"},"SECOP II",1,"Bogotá Mejor para Todos"]
[211,2020,"SECOP II","ALPA-CD-211-2020","Contratos de prestación de servicios profesionales y de apoyo a la gestión","Contratación directa","Prestación de servicios profesionales y de apoyo a la gestión, o para la ejecución de trabajos artísticos que sólo puedan encomendarse a determinadas personas naturales;","Apoyar la gestión documental de la Alcaldía Local en la implementación de los procesos de clasificación, ordenación, selección natural, foliación, identificación, levantamiento de inventarios, almacenamiento . aplicación de protocolos de eliminación y transferencias documentales\"","Inversión","Bogotá Mejor para Todos",45,{"$f":"IF(ISERROR(VLOOKUP(K224,Eje_Pilar_Prop!$C$2:$E$104,2,FALSE)),\" \",VLOOKUP(K224,Eje_Pilar_Prop!$C$2:$E$104,2,FALSE))","v":"Gobernanza e influencia local, regional e internacional"},{"$f":"IF(ISERROR(VLOOKUP(K224,Eje_Pilar_Prop!$C$2:$E$104,3,FALSE)),\" \",VLOOKUP(K224,Eje_Pilar_Prop!$C$2:$E$104,3,FALSE))","v":"Eje Transversal 4 Gobierno Legitimo, Fortalecimiento Local y Eficiencia"},"3-3-1-15-07- 45-1312-000 ",1012401436,"LUISA FERNANDA LEON CEPEDA",12500000,null,null,1,2500000,15000000,null,"2020-07-30","2020-08-01","2020-12-30",150,1,30,null,null,null,null,null,"X",null,null,0,null,{"$f":"IF(SUMPRODUCT((A$14:A224=A224)*(B$14:B224=B224)*(D$14:D224=D224))>1,0,1)","v":1},"Contratos de prestación de servicios profesionales y de apoyo a la gestión","Contratación directa",{"$f":"IF(ISBLANK(G224),1,IFERROR(VLOOKUP(G224,Tipo!$C$12:$C$27,1,FALSE),\"NO\"))","v":"Prestación de servicios profesionales y de apoyo a la gestión, o para la ejecución de trabajos artísticos que sólo puedan encomendarse a determinadas personas naturales;"},"Inversión",{"$f":"IF(ISBLANK(K224),1,IFERROR(VLOOKUP(K224,Eje_Pilar_Prop!C206:C307,1,FALSE),\"NO\"))","v":"NO"},"SECOP II",1,"Bogotá Mejor para Todos"]
[212,2020,"SECOP II","ALPA-CD-212-2020","Contratos de prestación de servicios profesionales y de apoyo a la gestión","Contratación directa","Prestación de servicios profesionales y de apoyo a la gestión, o para la ejecución de trabajos artísticos que sólo puedan encomendarse a determinadas personas naturales;","Apoyar al Alcalde local en la formulacion, seguimiento e implementacion de la estrategia local para la terminacion jun'dica de las actuaciones administrativas que cursan en la Alcaldia Local\"","Inversión","Bogotá Mejor para Todos",45,{"$f":"IF(ISERROR(VLOOKUP(K225,Eje_Pilar_Prop!$C$2:$E$104,2,FALSE)),\" \",VLOOKUP(K225,Eje_Pilar_Prop!$C$2:$E$104,2,FALSE))","v":"Gobernanza e influencia local, regional e internacional"},{"$f":"IF(ISERROR(VLOOKUP(K225,Eje_Pilar_Prop!$C$2:$E$104,3,FALSE)),\" \",VLOOKUP(K225,Eje_Pilar_Prop!$C$2:$E$104,3,FALSE))","v":"Eje Transversal 4 Gobierno Legitimo, Fortalecimiento Local y Eficiencia"},"3-3-1-15-07- 45-1312-000 ",23780953,"GLADYS ESPERANZA LOPEZ VEGA",36000000,null,null,1,7200000,43200000,null,"2020-07-30","2020-08-01","2020-12-30",150,1,30,null,null,null,null,null,"X",null,null,0,null,{"$f":"IF(SUMPRODUCT((A$14:A225=A225)*(B$14:B225=B225)*(D$14:D225=D225))>1,0,1)","v":1},"Contratos de prestación de servicios profesionales y de apoyo a la gestión","Contratación directa",{"$f":"IF(ISBLANK(G225),1,IFERROR(VLOOKUP(G225,Tipo!$C$12:$C$27,1,FALSE),\"NO\"))","v":"Prestación de servicios profesionales y de apoyo a la gestión, o para la ejecución de trabajos artísticos que sólo puedan encomendarse a determinadas personas naturales;"},"Inversión",{"$f":"IF(ISBLANK(K225),1,IFERROR(VLOOKUP(K225,Eje_Pilar_Prop!C207:C308,1,FALSE),\"NO\"))","v":"NO"},"SECOP II",1,"Bogotá Mejor para Todos"]
[213,2020,"SECOP II","ALPA-CD-213-2020","Contratos de prestación de servicios profesionales y de apoyo a la gestión","Contratación directa","Prestación de servicios profesionales y de apoyo a la gestión, o para la ejecución de trabajos artísticos que sólo puedan encomendarse a determinadas personas naturales;","Prestar los servicios profesionales para apoyar el seguimiento a la adjudicacion, ejecucion y liquidacion de los contratos que hacen parte del area de infraestructura de la Alcaldia Local, de conformidad con los estudios previo","Inversión","Bogotá Mejor para Todos",45,{"$f":"IF(ISERROR(VLOOKUP(K226,Eje_Pilar_Prop!$C$2:$E$104,2,FALSE)),\" \",VLOOKUP(K226,Eje_Pilar_Prop!$C$2:$E$104,2,FALSE))","v":"Gobernanza e influencia local, regional e internacional"},{"$f":"IF(ISERROR(VLOOKUP(K226,Eje_Pilar_Prop!$C$2:$E$104,3,FALSE)),\" \",VLOOKUP(K226,Eje_Pilar_Prop!$C$2:$E$104,3,FALSE))","v":"Eje Transversal 4 Gobierno Legitimo, Fortalecimiento Local y Eficiencia"},"3-3-1-15-02-18-1290-000",52959448,"KELLY MAGNOLIA BEJARANO RIVERA",20000000,null,null,null,null,20000000,null,"2020-07-31","2020-08-01","2020-12-31",150,null,null,null,null,null,null,null,null,"X",null,0,null,{"$f":"IF(SUMPRODUCT((A$14:A226=A226)*(B$14:B226=B226)*(D$14:D226=D226))>1,0,1)","v":1},"Contratos de prestación de servicios profesionales y de apoyo a la gestión","Contratación directa",{"$f":"IF(ISBLANK(G226),1,IFERROR(VLOOKUP(G226,Tipo!$C$12:$C$27,1,FALSE),\"NO\"))","v":"Prestación de servicios profesionales y de apoyo a la gestión, o para la ejecución de trabajos artísticos que sólo puedan encomendarse a determinadas personas naturales;"},"Inversión",{"$f":"IF(ISBLANK(K226),1,IFERROR(VLOOKUP(K226,Eje_Pilar_Prop!C208:C309,1,FALSE),\"NO\"))","v":"NO"},"SECOP II",1,"Bogotá Mejor para Todos"]
[214,2020,"SECOP II","ALPA-CD-214-2020","Contratos de prestación de servicios profesionales y de apoyo a la gestión","Contratación directa","Prestación de servicios profesionales y de apoyo a la gestión, o para la ejecución de trabajos artísticos que sólo puedan encomendarse a determinadas personas naturales;","Prestar ios servicios profesionales para apoyar el seguimiento a la adjudicacion, ejecucion y liquidacion de los contratos que hacen parte del area de infraestructura de la Alcaldia Local, de conformidad con los estudios previos","Inversión","Bogotá Mejor para Todos",45,{"$f":"IF(ISERROR(VLOOKUP(K227,Eje_Pilar_Prop!$C$2:$E$104,2,FALSE)),\" \",VLOOKUP(K227,Eje_Pilar_Prop!$C$2:$E$104,2,FALSE))","v":"Gobernanza e influencia local, regional e internacional"},{"$f":"IF(ISERROR(VLOOKUP(K227,Eje_Pilar_Prop!$C$2:$E$104,3,FALSE)),\" \",VLOOKUP(K227,Eje_Pilar_Prop!$C$2:$E$104,3,FALSE))","v":"Eje Transversal 4 Gobierno Legitimo, Fortalecimiento Local y Eficiencia"},"3-3-1-15-02-18-1290-000",51962571,"GLORIA LUCIA PINTOR VARGAS",20000000,null,null,null,null,20000000,null,"2020-07-31","2020-08-01","2020-12-31",150,null,null,null,null,null,null,null,null,"X",null,0,null,{"$f":"IF(SUMPRODUCT((A$14:A227=A227)*(B$14:B227=B227)*(D$14:D227=D227))>1,0,1)","v":1},"Contratos de prestación de servicios profesionales y de apoyo a la gestión","Contratación directa",{"$f":"IF(ISBLANK(G227),1,IFERROR(VLOOKUP(G227,Tipo!$C$12:$C$27,1,FALSE),\"NO\"))","v":"Prestación de servicios profesionales y de apoyo a la gestión, o para la ejecución de trabajos artísticos que sólo puedan encomendarse a determinadas personas naturales;"},"Inversión",{"$f":"IF(ISBLANK(K227),1,IFERROR(VLOOKUP(K227,Eje_Pilar_Prop!C209:C310,1,FALSE),\"NO\"))","v":"NO"},"SECOP II",1,"Bogotá Mejor para Todos"]
[215,2020,"SECOP II","ALPA-CD-215-2020","Contratos de prestación de servicios profesionales y de apoyo a la gestión","Contratación directa","Prestación de servicios profesionales y de apoyo a la gestión, o para la ejecución de trabajos artísticos que sólo puedan encomendarse a determinadas personas naturales;","Prestar los servicios profesionales para apoyar el seguimiento a la adjudicacion, ejecucion y liquidacion de los contratos que hacen parte del area de infraestructura de la Alcaldia Local, de conformidad con los estudios previos","Inversión","Bogotá Mejor para Todos",45,{"$f":"IF(ISERROR(VLOOKUP(K228,Eje_Pilar_Prop!$C$2:$E$104,2,FALSE)),\" \",VLOOKUP(K228,Eje_Pilar_Prop!$C$2:$E$104,2,FALSE))","v":"Gobernanza e influencia local, regional e internacional"},{"$f":"IF(ISERROR(VLOOKUP(K228,Eje_Pilar_Prop!$C$2:$E$104,3,FALSE)),\" \",VLOOKUP(K228,Eje_Pilar_Prop!$C$2:$E$104,3,FALSE))","v":"Eje Transversal 4 Gobierno Legitimo, Fortalecimiento Local y Eficiencia"},"3-3-1-15-02-18-1290-000",1077034682,"FRANCISCO SANCHEZ CARDENAS",20000000,null,null,1,4000000,24000000,null,"2020-07-31","2020-08-01","2020-12-31",150,1,30,null,null,null,null,null,"X",null,null,0,null,{"$f":"IF(SUMPRODUCT((A$14:A228=A228)*(B$14:B228=B228)*(D$14:D228=D228))>1,0,1)","v":1},"Contratos de prestación de servicios profesionales y de apoyo a la gestión","Contratación directa",{"$f":"IF(ISBLANK(G228),1,IFERROR(VLOOKUP(G228,Tipo!$C$12:$C$27,1,FALSE),\"NO\"))","v":"Prestación de servicios profesionales y de apoyo a la gestión, o para la ejecución de trabajos artísticos que sólo puedan encomendarse a determinadas personas naturales;"},"Inversión",{"$f":"IF(ISBLANK(K228),1,IFERROR(VLOOKUP(K228,Eje_Pilar_Prop!C210:C311,1,FALSE),\"NO\"))","v":"NO"},"SECOP II",1,"Bogotá Mejor para Todos"]
[216,2020,"SECOP II","ALPA-CD-216-2020","Contratos de prestación de servicios profesionales y de apoyo a la gestión","Contratación directa","Prestación de servicios profesionales y de apoyo a la gestión, o para la ejecución de trabajos artísticos que sólo puedan encomendarse a determinadas personas naturales;","El contratista se obliga con el Fondo de Desarrollo Local a prestar los servicios profesionales como enlace en los temas de Gestión de Riesgos y Cambio Climático DSGR-CC, en la Localidad de Puente Aranda de conformidad con los estudios previos","Inversión","Bogotá Mejor para Todos",45,{"$f":"IF(ISERROR(VLOOKUP(K229,Eje_Pilar_Prop!$C$2:$E$104,2,FALSE)),\" \",VLOOKUP(K229,Eje_Pilar_Prop!$C$2:$E$104,2,FALSE))","v":"Gobernanza e influencia local, regional e internacional"},{"$f":"IF(ISERROR(VLOOKUP(K229,Eje_Pilar_Prop!$C$2:$E$104,3,FALSE)),\" \",VLOOKUP(K229,Eje_Pilar_Prop!$C$2:$E$104,3,FALSE))","v":"Eje Transversal 4 Gobierno Legitimo, Fortalecimiento Local y Eficiencia"},"3-3-1-15-07- 45-1312-000 ",79671289,"JUAN CARLOS LEON GARCIA",26000000,null,null,null,null,26000000,null,"2020-07-30","2020-08-01","2020-12-30",150,null,null,null,null,null,null,null,null,"X",null,0,null,{"$f":"IF(SUMPRODUCT((A$14:A229=A229)*(B$14:B229=B229)*(D$14:D229=D229))>1,0,1)","v":1},"Contratos de prestación de servicios profesionales y de apoyo a la gestión","Contratación directa",{"$f":"IF(ISBLANK(G229),1,IFERROR(VLOOKUP(G229,Tipo!$C$12:$C$27,1,FALSE),\"NO\"))","v":"Prestación de servicios profesionales y de apoyo a la gestión, o para la ejecución de trabajos artísticos que sólo puedan encomendarse a determinadas personas naturales;"},"Inversión",{"$f":"IF(ISBLANK(K229),1,IFERROR(VLOOKUP(K229,Eje_Pilar_Prop!C211:C312,1,FALSE),\"NO\"))","v":"NO"},"SECOP II",1,"Bogotá Mejor para Todos"]
[217,2020,"SECOP II","ALPA-CD-217-2020","Contratos de prestación de servicios profesionales y de apoyo a la gestión","Contratación directa","Prestación de servicios profesionales y de apoyo a la gestión, o para la ejecución de trabajos artísticos que sólo puedan encomendarse a determinadas personas naturales;","El Contratista se obliga con el Fondo de Desarrollo Local a prestar sus servicios profesionales para realizar el seguimiento a los procesos y procedimientos del Área de Gestión para el Desarrollo Local, conforme a los lineamientos institucionales y distritales establecidos.","Inversión","Bogotá Mejor para Todos",45,{"$f":"IF(ISERROR(VLOOKUP(K230,Eje_Pilar_Prop!$C$2:$E$104,2,FALSE)),\" \",VLOOKUP(K230,Eje_Pilar_Prop!$C$2:$E$104,2,FALSE))","v":"Gobernanza e influencia local, regional e internacional"},{"$f":"IF(ISERROR(VLOOKUP(K230,Eje_Pilar_Prop!$C$2:$E$104,3,FALSE)),\" \",VLOOKUP(K230,Eje_Pilar_Prop!$C$2:$E$104,3,FALSE))","v":"Eje Transversal 4 Gobierno Legitimo, Fortalecimiento Local y Eficiencia"},"3-3-1-15-07- 45-1312-000 ",1026555099,"MANUEL GUILLERMO FRANCISCO AMOROCHO BARRERA",24500000,null,null,1,5000000,29500000,null,"2020-07-31","2020-08-04","2020-12-30",147,1,30,null,null,null,null,null,"X",null,null,0,null,{"$f":"IF(SUMPRODUCT((A$14:A230=A230)*(B$14:B230=B230)*(D$14:D230=D230))>1,0,1)","v":1},"Contratos de prestación de servicios profesionales y de apoyo a la gestión","Contratación directa",{"$f":"IF(ISBLANK(G230),1,IFERROR(VLOOKUP(G230,Tipo!$C$12:$C$27,1,FALSE),\"NO\"))","v":"Prestación de servicios profesionales y de apoyo a la gestión, o para la ejecución de trabajos artísticos que sólo puedan encomendarse a determinadas personas naturales;"},"Inversión",{"$f":"IF(ISBLANK(K230),1,IFERROR(VLOOKUP(K230,Eje_Pilar_Prop!C212:C313,1,FALSE),\"NO\"))","v":"NO"},"SECOP II",1,"Bogotá Mejor para Todos"]
[218,2020,"SECOP II","ALPA-CD-218-2020","Contratos de prestación de servicios profesionales y de apoyo a la gestión","Contratación directa","Prestación de servicios profesionales y de apoyo a la gestión, o para la ejecución de trabajos artísticos que sólo puedan encomendarse a determinadas personas naturales;","El contratista se obliga con el Fondo de Desarrollo Local de Puente Aranda a apoyar la gestion documental de la alcaldla local en la implementacion de los procesos de clasificacidn, ordenacion seleccion natural, foliacidn, identificacion, levantamiento de inventarios, almacenamiento y aplicacion de protocolos de eliminacion y transferencias documentales","Inversión","Bogotá Mejor para Todos",45,{"$f":"IF(ISERROR(VLOOKUP(K231,Eje_Pilar_Prop!$C$2:$E$104,2,FALSE)),\" \",VLOOKUP(K231,Eje_Pilar_Prop!$C$2:$E$104,2,FALSE))","v":"Gobernanza e influencia local, regional e internacional"},{"$f":"IF(ISERROR(VLOOKUP(K231,Eje_Pilar_Prop!$C$2:$E$104,3,FALSE)),\" \",VLOOKUP(K231,Eje_Pilar_Prop!$C$2:$E$104,3,FALSE))","v":"Eje Transversal 4 Gobierno Legitimo, Fortalecimiento Local y Eficiencia"},"3-3-1-15-07- 45-1312-000 ",53038737,"JENNY VIBIANA ACOSTA TORRES",12500000,null,null,null,null,12500000,null,"2020-07-31","2020-08-04","2020-12-30",147,null,null,null,null,null,null,null,null,"X",null,0,null,{"$f":"IF(SUMPRODUCT((A$14:A231=A231)*(B$14:B231=B231)*(D$14:D231=D231))>1,0,1)","v":1},"Contratos de prestación de servicios profesionales y de apoyo a la gestión","Contratación directa",{"$f":"IF(ISBLANK(G231),1,IFERROR(VLOOKUP(G231,Tipo!$C$12:$C$27,1,FALSE),\"NO\"))","v":"Prestación de servicios profesionales y de apoyo a la gestión, o para la ejecución de trabajos artísticos que sólo puedan encomendarse a determinadas personas naturales;"},"Inversión",{"$f":"IF(ISBLANK(K231),1,IFERROR(VLOOKUP(K231,Eje_Pilar_Prop!C213:C314,1,FALSE),\"NO\"))","v":"NO"},"SECOP II",1,"Bogotá Mejor para Todos"]
[219,2020,"SECOP II","ALPA-CD-219-2020","Contratos de prestación de servicios profesionales y de apoyo a la gestión","Contratación directa","Prestación de servicios profesionales y de apoyo a la gestión, o para la ejecución de trabajos artísticos que sólo puedan encomendarse a determinadas personas naturales;","El Contratista se obliga con el Fondo de Desarrollo Local a prestar sus servicios para apoyar al equipo de prensa y comunicaciones de la Alcaldia Local en el cubrimiento de actividades, cronogramas y agenda de la alcaldia local a nivel interno y externo, asi como la qeneracidn de contenidos periodisticos, conforme los estudios previo","Inversión","Bogotá Mejor para Todos",45,{"$f":"IF(ISERROR(VLOOKUP(K232,Eje_Pilar_Prop!$C$2:$E$104,2,FALSE)),\" \",VLOOKUP(K232,Eje_Pilar_Prop!$C$2:$E$104,2,FALSE))","v":"Gobernanza e influencia local, regional e internacional"},{"$f":"IF(ISERROR(VLOOKUP(K232,Eje_Pilar_Prop!$C$2:$E$104,3,FALSE)),\" \",VLOOKUP(K232,Eje_Pilar_Prop!$C$2:$E$104,3,FALSE))","v":"Eje Transversal 4 Gobierno Legitimo, Fortalecimiento Local y Eficiencia"},"3-3-1-15-07- 45-1312-000 ",80362137,"JESUS ALFONSO PEÑA",25080000,null,null,null,null,25080000,null,"2020-08-10","2020-08-19","2020-12-30",132,null,null,null,null,null,null,null,"X",null,null,0,null,{"$f":"IF(SUMPRODUCT((A$14:A232=A232)*(B$14:B232=B232)*(D$14:D232=D232))>1,0,1)","v":1},"Contratos de prestación de servicios profesionales y de apoyo a la gestión","Contratación directa",{"$f":"IF(ISBLANK(G232),1,IFERROR(VLOOKUP(G232,Tipo!$C$12:$C$27,1,FALSE),\"NO\"))","v":"Prestación de servicios profesionales y de apoyo a la gestión, o para la ejecución de trabajos artísticos que sólo puedan encomendarse a determinadas personas naturales;"},"Inversión",{"$f":"IF(ISBLANK(K232),1,IFERROR(VLOOKUP(K232,Eje_Pilar_Prop!C214:C315,1,FALSE),\"NO\"))","v":"NO"},"SECOP II",1,"Bogotá Mejor para Todos"]
[220,2020,"SECOP II","ALPA-CD-220-2020","Contratos de prestación de servicios profesionales y de apoyo a la gestión","Contratación directa","Prestación de servicios profesionales y de apoyo a la gestión, o para la ejecución de trabajos artísticos que sólo puedan encomendarse a determinadas personas naturales;","El contratista se obliga con el area de gestion del desarrollo local de Puente Aranda a prestar sus servicios profesionales como apoyo a la oficina de presupuesto y contabilidad en las actividades propias de la misma de conformidad con los estudios previos”.","Inversión","Bogotá Mejor para Todos",45,{"$f":"IF(ISERROR(VLOOKUP(K233,Eje_Pilar_Prop!$C$2:$E$104,2,FALSE)),\" \",VLOOKUP(K233,Eje_Pilar_Prop!$C$2:$E$104,2,FALSE))","v":"Gobernanza e influencia local, regional e internacional"},{"$f":"IF(ISERROR(VLOOKUP(K233,Eje_Pilar_Prop!$C$2:$E$104,3,FALSE)),\" \",VLOOKUP(K233,Eje_Pilar_Prop!$C$2:$E$104,3,FALSE))","v":"Eje Transversal 4 Gobierno Legitimo, Fortalecimiento Local y Eficiencia"},"3-3-1-15-07- 45-1312-000 ",79316173,"OSCAR ORLANDO TORRES RODRIGUEZ",26767000,null,null,1,5500000,32267000,null,"2020-08-04","2020-08-05","2020-12-31",147,1,30,null,null,null,null,null,"X",null,null,0,null,{"$f":"IF(SUMPRODUCT((A$14:A233=A233)*(B$14:B233=B233)*(D$14:D233=D233))>1,0,1)","v":1},"Contratos de prestación de servicios profesionales y de apoyo a la gestión","Contratación directa",{"$f":"IF(ISBLANK(G233),1,IFERROR(VLOOKUP(G233,Tipo!$C$12:$C$27,1,FALSE),\"NO\"))","v":"Prestación de servicios profesionales y de apoyo a la gestión, o para la ejecución de trabajos artísticos que sólo puedan encomendarse a determinadas personas naturales;"},"Inversión",{"$f":"IF(ISBLANK(K233),1,IFERROR(VLOOKUP(K233,Eje_Pilar_Prop!C215:C316,1,FALSE),\"NO\"))","v":"NO"},"SECOP II",1,"Bogotá Mejor para Todos"]
[221,2020,"SECOP II","ALPA-CD-221-2020","Contratos de prestación de servicios profesionales y de apoyo a la gestión","Contratación directa","Prestación de servicios profesionales y de apoyo a la gestión, o para la ejecución de trabajos artísticos que sólo puedan encomendarse a determinadas personas naturales;","El Contratista se obliga con el Fondo de Desarrollo Local a prestar los servicios como notificador para la distribucion de la correspondencia de las diferentes dependencias de la Alcaldia Local, de acuerdo con los estudios previos.","Inversión","Bogotá Mejor para Todos",45,{"$f":"IF(ISERROR(VLOOKUP(K234,Eje_Pilar_Prop!$C$2:$E$104,2,FALSE)),\" \",VLOOKUP(K234,Eje_Pilar_Prop!$C$2:$E$104,2,FALSE))","v":"Gobernanza e influencia local, regional e internacional"},{"$f":"IF(ISERROR(VLOOKUP(K234,Eje_Pilar_Prop!$C$2:$E$104,3,FALSE)),\" \",VLOOKUP(K234,Eje_Pilar_Prop!$C$2:$E$104,3,FALSE))","v":"Eje Transversal 4 Gobierno Legitimo, Fortalecimiento Local y Eficiencia"},"3-3-1-15-07- 45-1312-000 ",80832858,"WILLIAM SABOGAL GUALTEROS",11117000,null,null,null,null,11117000,null,"2020-08-05","2020-08-06","2020-12-31",146,null,null,null,null,null,null,null,null,"X",null,0,null,{"$f":"IF(SUMPRODUCT((A$14:A234=A234)*(B$14:B234=B234)*(D$14:D234=D234))>1,0,1)","v":1},"Contratos de prestación de servicios profesionales y de apoyo a la gestión","Contratación directa",{"$f":"IF(ISBLANK(G234),1,IFERROR(VLOOKUP(G234,Tipo!$C$12:$C$27,1,FALSE),\"NO\"))","v":"Prestación de servicios profesionales y de apoyo a la gestión, o para la ejecución de trabajos artísticos que sólo puedan encomendarse a determinadas personas naturales;"},"Inversión",{"$f":"IF(ISBLANK(K234),1,IFERROR(VLOOKUP(K234,Eje_Pilar_Prop!C216:C317,1,FALSE),\"NO\"))","v":"NO"},"SECOP II",1,"Bogotá Mejor para Todos"]
[222,2020,"SECOP II","ALPA-CD-222-2020","Contratos de prestación de servicios profesionales y de apoyo a la gestión","Contratación directa","Prestación de servicios profesionales y de apoyo a la gestión, o para la ejecución de trabajos artísticos que sólo puedan encomendarse a determinadas personas naturales;","El contratista se obliga con el Fondo de Desarrollo Local de Puente Aranda a prestar los servicios profesionales requeridos para apoyar la formulacion, proceso de contratacion, evaluacion y seguimiento de proyectos incluidos en el Plan de Desarrollo Local vigente asi como liquidacion de los contratos suscritos para su ejecucion, para asegurar la adecuada inversion de recursos locales y el cumplimiento de las metas del mismo, en lo referente a temas transversales de infraestructura fisica, de acuerdo con los estudios previos","Inversión","Bogotá Mejor para Todos",45,{"$f":"IF(ISERROR(VLOOKUP(K235,Eje_Pilar_Prop!$C$2:$E$104,2,FALSE)),\" \",VLOOKUP(K235,Eje_Pilar_Prop!$C$2:$E$104,2,FALSE))","v":"Gobernanza e influencia local, regional e internacional"},{"$f":"IF(ISERROR(VLOOKUP(K235,Eje_Pilar_Prop!$C$2:$E$104,3,FALSE)),\" \",VLOOKUP(K235,Eje_Pilar_Prop!$C$2:$E$104,3,FALSE))","v":"Eje Transversal 4 Gobierno Legitimo, Fortalecimiento Local y Eficiencia"},"3-3-1-15-02-18-1290-000",80901308,"DANIEL FELIPE VILLAMIL MARTINEZ",22717000,null,null,1,4700000,27417000,null,"2020-08-05","2020-08-06","2020-12-31",146,1,30,null,null,null,null,null,"X",null,null,0,null,{"$f":"IF(SUMPRODUCT((A$14:A235=A235)*(B$14:B235=B235)*(D$14:D235=D235))>1,0,1)","v":1},"Contratos de prestación de servicios profesionales y de apoyo a la gestión","Contratación directa",{"$f":"IF(ISBLANK(G235),1,IFERROR(VLOOKUP(G235,Tipo!$C$12:$C$27,1,FALSE),\"NO\"))","v":"Prestación de servicios profesionales y de apoyo a la gestión, o para la ejecución de trabajos artísticos que sólo puedan encomendarse a determinadas personas naturales;"},"Inversión",{"$f":"IF(ISBLANK(K235),1,IFERROR(VLOOKUP(K235,Eje_Pilar_Prop!C217:C318,1,FALSE),\"NO\"))","v":"NO"},"SECOP II",1,"Bogotá Mejor para Todos"]
[223,2020,"SECOP II","ALPA-CD-223-2020","Contratos de prestación de servicios profesionales y de apoyo a la gestión","Contratación directa","Prestación de servicios profesionales y de apoyo a la gestión, o para la ejecución de trabajos artísticos que sólo puedan encomendarse a determinadas personas naturales;","El contratista se obliga con el Fondo de Desarrollo Local de la Alcaldla de Puente Aranda a prestar sus servicios profesionales para apoyar la gestion de la Casa del Consumidor en la Alcaldla Local, de acuerdo con los estudios previos","Inversión","Bogotá Mejor para Todos",45,{"$f":"IF(ISERROR(VLOOKUP(K236,Eje_Pilar_Prop!$C$2:$E$104,2,FALSE)),\" \",VLOOKUP(K236,Eje_Pilar_Prop!$C$2:$E$104,2,FALSE))","v":"Gobernanza e influencia local, regional e internacional"},{"$f":"IF(ISERROR(VLOOKUP(K236,Eje_Pilar_Prop!$C$2:$E$104,3,FALSE)),\" \",VLOOKUP(K236,Eje_Pilar_Prop!$C$2:$E$104,3,FALSE))","v":"Eje Transversal 4 Gobierno Legitimo, Fortalecimiento Local y Eficiencia"},"3-3-1-15-07- 45-1312-000 ",16284289,"ALVARO  ENRIQUE TASCON VALENCIA",22000000,null,null,null,null,22000000,null,"2020-08-18","2020-08-20","2021-01-01",133,null,null,null,null,null,null,null,"X",null,null,0,null,{"$f":"IF(SUMPRODUCT((A$14:A236=A236)*(B$14:B236=B236)*(D$14:D236=D236))>1,0,1)","v":1},"Contratos de prestación de servicios profesionales y de apoyo a la gestión","Contratación directa",{"$f":"IF(ISBLANK(G236),1,IFERROR(VLOOKUP(G236,Tipo!$C$12:$C$27,1,FALSE),\"NO\"))","v":"Prestación de servicios profesionales y de apoyo a la gestión, o para la ejecución de trabajos artísticos que sólo puedan encomendarse a determinadas personas naturales;"},"Inversión",{"$f":"IF(ISBLANK(K236),1,IFERROR(VLOOKUP(K236,Eje_Pilar_Prop!C218:C319,1,FALSE),\"NO\"))","v":"NO"},"SECOP II",1,"Bogotá Mejor para Todos"]
[224,2020,"SECOP II","ALPA-CD-224-2020","Contratos de prestación de servicios profesionales y de apoyo a la gestión","Contratación directa","Prestación de servicios profesionales y de apoyo a la gestión, o para la ejecución de trabajos artísticos que sólo puedan encomendarse a determinadas personas naturales;","El contratista se obliga a prestar los servicios de apoyo a la gestion al Fondo de Desarrollo Local de Puente Aranda, para acompanar los procesos de fortalecimiento de la cultura ciudadana y la prevencion de acciones delictivas y comportamientos que atenten contra la seguridad y la convivencia ciudadana, de acuerdo con los estudios previos”.","Inversión","Bogotá Mejor para Todos",45,{"$f":"IF(ISERROR(VLOOKUP(K237,Eje_Pilar_Prop!$C$2:$E$104,2,FALSE)),\" \",VLOOKUP(K237,Eje_Pilar_Prop!$C$2:$E$104,2,FALSE))","v":"Gobernanza e influencia local, regional e internacional"},{"$f":"IF(ISERROR(VLOOKUP(K237,Eje_Pilar_Prop!$C$2:$E$104,3,FALSE)),\" \",VLOOKUP(K237,Eje_Pilar_Prop!$C$2:$E$104,3,FALSE))","v":"Eje Transversal 4 Gobierno Legitimo, Fortalecimiento Local y Eficiencia"},"3-3-1-15-03-19-1310-000",1023919577,"ALBERT YESID GIL PEREZ",8800000,null,null,null,null,8800000,6800000,"2020-08-18","19/08//2020","2020-12-31",133,null,null,null,null,null,null,null,null,"X",null,0.77272727272727271,null,{"$f":"IF(SUMPRODUCT((A$14:A237=A237)*(B$14:B237=B237)*(D$14:D237=D237))>1,0,1)","v":1},"Contratos de prestación de servicios profesionales y de apoyo a la gestión","Contratación directa",{"$f":"IF(ISBLANK(G237),1,IFERROR(VLOOKUP(G237,Tipo!$C$12:$C$27,1,FALSE),\"NO\"))","v":"Prestación de servicios profesionales y de apoyo a la gestión, o para la ejecución de trabajos artísticos que sólo puedan encomendarse a determinadas personas naturales;"},"Inversión",{"$f":"IF(ISBLANK(K237),1,IFERROR(VLOOKUP(K237,Eje_Pilar_Prop!C219:C320,1,FALSE),\"NO\"))","v":"NO"},"SECOP II",1,"Bogotá Mejor para Todos"]
[225,2020,"SECOP II","ALPA-CD-225-2020","Contratos de prestación de servicios profesionales y de apoyo a la gestión","Contratación directa","Prestación de servicios profesionales y de apoyo a la gestión, o para la ejecución de trabajos artísticos que sólo puedan encomendarse a determinadas personas naturales;","El contratista se obliga a prestar los servicios de apoyo a la gestion al Fondo de Desarrollo Local de Puente Aranda, para acompanar los procesos de fortalecimiento de la cultura ciudadana y la prevencion de acciones delictivas y comportamientos que atenten contra la seguridad y la convivencia ciudadana, de acuerdo con los estudios previos”","Inversión","Bogotá Mejor para Todos",45,{"$f":"IF(ISERROR(VLOOKUP(K238,Eje_Pilar_Prop!$C$2:$E$104,2,FALSE)),\" \",VLOOKUP(K238,Eje_Pilar_Prop!$C$2:$E$104,2,FALSE))","v":"Gobernanza e influencia local, regional e internacional"},{"$f":"IF(ISERROR(VLOOKUP(K238,Eje_Pilar_Prop!$C$2:$E$104,3,FALSE)),\" \",VLOOKUP(K238,Eje_Pilar_Prop!$C$2:$E$104,3,FALSE))","v":"Eje Transversal 4 Gobierno Legitimo, Fortalecimiento Local y Eficiencia"},"3-3-1-15-03-19-1310-000",79368108,"EDGAR FELIPE RODRIGUEZ MORENO",8666666,null,null,null,null,8666666,6666666,"2020-08-20","2020-08-21","2020-12-31",130,null,null,null,null,null,null,null,null,"X",null,0.76923075147928854,null,{"$f":"IF(SUMPRODUCT((A$14:A238=A238)*(B$14:B238=B238)*(D$14:D238=D238))>1,0,1)","v":1},"Contratos de prestación de servicios profesionales y de apoyo a la gestión","Contratación directa",{"$f":"IF(ISBLANK(G238),1,IFERROR(VLOOKUP(G238,Tipo!$C$12:$C$27,1,FALSE),\"NO\"))","v":"Prestación de servicios profesionales y de apoyo a la gestión, o para la ejecución de trabajos artísticos que sólo puedan encomendarse a determinadas personas naturales;"},"Inversión",{"$f":"IF(ISBLANK(K238),1,IFERROR(VLOOKUP(K238,Eje_Pilar_Prop!C220:C321,1,FALSE),\"NO\"))","v":"NO"},"SECOP II",1,"Bogotá Mejor para Todos"]
[226,2020,"SECOP II","ALPA-CD-226-2020","Contratos de prestación de servicios profesionales y de apoyo a la gestión","Contratación directa","Prestación de servicios profesionales y de apoyo a la gestión, o para la ejecución de trabajos artísticos que sólo puedan encomendarse a determinadas personas naturales;","\"El contratista se obliga a prestar los servicios de apoyo a la gestion al Fondo de Desarrollo Local de Puente Aranda, para acompanar los procesos de fortalecimiento de la cultura ciudadana y la prevencion de acciones delictivas y comportamientos que atenten contra la seguridad y la convivencia ciudadana, de acuerdo con los estudios previos”","Inversión","Bogotá Mejor para Todos",45,{"$f":"IF(ISERROR(VLOOKUP(K239,Eje_Pilar_Prop!$C$2:$E$104,2,FALSE)),\" \",VLOOKUP(K239,Eje_Pilar_Prop!$C$2:$E$104,2,FALSE))","v":"Gobernanza e influencia local, regional e internacional"},{"$f":"IF(ISERROR(VLOOKUP(K239,Eje_Pilar_Prop!$C$2:$E$104,3,FALSE)),\" \",VLOOKUP(K239,Eje_Pilar_Prop!$C$2:$E$104,3,FALSE))","v":"Eje Transversal 4 Gobierno Legitimo, Fortalecimiento Local y Eficiencia"},"3-3-1-15-03-19-1310-000",52224214,"ANA CECILIA ANGARITA GARCIA",8666666,null,null,null,null,8666666,6666666,"2020-08-20","2020-08-21","2020-12-31",130,null,null,null,null,null,null,null,null,"X",null,0.76923075147928854,null,{"$f":"IF(SUMPRODUCT((A$14:A239=A239)*(B$14:B239=B239)*(D$14:D239=D239))>1,0,1)","v":1},"Contratos de prestación de servicios profesionales y de apoyo a la gestión","Contratación directa",{"$f":"IF(ISBLANK(G239),1,IFERROR(VLOOKUP(G239,Tipo!$C$12:$C$27,1,FALSE),\"NO\"))","v":"Prestación de servicios profesionales y de apoyo a la gestión, o para la ejecución de trabajos artísticos que sólo puedan encomendarse a determinadas personas naturales;"},"Inversión",{"$f":"IF(ISBLANK(K239),1,IFERROR(VLOOKUP(K239,Eje_Pilar_Prop!C221:C322,1,FALSE),\"NO\"))","v":"NO"},"SECOP II",1,"Bogotá Mejor para Todos"]
[227,2020,"SECOP II","ALPA-CD-227-2020","Contratos de prestación de servicios profesionales y de apoyo a la gestión","Contratación directa","Prestación de servicios profesionales y de apoyo a la gestión, o para la ejecución de trabajos artísticos que sólo puedan encomendarse a determinadas personas naturales;","El contrato que se pretende celebrar, tendrá por objeto Prestar sus servicios profesionales para la implementación de las acciones y lineamientos técnicos surtidos del programa de gestión documental y demás instrumentos técnicos archivísticos.","Inversión","Bogotá Mejor para Todos",45,{"$f":"IF(ISERROR(VLOOKUP(K240,Eje_Pilar_Prop!$C$2:$E$104,2,FALSE)),\" \",VLOOKUP(K240,Eje_Pilar_Prop!$C$2:$E$104,2,FALSE))","v":"Gobernanza e influencia local, regional e internacional"},{"$f":"IF(ISERROR(VLOOKUP(K240,Eje_Pilar_Prop!$C$2:$E$104,3,FALSE)),\" \",VLOOKUP(K240,Eje_Pilar_Prop!$C$2:$E$104,3,FALSE))","v":"Eje Transversal 4 Gobierno Legitimo, Fortalecimiento Local y Eficiencia"},"3-3-1-15-07- 45-1312-000 ",52791259,"DORIS JANNETH FORERO DUARTE",17860000,null,null,1,4543333,22403333,12846667,"2020-09-04","2020-09-09","2021-01-01",114,1,29,null,null,null,null,null,"X",null,null,0.57342659683717601,null,{"$f":"IF(SUMPRODUCT((A$14:A240=A240)*(B$14:B240=B240)*(D$14:D240=D240))>1,0,1)","v":1},"Contratos de prestación de servicios profesionales y de apoyo a la gestión","Contratación directa",{"$f":"IF(ISBLANK(G240),1,IFERROR(VLOOKUP(G240,Tipo!$C$12:$C$27,1,FALSE),\"NO\"))","v":"Prestación de servicios profesionales y de apoyo a la gestión, o para la ejecución de trabajos artísticos que sólo puedan encomendarse a determinadas personas naturales;"},"Inversión",{"$f":"IF(ISBLANK(K240),1,IFERROR(VLOOKUP(K240,Eje_Pilar_Prop!C222:C323,1,FALSE),\"NO\"))","v":"NO"},"SECOP II",1,"Bogotá Mejor para Todos"]
[228,2020,"SECOP II","ALPA-CD-228-2020","Contratos de prestación de servicios profesionales y de apoyo a la gestión","Contratación directa","Prestación de servicios profesionales y de apoyo a la gestión, o para la ejecución de trabajos artísticos que sólo puedan encomendarse a determinadas personas naturales;","PRESTAR LOS SERVICIOS DE APOYO A LA GESTIÓN AL FONDO DE DESARROLLO LOCAL DE PUENTE ARANDA, PARA ACOMPAÑAR LOS PROCESOS DE FORTALECIMIENTO DE LA CULTURA CIUDADANA Y LA PREVENCIÓN DE ACCIONES DELICTIVAS Y COMPORTAMIENTOS QUE ATENTEN CONTRA LA SEGURIDAD Y LA CONVIVENCIA CIUDADANA, DE ACUERDO CON LOS ESTUDIOS PREVIOS.","Inversión","Bogotá Mejor para Todos",45,{"$f":"IF(ISERROR(VLOOKUP(K241,Eje_Pilar_Prop!$C$2:$E$104,2,FALSE)),\" \",VLOOKUP(K241,Eje_Pilar_Prop!$C$2:$E$104,2,FALSE))","v":"Gobernanza e influencia local, regional e internacional"},{"$f":"IF(ISERROR(VLOOKUP(K241,Eje_Pilar_Prop!$C$2:$E$104,3,FALSE)),\" \",VLOOKUP(K241,Eje_Pilar_Prop!$C$2:$E$104,3,FALSE))","v":"Eje Transversal 4 Gobierno Legitimo, Fortalecimiento Local y Eficiencia"},"3-3-1-15-03-19-1310-000",52600373,"SANDRA PATRICIA ROMERO RAMOS",7400000,null,null,null,null,7400000,5400000,"2020-09-08","2020-09-10","2020-12-31",111,null,null,null,null,null,null,null,null,"X",null,0.72972972972972971,null,{"$f":"IF(SUMPRODUCT((A$14:A241=A241)*(B$14:B241=B241)*(D$14:D241=D241))>1,0,1)","v":1},"Contratos de prestación de servicios profesionales y de apoyo a la gestión","Contratación directa",{"$f":"IF(ISBLANK(G241),1,IFERROR(VLOOKUP(G241,Tipo!$C$12:$C$27,1,FALSE),\"NO\"))","v":"Prestación de servicios profesionales y de apoyo a la gestión, o para la ejecución de trabajos artísticos que sólo puedan encomendarse a determinadas personas naturales;"},"Inversión",{"$f":"IF(ISBLANK(K241),1,IFERROR(VLOOKUP(K241,Eje_Pilar_Prop!C223:C324,1,FALSE),\"NO\"))","v":"NO"},"SECOP II",1,"Bogotá Mejor para Todos"]
[229,2020,"SECOP I","ALPA-CD-CPS-229-2020","Contratos de prestación de servicios","Contratación directa","Urgencia manifiesta","se obliga a prestar los servicios requeridos para operar el Programa de Incentivos para el Empleo con el cual se busca apoyar al tejido productivo de las localidades de Bogotá D.C., con especial énfasis en los empresarios, e incluir y/o mantener laboralmente a trabajadores mayores de 50 años, mujeres y jóvenes (18-28 años) principalmente, a través de la transferencia de incentivos a la nómina, en el marco de la contención y mitigación de los efectos del Covid-19, la declaratoria de emergencia sanitaria en todo el territorio nacional y la calamidad pública declarada en la ciudad de Bogotá D.C.","Inversión","Bogotá Mejor para Todos",45,{"$f":"IF(ISERROR(VLOOKUP(K242,Eje_Pilar_Prop!$C$2:$E$104,2,FALSE)),\" \",VLOOKUP(K242,Eje_Pilar_Prop!$C$2:$E$104,2,FALSE))","v":"Gobernanza e influencia local, regional e internacional"},{"$f":"IF(ISERROR(VLOOKUP(K242,Eje_Pilar_Prop!$C$2:$E$104,3,FALSE)),\" \",VLOOKUP(K242,Eje_Pilar_Prop!$C$2:$E$104,3,FALSE))","v":"Eje Transversal 4 Gobierno Legitimo, Fortalecimiento Local y Eficiencia"},"3-3-1-15-07-45-1289-000",860066942,"CAJA DE COMPENSACIÓN FAMILIAR COMPENSAR",4847959414,null,null,null,null,4847959414,1902707614,"2020-08-27","2020-09-14","2021-07-13",300,null,null,null,null,null,null,null,"X",null,null,0.39247597834778408,null,{"$f":"IF(SUMPRODUCT((A$14:A242=A242)*(B$14:B242=B242)*(D$14:D242=D242))>1,0,1)","v":1},"Contratos de prestación de servicios","Contratación directa",{"$f":"IF(ISBLANK(G242),1,IFERROR(VLOOKUP(G242,Tipo!$C$12:$C$27,1,FALSE),\"NO\"))","v":"Urgencia manifiesta"},"Inversión",{"$f":"IF(ISBLANK(K242),1,IFERROR(VLOOKUP(K242,Eje_Pilar_Prop!C224:C325,1,FALSE),\"NO\"))","v":"NO"},"SECOP I",1,"Bogotá Mejor para Todos"]
[230,2020,"SECOP I","ALPA-CD-CIA-230-2020","Contratos interadministrativos","Contratación directa","Contratos interadministrativos","Implementar y ejecutar el Programa “Cumplimiento de Protocolos de Bioseguridad para la Adaptación y Reactivación Económica en las localidades de Bosa, Fontibón y Puente Aranda. Alcance del Objeto: El presente contrato incluye la entrega de elementos de bioseguridad relacionados en la Guía Operativa Programa Cumplimiento de Protocolos de Bioseguridad para la Adaptación y Reactivación Económica que se adopte con el propósito de contribuir al cumplimiento de los protocolos de bioseguridad para la reactivación económica de 3 localidades de Bogotá, en este caso Bosa, Fontibón y Puente Aranda, a través de acciones de información, Educación y Comunicación en Salud - IEC, enfocadas a orientar a los trabajadores respecto al uso adecuado de los elementos de bioseguridad contenidos en los kits, actividades que serán desarrolladas por perfiles idóneos en seguridad y salud en el trabajo, así como la entrega de los kits de elementos de bioseguridad a microempresas, establecimientos, locales comerciales y vendedores informales; en el marco del Programa Cumplimiento de Protocolos de Bioseguridad para la Adaptación y Reactivación Económica del Eje Adaptación y Transformación Productiva de la Estrategia de Reactivación Económica Local – EMRE LOCAL.","Inversión","Bogotá Mejor para Todos",45,{"$f":"IF(ISERROR(VLOOKUP(K243,Eje_Pilar_Prop!$C$2:$E$104,2,FALSE)),\" \",VLOOKUP(K243,Eje_Pilar_Prop!$C$2:$E$104,2,FALSE))","v":"Gobernanza e influencia local, regional e internacional"},{"$f":"IF(ISERROR(VLOOKUP(K243,Eje_Pilar_Prop!$C$2:$E$104,3,FALSE)),\" \",VLOOKUP(K243,Eje_Pilar_Prop!$C$2:$E$104,3,FALSE))","v":"Eje Transversal 4 Gobierno Legitimo, Fortalecimiento Local y Eficiencia"},"3-3-1-15-03-19-1310-000",900959048,"SUBRED INTEGRADA DE SERVICIOS DE SALUD SUR OCCIDENTE ESE",420000000,null,null,null,null,420000000,1092534519,"2020-08-27",null,"2021-02-27",180,null,null,null,null,null,null,null,"X",null,null,2.6012726642857142,null,{"$f":"IF(SUMPRODUCT((A$14:A243=A243)*(B$14:B243=B243)*(D$14:D243=D243))>1,0,1)","v":1},"Contratos interadministrativos","Contratación directa",{"$f":"IF(ISBLANK(G243),1,IFERROR(VLOOKUP(G243,Tipo!$C$12:$C$27,1,FALSE),\"NO\"))","v":"Contratos interadministrativos"},"Inversión",{"$f":"IF(ISBLANK(K243),1,IFERROR(VLOOKUP(K243,Eje_Pilar_Prop!C225:C326,1,FALSE),\"NO\"))","v":"NO"},"SECOP I",1,"Bogotá Mejor para Todos"]
[231,2020,"SECOP II","ALPA-CD-231-2020","Contratos de prestación de servicios profesionales y de apoyo a la gestión","Contratación directa","Prestación de servicios profesionales y de apoyo a la gestión, o para la ejecución de trabajos artísticos que sólo puedan encomendarse a determinadas personas naturales;","El contratista se obliga con el área de Gestión de desarrollo Local de Puente Aranda a prestar sus servicios Profesionales como apoyo a la oficina de contabilidad en las actividades propias de conformidad con los estudios previos.","Inversión","Bogotá Mejor para Todos",45,{"$f":"IF(ISERROR(VLOOKUP(K244,Eje_Pilar_Prop!$C$2:$E$104,2,FALSE)),\" \",VLOOKUP(K244,Eje_Pilar_Prop!$C$2:$E$104,2,FALSE))","v":"Gobernanza e influencia local, regional e internacional"},{"$f":"IF(ISERROR(VLOOKUP(K244,Eje_Pilar_Prop!$C$2:$E$104,3,FALSE)),\" \",VLOOKUP(K244,Eje_Pilar_Prop!$C$2:$E$104,3,FALSE))","v":"Eje Transversal 4 Gobierno Legitimo, Fortalecimiento Local y Eficiencia"},"3-3-1-15-07- 45-1312-000 ",53124797,"CLAUDIA PATRICIA VALLEJO GUTIERREZ",15820000,null,null,1,4200000,20020000,11690000,"2020-09-07","2020-09-08","2020-12-31",113,1,30,null,null,null,null,null,"X",null,null,0.58391608391608396,null,{"$f":"IF(SUMPRODUCT((A$14:A244=A244)*(B$14:B244=B244)*(D$14:D244=D244))>1,0,1)","v":1},"Contratos de prestación de servicios profesionales y de apoyo a la gestión","Contratación directa",{"$f":"IF(ISBLANK(G244),1,IFERROR(VLOOKUP(G244,Tipo!$C$12:$C$27,1,FALSE),\"NO\"))","v":"Prestación de servicios profesionales y de apoyo a la gestión, o para la ejecución de trabajos artísticos que sólo puedan encomendarse a determinadas personas naturales;"},"Inversión",{"$f":"IF(ISBLANK(K244),1,IFERROR(VLOOKUP(K244,Eje_Pilar_Prop!C226:C327,1,FALSE),\"NO\"))","v":"NO"},"SECOP II",1,"Bogotá Mejor para Todos"]
[232,2020,"SECOP II","ALPA-CD-232-2020","Contratos de prestación de servicios profesionales y de apoyo a la gestión","Contratación directa","Prestación de servicios profesionales y de apoyo a la gestión, o para la ejecución de trabajos artísticos que sólo puedan encomendarse a determinadas personas naturales;","El contratista se obliga con el Fondo de Desarrollo Local de Puente\nAranda para apoyarjuridicamente la ejecucion de las acciones requeridas\npara la depuracion de las actuaciones administrativas que cursan en la\nAlcaldia Local.","Inversión","Bogotá Mejor para Todos",45,{"$f":"IF(ISERROR(VLOOKUP(K245,Eje_Pilar_Prop!$C$2:$E$104,2,FALSE)),\" \",VLOOKUP(K245,Eje_Pilar_Prop!$C$2:$E$104,2,FALSE))","v":"Gobernanza e influencia local, regional e internacional"},{"$f":"IF(ISERROR(VLOOKUP(K245,Eje_Pilar_Prop!$C$2:$E$104,3,FALSE)),\" \",VLOOKUP(K245,Eje_Pilar_Prop!$C$2:$E$104,3,FALSE))","v":"Eje Transversal 4 Gobierno Legitimo, Fortalecimiento Local y Eficiencia"},"3-3-1-15-07- 45-1312-000 ",51684141,"MARIA ESPERANZA BRICEÑO",17390000,null,null,1,4700000,22090000,12690000,"2020-09-09","2020-09-10","2020-12-31",111,1,30,null,null,null,null,null,"X",null,null,0.57446808510638303,null,{"$f":"IF(SUMPRODUCT((A$14:A245=A245)*(B$14:B245=B245)*(D$14:D245=D245))>1,0,1)","v":1},"Contratos de prestación de servicios profesionales y de apoyo a la gestión","Contratación directa",{"$f":"IF(ISBLANK(G245),1,IFERROR(VLOOKUP(G245,Tipo!$C$12:$C$27,1,FALSE),\"NO\"))","v":"Prestación de servicios profesionales y de apoyo a la gestión, o para la ejecución de trabajos artísticos que sólo puedan encomendarse a determinadas personas naturales;"},"Inversión",{"$f":"IF(ISBLANK(K245),1,IFERROR(VLOOKUP(K245,Eje_Pilar_Prop!C227:C328,1,FALSE),\"NO\"))","v":"NO"},"SECOP II",1,"Bogotá Mejor para Todos"]
[233,2020,"SECOP II","ALPA-CD-233-2020","Contratos de prestación de servicios profesionales y de apoyo a la gestión","Contratación directa","Prestación de servicios profesionales y de apoyo a la gestión, o para la ejecución de trabajos artísticos que sólo puedan encomendarse a determinadas personas naturales;","PRESTAR LOS SERVICIOS DE APOYO A LA GESTIÓN AL FONDO DE DESARROLLO LOCAL DE PUENTE ARANDA, PARA ACOMPAÑAR LOS PROCESOS DE FORTALECIMIENTO DE LA CULTURA CIUDADANA Y LA PREVENCIÓN DE ACCIONES DELICTIVAS Y COMPORTAMIENTOS QUE ATENTEN CONTRA LA SEGURIDAD Y LA CONVIVENCIA CIUDADANA, DE ACUERDO CON LOS ESTUDIOS PREVIOS","Inversión","Bogotá Mejor para Todos",45,{"$f":"IF(ISERROR(VLOOKUP(K246,Eje_Pilar_Prop!$C$2:$E$104,2,FALSE)),\" \",VLOOKUP(K246,Eje_Pilar_Prop!$C$2:$E$104,2,FALSE))","v":"Gobernanza e influencia local, regional e internacional"},{"$f":"IF(ISERROR(VLOOKUP(K246,Eje_Pilar_Prop!$C$2:$E$104,3,FALSE)),\" \",VLOOKUP(K246,Eje_Pilar_Prop!$C$2:$E$104,3,FALSE))","v":"Eje Transversal 4 Gobierno Legitimo, Fortalecimiento Local y Eficiencia"},"3-3-1-15-03-19-1310-000",1122137371,"JUAN DAVID MARTINEZ",7533333,null,null,null,null,7533333,5533334,"2020-09-07","2020-09-08","2020-12-31",113,null,null,null,null,null,null,null,null,"X",null,0.73451339533245108,null,{"$f":"IF(SUMPRODUCT((A$14:A246=A246)*(B$14:B246=B246)*(D$14:D246=D246))>1,0,1)","v":1},"Contratos de prestación de servicios profesionales y de apoyo a la gestión","Contratación directa",{"$f":"IF(ISBLANK(G246),1,IFERROR(VLOOKUP(G246,Tipo!$C$12:$C$27,1,FALSE),\"NO\"))","v":"Prestación de servicios profesionales y de apoyo a la gestión, o para la ejecución de trabajos artísticos que sólo puedan encomendarse a determinadas personas naturales;"},"Inversión",{"$f":"IF(ISBLANK(K246),1,IFERROR(VLOOKUP(K246,Eje_Pilar_Prop!C228:C329,1,FALSE),\"NO\"))","v":"NO"},"SECOP II",1,"Bogotá Mejor para Todos"]
[234,2020,"SECOP II","ALPA-CD-234-2020","Contratos de prestación de servicios profesionales y de apoyo a la gestión","Contratación directa","Prestación de servicios profesionales y de apoyo a la gestión, o para la ejecución de trabajos artísticos que sólo puedan encomendarse a determinadas personas naturales;","PRESTAR LOS SERVICIOS DE APOYO A LA GESTIÓN AL FONDO DE DESARROLLO LOCAL DE PUENTE ARANDA, PARA ACOMPAÑAR LOS PROCESOS DE FORTALECIMIENTO DE LA CULTURA CIUDADANA Y LA PREVENCIÓN DE ACCIONES DELICTIVAS Y COMPORTAMIENTOS QUE ATENTEN CONTRA LA SEGURIDAD Y LA CONVIVENCIA CIUDADANA, DE ACUERDO CON LOS ESTUDIOS PREVIOS.","Inversión","Bogotá Mejor para Todos",45,{"$f":"IF(ISERROR(VLOOKUP(K247,Eje_Pilar_Prop!$C$2:$E$104,2,FALSE)),\" \",VLOOKUP(K247,Eje_Pilar_Prop!$C$2:$E$104,2,FALSE))","v":"Gobernanza e influencia local, regional e internacional"},{"$f":"IF(ISERROR(VLOOKUP(K247,Eje_Pilar_Prop!$C$2:$E$104,3,FALSE)),\" \",VLOOKUP(K247,Eje_Pilar_Prop!$C$2:$E$104,3,FALSE))","v":"Eje Transversal 4 Gobierno Legitimo, Fortalecimiento Local y Eficiencia"},"3-3-1-15-03-19-1310-000","15962797\n1013666159","ANDRES FELIPE AMAYA RINCÓN\n/ANDREA JOHANA RAMIREZ MOSCOSO",6933333.333333333,null,null,null,null,6933333.333333333,4866999,"2020-09-09","2020-09-18","2021-01-01",104,null,null,15962797,"ANDRES FELIPE AMAYA RINCÓN","2020-09-17",16006888,null,null,"X",null,0.70197100961538461,null,{"$f":"IF(SUMPRODUCT((A$14:A247=A247)*(B$14:B247=B247)*(D$14:D247=D247))>1,0,1)","v":1},"Contratos de prestación de servicios profesionales y de apoyo a la gestión","Contratación directa",{"$f":"IF(ISBLANK(G247),1,IFERROR(VLOOKUP(G247,Tipo!$C$12:$C$27,1,FALSE),\"NO\"))","v":"Prestación de servicios profesionales y de apoyo a la gestión, o para la ejecución de trabajos artísticos que sólo puedan encomendarse a determinadas personas naturales;"},"Inversión",{"$f":"IF(ISBLANK(K247),1,IFERROR(VLOOKUP(K247,Eje_Pilar_Prop!C229:C330,1,FALSE),\"NO\"))","v":"NO"},"SECOP II",1,"Bogotá Mejor para Todos"]
[235,2020,"SECOP II","ALPA-CD-235-2020","Contratos de prestación de servicios profesionales y de apoyo a la gestión","Contratación directa","Prestación de servicios profesionales y de apoyo a la gestión, o para la ejecución de trabajos artísticos que sólo puedan encomendarse a determinadas personas naturales;","PRESTAR LOS SERVICIOS DE APOYO A LA GESTIÓN AL FONDO DE DESARROLLO LOCAL DE PUENTE ARANDA, PARA ACOMPAÑAR LOS PROCESOS DE FORTALECIMIENTO DE LA CULTURA CIUDADANA Y LA PREVENCIÓN DE ACCIONES DELICTIVAS Y COMPORTAMIENTOS QUE ATENTEN CONTRA LA SEGURIDAD Y LA CONVIVENCIA CIUDADANA, DE ACUERDO CON LOS ESTUDIOS PREVIOS.","Inversión","Bogotá Mejor para Todos",45,{"$f":"IF(ISERROR(VLOOKUP(K248,Eje_Pilar_Prop!$C$2:$E$104,2,FALSE)),\" \",VLOOKUP(K248,Eje_Pilar_Prop!$C$2:$E$104,2,FALSE))","v":"Gobernanza e influencia local, regional e internacional"},{"$f":"IF(ISERROR(VLOOKUP(K248,Eje_Pilar_Prop!$C$2:$E$104,3,FALSE)),\" \",VLOOKUP(K248,Eje_Pilar_Prop!$C$2:$E$104,3,FALSE))","v":"Eje Transversal 4 Gobierno Legitimo, Fortalecimiento Local y Eficiencia"},"3-3-1-15-03-19-1310-000",1026263488,"ERWIN JONATHAN AYALA MELO",7400000,null,null,null,null,7400000,5400000,"2020-09-09","2020-09-10","2020-12-31",111,null,null,null,null,null,null,null,null,"X",null,0.72972972972972971,null,{"$f":"IF(SUMPRODUCT((A$14:A248=A248)*(B$14:B248=B248)*(D$14:D248=D248))>1,0,1)","v":1},"Contratos de prestación de servicios profesionales y de apoyo a la gestión","Contratación directa",{"$f":"IF(ISBLANK(G248),1,IFERROR(VLOOKUP(G248,Tipo!$C$12:$C$27,1,FALSE),\"NO\"))","v":"Prestación de servicios profesionales y de apoyo a la gestión, o para la ejecución de trabajos artísticos que sólo puedan encomendarse a determinadas personas naturales;"},"Inversión",{"$f":"IF(ISBLANK(K248),1,IFERROR(VLOOKUP(K248,Eje_Pilar_Prop!C230:C331,1,FALSE),\"NO\"))","v":"NO"},"SECOP II",1,"Bogotá Mejor para Todos"]
[236,2020,"SECOP II","ALPÀ-CD-236-2020","Contratos de prestación de servicios profesionales y de apoyo a la gestión","Contratación directa","Prestación de servicios profesionales y de apoyo a la gestión, o para la ejecución de trabajos artísticos que sólo puedan encomendarse a determinadas personas naturales;","PRESTACIÓN DE SERVICIOS PROFESIONALES PARA ADELANTAR TRÁMITES PRECONTRACTUALES, CONTRACTUALES Y POST CONTRACTUALES EN EL MARCO DE LOS PROYECTOS CONTEMPLADOS EN EL PLAN DE DESARROLLO ECONÓMICO, SOCIAL, AMBIENTAL Y DE OBRAS PÚBLICAS PARA LA LOCALIDAD DE PUENTE ARANDA Y EL PLAN DE CONTRATACIÓN, ASÍ COMO LAS LABORES DE LIQUIDACIÓN DE CONTRATOS Y CONVENIOS SUSCRITOS CON CARGO A LOS RECURSOS DEL FONDO DE DESARROLLO LOCAL Y DEPURACIÓN DE OBLIGACIONES POR PAGAR","Inversión","Bogotá Mejor para Todos",45,{"$f":"IF(ISERROR(VLOOKUP(K249,Eje_Pilar_Prop!$C$2:$E$104,2,FALSE)),\" \",VLOOKUP(K249,Eje_Pilar_Prop!$C$2:$E$104,2,FALSE))","v":"Gobernanza e influencia local, regional e internacional"},{"$f":"IF(ISERROR(VLOOKUP(K249,Eje_Pilar_Prop!$C$2:$E$104,3,FALSE)),\" \",VLOOKUP(K249,Eje_Pilar_Prop!$C$2:$E$104,3,FALSE))","v":"Eje Transversal 4 Gobierno Legitimo, Fortalecimiento Local y Eficiencia"},"3-3-1-15-07- 45-1312-000 ",1070951526,"MARLEY YESENIA CORTES AVILA",17703333,null,null,1,4700000,22403333,13003333,"2020-09-07","2020-09-08","2020-12-31",113,1,30,null,null,null,null,null,"X",null,null,0.58041957417675305,null,{"$f":"IF(SUMPRODUCT((A$14:A249=A249)*(B$14:B249=B249)*(D$14:D249=D249))>1,0,1)","v":1},"Contratos de prestación de servicios profesionales y de apoyo a la gestión","Contratación directa",{"$f":"IF(ISBLANK(G249),1,IFERROR(VLOOKUP(G249,Tipo!$C$12:$C$27,1,FALSE),\"NO\"))","v":"Prestación de servicios profesionales y de apoyo a la gestión, o para la ejecución de trabajos artísticos que sólo puedan encomendarse a determinadas personas naturales;"},"Inversión",{"$f":"IF(ISBLANK(K249),1,IFERROR(VLOOKUP(K249,Eje_Pilar_Prop!C231:C332,1,FALSE),\"NO\"))","v":"NO"},"SECOP II",1,"Bogotá Mejor para Todos"]
[237,2020,"SECOP II","ALPA-CD-237-2020","Contratos de prestación de servicios profesionales y de apoyo a la gestión","Contratación directa","Prestación de servicios profesionales y de apoyo a la gestión, o para la ejecución de trabajos artísticos que sólo puedan encomendarse a determinadas personas naturales;","PRESTAR LOS SERVICIOS DE APOYO A LA GESTIÓN AL FONDO DE DESARROLLO LOCAL DE PUENTE ARANDA, PARA ACOMPAÑAR LOS PROCESOS DE FORTALECIMIENTO DE LA CULTURA CIUDADANA Y LA PREVENCIÓN DE ACCIONES DELICTIVAS Y COMPORTAMIENTOS QUE ATENTEN CONTRA LA SEGURIDAD Y LA CONVIVENCIA CIUDADANA, DE ACUERDO CON LOS ESTUDIOS PREVIOS.","Inversión","Bogotá Mejor para Todos",45,{"$f":"IF(ISERROR(VLOOKUP(K250,Eje_Pilar_Prop!$C$2:$E$104,2,FALSE)),\" \",VLOOKUP(K250,Eje_Pilar_Prop!$C$2:$E$104,2,FALSE))","v":"Gobernanza e influencia local, regional e internacional"},{"$f":"IF(ISERROR(VLOOKUP(K250,Eje_Pilar_Prop!$C$2:$E$104,3,FALSE)),\" \",VLOOKUP(K250,Eje_Pilar_Prop!$C$2:$E$104,3,FALSE))","v":"Eje Transversal 4 Gobierno Legitimo, Fortalecimiento Local y Eficiencia"},"3-3-1-15-03-19-1310-000",1013652564,"ANA MARIA GACHANCIPA FAJARDO",7067000,null,null,null,null,7067000,5066667,"2020-09-14","2020-09-15","2020-12-31",106,null,null,null,null,null,null,null,null,"X",null,0.71694736097353895,null,{"$f":"IF(SUMPRODUCT((A$14:A250=A250)*(B$14:B250=B250)*(D$14:D250=D250))>1,0,1)","v":1},"Contratos de prestación de servicios profesionales y de apoyo a la gestión","Contratación directa",{"$f":"IF(ISBLANK(G250),1,IFERROR(VLOOKUP(G250,Tipo!$C$12:$C$27,1,FALSE),\"NO\"))","v":"Prestación de servicios profesionales y de apoyo a la gestión, o para la ejecución de trabajos artísticos que sólo puedan encomendarse a determinadas personas naturales;"},"Inversión",{"$f":"IF(ISBLANK(K250),1,IFERROR(VLOOKUP(K250,Eje_Pilar_Prop!C232:C333,1,FALSE),\"NO\"))","v":"NO"},"SECOP II",1,"Bogotá Mejor para Todos"]
[238,2020,"SECOP II","ALPA-CD-238-2020","Contratos de prestación de servicios profesionales y de apoyo a la gestión","Contratación directa","Prestación de servicios profesionales y de apoyo a la gestión, o para la ejecución de trabajos artísticos que sólo puedan encomendarse a determinadas personas naturales;","Prestar los servicios profesionales para realizar formulación, evaluación, seguimiento y control de proyectos de Inversion y seguimiento de los planes, programas y proyectos del fondo de Desarrollo Local de Puente Aranda que le sean designados de conformidad con la necesidad y el objeto del contrato","Inversión","Bogotá Mejor para Todos",45,{"$f":"IF(ISERROR(VLOOKUP(K251,Eje_Pilar_Prop!$C$2:$E$104,2,FALSE)),\" \",VLOOKUP(K251,Eje_Pilar_Prop!$C$2:$E$104,2,FALSE))","v":"Gobernanza e influencia local, regional e internacional"},{"$f":"IF(ISERROR(VLOOKUP(K251,Eje_Pilar_Prop!$C$2:$E$104,3,FALSE)),\" \",VLOOKUP(K251,Eje_Pilar_Prop!$C$2:$E$104,3,FALSE))","v":"Eje Transversal 4 Gobierno Legitimo, Fortalecimiento Local y Eficiencia"},"3-3-1-15-01- 11-1309-000 ",1013604420,"DANIEL ARMANDO SANDOVAL NIETO",17390000,null,null,1,4700000,22090000,12690000,"2020-09-09","2020-09-10","2020-12-31",111,1,30,null,null,null,null,null,"X",null,null,0.57446808510638303,null,{"$f":"IF(SUMPRODUCT((A$14:A251=A251)*(B$14:B251=B251)*(D$14:D251=D251))>1,0,1)","v":1},"Contratos de prestación de servicios profesionales y de apoyo a la gestión","Contratación directa",{"$f":"IF(ISBLANK(G251),1,IFERROR(VLOOKUP(G251,Tipo!$C$12:$C$27,1,FALSE),\"NO\"))","v":"Prestación de servicios profesionales y de apoyo a la gestión, o para la ejecución de trabajos artísticos que sólo puedan encomendarse a determinadas personas naturales;"},"Inversión",{"$f":"IF(ISBLANK(K251),1,IFERROR(VLOOKUP(K251,Eje_Pilar_Prop!C233:C334,1,FALSE),\"NO\"))","v":"NO"},"SECOP II",1,"Bogotá Mejor para Todos"]
[239,2020,"SECOP II","ALPA-CD-239-2020","Contratos de prestación de servicios profesionales y de apoyo a la gestión","Contratación directa","Prestación de servicios profesionales y de apoyo a la gestión, o para la ejecución de trabajos artísticos que sólo puedan encomendarse a determinadas personas naturales;","Prestar los servicios de apoyo a la gestión al fondo de desarrollo local de Puente Aranda, para acompañar los procesos de fortalecimiento de la cultura ciudadana y la prevención de acciones delictivas y comportamientos que atenten contra la seguridad y la convivencia ciudadana, de acuerdo con los estudios previos.","Inversión","Bogotá Mejor para Todos",45,{"$f":"IF(ISERROR(VLOOKUP(K252,Eje_Pilar_Prop!$C$2:$E$104,2,FALSE)),\" \",VLOOKUP(K252,Eje_Pilar_Prop!$C$2:$E$104,2,FALSE))","v":"Gobernanza e influencia local, regional e internacional"},{"$f":"IF(ISERROR(VLOOKUP(K252,Eje_Pilar_Prop!$C$2:$E$104,3,FALSE)),\" \",VLOOKUP(K252,Eje_Pilar_Prop!$C$2:$E$104,3,FALSE))","v":"Eje Transversal 4 Gobierno Legitimo, Fortalecimiento Local y Eficiencia"},"3-3-1-15-03-19-1310-000",1018480106,"PAULA ELENA GÓMEZ GONZALEZ",7133000,null,null,null,null,7133000,5133333,"2020-09-11","2020-09-14","2020-12-31",107,null,null,null,null,null,null,null,null,"X",null,0.7196597504556288,null,{"$f":"IF(SUMPRODUCT((A$14:A252=A252)*(B$14:B252=B252)*(D$14:D252=D252))>1,0,1)","v":1},"Contratos de prestación de servicios profesionales y de apoyo a la gestión","Contratación directa",{"$f":"IF(ISBLANK(G252),1,IFERROR(VLOOKUP(G252,Tipo!$C$12:$C$27,1,FALSE),\"NO\"))","v":"Prestación de servicios profesionales y de apoyo a la gestión, o para la ejecución de trabajos artísticos que sólo puedan encomendarse a determinadas personas naturales;"},"Inversión",{"$f":"IF(ISBLANK(K252),1,IFERROR(VLOOKUP(K252,Eje_Pilar_Prop!C234:C335,1,FALSE),\"NO\"))","v":"NO"},"SECOP II",1,"Bogotá Mejor para Todos"]
[240,2020,"SECOP II","ALPA-CD-240-2020","Contratos de prestación de servicios profesionales y de apoyo a la gestión","Contratación directa","Prestación de servicios profesionales y de apoyo a la gestión, o para la ejecución de trabajos artísticos que sólo puedan encomendarse a determinadas personas naturales;","Prestar los servicios de apoyo a la gestión al fondo de desarrollo local de Puente Aranda, para acompañar los procesos de fortalecimiento de la cultura ciudadana y la prevención de acciones delictivas y comportamientos que atenten contra la seguridad y la convivencia ciudadana, de acuerdo con los estudios previos.","Inversión","Bogotá Mejor para Todos",45,{"$f":"IF(ISERROR(VLOOKUP(K253,Eje_Pilar_Prop!$C$2:$E$104,2,FALSE)),\" \",VLOOKUP(K253,Eje_Pilar_Prop!$C$2:$E$104,2,FALSE))","v":"Gobernanza e influencia local, regional e internacional"},{"$f":"IF(ISERROR(VLOOKUP(K253,Eje_Pilar_Prop!$C$2:$E$104,3,FALSE)),\" \",VLOOKUP(K253,Eje_Pilar_Prop!$C$2:$E$104,3,FALSE))","v":"Eje Transversal 4 Gobierno Legitimo, Fortalecimiento Local y Eficiencia"},"3-3-1-15-03-19-1310-000",1010164377,"SILVIA JULIANA NAVARRO",6933000,null,null,null,null,6933000,4933334,"2020-09-14","2020-09-17","2020-12-31",104,null,null,null,null,null,null,null,null,"X",null,0.71157276792153468,null,{"$f":"IF(SUMPRODUCT((A$14:A253=A253)*(B$14:B253=B253)*(D$14:D253=D253))>1,0,1)","v":1},"Contratos de prestación de servicios profesionales y de apoyo a la gestión","Contratación directa",{"$f":"IF(ISBLANK(G253),1,IFERROR(VLOOKUP(G253,Tipo!$C$12:$C$27,1,FALSE),\"NO\"))","v":"Prestación de servicios profesionales y de apoyo a la gestión, o para la ejecución de trabajos artísticos que sólo puedan encomendarse a determinadas personas naturales;"},"Inversión",{"$f":"IF(ISBLANK(K253),1,IFERROR(VLOOKUP(K253,Eje_Pilar_Prop!C235:C336,1,FALSE),\"NO\"))","v":"NO"},"SECOP II",1,"Bogotá Mejor para Todos"]
[241,2020,"SECOP II","ALPA-CD-241-2020","Contratos de prestación de servicios profesionales y de apoyo a la gestión","Contratación directa","Prestación de servicios profesionales y de apoyo a la gestión, o para la ejecución de trabajos artísticos que sólo puedan encomendarse a determinadas personas naturales;","Apoyar jurídicamente la ejecución de las acciones requeridas para la depuración de las actuaciones administrativas que cursan en la alcaldía local.","Inversión","Bogotá Mejor para Todos",45,{"$f":"IF(ISERROR(VLOOKUP(K254,Eje_Pilar_Prop!$C$2:$E$104,2,FALSE)),\" \",VLOOKUP(K254,Eje_Pilar_Prop!$C$2:$E$104,2,FALSE))","v":"Gobernanza e influencia local, regional e internacional"},{"$f":"IF(ISERROR(VLOOKUP(K254,Eje_Pilar_Prop!$C$2:$E$104,3,FALSE)),\" \",VLOOKUP(K254,Eje_Pilar_Prop!$C$2:$E$104,3,FALSE))","v":"Eje Transversal 4 Gobierno Legitimo, Fortalecimiento Local y Eficiencia"},"3-3-1-15-07- 45-1312-000 ",80858650,"EDGAR MAURICIO RODRÍGUEZ AVELLANEDA",16763000,null,null,null,null,16763000,12063333,"2020-09-11","2020-09-14","2020-12-31",107,null,null,null,null,null,null,null,null,"X",null,0.71964045815188216,null,{"$f":"IF(SUMPRODUCT((A$14:A254=A254)*(B$14:B254=B254)*(D$14:D254=D254))>1,0,1)","v":1},"Contratos de prestación de servicios profesionales y de apoyo a la gestión","Contratación directa",{"$f":"IF(ISBLANK(G254),1,IFERROR(VLOOKUP(G254,Tipo!$C$12:$C$27,1,FALSE),\"NO\"))","v":"Prestación de servicios profesionales y de apoyo a la gestión, o para la ejecución de trabajos artísticos que sólo puedan encomendarse a determinadas personas naturales;"},"Inversión",{"$f":"IF(ISBLANK(K254),1,IFERROR(VLOOKUP(K254,Eje_Pilar_Prop!C236:C337,1,FALSE),\"NO\"))","v":"NO"},"SECOP II",1,"Bogotá Mejor para Todos"]
[242,2020,"SECOP II","ALPA-CD-242-2020","Contratos de prestación de servicios profesionales y de apoyo a la gestión","Contratación directa","Prestación de servicios profesionales y de apoyo a la gestión, o para la ejecución de trabajos artísticos que sólo puedan encomendarse a determinadas personas naturales;","Apoyar jurídicamente la ejecución de las acciones requeridas para el trámite e impulso procesal de las actuaciones contravencionales y/o querellas que se cursen en las inspecciones de policía de la localidad","Inversión","Bogotá Mejor para Todos",45,{"$f":"IF(ISERROR(VLOOKUP(K255,Eje_Pilar_Prop!$C$2:$E$104,2,FALSE)),\" \",VLOOKUP(K255,Eje_Pilar_Prop!$C$2:$E$104,2,FALSE))","v":"Gobernanza e influencia local, regional e internacional"},{"$f":"IF(ISERROR(VLOOKUP(K255,Eje_Pilar_Prop!$C$2:$E$104,3,FALSE)),\" \",VLOOKUP(K255,Eje_Pilar_Prop!$C$2:$E$104,3,FALSE))","v":"Eje Transversal 4 Gobierno Legitimo, Fortalecimiento Local y Eficiencia"},"3-3-1-15-07- 45-1312-000 ",19419582,"EDGAR OCTAVIO BARACALDO TORRES",16763000,null,null,1,4700000,21463000,20763000,"2020-09-11","2020-09-14","2020-12-31",107,1,30,null,null,null,null,null,"X",null,null,0.96738573358803526,null,{"$f":"IF(SUMPRODUCT((A$14:A255=A255)*(B$14:B255=B255)*(D$14:D255=D255))>1,0,1)","v":1},"Contratos de prestación de servicios profesionales y de apoyo a la gestión","Contratación directa",{"$f":"IF(ISBLANK(G255),1,IFERROR(VLOOKUP(G255,Tipo!$C$12:$C$27,1,FALSE),\"NO\"))","v":"Prestación de servicios profesionales y de apoyo a la gestión, o para la ejecución de trabajos artísticos que sólo puedan encomendarse a determinadas personas naturales;"},"Inversión",{"$f":"IF(ISBLANK(K255),1,IFERROR(VLOOKUP(K255,Eje_Pilar_Prop!C237:C338,1,FALSE),\"NO\"))","v":"NO"},"SECOP II",1,"Bogotá Mejor para Todos"]
[243,2020,"SECOP II","ALPA-CD-243-2020","Contratos de prestación de servicios profesionales y de apoyo a la gestión","Contratación directa","Prestación de servicios profesionales y de apoyo a la gestión, o para la ejecución de trabajos artísticos que sólo puedan encomendarse a determinadas personas naturales;","Prestar sus servicios profesionales para apoyar los temas de mitigación del riesgo, en el marco del plan de desarrollo local de Puente Aranda mejor para todos.","Inversión","Bogotá Mejor para Todos",45,{"$f":"IF(ISERROR(VLOOKUP(K256,Eje_Pilar_Prop!$C$2:$E$104,2,FALSE)),\" \",VLOOKUP(K256,Eje_Pilar_Prop!$C$2:$E$104,2,FALSE))","v":"Gobernanza e influencia local, regional e internacional"},{"$f":"IF(ISERROR(VLOOKUP(K256,Eje_Pilar_Prop!$C$2:$E$104,3,FALSE)),\" \",VLOOKUP(K256,Eje_Pilar_Prop!$C$2:$E$104,3,FALSE))","v":"Eje Transversal 4 Gobierno Legitimo, Fortalecimiento Local y Eficiencia"},"3-3-1-15-07- 45-1312-000 ",1026294301,"ANDRES FELIPE FERNANDEZ RUBIANO",14267000,null,null,null,null,14267000,10266667,"2020-09-11","2020-09-14","2020-12-31",107,null,null,null,null,null,null,null,null,"X",null,0.71960937828555405,null,{"$f":"IF(SUMPRODUCT((A$14:A256=A256)*(B$14:B256=B256)*(D$14:D256=D256))>1,0,1)","v":1},"Contratos de prestación de servicios profesionales y de apoyo a la gestión","Contratación directa",{"$f":"IF(ISBLANK(G256),1,IFERROR(VLOOKUP(G256,Tipo!$C$12:$C$27,1,FALSE),\"NO\"))","v":"Prestación de servicios profesionales y de apoyo a la gestión, o para la ejecución de trabajos artísticos que sólo puedan encomendarse a determinadas personas naturales;"},"Inversión",{"$f":"IF(ISBLANK(K256),1,IFERROR(VLOOKUP(K256,Eje_Pilar_Prop!C238:C339,1,FALSE),\"NO\"))","v":"NO"},"SECOP II",1,"Bogotá Mejor para Todos"]
[244,2020,"SECOP II","ALPA-CD-244-2020","Contratos de prestación de servicios profesionales y de apoyo a la gestión","Contratación directa","Prestación de servicios profesionales y de apoyo a la gestión, o para la ejecución de trabajos artísticos que sólo puedan encomendarse a determinadas personas naturales;","Prestar los servicios profesionales para adelantar trámites precontractuales, contractuales y post contractuales en el marco de los proyectos contemplados en el plan de desarrollo económico, social, ambiental y de obras públicas para la localidad de Puente Aranda y el plan de contratación, así como las labores de liquidación de contratos y convenios suscritos con cargo a los recursos del fondo de desarrollo local y depuración de obligaciones por pagar.","Inversión","Bogotá Mejor para Todos",45,{"$f":"IF(ISERROR(VLOOKUP(K257,Eje_Pilar_Prop!$C$2:$E$104,2,FALSE)),\" \",VLOOKUP(K257,Eje_Pilar_Prop!$C$2:$E$104,2,FALSE))","v":"Gobernanza e influencia local, regional e internacional"},{"$f":"IF(ISERROR(VLOOKUP(K257,Eje_Pilar_Prop!$C$2:$E$104,3,FALSE)),\" \",VLOOKUP(K257,Eje_Pilar_Prop!$C$2:$E$104,3,FALSE))","v":"Eje Transversal 4 Gobierno Legitimo, Fortalecimiento Local y Eficiencia"},"3-3-1-15-07- 45-1312-000 ",52837530,"JENNY ANDREA ROCHA GARCIA",19433333,null,null,1,5500000,24933333,13933333,"2020-09-14","2020-09-15","2020-12-31",106,1,30,null,null,null,null,null,"X",null,null,0.55882352351368347,null,{"$f":"IF(SUMPRODUCT((A$14:A257=A257)*(B$14:B257=B257)*(D$14:D257=D257))>1,0,1)","v":1},"Contratos de prestación de servicios profesionales y de apoyo a la gestión","Contratación directa",{"$f":"IF(ISBLANK(G257),1,IFERROR(VLOOKUP(G257,Tipo!$C$12:$C$27,1,FALSE),\"NO\"))","v":"Prestación de servicios profesionales y de apoyo a la gestión, o para la ejecución de trabajos artísticos que sólo puedan encomendarse a determinadas personas naturales;"},"Inversión",{"$f":"IF(ISBLANK(K257),1,IFERROR(VLOOKUP(K257,Eje_Pilar_Prop!C239:C340,1,FALSE),\"NO\"))","v":"NO"},"SECOP II",1,"Bogotá Mejor para Todos"]
[245,2020,"SECOP II","ALPA-CD-245-2020","Contratos de prestación de servicios profesionales y de apoyo a la gestión","Contratación directa","Prestación de servicios profesionales y de apoyo a la gestión, o para la ejecución de trabajos artísticos que sólo puedan encomendarse a determinadas personas naturales;","El contratista se obliga a prestar los servicios de apoyo a la gestión documental de la Alcaldía en la implementación de los procesos de clasificación, ordenación, selección natural, foliación, identificación, levantamiento de inventarios, almacenamiento y aplicación de protocolos de eliminación y transferencias documentales","Inversión","Bogotá Mejor para Todos",45,{"$f":"IF(ISERROR(VLOOKUP(K258,Eje_Pilar_Prop!$C$2:$E$104,2,FALSE)),\" \",VLOOKUP(K258,Eje_Pilar_Prop!$C$2:$E$104,2,FALSE))","v":"Gobernanza e influencia local, regional e internacional"},{"$f":"IF(ISERROR(VLOOKUP(K258,Eje_Pilar_Prop!$C$2:$E$104,3,FALSE)),\" \",VLOOKUP(K258,Eje_Pilar_Prop!$C$2:$E$104,3,FALSE))","v":"Eje Transversal 4 Gobierno Legitimo, Fortalecimiento Local y Eficiencia"},"3-3-1-15-07- 45-1312-000 ",1010167565,"LUISA FERNANDA QUINTERO LIZARAZO",8333000,null,null,1,2500000,10833000,5833333,"2020-09-18","2020-09-21","2020-12-30",100,1,30,null,null,null,null,null,"X",null,null,0.53847807624849997,null,{"$f":"IF(SUMPRODUCT((A$14:A258=A258)*(B$14:B258=B258)*(D$14:D258=D258))>1,0,1)","v":1},"Contratos de prestación de servicios profesionales y de apoyo a la gestión","Contratación directa",{"$f":"IF(ISBLANK(G258),1,IFERROR(VLOOKUP(G258,Tipo!$C$12:$C$27,1,FALSE),\"NO\"))","v":"Prestación de servicios profesionales y de apoyo a la gestión, o para la ejecución de trabajos artísticos que sólo puedan encomendarse a determinadas personas naturales;"},"Inversión",{"$f":"IF(ISBLANK(K258),1,IFERROR(VLOOKUP(K258,Eje_Pilar_Prop!C240:C341,1,FALSE),\"NO\"))","v":"NO"},"SECOP II",1,"Bogotá Mejor para Todos"]
[246,2020,"SECOP II","ALPA-CD-246-2020.","Contratos de prestación de servicios profesionales y de apoyo a la gestión","Contratación directa","Prestación de servicios profesionales y de apoyo a la gestión, o para la ejecución de trabajos artísticos que sólo puedan encomendarse a determinadas personas naturales;","Apoyar la gestión documental de la Alcaldía Local, en la implementación de los procesos de clasificación, ordenación, selección natural, foliación, identificación, levantamiento de inventarios, almacenamiento y aplicación de protocolos de eliminación y transferencias documentales.","Inversión","Bogotá Mejor para Todos",45,{"$f":"IF(ISERROR(VLOOKUP(K259,Eje_Pilar_Prop!$C$2:$E$104,2,FALSE)),\" \",VLOOKUP(K259,Eje_Pilar_Prop!$C$2:$E$104,2,FALSE))","v":"Gobernanza e influencia local, regional e internacional"},{"$f":"IF(ISERROR(VLOOKUP(K259,Eje_Pilar_Prop!$C$2:$E$104,3,FALSE)),\" \",VLOOKUP(K259,Eje_Pilar_Prop!$C$2:$E$104,3,FALSE))","v":"Eje Transversal 4 Gobierno Legitimo, Fortalecimiento Local y Eficiencia"},"3-3-1-15-07- 45-1312-000 ",1010194356,"DEIDAD SAMAI CAMACHO URIBE",8167000,null,null,1,2500000,10667000,5666666,"22/09/220","2020-09-23","2020-12-31",98,1,30,null,null,null,null,null,"X",null,null,0.53123333645823567,null,{"$f":"IF(SUMPRODUCT((A$14:A259=A259)*(B$14:B259=B259)*(D$14:D259=D259))>1,0,1)","v":1},"Contratos de prestación de servicios profesionales y de apoyo a la gestión","Contratación directa",{"$f":"IF(ISBLANK(G259),1,IFERROR(VLOOKUP(G259,Tipo!$C$12:$C$27,1,FALSE),\"NO\"))","v":"Prestación de servicios profesionales y de apoyo a la gestión, o para la ejecución de trabajos artísticos que sólo puedan encomendarse a determinadas personas naturales;"},"Inversión",{"$f":"IF(ISBLANK(K259),1,IFERROR(VLOOKUP(K259,Eje_Pilar_Prop!C241:C342,1,FALSE),\"NO\"))","v":"NO"},"SECOP II",{"$error":"#VALUE!"},"Bogotá Mejor para Todos"]
[247,2020,"SECOP II","ALPA-CD-247-2020","Contratos de prestación de servicios profesionales y de apoyo a la gestión","Contratación directa","Prestación de servicios profesionales y de apoyo a la gestión, o para la ejecución de trabajos artísticos que sólo puedan encomendarse a determinadas personas naturales;","Apoyar la gestión documental de la Alcaldía Local, en la implementación de los procesos de clasificación, ordenación, selección natural, foliación, identificación, levantamiento de inventarios, almacenamiento y aplicación de protocolos de eliminación y transferencias documentales.","Inversión","Bogotá Mejor para Todos",45,{"$f":"IF(ISERROR(VLOOKUP(K260,Eje_Pilar_Prop!$C$2:$E$104,2,FALSE)),\" \",VLOOKUP(K260,Eje_Pilar_Prop!$C$2:$E$104,2,FALSE))","v":"Gobernanza e influencia local, regional e internacional"},{"$f":"IF(ISERROR(VLOOKUP(K260,Eje_Pilar_Prop!$C$2:$E$104,3,FALSE)),\" \",VLOOKUP(K260,Eje_Pilar_Prop!$C$2:$E$104,3,FALSE))","v":"Eje Transversal 4 Gobierno Legitimo, Fortalecimiento Local y Eficiencia"},"3-3-1-15-07- 45-1312-000 ",51724248,"LUZ NELLY VILLATE AVENDAÑO",8084000,null,null,null,null,8084000,5583333,"2020-09-23","2020-09-24","2020-12-31",97,null,null,null,null,null,null,null,null,"X",null,0.69066464621474521,null,{"$f":"IF(SUMPRODUCT((A$14:A260=A260)*(B$14:B260=B260)*(D$14:D260=D260))>1,0,1)","v":1},"Contratos de prestación de servicios profesionales y de apoyo a la gestión","Contratación directa",{"$f":"IF(ISBLANK(G260),1,IFERROR(VLOOKUP(G260,Tipo!$C$12:$C$27,1,FALSE),\"NO\"))","v":"Prestación de servicios profesionales y de apoyo a la gestión, o para la ejecución de trabajos artísticos que sólo puedan encomendarse a determinadas personas naturales;"},"Inversión",{"$f":"IF(ISBLANK(K260),1,IFERROR(VLOOKUP(K260,Eje_Pilar_Prop!C242:C343,1,FALSE),\"NO\"))","v":"NO"},"SECOP II",1,"Bogotá Mejor para Todos"]
[248,2020,"SECOP I","ALPA-CD-RES-230-2020","Contratos interadministrativos","Contratación directa","Contratos interadministrativos","Aunar esfuerzos Técnicos, Administrativos y Financieros entre el Fondo de Desarrollo Local de Puente Aranda y la Subred Integrada de Servicios de Salud Suroccidente, con el fin de llevar a cabo el proceso para el otorgamiento de ayudas técnicas o dispositivos de asistencia personal, no incluidas o no cubiertas en el plan de beneficios en salud, como acción que facilita el mejoramiento de la calidad de vida y la promoción del bienestar para las personas con discapacidad. residentes en la localidad.","Inversión","Bogotá Mejor para Todos",45,{"$f":"IF(ISERROR(VLOOKUP(K261,Eje_Pilar_Prop!$C$2:$E$104,2,FALSE)),\" \",VLOOKUP(K261,Eje_Pilar_Prop!$C$2:$E$104,2,FALSE))","v":"Gobernanza e influencia local, regional e internacional"},{"$f":"IF(ISERROR(VLOOKUP(K261,Eje_Pilar_Prop!$C$2:$E$104,3,FALSE)),\" \",VLOOKUP(K261,Eje_Pilar_Prop!$C$2:$E$104,3,FALSE))","v":"Eje Transversal 4 Gobierno Legitimo, Fortalecimiento Local y Eficiencia"},"3-3-1-15-01-03-1308-000",900959048,"SUB RED INTEGRADA DE SERVICIOS DE SALUD SUR OCCIDENTE E.S.E.",257099970,null,null,null,null,257099970,23709500,"2020-09-23","2020-09-28","2021-04-27",210,null,null,null,null,null,null,null,"X",null,null,9.2218991701943795E-2,null,{"$f":"IF(SUMPRODUCT((A$14:A261=A261)*(B$14:B261=B261)*(D$14:D261=D261))>1,0,1)","v":1},"Contratos interadministrativos","Contratación directa",{"$f":"IF(ISBLANK(G261),1,IFERROR(VLOOKUP(G261,Tipo!$C$12:$C$27,1,FALSE),\"NO\"))","v":"Contratos interadministrativos"},"Inversión",{"$f":"IF(ISBLANK(K261),1,IFERROR(VLOOKUP(K261,Eje_Pilar_Prop!C243:C344,1,FALSE),\"NO\"))","v":"NO"},"SECOP I",1,"Bogotá Mejor para Todos"]
[249,2020,"SECOP I","ALPA-CD-CPS-249-2020","Contratos de prestación de servicios","Contratación directa","Urgencia manifiesta","COMPENSAR SE OBLIGA A PRESTAR LOS SERVICIOS REQUERIDOS PARA  OPERAR EL PROGRAMA EMPLEOS DE EMERGENCIA QUE BUSCA GENERAR EMPLEO LOCAL TEMPORAL A TRABAJADORES DE BAJA CUALIFICACIÓN DE LAS LOCALIDADES QUE SUSCRIBREN ESTE CONTRATO, EN EL MARCO DE LA CONTENCIÓN Y MITIGACIÓN DEL COVID-19, LA DECLARATORIA DE EMERGENCIA SANITARIA EN TODO EL TERRITORIO NACIONAL Y LA CALAMIDAD PÚBLICA DECLARADA EN LA CIUDAD DE BOGOTÁ D.C, PARA PROMOVER LA REACTIVACION ECONÓMICA LOCAL.","Inversión","Bogotá Mejor para Todos",45,{"$f":"IF(ISERROR(VLOOKUP(K262,Eje_Pilar_Prop!$C$2:$E$104,2,FALSE)),\" \",VLOOKUP(K262,Eje_Pilar_Prop!$C$2:$E$104,2,FALSE))","v":"Gobernanza e influencia local, regional e internacional"},{"$f":"IF(ISERROR(VLOOKUP(K262,Eje_Pilar_Prop!$C$2:$E$104,3,FALSE)),\" \",VLOOKUP(K262,Eje_Pilar_Prop!$C$2:$E$104,3,FALSE))","v":"Eje Transversal 4 Gobierno Legitimo, Fortalecimiento Local y Eficiencia"},"3-3-1-15-06-38-1311-000",860066942,"CAJA DE COMPENSACIÓN FAMILIAR COMPENSAR",598026965,null,null,1,280406354,878433319,119605393,"2020-09-24","2020-10-05","2021-05-04",180,null,null,null,null,null,null,null,"X",null,null,0.13615762336537693,null,{"$f":"IF(SUMPRODUCT((A$14:A262=A262)*(B$14:B262=B262)*(D$14:D262=D262))>1,0,1)","v":1},"Contratos de prestación de servicios","Contratación directa",{"$f":"IF(ISBLANK(G262),1,IFERROR(VLOOKUP(G262,Tipo!$C$12:$C$27,1,FALSE),\"NO\"))","v":"Urgencia manifiesta"},"Inversión",{"$f":"IF(ISBLANK(K262),1,IFERROR(VLOOKUP(K262,Eje_Pilar_Prop!C244:C345,1,FALSE),\"NO\"))","v":"NO"},"SECOP I",1,"Bogotá Mejor para Todos"]
[250,2020,"SECOP II","ALPA-CD 250-2020","Contratos de prestación de servicios profesionales y de apoyo a la gestión","Contratación directa","Contratación de bienes y servicios de la Dirección Nacional de Inteligencia (DNI)","El contratista se obliga con el Fondo de Desarrollo Local de la Alcaldía Local de Puente Aranda a prestar el servicio de conducción para los vehículos del Fondo de Desarrollo Local y los que se le asignen, de conformidad con los estudios previos.","Inversión","Bogotá Mejor para Todos",45,{"$f":"IF(ISERROR(VLOOKUP(K263,Eje_Pilar_Prop!$C$2:$E$104,2,FALSE)),\" \",VLOOKUP(K263,Eje_Pilar_Prop!$C$2:$E$104,2,FALSE))","v":"Gobernanza e influencia local, regional e internacional"},{"$f":"IF(ISERROR(VLOOKUP(K263,Eje_Pilar_Prop!$C$2:$E$104,3,FALSE)),\" \",VLOOKUP(K263,Eje_Pilar_Prop!$C$2:$E$104,3,FALSE))","v":"Eje Transversal 4 Gobierno Legitimo, Fortalecimiento Local y Eficiencia"},"3-3-1-15-07- 45-1312-000 ",19392521,"OSCAR IVAN BARRETO GOMEZ",7750000,null,null,1,2500000,10250000,5250000,"2020-09-25","2020-09-28","2020-12-31",93,1,30,null,null,null,null,null,"X",null,null,0.51219512195121952,null,{"$f":"IF(SUMPRODUCT((A$14:A263=A263)*(B$14:B263=B263)*(D$14:D263=D263))>1,0,1)","v":1},"Contratos de prestación de servicios profesionales y de apoyo a la gestión","Contratación directa",{"$f":"IF(ISBLANK(G263),1,IFERROR(VLOOKUP(G263,Tipo!$C$12:$C$27,1,FALSE),\"NO\"))","v":"Contratación de bienes y servicios de la Dirección Nacional de Inteligencia (DNI)"},"Inversión",{"$f":"IF(ISBLANK(K263),1,IFERROR(VLOOKUP(K263,Eje_Pilar_Prop!C245:C346,1,FALSE),\"NO\"))","v":"NO"},"SECOP II",1,"Bogotá Mejor para Todos"]
[251,2020,"SECOP II","ALPA-IPMC-006-2020","Contratos de prestación de servicios","Contratación mínima cuantia","No aplica","REALIZAR EL MANTENIMIENTO PREVENTIVO Y CORRECTIVO DE LA PLANTA TELEFONICA, TELEFONOS Y RED DE DATOS DE PROPIEDAD DEL FDL DE PUENTE ARANDA CON BOLSA DE REPUESTOS","Inversión","Bogotá Mejor para Todos",45,{"$f":"IF(ISERROR(VLOOKUP(K264,Eje_Pilar_Prop!$C$2:$E$104,2,FALSE)),\" \",VLOOKUP(K264,Eje_Pilar_Prop!$C$2:$E$104,2,FALSE))","v":"Gobernanza e influencia local, regional e internacional"},{"$f":"IF(ISERROR(VLOOKUP(K264,Eje_Pilar_Prop!$C$2:$E$104,3,FALSE)),\" \",VLOOKUP(K264,Eje_Pilar_Prop!$C$2:$E$104,3,FALSE))","v":"Eje Transversal 4 Gobierno Legitimo, Fortalecimiento Local y Eficiencia"},"3-3-1-15-07- 45-1312-000 ",830079122,"COLOMBIANA DE TELEFONOS Y SISTEMAS LTDA.",16159010,null,null,null,null,16159010,1848070,"2020-09-28","2020-10-21","2021-07-20",270,null,null,null,null,null,null,null,null,null,null,0.11436777376831873,null,{"$f":"IF(SUMPRODUCT((A$14:A264=A264)*(B$14:B264=B264)*(D$14:D264=D264))>1,0,1)","v":1},"Contratos de prestación de servicios","Contratación mínima cuantia",{"$f":"IF(ISBLANK(G264),1,IFERROR(VLOOKUP(G264,Tipo!$C$12:$C$27,1,FALSE),\"NO\"))","v":"NO"},"Inversión",{"$f":"IF(ISBLANK(K264),1,IFERROR(VLOOKUP(K264,Eje_Pilar_Prop!C246:C347,1,FALSE),\"NO\"))","v":"NO"},"SECOP II",1,"Bogotá Mejor para Todos"]
[252,2020,"SECOP II","ALPA-IPMC-007-2020","Compraventa de bienes muebles","Contratación mínima cuantia","No aplica","ADQUISICIÓN DE UNIFORMES PARA LOS INSTRUCTORES DEL PROGRAMA VIVIR BIEN, SENTIRSE BIEN DE LA LOCALIDAD DE PUENTE ARANDA. DE ACUERDO CON LAS ESPECIFICACIONES ESTABLECIDAS EN EL ANEXO TECNICO.","Inversión","Bogotá Mejor para Todos",45,{"$f":"IF(ISERROR(VLOOKUP(K265,Eje_Pilar_Prop!$C$2:$E$104,2,FALSE)),\" \",VLOOKUP(K265,Eje_Pilar_Prop!$C$2:$E$104,2,FALSE))","v":"Gobernanza e influencia local, regional e internacional"},{"$f":"IF(ISERROR(VLOOKUP(K265,Eje_Pilar_Prop!$C$2:$E$104,3,FALSE)),\" \",VLOOKUP(K265,Eje_Pilar_Prop!$C$2:$E$104,3,FALSE))","v":"Eje Transversal 4 Gobierno Legitimo, Fortalecimiento Local y Eficiencia"},"3-3-1-15-07- 45-1312-000 ",901269444,"SAGA CONSULTING AND INVESTMENT SAS",6568800,null,null,null,null,6568800,0,"2020-10-05","2020-10-21","2020-12-05",45,1,16,null,null,null,null,null,"X",null,null,0,null,{"$f":"IF(SUMPRODUCT((A$14:A265=A265)*(B$14:B265=B265)*(D$14:D265=D265))>1,0,1)","v":1},"Compraventa de bienes muebles","Contratación mínima cuantia",{"$f":"IF(ISBLANK(G265),1,IFERROR(VLOOKUP(G265,Tipo!$C$12:$C$27,1,FALSE),\"NO\"))","v":"NO"},"Inversión",{"$f":"IF(ISBLANK(K265),1,IFERROR(VLOOKUP(K265,Eje_Pilar_Prop!C247:C348,1,FALSE),\"NO\"))","v":"NO"},"SECOP II",1,"Bogotá Mejor para Todos"]
[253,2020,"SECOP II","ALPA-IPMC-008-2020","Compraventa de bienes muebles","Contratación mínima cuantia","No aplica","Adquisición de cabinas activas de sonido, trípodes, micrófonos de diadema, megáfonos y equipo de perifoneo para el desarrollo de las actividades físicas del programa VIVIR BIEN, SENTIRSE BIEN 2020, de acuerdo con las especificaciones establecidas en el anexo técnico.","Inversión","Bogotá Mejor para Todos",45,{"$f":"IF(ISERROR(VLOOKUP(K266,Eje_Pilar_Prop!$C$2:$E$104,2,FALSE)),\" \",VLOOKUP(K266,Eje_Pilar_Prop!$C$2:$E$104,2,FALSE))","v":"Gobernanza e influencia local, regional e internacional"},{"$f":"IF(ISERROR(VLOOKUP(K266,Eje_Pilar_Prop!$C$2:$E$104,3,FALSE)),\" \",VLOOKUP(K266,Eje_Pilar_Prop!$C$2:$E$104,3,FALSE))","v":"Eje Transversal 4 Gobierno Legitimo, Fortalecimiento Local y Eficiencia"},"3-3-1-15-01-11-1309-000",900346622,"\nELECTROMUSICAL DEL LLANO SAS",11070000,null,null,null,null,11070000,null,"2020-09-28","2020-10-23","2020-11-22",30,null,null,null,null,null,null,null,null,"X",null,0,null,{"$f":"IF(SUMPRODUCT((A$14:A266=A266)*(B$14:B266=B266)*(D$14:D266=D266))>1,0,1)","v":1},"Compraventa de bienes muebles","Contratación mínima cuantia",{"$f":"IF(ISBLANK(G266),1,IFERROR(VLOOKUP(G266,Tipo!$C$12:$C$27,1,FALSE),\"NO\"))","v":"NO"},"Inversión",{"$f":"IF(ISBLANK(K266),1,IFERROR(VLOOKUP(K266,Eje_Pilar_Prop!C248:C349,1,FALSE),\"NO\"))","v":"NO"},"SECOP II",1,"Bogotá Mejor para Todos"]
[254,2020,"SECOP II","ALPA-CD-254-2020","Contratos de prestación de servicios profesionales y de apoyo a la gestión","Contratación directa","Prestación de servicios profesionales y de apoyo a la gestión, o para la ejecución de trabajos artísticos que sólo puedan encomendarse a determinadas personas naturales;","Prestación de servicios técnicos para apoyar las etapas precontractual, contractual y postcontractual de los procesos de adquisición de bienes y servicios que realice el Fondo de Desarrollo Local de Puente Aranda, de acuerdo con los estudios previos.","Inversión","Bogotá Mejor para Todos",45,{"$f":"IF(ISERROR(VLOOKUP(K267,Eje_Pilar_Prop!$C$2:$E$104,2,FALSE)),\" \",VLOOKUP(K267,Eje_Pilar_Prop!$C$2:$E$104,2,FALSE))","v":"Gobernanza e influencia local, regional e internacional"},{"$f":"IF(ISERROR(VLOOKUP(K267,Eje_Pilar_Prop!$C$2:$E$104,3,FALSE)),\" \",VLOOKUP(K267,Eje_Pilar_Prop!$C$2:$E$104,3,FALSE))","v":"Eje Transversal 4 Gobierno Legitimo, Fortalecimiento Local y Eficiencia"},"3-3-1-15-07- 45-1312-000 ",52748681,"JEIMY ROCIO GIRAL VERGARA",7933333,null,null,1,3500000,11433333,4433333,"2020-10-22","2020-10-23","2020-12-31",69,1,30,null,null,null,null,null,"X",null,null,0.38775508419111032,null,{"$f":"IF(SUMPRODUCT((A$14:A267=A267)*(B$14:B267=B267)*(D$14:D267=D267))>1,0,1)","v":1},"Contratos de prestación de servicios profesionales y de apoyo a la gestión","Contratación directa",{"$f":"IF(ISBLANK(G267),1,IFERROR(VLOOKUP(G267,Tipo!$C$12:$C$27,1,FALSE),\"NO\"))","v":"Prestación de servicios profesionales y de apoyo a la gestión, o para la ejecución de trabajos artísticos que sólo puedan encomendarse a determinadas personas naturales;"},"Inversión",{"$f":"IF(ISBLANK(K267),1,IFERROR(VLOOKUP(K267,Eje_Pilar_Prop!C249:C350,1,FALSE),\"NO\"))","v":"NO"},"SECOP II",1,"Bogotá Mejor para Todos"]
[255,2020,"SECOP II","ALPA-CD-255-2020.","Contratos de prestación de servicios profesionales y de apoyo a la gestión","Contratación directa","Prestación de servicios profesionales y de apoyo a la gestión, o para la ejecución de trabajos artísticos que sólo puedan encomendarse a determinadas personas naturales;","El contrato que se pretende celebrar, tendrá por objeto Prestar sus servicios profesionales al Fondo de Desarrollo Local de Puente Aranda para la realizar la Depuración de contratos y/o convenios que se encuentran en proceso de Liquidación y Depuración de las obligaciones por pagar.","Inversión","Bogotá Mejor para Todos",45,{"$f":"IF(ISERROR(VLOOKUP(K268,Eje_Pilar_Prop!$C$2:$E$104,2,FALSE)),\" \",VLOOKUP(K268,Eje_Pilar_Prop!$C$2:$E$104,2,FALSE))","v":"Gobernanza e influencia local, regional e internacional"},{"$f":"IF(ISERROR(VLOOKUP(K268,Eje_Pilar_Prop!$C$2:$E$104,3,FALSE)),\" \",VLOOKUP(K268,Eje_Pilar_Prop!$C$2:$E$104,3,FALSE))","v":"Eje Transversal 4 Gobierno Legitimo, Fortalecimiento Local y Eficiencia"},"3-3-1-15-07- 45-1312-000 ",52816777,"Catherine Cañón Sarmiento",9066700,null,null,null,null,9066700,5066666,"2020-10-22","2020-10-23","2020-12-31",69,null,null,null,null,null,null,null,null,"X",null,0.55882140139190661,null,{"$f":"IF(SUMPRODUCT((A$14:A268=A268)*(B$14:B268=B268)*(D$14:D268=D268))>1,0,1)","v":1},"Contratos de prestación de servicios profesionales y de apoyo a la gestión","Contratación directa",{"$f":"IF(ISBLANK(G268),1,IFERROR(VLOOKUP(G268,Tipo!$C$12:$C$27,1,FALSE),\"NO\"))","v":"Prestación de servicios profesionales y de apoyo a la gestión, o para la ejecución de trabajos artísticos que sólo puedan encomendarse a determinadas personas naturales;"},"Inversión",{"$f":"IF(ISBLANK(K268),1,IFERROR(VLOOKUP(K268,Eje_Pilar_Prop!C250:C351,1,FALSE),\"NO\"))","v":"NO"},"SECOP II",1,"Bogotá Mejor para Todos"]
[256,2020,"SECOP II","ALPA-CD-256-2020.","Contratos de prestación de servicios profesionales y de apoyo a la gestión","Contratación directa","Prestación de servicios profesionales y de apoyo a la gestión, o para la ejecución de trabajos artísticos que sólo puedan encomendarse a determinadas personas naturales;","El contrato que se pretende celebrar tendrá por objeto Apoyar la gestión documental de la Alcaldía Local, en la implementación de los procesos de clasificación, ordenación, selección natural, foliación, identificación, levantamiento de inventarios, almacenamiento y aplicación de protocolos de eliminación y transferencias documentales.","Inversión","Bogotá Mejor para Todos",45,{"$f":"IF(ISERROR(VLOOKUP(K269,Eje_Pilar_Prop!$C$2:$E$104,2,FALSE)),\" \",VLOOKUP(K269,Eje_Pilar_Prop!$C$2:$E$104,2,FALSE))","v":"Gobernanza e influencia local, regional e internacional"},{"$f":"IF(ISERROR(VLOOKUP(K269,Eje_Pilar_Prop!$C$2:$E$104,3,FALSE)),\" \",VLOOKUP(K269,Eje_Pilar_Prop!$C$2:$E$104,3,FALSE))","v":"Eje Transversal 4 Gobierno Legitimo, Fortalecimiento Local y Eficiencia"},"3-3-1-15-07- 45-1312-000 ",52160494,"LILIANA PIEDAD ACUÑA ORJUELA",5666700,null,null,null,null,5666700,3166666,"2020-10-22","2020-10-23","2020-12-31",69,null,null,null,null,null,null,null,null,"X",null,0.55882012458750241,null,{"$f":"IF(SUMPRODUCT((A$14:A269=A269)*(B$14:B269=B269)*(D$14:D269=D269))>1,0,1)","v":1},"Contratos de prestación de servicios profesionales y de apoyo a la gestión","Contratación directa",{"$f":"IF(ISBLANK(G269),1,IFERROR(VLOOKUP(G269,Tipo!$C$12:$C$27,1,FALSE),\"NO\"))","v":"Prestación de servicios profesionales y de apoyo a la gestión, o para la ejecución de trabajos artísticos que sólo puedan encomendarse a determinadas personas naturales;"},"Inversión",{"$f":"IF(ISBLANK(K269),1,IFERROR(VLOOKUP(K269,Eje_Pilar_Prop!C251:C352,1,FALSE),\"NO\"))","v":"NO"},"SECOP II",1,"Bogotá Mejor para Todos"]
[257,2020,"SECOP II","ALPA-CD-257-2020","Contratos de prestación de servicios profesionales y de apoyo a la gestión","Contratación directa","Prestación de servicios profesionales y de apoyo a la gestión, o para la ejecución de trabajos artísticos que sólo puedan encomendarse a determinadas personas naturales;","Prestar sus servicios profesionales al Fondo de Desarrollo Local de Puente Aranda para la realizar la Depuración de contratos y/o convenios que se encuentran en proceso de Liquidación y Depuración de las obligaciones por pagar.","Inversión","Bogotá Mejor para Todos",45,{"$f":"IF(ISERROR(VLOOKUP(K270,Eje_Pilar_Prop!$C$2:$E$104,2,FALSE)),\" \",VLOOKUP(K270,Eje_Pilar_Prop!$C$2:$E$104,2,FALSE))","v":"Gobernanza e influencia local, regional e internacional"},{"$f":"IF(ISERROR(VLOOKUP(K270,Eje_Pilar_Prop!$C$2:$E$104,3,FALSE)),\" \",VLOOKUP(K270,Eje_Pilar_Prop!$C$2:$E$104,3,FALSE))","v":"Eje Transversal 4 Gobierno Legitimo, Fortalecimiento Local y Eficiencia"},"3-3-1-15-07- 45-1312-000 ",1117517040,"CAROLINA OLMOS RUANO",9066667,null,null,null,null,9066667,5066666,"2020-10-22","2020-10-23","2020-12-31",69,null,null,null,null,null,null,null,null,"X",null,0.55882343533737366,null,{"$f":"IF(SUMPRODUCT((A$14:A270=A270)*(B$14:B270=B270)*(D$14:D270=D270))>1,0,1)","v":1},"Contratos de prestación de servicios profesionales y de apoyo a la gestión","Contratación directa",{"$f":"IF(ISBLANK(G270),1,IFERROR(VLOOKUP(G270,Tipo!$C$12:$C$27,1,FALSE),\"NO\"))","v":"Prestación de servicios profesionales y de apoyo a la gestión, o para la ejecución de trabajos artísticos que sólo puedan encomendarse a determinadas personas naturales;"},"Inversión",{"$f":"IF(ISBLANK(K270),1,IFERROR(VLOOKUP(K270,Eje_Pilar_Prop!C252:C353,1,FALSE),\"NO\"))","v":"NO"},"SECOP II",1,{"$f":"IF(ISBLANK(J270),1,IFERROR(VLOOKUP(J270,pdd,1,FALSE),\"NO\"))","v":"Bogotá Mejor para Todos"}]
[258,2020,"SECOP II","ALPA-CD-258-2020","Contratos de prestación de servicios profesionales y de apoyo a la gestión","Contratación directa","Prestación de servicios profesionales y de apoyo a la gestión, o para la ejecución de trabajos artísticos que sólo puedan encomendarse a determinadas personas naturales;","Prestar sus servicios profesionales al Fondo de Desarrollo Local de Puente Aranda para la realizar la Depuración de contratos y/o convenios que se encuentran en proceso de Liquidación y Depuración de las obligaciones por pagar.","Inversión","Bogotá Mejor para Todos",45,{"$f":"IF(ISERROR(VLOOKUP(K271,Eje_Pilar_Prop!$C$2:$E$104,2,FALSE)),\" \",VLOOKUP(K271,Eje_Pilar_Prop!$C$2:$E$104,2,FALSE))","v":"Gobernanza e influencia local, regional e internacional"},{"$f":"IF(ISERROR(VLOOKUP(K271,Eje_Pilar_Prop!$C$2:$E$104,3,FALSE)),\" \",VLOOKUP(K271,Eje_Pilar_Prop!$C$2:$E$104,3,FALSE))","v":"Eje Transversal 4 Gobierno Legitimo, Fortalecimiento Local y Eficiencia"},"3-3-1-15-07- 45-1312-000 ",1033740971,"BRAYAN CAMILO GUZMAN HERNANDEZ",9066667,null,null,null,null,9066667,5066666,"2020-10-22","2020-10-23","2020-12-31",69,null,null,null,null,null,null,null,null,"X",null,0.55882343533737366,null,{"$f":"IF(SUMPRODUCT((A$14:A271=A271)*(B$14:B271=B271)*(D$14:D271=D271))>1,0,1)","v":1},"Contratos de prestación de servicios profesionales y de apoyo a la gestión","Contratación directa",{"$f":"IF(ISBLANK(G271),1,IFERROR(VLOOKUP(G271,Tipo!$C$12:$C$27,1,FALSE),\"NO\"))","v":"Prestación de servicios profesionales y de apoyo a la gestión, o para la ejecución de trabajos artísticos que sólo puedan encomendarse a determinadas personas naturales;"},"Inversión",{"$f":"IF(ISBLANK(K271),1,IFERROR(VLOOKUP(K271,Eje_Pilar_Prop!C253:C354,1,FALSE),\"NO\"))","v":"NO"},"SECOP II",1,"Bogotá Mejor para Todos"]
[259,2020,"SECOP II","ALPA-CD-259-2020","Contratos de prestación de servicios profesionales y de apoyo a la gestión","Contratación directa","Prestación de servicios profesionales y de apoyo a la gestión, o para la ejecución de trabajos artísticos que sólo puedan encomendarse a determinadas personas naturales;","Prestar sus servicios profesionales al Fondo de Desarrollo Local de Puente Aranda para la realizar la Depuración de contratos y/o convenios que se encuentran en proceso de Liquidación y Depuración de las obligaciones por pagar.","Inversión","Bogotá Mejor para Todos",45,{"$f":"IF(ISERROR(VLOOKUP(K272,Eje_Pilar_Prop!$C$2:$E$104,2,FALSE)),\" \",VLOOKUP(K272,Eje_Pilar_Prop!$C$2:$E$104,2,FALSE))","v":"Gobernanza e influencia local, regional e internacional"},{"$f":"IF(ISERROR(VLOOKUP(K272,Eje_Pilar_Prop!$C$2:$E$104,3,FALSE)),\" \",VLOOKUP(K272,Eje_Pilar_Prop!$C$2:$E$104,3,FALSE))","v":"Eje Transversal 4 Gobierno Legitimo, Fortalecimiento Local y Eficiencia"},"3-3-1-15-07- 45-1312-000 ",1013659598,"Henry Andrés Cuesta Sánchez",9066667,null,null,null,null,9066667,0,"2020-10-22","2020-10-23","2020-12-31",69,null,null,null,null,null,null,null,null,"X",null,0,null,{"$f":"IF(SUMPRODUCT((A$14:A272=A272)*(B$14:B272=B272)*(D$14:D272=D272))>1,0,1)","v":1},"Contratos de prestación de servicios profesionales y de apoyo a la gestión","Contratación directa",{"$f":"IF(ISBLANK(G272),1,IFERROR(VLOOKUP(G272,Tipo!$C$12:$C$27,1,FALSE),\"NO\"))","v":"Prestación de servicios profesionales y de apoyo a la gestión, o para la ejecución de trabajos artísticos que sólo puedan encomendarse a determinadas personas naturales;"},"Inversión",{"$f":"IF(ISBLANK(K272),1,IFERROR(VLOOKUP(K272,Eje_Pilar_Prop!C254:C355,1,FALSE),\"NO\"))","v":"NO"},"SECOP II",1,"Bogotá Mejor para Todos"]
[260,2020,"SECOP II","ALPA-SAMC-012-2020","Seguros","Selección abreviada","Selección abreviada por menor cuantía ","CONTRATAR LOS SEGUROS QUE AMPAREN LOS INTERESES PATRIMONIALES ACTUALES Y FUTUROS, ASÍ COMO LOS BIENES DE PROPIEDAD DEL FONDO DE DESARROLLO LOCAL DE PUENTE ARANDA, QUE ESTÉN BAJO SU RESPONSABILIDAD Y CUSTODIA Y AQUELLOS QUE SEAN ADQUIRIDOS PARA DESARROLLAR LAS FUNCIONES INHERENTES A SU ACTIVIDAD, ASÍ COMO LA EXPEDICIÓN DE CUALQUIER OTRA PÓLIZA DE SEGUROS QUE REQUIERA LA ENTIDAD EN EL DESARROLLO DE SU ACTIVIDAD","Funcionamiento","Bogotá Mejor para Todos",null,{"$f":"IF(ISERROR(VLOOKUP(K273,Eje_Pilar_Prop!$C$2:$E$104,2,FALSE)),\" \",VLOOKUP(K273,Eje_Pilar_Prop!$C$2:$E$104,2,FALSE))","v":" "},{"$f":"IF(ISERROR(VLOOKUP(K273,Eje_Pilar_Prop!$C$2:$E$104,3,FALSE)),\" \",VLOOKUP(K273,Eje_Pilar_Prop!$C$2:$E$104,3,FALSE))","v":" "},"3-1-2-02-02-02-0001-008",8605246546,"Aseguradora Solidaria de Colombia Entidad Cooperativa",86098567,null,null,null,null,86098567,null,"2020-10-30","2020-10-30","2021-08-21",296,null,null,null,null,null,null,null,null,null,null,0,null,{"$f":"IF(SUMPRODUCT((A$14:A273=A273)*(B$14:B273=B273)*(D$14:D273=D273))>1,0,1)","v":1},"Seguros","Selección abreviada",{"$f":"IF(ISBLANK(G273),1,IFERROR(VLOOKUP(G273,Tipo!$C$12:$C$27,1,FALSE),\"NO\"))","v":"Selección abreviada por menor cuantía "},"Funcionamiento",{"$f":"IF(ISBLANK(K273),1,IFERROR(VLOOKUP(K273,Eje_Pilar_Prop!C255:C356,1,FALSE),\"NO\"))","v":1},"SECOP II",1,"Bogotá Mejor para Todos"]
[261,2020,"SECOP II","ALPA-IPMC-016-2020","Suministro","Contratación mínima cuantia","No aplica","Suministro de combustible —gasolina corriente, extra y ACPMpara el parque automotor y planta eléctrica de propiedad de la Alcaldía Local de Puente Aranda de acuerdo con los estudios previos, invitación y propuesta presentada.","Funcionamiento","Bogotá Mejor para Todos",null,{"$f":"IF(ISERROR(VLOOKUP(K274,Eje_Pilar_Prop!$C$2:$E$104,2,FALSE)),\" \",VLOOKUP(K274,Eje_Pilar_Prop!$C$2:$E$104,2,FALSE))","v":" "},{"$f":"IF(ISERROR(VLOOKUP(K274,Eje_Pilar_Prop!$C$2:$E$104,3,FALSE)),\" \",VLOOKUP(K274,Eje_Pilar_Prop!$C$2:$E$104,3,FALSE))","v":" "},"01-03-01-02-02-010203",811009788,"DISTRACOM S.A.",7000000,null,null,null,null,7000000,1595590,"2020-11-03",null,null,120,null,null,null,null,null,null,null,null,null,null,0.22794142857142857,null,{"$f":"IF(SUMPRODUCT((A$14:A274=A274)*(B$14:B274=B274)*(D$14:D274=D274))>1,0,1)","v":1},"Suministro","Contratación mínima cuantia",{"$f":"IF(ISBLANK(G274),1,IFERROR(VLOOKUP(G274,Tipo!$C$12:$C$27,1,FALSE),\"NO\"))","v":"NO"},"Funcionamiento",{"$f":"IF(ISBLANK(K274),1,IFERROR(VLOOKUP(K274,Eje_Pilar_Prop!C256:C357,1,FALSE),\"NO\"))","v":1},"SECOP II",1,"Bogotá Mejor para Todos"]
[262,2020,"SECOP II","ALPA-IPMC-010-2020","Suministro","Contratación mínima cuantia","No aplica","Compraventa de insumos para actividades de gestión documental de la Alcaldía Local de Puente Aranda","Funcionamiento","Bogotá Mejor para Todos",null,{"$f":"IF(ISERROR(VLOOKUP(K275,Eje_Pilar_Prop!$C$2:$E$104,2,FALSE)),\" \",VLOOKUP(K275,Eje_Pilar_Prop!$C$2:$E$104,2,FALSE))","v":" "},{"$f":"IF(ISERROR(VLOOKUP(K275,Eje_Pilar_Prop!$C$2:$E$104,3,FALSE)),\" \",VLOOKUP(K275,Eje_Pilar_Prop!$C$2:$E$104,3,FALSE))","v":" "},"03-01-02-02-01-02-0002-000",800216724,"LEGARCHIVO S.A.S",3000000,null,null,null,null,3000000,2999847,"2020-10-30","2020-11-12","2020-12-11",30,null,null,null,null,null,null,null,"X",null,null,0.99994899999999998,null,{"$f":"IF(SUMPRODUCT((A$14:A275=A275)*(B$14:B275=B275)*(D$14:D275=D275))>1,0,1)","v":1},"Suministro","Contratación mínima cuantia",{"$f":"IF(ISBLANK(G275),1,IFERROR(VLOOKUP(G275,Tipo!$C$12:$C$27,1,FALSE),\"NO\"))","v":"NO"},"Funcionamiento",{"$f":"IF(ISBLANK(K275),1,IFERROR(VLOOKUP(K275,Eje_Pilar_Prop!C257:C358,1,FALSE),\"NO\"))","v":1},"SECOP II",1,"Bogotá Mejor para Todos"]
[263,2020,"SECOP II","ALPA-IPMC-011-2020","Suministro","Contratación mínima cuantia","No aplica","Suministro de combustible —gasolina corriente, extra y ACPM para el parque automotor y planta eléctrica de propiedad de la Alcaldía Local de Puente Aranda de acuerdo con los estudios previos, invitación y propuesta presentada.","Funcionamiento","Bogotá Mejor para Todos",null,{"$f":"IF(ISERROR(VLOOKUP(K276,Eje_Pilar_Prop!$C$2:$E$104,2,FALSE)),\" \",VLOOKUP(K276,Eje_Pilar_Prop!$C$2:$E$104,2,FALSE))","v":" "},{"$f":"IF(ISERROR(VLOOKUP(K276,Eje_Pilar_Prop!$C$2:$E$104,3,FALSE)),\" \",VLOOKUP(K276,Eje_Pilar_Prop!$C$2:$E$104,3,FALSE))","v":" "},"03-01-02-02-02-01-0001-000",8000817006,"FRUPYS LTDA",15000000,null,null,null,null,15000000,0,"2020-11-03","5/11/2020 ","4/03/2021 ",120,null,null,null,null,null,null,null,null,"X",null,0,null,{"$f":"IF(SUMPRODUCT((A$14:A276=A276)*(B$14:B276=B276)*(D$14:D276=D276))>1,0,1)","v":1},"Suministro","Contratación mínima cuantia",{"$f":"IF(ISBLANK(G276),1,IFERROR(VLOOKUP(G276,Tipo!$C$12:$C$27,1,FALSE),\"NO\"))","v":"NO"},"Funcionamiento",{"$f":"IF(ISBLANK(K276),1,IFERROR(VLOOKUP(K276,Eje_Pilar_Prop!C258:C359,1,FALSE),\"NO\"))","v":1},"SECOP II",1,"Bogotá Mejor para Todos"]
[264,2020,"SECOP II","ALPA-CPS-264-2020","Contratos de prestación de servicios profesionales y de apoyo a la gestión","Contratación directa","Prestación de servicios profesionales y de apoyo a la gestión, o para la ejecución de trabajos artísticos que sólo puedan encomendarse a determinadas personas naturales;","El contratista se obliga con el Fondo de Desarrollo Local de Puente Aranda a prestar sus servicios como instructor de formación deportiva en la ejecución de las actividades previstas para la implementación del programa Vivir Bien Sentirse Bien y sus procesos de formación deportiva y la estrategia de cuidado en el territorio en la Localidad de Puente Aranda, de conformidad con los estudios previos.","Inversión","Bogotá Mejor para Todos",45,{"$f":"IF(ISERROR(VLOOKUP(K277,Eje_Pilar_Prop!$C$2:$E$104,2,FALSE)),\" \",VLOOKUP(K277,Eje_Pilar_Prop!$C$2:$E$104,2,FALSE))","v":"Gobernanza e influencia local, regional e internacional"},{"$f":"IF(ISERROR(VLOOKUP(K277,Eje_Pilar_Prop!$C$2:$E$104,3,FALSE)),\" \",VLOOKUP(K277,Eje_Pilar_Prop!$C$2:$E$104,3,FALSE))","v":"Eje Transversal 4 Gobierno Legitimo, Fortalecimiento Local y Eficiencia"},"3-3-1-15-01-11-1309",80219053,"ROSSEMBERTH GUTIERREZ",4693333,null,null,null,null,4693333,3413333,"2020-11-05","2020-11-06","2020-12-31",55,null,null,null,null,null,null,null,null,"X",null,0.72727270790289122,null,{"$f":"IF(SUMPRODUCT((A$14:A277=A277)*(B$14:B277=B277)*(D$14:D277=D277))>1,0,1)","v":1},"Contratos de prestación de servicios profesionales y de apoyo a la gestión","Contratación directa",{"$f":"IF(ISBLANK(G277),1,IFERROR(VLOOKUP(G277,Tipo!$C$12:$C$27,1,FALSE),\"NO\"))","v":"Prestación de servicios profesionales y de apoyo a la gestión, o para la ejecución de trabajos artísticos que sólo puedan encomendarse a determinadas personas naturales;"},"Inversión",{"$f":"IF(ISBLANK(K277),1,IFERROR(VLOOKUP(K277,Eje_Pilar_Prop!C259:C360,1,FALSE),\"NO\"))","v":"NO"},{"$f":"IF(ISBLANK(C277),1,IFERROR(VLOOKUP(C277,SECOP,1,FALSE),\"NO\"))","v":"SECOP II"},1,"Bogotá Mejor para Todos"]
[265,2020,"SECOP II","ALPA-CD-265-2020","Contratos de prestación de servicios profesionales y de apoyo a la gestión","Contratación directa","Prestación de servicios profesionales y de apoyo a la gestión, o para la ejecución de trabajos artísticos que sólo puedan encomendarse a determinadas personas naturales;","El contratista se obliga con el Fondo de Desarrollo Local de Puente Aranda a prestar sus servicios como instructor de formación deportiva en la ejecución de las actividades previstas para la implementación del programa Vivir Bien Sentirse Bien y sus procesos de formación deportiva y la estrategia de cuidado en el territorio en la Localidad de Puente Aranda, de conformidad con los estudios previos","Inversión","Bogotá Mejor para Todos",45,{"$f":"IF(ISERROR(VLOOKUP(K278,Eje_Pilar_Prop!$C$2:$E$104,2,FALSE)),\" \",VLOOKUP(K278,Eje_Pilar_Prop!$C$2:$E$104,2,FALSE))","v":"Gobernanza e influencia local, regional e internacional"},{"$f":"IF(ISERROR(VLOOKUP(K278,Eje_Pilar_Prop!$C$2:$E$104,3,FALSE)),\" \",VLOOKUP(K278,Eje_Pilar_Prop!$C$2:$E$104,3,FALSE))","v":"Eje Transversal 4 Gobierno Legitimo, Fortalecimiento Local y Eficiencia"},"3-3-1-15-01-11-1309",80211605,"JAIRZIÑIHO GUTIERREZ AGUILAR",4693333,null,null,null,null,4693333,2986666,"2020-11-05","2020-11-11","2020-12-31",50,null,null,80203955,"NELSON DAVID VERA GALLO","2020-11-11",4693333,null,null,"X",null,0.6363635395144559,null,{"$f":"IF(SUMPRODUCT((A$14:A278=A278)*(B$14:B278=B278)*(D$14:D278=D278))>1,0,1)","v":1},"Contratos de prestación de servicios profesionales y de apoyo a la gestión","Contratación directa",{"$f":"IF(ISBLANK(G278),1,IFERROR(VLOOKUP(G278,Tipo!$C$12:$C$27,1,FALSE),\"NO\"))","v":"Prestación de servicios profesionales y de apoyo a la gestión, o para la ejecución de trabajos artísticos que sólo puedan encomendarse a determinadas personas naturales;"},"Inversión",{"$f":"IF(ISBLANK(K278),1,IFERROR(VLOOKUP(K278,Eje_Pilar_Prop!C260:C361,1,FALSE),\"NO\"))","v":"NO"},"SECOP II",1,"Bogotá Mejor para Todos"]
[266,2020,"SECOP II","ALPA-CPS-266-2020","Contratos de prestación de servicios profesionales y de apoyo a la gestión","Contratación directa","Prestación de servicios profesionales y de apoyo a la gestión, o para la ejecución de trabajos artísticos que sólo puedan encomendarse a determinadas personas naturales;","El contratista se obliga con el Fondo de Desarrollo Local de Puente Aranda a prestar sus servicios como instructor de formación deportiva en la ejecución de las actividades previstas para la implementación del programa Vivir Bien Sentirse Bien y sus procesos de formación deportiva y la estrategia de cuidado en el territorio en la Localidad de Puente Aranda, de conformidad con los estudios previos.","Inversión","Bogotá Mejor para Todos",45,{"$f":"IF(ISERROR(VLOOKUP(K279,Eje_Pilar_Prop!$C$2:$E$104,2,FALSE)),\" \",VLOOKUP(K279,Eje_Pilar_Prop!$C$2:$E$104,2,FALSE))","v":"Gobernanza e influencia local, regional e internacional"},{"$f":"IF(ISERROR(VLOOKUP(K279,Eje_Pilar_Prop!$C$2:$E$104,3,FALSE)),\" \",VLOOKUP(K279,Eje_Pilar_Prop!$C$2:$E$104,3,FALSE))","v":"Eje Transversal 4 Gobierno Legitimo, Fortalecimiento Local y Eficiencia"},"3-3-1-15-01-11-1309",53006640,"NEIBY VIVIANA GARCÍA RUIZ",4693333,null,null,null,null,4693333,3413333,"2020-11-05","2020-11-06","2020-12-31",55,null,null,null,null,null,null,null,null,"X",null,0.72727270790289122,null,{"$f":"IF(SUMPRODUCT((A$14:A279=A279)*(B$14:B279=B279)*(D$14:D279=D279))>1,0,1)","v":1},"Contratos de prestación de servicios profesionales y de apoyo a la gestión","Contratación directa",{"$f":"IF(ISBLANK(G279),1,IFERROR(VLOOKUP(G279,Tipo!$C$12:$C$27,1,FALSE),\"NO\"))","v":"Prestación de servicios profesionales y de apoyo a la gestión, o para la ejecución de trabajos artísticos que sólo puedan encomendarse a determinadas personas naturales;"},"Inversión",{"$f":"IF(ISBLANK(K279),1,IFERROR(VLOOKUP(K279,Eje_Pilar_Prop!C261:C362,1,FALSE),\"NO\"))","v":"NO"},"SECOP II",1,"Bogotá Mejor para Todos"]
[267,2020,"SECOP II","ALCA-CD-267-2020","Contratos de prestación de servicios profesionales y de apoyo a la gestión","Contratación directa","Prestación de servicios profesionales y de apoyo a la gestión, o para la ejecución de trabajos artísticos que sólo puedan encomendarse a determinadas personas naturales;","El contratista se obliga con el Fondo de Desarrollo Local de Puente Aranda a prestar sus servicios como instructor de formación deportiva en la ejecución de las actividades previstas para la implementación del programa Vivir Bien Sentirse Bien y sus procesos de formación deportiva y la estrategia de cuidado en el territorio en la Localidad de Puente Aranda, de conformidad con los estudios previos.","Inversión","Bogotá Mejor para Todos",45,{"$f":"IF(ISERROR(VLOOKUP(K280,Eje_Pilar_Prop!$C$2:$E$104,2,FALSE)),\" \",VLOOKUP(K280,Eje_Pilar_Prop!$C$2:$E$104,2,FALSE))","v":"Gobernanza e influencia local, regional e internacional"},{"$f":"IF(ISERROR(VLOOKUP(K280,Eje_Pilar_Prop!$C$2:$E$104,3,FALSE)),\" \",VLOOKUP(K280,Eje_Pilar_Prop!$C$2:$E$104,3,FALSE))","v":"Eje Transversal 4 Gobierno Legitimo, Fortalecimiento Local y Eficiencia"},"3-3-1-15-01-11-1309",80126536,"MISAEL ALEJANDRO PINEDA SUÁREZ",4693333,null,null,null,null,4693333,3413333,"2020-11-05","2020-11-06","2020-12-31",55,null,null,null,null,null,null,null,null,"X",null,0.72727270790289122,null,{"$f":"IF(SUMPRODUCT((A$14:A280=A280)*(B$14:B280=B280)*(D$14:D280=D280))>1,0,1)","v":1},{"$f":"IF(ISBLANK(E280),1,IFERROR(VLOOKUP(E280,tipo,1,FALSE),\"NO\"))","v":"Contratos de prestación de servicios profesionales y de apoyo a la gestión"},{"$f":"IF(ISBLANK(F280),1,IFERROR(VLOOKUP(F280,modal,1,FALSE),\"NO\"))","v":"Contratación directa"},{"$f":"IF(ISBLANK(G280),1,IFERROR(VLOOKUP(G280,Tipo!$C$12:$C$27,1,FALSE),\"NO\"))","v":"Prestación de servicios profesionales y de apoyo a la gestión, o para la ejecución de trabajos artísticos que sólo puedan encomendarse a determinadas personas naturales;"},{"$f":"IF(ISBLANK(I280),1,IFERROR(VLOOKUP(I280,afectacion,1,FALSE),\"NO\"))","v":"Inversión"},{"$f":"IF(ISBLANK(K280),1,IFERROR(VLOOKUP(K280,Eje_Pilar_Prop!C262:C363,1,FALSE),\"NO\"))","v":"NO"},"SECOP II",1,"Bogotá Mejor para Todos"]
[268,2020,"SECOP II","ALPA-CPS-268-2020","Contratos de prestación de servicios profesionales y de apoyo a la gestión","Contratación directa","Prestación de servicios profesionales y de apoyo a la gestión, o para la ejecución de trabajos artísticos que sólo puedan encomendarse a determinadas personas naturales;","El contratista se obliga con el Fondo de Desarrollo Local de Puente Aranda a prestar sus servicios como instructor de formación deportiva en la ejecución de las actividades previstas para la implementación del programa Vivir Bien Sentirse Bien y sus procesos de formación deportiva y la estrategia de cuidado en el territorio en la Localidad de Puente Aranda, de conformidad con los estudios previos.","Inversión","Bogotá Mejor para Todos",45,{"$f":"IF(ISERROR(VLOOKUP(K281,Eje_Pilar_Prop!$C$2:$E$104,2,FALSE)),\" \",VLOOKUP(K281,Eje_Pilar_Prop!$C$2:$E$104,2,FALSE))","v":"Gobernanza e influencia local, regional e internacional"},{"$f":"IF(ISERROR(VLOOKUP(K281,Eje_Pilar_Prop!$C$2:$E$104,3,FALSE)),\" \",VLOOKUP(K281,Eje_Pilar_Prop!$C$2:$E$104,3,FALSE))","v":"Eje Transversal 4 Gobierno Legitimo, Fortalecimiento Local y Eficiencia"},"3-3-1-15-01-11-1309",1032420558,"JEFERSON ARLEY PENAGOS CARDENAS",4693333,null,null,null,null,4693333,3413333,"2020-11-05","2020-11-06","2020-12-31",55,null,null,null,null,null,null,null,null,"X",null,0.72727270790289122,null,{"$f":"IF(SUMPRODUCT((A$14:A281=A281)*(B$14:B281=B281)*(D$14:D281=D281))>1,0,1)","v":1},"Contratos de prestación de servicios profesionales y de apoyo a la gestión","Contratación directa",{"$f":"IF(ISBLANK(G281),1,IFERROR(VLOOKUP(G281,Tipo!$C$12:$C$27,1,FALSE),\"NO\"))","v":"Prestación de servicios profesionales y de apoyo a la gestión, o para la ejecución de trabajos artísticos que sólo puedan encomendarse a determinadas personas naturales;"},"Inversión",{"$f":"IF(ISBLANK(K281),1,IFERROR(VLOOKUP(K281,Eje_Pilar_Prop!C263:C364,1,FALSE),\"NO\"))","v":"NO"},"SECOP II",1,"Bogotá Mejor para Todos"]
[269,2020,"SECOP II","ALPA-CD-269-2020","Contratos de prestación de servicios profesionales y de apoyo a la gestión","Contratación directa","Prestación de servicios profesionales y de apoyo a la gestión, o para la ejecución de trabajos artísticos que sólo puedan encomendarse a determinadas personas naturales;","El contratista se obliga con el Fondo de Desarrollo Local de Puente Aranda a prestar sus servicios como instructor deportivo en la ejecución de las actividades previstas para la implementación del programa Vivir Bien Sentirse Bien y sus estrategias de actividad física y cuidado en el territorio en la Localidad de Puente Aranda, de conformidad con los estudios previos.","Inversión","Bogotá Mejor para Todos",45,{"$f":"IF(ISERROR(VLOOKUP(K282,Eje_Pilar_Prop!$C$2:$E$104,2,FALSE)),\" \",VLOOKUP(K282,Eje_Pilar_Prop!$C$2:$E$104,2,FALSE))","v":"Gobernanza e influencia local, regional e internacional"},{"$f":"IF(ISERROR(VLOOKUP(K282,Eje_Pilar_Prop!$C$2:$E$104,3,FALSE)),\" \",VLOOKUP(K282,Eje_Pilar_Prop!$C$2:$E$104,3,FALSE))","v":"Eje Transversal 4 Gobierno Legitimo, Fortalecimiento Local y Eficiencia"},"3-3-1-15-01-11-1309",79746554,"CARLOS EDUARDO PEÑA",4693333,null,null,null,null,4693333,3413333,"2020-11-05","2020-11-06","2020-12-31",55,null,null,null,null,null,null,null,null,"X",null,0.72727270790289122,null,{"$f":"IF(SUMPRODUCT((A$14:A282=A282)*(B$14:B282=B282)*(D$14:D282=D282))>1,0,1)","v":1},"Contratos de prestación de servicios profesionales y de apoyo a la gestión","Contratación directa",{"$f":"IF(ISBLANK(G282),1,IFERROR(VLOOKUP(G282,Tipo!$C$12:$C$27,1,FALSE),\"NO\"))","v":"Prestación de servicios profesionales y de apoyo a la gestión, o para la ejecución de trabajos artísticos que sólo puedan encomendarse a determinadas personas naturales;"},"Inversión",{"$f":"IF(ISBLANK(K282),1,IFERROR(VLOOKUP(K282,Eje_Pilar_Prop!C264:C365,1,FALSE),\"NO\"))","v":"NO"},"SECOP II",1,"Bogotá Mejor para Todos"]
[270,2020,"SECOP II","ALPA-CD-270-2020","Contratos de prestación de servicios profesionales y de apoyo a la gestión","Contratación directa","Prestación de servicios profesionales y de apoyo a la gestión, o para la ejecución de trabajos artísticos que sólo puedan encomendarse a determinadas personas naturales;","El contratista se obliga con el Fondo de Desarrollo Local de Puente Aranda a prestar sus servicios como instructor deportivo en la ejecución de las actividades previstas para la implementación del programa Vivir Bien Sentirse Bien y sus estrategias de actividad física y cuidado en el territorio en la Localidad de Puente Aranda, de conformidad con los estudios previos.","Inversión","Bogotá Mejor para Todos",45,{"$f":"IF(ISERROR(VLOOKUP(K283,Eje_Pilar_Prop!$C$2:$E$104,2,FALSE)),\" \",VLOOKUP(K283,Eje_Pilar_Prop!$C$2:$E$104,2,FALSE))","v":"Gobernanza e influencia local, regional e internacional"},{"$f":"IF(ISERROR(VLOOKUP(K283,Eje_Pilar_Prop!$C$2:$E$104,3,FALSE)),\" \",VLOOKUP(K283,Eje_Pilar_Prop!$C$2:$E$104,3,FALSE))","v":"Eje Transversal 4 Gobierno Legitimo, Fortalecimiento Local y Eficiencia"},"3-3-1-15-01-11-1309",80197122,"DIEGO HERNÁN ROMERO GIL",4693333,null,null,null,null,4693333,3413333,"2020-11-05","2020-11-06","2020-12-31",55,null,null,null,null,null,null,null,null,"X",null,0.72727270790289122,null,{"$f":"IF(SUMPRODUCT((A$14:A283=A283)*(B$14:B283=B283)*(D$14:D283=D283))>1,0,1)","v":1},"Contratos de prestación de servicios profesionales y de apoyo a la gestión","Contratación directa",{"$f":"IF(ISBLANK(G283),1,IFERROR(VLOOKUP(G283,Tipo!$C$12:$C$27,1,FALSE),\"NO\"))","v":"Prestación de servicios profesionales y de apoyo a la gestión, o para la ejecución de trabajos artísticos que sólo puedan encomendarse a determinadas personas naturales;"},"Inversión",{"$f":"IF(ISBLANK(K283),1,IFERROR(VLOOKUP(K283,Eje_Pilar_Prop!C265:C366,1,FALSE),\"NO\"))","v":"NO"},"SECOP II",1,"Bogotá Mejor para Todos"]
[271,2020,"SECOP II","ALPA-CPS-271-2020","Contratos de prestación de servicios profesionales y de apoyo a la gestión","Contratación directa","Prestación de servicios profesionales y de apoyo a la gestión, o para la ejecución de trabajos artísticos que sólo puedan encomendarse a determinadas personas naturales;","El contratista se obliga con el Fondo de Desarrollo Local de Puente Aranda a prestar sus servicios como instructor deportivo en la ejecución de las actividades previstas para la implementación del programa Vivir Bien Sentirse Bien y sus estrategias de actividad física y cuidado en el territorio en la Localidad de Puente Aranda, de conformidad con los estudios previos.","Inversión","Bogotá Mejor para Todos",45,{"$f":"IF(ISERROR(VLOOKUP(K284,Eje_Pilar_Prop!$C$2:$E$104,2,FALSE)),\" \",VLOOKUP(K284,Eje_Pilar_Prop!$C$2:$E$104,2,FALSE))","v":"Gobernanza e influencia local, regional e internacional"},{"$f":"IF(ISERROR(VLOOKUP(K284,Eje_Pilar_Prop!$C$2:$E$104,3,FALSE)),\" \",VLOOKUP(K284,Eje_Pilar_Prop!$C$2:$E$104,3,FALSE))","v":"Eje Transversal 4 Gobierno Legitimo, Fortalecimiento Local y Eficiencia"},"3-3-1-15-01-11-1309",80797836,"BRYAN DAVID SÁNCHEZ",4693333,null,null,null,null,4693333,3413333,"2020-11-05","2020-11-06","2020-12-31",55,null,null,null,null,null,null,null,null,"X",null,0.72727270790289122,null,{"$f":"IF(SUMPRODUCT((A$14:A284=A284)*(B$14:B284=B284)*(D$14:D284=D284))>1,0,1)","v":1},"Contratos de prestación de servicios profesionales y de apoyo a la gestión","Contratación directa",{"$f":"IF(ISBLANK(G284),1,IFERROR(VLOOKUP(G284,Tipo!$C$12:$C$27,1,FALSE),\"NO\"))","v":"Prestación de servicios profesionales y de apoyo a la gestión, o para la ejecución de trabajos artísticos que sólo puedan encomendarse a determinadas personas naturales;"},"Inversión",{"$f":"IF(ISBLANK(K284),1,IFERROR(VLOOKUP(K284,Eje_Pilar_Prop!C266:C367,1,FALSE),\"NO\"))","v":"NO"},"SECOP II",{"$f":"IF(OR(YEAR(X284)=2020,ISBLANK(X284)),1,\"NO\")","v":1},"Bogotá Mejor para Todos"]
[272,2020,"SECOP II","ALCA-CD-272-2020","Contratos de prestación de servicios profesionales y de apoyo a la gestión","Contratación directa","Prestación de servicios profesionales y de apoyo a la gestión, o para la ejecución de trabajos artísticos que sólo puedan encomendarse a determinadas personas naturales;","El contratista se obliga con el Fondo de Desarrollo Local de Puente Aranda a prestar sus servicios como instructor de formación deportiva en la ejecución de las actividades previstas para la implementación del programa Vivir Bien Sentirse Bien y sus procesos de formación deportiva y la estrategia de cuidado en el territorio en la Localidad de Puente Aranda, de conformidad con los estudios previos.","Inversión","Bogotá Mejor para Todos",45,{"$f":"IF(ISERROR(VLOOKUP(K285,Eje_Pilar_Prop!$C$2:$E$104,2,FALSE)),\" \",VLOOKUP(K285,Eje_Pilar_Prop!$C$2:$E$104,2,FALSE))","v":"Gobernanza e influencia local, regional e internacional"},{"$f":"IF(ISERROR(VLOOKUP(K285,Eje_Pilar_Prop!$C$2:$E$104,3,FALSE)),\" \",VLOOKUP(K285,Eje_Pilar_Prop!$C$2:$E$104,3,FALSE))","v":"Eje Transversal 4 Gobierno Legitimo, Fortalecimiento Local y Eficiencia"},"3-3-1-15-01-11-1309",19407899,"JAIME ERLEY GODOY",4693333,null,null,null,null,4693333,3413333,"2020-11-05","2020-11-06","2020-12-31",55,null,null,null,null,null,null,null,null,"X",null,0.72727270790289122,null,{"$f":"IF(SUMPRODUCT((A$14:A285=A285)*(B$14:B285=B285)*(D$14:D285=D285))>1,0,1)","v":1},"Contratos de prestación de servicios profesionales y de apoyo a la gestión","Contratación directa",{"$f":"IF(ISBLANK(G285),1,IFERROR(VLOOKUP(G285,Tipo!$C$12:$C$27,1,FALSE),\"NO\"))","v":"Prestación de servicios profesionales y de apoyo a la gestión, o para la ejecución de trabajos artísticos que sólo puedan encomendarse a determinadas personas naturales;"},"Inversión",{"$f":"IF(ISBLANK(K285),1,IFERROR(VLOOKUP(K285,Eje_Pilar_Prop!C267:C368,1,FALSE),\"NO\"))","v":"NO"},"SECOP II",1,"Bogotá Mejor para Todos"]
[273,2020,"SECOP II","ALPA-CD-273-2020","Contratos de prestación de servicios profesionales y de apoyo a la gestión","Contratación directa","Prestación de servicios profesionales y de apoyo a la gestión, o para la ejecución de trabajos artísticos que sólo puedan encomendarse a determinadas personas naturales;","El contratista se obliga con el Fondo de Desarrollo Local de Puente Aranda a prestar sus servicios como instructor deportivo en la ejecución de las actividades previstas para la implementación del programa Vivir Bien Sentirse Bien y sus estrategias de actividad física y cuidado en el territorio en la Localidad de Puente Aranda, de conformidad con los estudios previos.","Inversión","Bogotá Mejor para Todos",45,{"$f":"IF(ISERROR(VLOOKUP(K286,Eje_Pilar_Prop!$C$2:$E$104,2,FALSE)),\" \",VLOOKUP(K286,Eje_Pilar_Prop!$C$2:$E$104,2,FALSE))","v":"Gobernanza e influencia local, regional e internacional"},{"$f":"IF(ISERROR(VLOOKUP(K286,Eje_Pilar_Prop!$C$2:$E$104,3,FALSE)),\" \",VLOOKUP(K286,Eje_Pilar_Prop!$C$2:$E$104,3,FALSE))","v":"Eje Transversal 4 Gobierno Legitimo, Fortalecimiento Local y Eficiencia"},"3-3-1-15-01-11-1309",51723614,"GLADYS MEDINA GARCIA",4693333,null,null,null,null,4693333,3413333,"2020-11-05","2020-11-06","2020-12-31",55,null,null,null,null,null,null,null,null,"X",null,{"$f":"IF(ISERROR(W286/V286),\"-\",(W286/V286))","v":0.72727270790289122},null,{"$f":"IF(SUMPRODUCT((A$14:A286=A286)*(B$14:B286=B286)*(D$14:D286=D286))>1,0,1)","v":1},"Contratos de prestación de servicios profesionales y de apoyo a la gestión","Contratación directa",{"$f":"IF(ISBLANK(G286),1,IFERROR(VLOOKUP(G286,Tipo!$C$12:$C$27,1,FALSE),\"NO\"))","v":"Prestación de servicios profesionales y de apoyo a la gestión, o para la ejecución de trabajos artísticos que sólo puedan encomendarse a determinadas personas naturales;"},"Inversión",{"$f":"IF(ISBLANK(K286),1,IFERROR(VLOOKUP(K286,Eje_Pilar_Prop!C268:C369,1,FALSE),\"NO\"))","v":"NO"},"SECOP II",1,"Bogotá Mejor para Todos"]
[274,2020,"SECOP II","ALPA-CD-274-2020","Contratos de prestación de servicios profesionales y de apoyo a la gestión","Contratación directa","Prestación de servicios profesionales y de apoyo a la gestión, o para la ejecución de trabajos artísticos que sólo puedan encomendarse a determinadas personas naturales;","El contratista se obliga con el Fondo de Desarrollo Local de Puente Aranda a prestar sus servicios como instructor de formación deportiva en la ejecución de las actividades previstas para la implementación del programa Vivir Bien Sentirse Bien y sus procesos de formación deportiva y la estrategia de cuidado en el territorio en la Localidad de Puente Aranda, de conformidad con los estudios previos.","Inversión","Bogotá Mejor para Todos",45,{"$f":"IF(ISERROR(VLOOKUP(K287,Eje_Pilar_Prop!$C$2:$E$104,2,FALSE)),\" \",VLOOKUP(K287,Eje_Pilar_Prop!$C$2:$E$104,2,FALSE))","v":"Gobernanza e influencia local, regional e internacional"},{"$f":"IF(ISERROR(VLOOKUP(K287,Eje_Pilar_Prop!$C$2:$E$104,3,FALSE)),\" \",VLOOKUP(K287,Eje_Pilar_Prop!$C$2:$E$104,3,FALSE))","v":"Eje Transversal 4 Gobierno Legitimo, Fortalecimiento Local y Eficiencia"},"3-3-1-15-01-11-1309",1022348379,"OSCAR SANTIAGO DUARTE ROA",4693333,null,null,null,null,{"$f":"+Q287+S287+U287","v":4693333},3413333,"2020-11-05","2020-11-06","2020-12-31",55,null,null,null,null,null,null,null,null,"X",null,0.72727270790289122,null,{"$f":"IF(SUMPRODUCT((A$14:A287=A287)*(B$14:B287=B287)*(D$14:D287=D287))>1,0,1)","v":1},"Contratos de prestación de servicios profesionales y de apoyo a la gestión","Contratación directa",{"$f":"IF(ISBLANK(G287),1,IFERROR(VLOOKUP(G287,Tipo!$C$12:$C$27,1,FALSE),\"NO\"))","v":"Prestación de servicios profesionales y de apoyo a la gestión, o para la ejecución de trabajos artísticos que sólo puedan encomendarse a determinadas personas naturales;"},"Inversión",{"$f":"IF(ISBLANK(K287),1,IFERROR(VLOOKUP(K287,Eje_Pilar_Prop!C269:C370,1,FALSE),\"NO\"))","v":"NO"},"SECOP II",1,"Bogotá Mejor para Todos"]
[275,2020,"SECOP II","ALPA-CPS-275-2020","Contratos de prestación de servicios profesionales y de apoyo a la gestión","Contratación directa","Prestación de servicios profesionales y de apoyo a la gestión, o para la ejecución de trabajos artísticos que sólo puedan encomendarse a determinadas personas naturales;","El contratista se obliga con el Fondo de Desarrollo Local de Puente Aranda a prestar sus servicios como instructor de formación deportiva en la ejecución de las actividades previstas para la implementación del programa Vivir Bien Sentirse Bien y sus procesos de formación deportiva y la estrategia de cuidado en el territorio en la Localidad de Puente Aranda, de conformidad con los estudios previos","Inversión","Bogotá Mejor para Todos",45,{"$f":"IF(ISERROR(VLOOKUP(K288,Eje_Pilar_Prop!$C$2:$E$104,2,FALSE)),\" \",VLOOKUP(K288,Eje_Pilar_Prop!$C$2:$E$104,2,FALSE))","v":"Gobernanza e influencia local, regional e internacional"},{"$f":"IF(ISERROR(VLOOKUP(K288,Eje_Pilar_Prop!$C$2:$E$104,3,FALSE)),\" \",VLOOKUP(K288,Eje_Pilar_Prop!$C$2:$E$104,3,FALSE))","v":"Eje Transversal 4 Gobierno Legitimo, Fortalecimiento Local y Eficiencia"},"3-3-1-15-01-11-1309",80881784,"GABRIEL GIOVANNY GARCÍA GARCÍA",4693333,null,null,null,null,4693333,3413333,"2020-11-05","2020-11-06","2020-12-31",55,null,null,null,null,null,null,null,null,"X",null,0.72727270790289122,null,{"$f":"IF(SUMPRODUCT((A$14:A288=A288)*(B$14:B288=B288)*(D$14:D288=D288))>1,0,1)","v":1},"Contratos de prestación de servicios profesionales y de apoyo a la gestión","Contratación directa",{"$f":"IF(ISBLANK(G288),1,IFERROR(VLOOKUP(G288,Tipo!$C$12:$C$27,1,FALSE),\"NO\"))","v":"Prestación de servicios profesionales y de apoyo a la gestión, o para la ejecución de trabajos artísticos que sólo puedan encomendarse a determinadas personas naturales;"},"Inversión",{"$f":"IF(ISBLANK(K288),1,IFERROR(VLOOKUP(K288,Eje_Pilar_Prop!C270:C371,1,FALSE),\"NO\"))","v":"NO"},"SECOP II",1,"Bogotá Mejor para Todos"]
[276,2020,"SECOP II","ALPA-CD-276-2020","Contratos de prestación de servicios profesionales y de apoyo a la gestión","Contratación directa","Prestación de servicios profesionales y de apoyo a la gestión, o para la ejecución de trabajos artísticos que sólo puedan encomendarse a determinadas personas naturales;","El contrato que se pretende celebrar tendrá por objeto El contratista se obliga con el Fondo de Desarrollo Local de Puente Aranda a prestar sus servicios como instructor de formación deportiva en la ejecución de las actividades previstas para la implementación del programa Vivir Bien Sentirse Bien y sus procesos de formación deportiva y la estrategia de cuidado en el territorio en la Localidad de Puente Aranda, de conformidad con los estudios previos","Inversión","Bogotá Mejor para Todos",45,{"$f":"IF(ISERROR(VLOOKUP(K289,Eje_Pilar_Prop!$C$2:$E$104,2,FALSE)),\" \",VLOOKUP(K289,Eje_Pilar_Prop!$C$2:$E$104,2,FALSE))","v":"Gobernanza e influencia local, regional e internacional"},{"$f":"IF(ISERROR(VLOOKUP(K289,Eje_Pilar_Prop!$C$2:$E$104,3,FALSE)),\" \",VLOOKUP(K289,Eje_Pilar_Prop!$C$2:$E$104,3,FALSE))","v":"Eje Transversal 4 Gobierno Legitimo, Fortalecimiento Local y Eficiencia"},"3-3-1-15-01-11-1309",1013606421,"WILLIAM FERNANDO QUICENO WALTERO",4693333,null,null,null,null,4693333,3413333,"2020-11-05","2020-11-06","2020-12-31",55,null,null,null,null,null,null,null,null,"X",null,0.72727270790289122,null,{"$f":"IF(SUMPRODUCT((A$14:A289=A289)*(B$14:B289=B289)*(D$14:D289=D289))>1,0,1)","v":1},"Contratos de prestación de servicios profesionales y de apoyo a la gestión","Contratación directa",{"$f":"IF(ISBLANK(G289),1,IFERROR(VLOOKUP(G289,Tipo!$C$12:$C$27,1,FALSE),\"NO\"))","v":"Prestación de servicios profesionales y de apoyo a la gestión, o para la ejecución de trabajos artísticos que sólo puedan encomendarse a determinadas personas naturales;"},"Inversión",{"$f":"IF(ISBLANK(K289),1,IFERROR(VLOOKUP(K289,Eje_Pilar_Prop!C271:C372,1,FALSE),\"NO\"))","v":"NO"},"SECOP II",1,"Bogotá Mejor para Todos"]
[277,2020,"SECOP II","ALCA-CD-277-2020","Contratos de prestación de servicios profesionales y de apoyo a la gestión","Contratación directa","Prestación de servicios profesionales y de apoyo a la gestión, o para la ejecución de trabajos artísticos que sólo puedan encomendarse a determinadas personas naturales;","El contratista se obliga con el Fondo de Desarrollo Local de Puente Aranda a prestar sus servicios como instructor deportivo en la ejecución de las actividades previstas para la implementación del programa Vivir Bien Sentirse Bien y sus estrategias de actividad física y cuidado en el territorio en la Localidad de Puente Aranda, de conformidad con los estudios previos.","Inversión","Bogotá Mejor para Todos",45,{"$f":"IF(ISERROR(VLOOKUP(K290,Eje_Pilar_Prop!$C$2:$E$104,2,FALSE)),\" \",VLOOKUP(K290,Eje_Pilar_Prop!$C$2:$E$104,2,FALSE))","v":"Gobernanza e influencia local, regional e internacional"},{"$f":"IF(ISERROR(VLOOKUP(K290,Eje_Pilar_Prop!$C$2:$E$104,3,FALSE)),\" \",VLOOKUP(K290,Eje_Pilar_Prop!$C$2:$E$104,3,FALSE))","v":"Eje Transversal 4 Gobierno Legitimo, Fortalecimiento Local y Eficiencia"},"3-3-1-15-01-11-1309",1022390159,"YULIETH ALEXANDRA RIAÑO ESPITIA",4693333,null,null,null,null,4693333,3413333,"2020-11-05","2020-11-06","2020-12-31",55,null,null,null,null,null,null,null,null,"X",null,0.72727270790289122,null,{"$f":"IF(SUMPRODUCT((A$14:A290=A290)*(B$14:B290=B290)*(D$14:D290=D290))>1,0,1)","v":1},"Contratos de prestación de servicios profesionales y de apoyo a la gestión","Contratación directa",{"$f":"IF(ISBLANK(G290),1,IFERROR(VLOOKUP(G290,Tipo!$C$12:$C$27,1,FALSE),\"NO\"))","v":"Prestación de servicios profesionales y de apoyo a la gestión, o para la ejecución de trabajos artísticos que sólo puedan encomendarse a determinadas personas naturales;"},"Inversión",{"$f":"IF(ISBLANK(K290),1,IFERROR(VLOOKUP(K290,Eje_Pilar_Prop!C272:C373,1,FALSE),\"NO\"))","v":"NO"},"SECOP II",1,"Bogotá Mejor para Todos"]
[278,2020,"SECOP II","ALPA-CD-278-2020","Contratos de prestación de servicios profesionales y de apoyo a la gestión","Contratación directa","Prestación de servicios profesionales y de apoyo a la gestión, o para la ejecución de trabajos artísticos que sólo puedan encomendarse a determinadas personas naturales;","El contrato que se pretende celebrar tendrá por objeto El contratista se obliga con el Fondo de Desarrollo Local de Puente Aranda a prestar sus servicios como instructor de formación deportiva en la ejecución de las actividades previstas para la implementación del programa Vivir Bien Sentirse Bien y sus procesos de formación deportiva y la estrategia de cuidado en el territorio en la Localidad de Puente Aranda, de conformidad con los estudios previos","Inversión","Bogotá Mejor para Todos",45,{"$f":"IF(ISERROR(VLOOKUP(K291,Eje_Pilar_Prop!$C$2:$E$104,2,FALSE)),\" \",VLOOKUP(K291,Eje_Pilar_Prop!$C$2:$E$104,2,FALSE))","v":"Gobernanza e influencia local, regional e internacional"},{"$f":"IF(ISERROR(VLOOKUP(K291,Eje_Pilar_Prop!$C$2:$E$104,3,FALSE)),\" \",VLOOKUP(K291,Eje_Pilar_Prop!$C$2:$E$104,3,FALSE))","v":"Eje Transversal 4 Gobierno Legitimo, Fortalecimiento Local y Eficiencia"},"3-3-1-15-01-11-1309",79646805,"FREDDY ALBERTO HERNÁNDEZ PÁEZ",4693333,null,null,null,null,4693333,3413333,"2020-11-05","2020-11-06","2020-12-31",55,null,null,null,null,null,null,null,null,"X",null,0.72727270790289122,null,{"$f":"IF(SUMPRODUCT((A$14:A291=A291)*(B$14:B291=B291)*(D$14:D291=D291))>1,0,1)","v":1},"Contratos de prestación de servicios profesionales y de apoyo a la gestión","Contratación directa",{"$f":"IF(ISBLANK(G291),1,IFERROR(VLOOKUP(G291,Tipo!$C$12:$C$27,1,FALSE),\"NO\"))","v":"Prestación de servicios profesionales y de apoyo a la gestión, o para la ejecución de trabajos artísticos que sólo puedan encomendarse a determinadas personas naturales;"},"Inversión",{"$f":"IF(ISBLANK(K291),1,IFERROR(VLOOKUP(K291,Eje_Pilar_Prop!C273:C374,1,FALSE),\"NO\"))","v":"NO"},"SECOP II",1,"Bogotá Mejor para Todos"]
[279,2020,"SECOP II","ALPA-CD-279-2020","Contratos de prestación de servicios profesionales y de apoyo a la gestión","Contratación directa","Prestación de servicios profesionales y de apoyo a la gestión, o para la ejecución de trabajos artísticos que sólo puedan encomendarse a determinadas personas naturales;","El contrato que se pretende celebrar, tendrá por objeto El contratista se obliga con el Fondo de Desarrollo Local de Puente Aranda a prestar sus servicios como instructor deportivo en la ejecución de las actividades previstas para la implementación del programa Vivir Bien Sentirse Bien y sus estrategias de actividad física y cuidado en el territorio en la Localidad de Puente Aranda, de conformidad con los estudios previos","Inversión","Bogotá Mejor para Todos",45,{"$f":"IF(ISERROR(VLOOKUP(K292,Eje_Pilar_Prop!$C$2:$E$104,2,FALSE)),\" \",VLOOKUP(K292,Eje_Pilar_Prop!$C$2:$E$104,2,FALSE))","v":"Gobernanza e influencia local, regional e internacional"},{"$f":"IF(ISERROR(VLOOKUP(K292,Eje_Pilar_Prop!$C$2:$E$104,3,FALSE)),\" \",VLOOKUP(K292,Eje_Pilar_Prop!$C$2:$E$104,3,FALSE))","v":"Eje Transversal 4 Gobierno Legitimo, Fortalecimiento Local y Eficiencia"},"3-3-1-15-01-11-1309",52273992,"OLGA LUCIA URREGO LEON",4693333,null,null,null,null,4693333,3413333,"2020-11-05","2020-11-06","2020-12-31",55,null,null,null,null,null,null,null,null,"X",null,0.72727270790289122,null,{"$f":"IF(SUMPRODUCT((A$14:A292=A292)*(B$14:B292=B292)*(D$14:D292=D292))>1,0,1)","v":1},"Contratos de prestación de servicios profesionales y de apoyo a la gestión","Contratación directa",{"$f":"IF(ISBLANK(G292),1,IFERROR(VLOOKUP(G292,Tipo!$C$12:$C$27,1,FALSE),\"NO\"))","v":"Prestación de servicios profesionales y de apoyo a la gestión, o para la ejecución de trabajos artísticos que sólo puedan encomendarse a determinadas personas naturales;"},"Inversión",{"$f":"IF(ISBLANK(K292),1,IFERROR(VLOOKUP(K292,Eje_Pilar_Prop!C274:C375,1,FALSE),\"NO\"))","v":"NO"},"SECOP II",1,"Bogotá Mejor para Todos"]
[280,2020,"SECOP II","ALPA-CD-280-2020","Contratos de prestación de servicios profesionales y de apoyo a la gestión","Contratación directa","Prestación de servicios profesionales y de apoyo a la gestión, o para la ejecución de trabajos artísticos que sólo puedan encomendarse a determinadas personas naturales;","El contrato que se pretende celebrar, tendrá por objeto El contratista se obliga con el Fondo de Desarrollo Local de Puente Aranda a prestar sus servicios como instructor deportivo en la ejecución de las actividades previstas para la implementación del programa Vivir Bien Sentirse Bien y sus estrategias de actividad física y cuidado en el territorio en la Localidad de Puente Aranda, de conformidad con los estudios previos","Inversión","Bogotá Mejor para Todos",45,{"$f":"IF(ISERROR(VLOOKUP(K293,Eje_Pilar_Prop!$C$2:$E$104,2,FALSE)),\" \",VLOOKUP(K293,Eje_Pilar_Prop!$C$2:$E$104,2,FALSE))","v":"Gobernanza e influencia local, regional e internacional"},{"$f":"IF(ISERROR(VLOOKUP(K293,Eje_Pilar_Prop!$C$2:$E$104,3,FALSE)),\" \",VLOOKUP(K293,Eje_Pilar_Prop!$C$2:$E$104,3,FALSE))","v":"Eje Transversal 4 Gobierno Legitimo, Fortalecimiento Local y Eficiencia"},"3-3-1-15-01-11-1309",1013589067,"CAMILO ANDRES VARELA BARRETO",4693333,null,null,null,null,4693333,3413333,"2020-11-05","2020-11-06","2020-12-31",55,null,null,null,null,null,null,null,null,"X",null,0.72727270790289122,null,{"$f":"IF(SUMPRODUCT((A$14:A293=A293)*(B$14:B293=B293)*(D$14:D293=D293))>1,0,1)","v":1},"Contratos de prestación de servicios profesionales y de apoyo a la gestión","Contratación directa",{"$f":"IF(ISBLANK(G293),1,IFERROR(VLOOKUP(G293,Tipo!$C$12:$C$27,1,FALSE),\"NO\"))","v":"Prestación de servicios profesionales y de apoyo a la gestión, o para la ejecución de trabajos artísticos que sólo puedan encomendarse a determinadas personas naturales;"},"Inversión",{"$f":"IF(ISBLANK(K293),1,IFERROR(VLOOKUP(K293,Eje_Pilar_Prop!C275:C376,1,FALSE),\"NO\"))","v":"NO"},"SECOP II",1,"Bogotá Mejor para Todos"]
[281,2020,"SECOP II","ALPA-CD-281-2020","Contratos de prestación de servicios profesionales y de apoyo a la gestión","Contratación directa","Prestación de servicios profesionales y de apoyo a la gestión, o para la ejecución de trabajos artísticos que sólo puedan encomendarse a determinadas personas naturales;","El contrato que se pretende celebrar, tendrá por objeto El contratista se obliga con el Fondo de Desarrollo Local de Puente Aranda a prestar sus servicios como instructor deportivo en la ejecución de las actividades previstas para la implementación del programa Vivir Bien Sentirse Bien y sus estrategias de actividad física y cuidado en el territorio en la Localidad de Puente Aranda, de conformidad con los estudios previos","Inversión","Bogotá Mejor para Todos",45,{"$f":"IF(ISERROR(VLOOKUP(K294,Eje_Pilar_Prop!$C$2:$E$104,2,FALSE)),\" \",VLOOKUP(K294,Eje_Pilar_Prop!$C$2:$E$104,2,FALSE))","v":"Gobernanza e influencia local, regional e internacional"},{"$f":"IF(ISERROR(VLOOKUP(K294,Eje_Pilar_Prop!$C$2:$E$104,3,FALSE)),\" \",VLOOKUP(K294,Eje_Pilar_Prop!$C$2:$E$104,3,FALSE))","v":"Eje Transversal 4 Gobierno Legitimo, Fortalecimiento Local y Eficiencia"},"3-3-1-15-01-11-1309",1022390067,"CRISTIAN DAVID MEDINA LEON",4693333,null,null,null,null,4693333,3413333,"2020-11-05","2020-11-06","2020-12-31",55,null,null,null,null,null,null,null,null,"X",null,0.72727270790289122,null,{"$f":"IF(SUMPRODUCT((A$14:A294=A294)*(B$14:B294=B294)*(D$14:D294=D294))>1,0,1)","v":1},"Contratos de prestación de servicios profesionales y de apoyo a la gestión","Contratación directa",{"$f":"IF(ISBLANK(G294),1,IFERROR(VLOOKUP(G294,Tipo!$C$12:$C$27,1,FALSE),\"NO\"))","v":"Prestación de servicios profesionales y de apoyo a la gestión, o para la ejecución de trabajos artísticos que sólo puedan encomendarse a determinadas personas naturales;"},"Inversión",{"$f":"IF(ISBLANK(K294),1,IFERROR(VLOOKUP(K294,Eje_Pilar_Prop!C276:C377,1,FALSE),\"NO\"))","v":"NO"},"SECOP II",1,"Bogotá Mejor para Todos"]
[282,2020,"SECOP II","ALPA-CD-282-2020","Contratos de prestación de servicios profesionales y de apoyo a la gestión","Contratación directa","Prestación de servicios profesionales y de apoyo a la gestión, o para la ejecución de trabajos artísticos que sólo puedan encomendarse a determinadas personas naturales;","El contratista se obliga con el Fondo de Desarrollo Local de Puente Aranda a prestar sus servicios como instructor de formación deportiva en la ejecución de las actividades previstas para la implementación del programa Vivir Bien Sentirse Bien y sus procesos de formación deportiva y la estrategia de cuidado en el territorio en la Localidad de Puente Aranda, de conformidad con los estudios previos","Inversión","Bogotá Mejor para Todos",45,{"$f":"IF(ISERROR(VLOOKUP(K295,Eje_Pilar_Prop!$C$2:$E$104,2,FALSE)),\" \",VLOOKUP(K295,Eje_Pilar_Prop!$C$2:$E$104,2,FALSE))","v":"Gobernanza e influencia local, regional e internacional"},{"$f":"IF(ISERROR(VLOOKUP(K295,Eje_Pilar_Prop!$C$2:$E$104,3,FALSE)),\" \",VLOOKUP(K295,Eje_Pilar_Prop!$C$2:$E$104,3,FALSE))","v":"Eje Transversal 4 Gobierno Legitimo, Fortalecimiento Local y Eficiencia"},"3-3-1-15-01-11-1309",73153494,"MARIO ALBERTO D COSTA SERRANO",4693333,null,null,null,null,4693333,3413333,"2020-11-05","2020-11-06","2020-12-31",55,null,null,null,null,null,null,null,null,"X",null,0.72727270790289122,null,{"$f":"IF(SUMPRODUCT((A$14:A295=A295)*(B$14:B295=B295)*(D$14:D295=D295))>1,0,1)","v":1},"Contratos de prestación de servicios profesionales y de apoyo a la gestión","Contratación directa",{"$f":"IF(ISBLANK(G295),1,IFERROR(VLOOKUP(G295,Tipo!$C$12:$C$27,1,FALSE),\"NO\"))","v":"Prestación de servicios profesionales y de apoyo a la gestión, o para la ejecución de trabajos artísticos que sólo puedan encomendarse a determinadas personas naturales;"},"Inversión",{"$f":"IF(ISBLANK(K295),1,IFERROR(VLOOKUP(K295,Eje_Pilar_Prop!C277:C378,1,FALSE),\"NO\"))","v":"NO"},"SECOP II",1,"Bogotá Mejor para Todos"]
[283,2020,"SECOP II","ALPA-CD-283-2020","Contratos de prestación de servicios profesionales y de apoyo a la gestión","Contratación directa","Prestación de servicios profesionales y de apoyo a la gestión, o para la ejecución de trabajos artísticos que sólo puedan encomendarse a determinadas personas naturales;","El contrato que se pretende celebrar, tendrá por objeto El contratista se obliga con el Fondo de Desarrollo Local de Puente Aranda a prestar sus servicios como instructor deportivo en la ejecución de las actividades previstas para la implementación del programa Vivir Bien Sentirse Bien y sus estrategias de actividad física y cuidado en el territorio en la Localidad de Puente Aranda, de conformidad con los estudios previos","Inversión","Bogotá Mejor para Todos",45,{"$f":"IF(ISERROR(VLOOKUP(K296,Eje_Pilar_Prop!$C$2:$E$104,2,FALSE)),\" \",VLOOKUP(K296,Eje_Pilar_Prop!$C$2:$E$104,2,FALSE))","v":"Gobernanza e influencia local, regional e internacional"},{"$f":"IF(ISERROR(VLOOKUP(K296,Eje_Pilar_Prop!$C$2:$E$104,3,FALSE)),\" \",VLOOKUP(K296,Eje_Pilar_Prop!$C$2:$E$104,3,FALSE))","v":"Eje Transversal 4 Gobierno Legitimo, Fortalecimiento Local y Eficiencia"},"3-3-1-15-01-11-1309",80932222,"HENRY GIANCARLO GUEVARA MILA",4693333,null,null,null,null,4693333,3413333,"2020-11-05","2020-11-06","2020-12-31",55,null,null,null,null,null,null,null,null,"X",null,0.72727270790289122,null,{"$f":"IF(SUMPRODUCT((A$14:A296=A296)*(B$14:B296=B296)*(D$14:D296=D296))>1,0,1)","v":1},"Contratos de prestación de servicios profesionales y de apoyo a la gestión","Contratación directa",{"$f":"IF(ISBLANK(G296),1,IFERROR(VLOOKUP(G296,Tipo!$C$12:$C$27,1,FALSE),\"NO\"))","v":"Prestación de servicios profesionales y de apoyo a la gestión, o para la ejecución de trabajos artísticos que sólo puedan encomendarse a determinadas personas naturales;"},"Inversión",{"$f":"IF(ISBLANK(K296),1,IFERROR(VLOOKUP(K296,Eje_Pilar_Prop!C278:C379,1,FALSE),\"NO\"))","v":"NO"},"SECOP II",1,"Bogotá Mejor para Todos"]
[284,2020,"SECOP II","ALPA-CD-284-2020","Contratos de prestación de servicios profesionales y de apoyo a la gestión","Contratación directa","Prestación de servicios profesionales y de apoyo a la gestión, o para la ejecución de trabajos artísticos que sólo puedan encomendarse a determinadas personas naturales;","El contratista se obliga con el Fondo de Desarrollo Local de Puente Aranda a prestar sus servicios como instructor deportivo en la ejecución de las actividades previstas para la implementación del programa Vivir Bien Sentirse Bien y sus estrategias de actividad física y cuidado en el territorio en la Localidad de Puente Aranda, de conformidad con los estudios previos.","Inversión","Bogotá Mejor para Todos",45,{"$f":"IF(ISERROR(VLOOKUP(K297,Eje_Pilar_Prop!$C$2:$E$104,2,FALSE)),\" \",VLOOKUP(K297,Eje_Pilar_Prop!$C$2:$E$104,2,FALSE))","v":"Gobernanza e influencia local, regional e internacional"},{"$f":"IF(ISERROR(VLOOKUP(K297,Eje_Pilar_Prop!$C$2:$E$104,3,FALSE)),\" \",VLOOKUP(K297,Eje_Pilar_Prop!$C$2:$E$104,3,FALSE))","v":"Eje Transversal 4 Gobierno Legitimo, Fortalecimiento Local y Eficiencia"},"3-3-1-15-01-11-1309",80816982,"HUGO ALEXANDER RUBIO HERRERA",4693333,null,null,null,null,4693333,3413333,"2020-11-05","2020-11-06","2020-12-31",55,null,null,null,null,null,null,null,null,"X",null,0.72727270790289122,null,{"$f":"IF(SUMPRODUCT((A$14:A297=A297)*(B$14:B297=B297)*(D$14:D297=D297))>1,0,1)","v":1},"Contratos de prestación de servicios profesionales y de apoyo a la gestión","Contratación directa",{"$f":"IF(ISBLANK(G297),1,IFERROR(VLOOKUP(G297,Tipo!$C$12:$C$27,1,FALSE),\"NO\"))","v":"Prestación de servicios profesionales y de apoyo a la gestión, o para la ejecución de trabajos artísticos que sólo puedan encomendarse a determinadas personas naturales;"},"Inversión",{"$f":"IF(ISBLANK(K297),1,IFERROR(VLOOKUP(K297,Eje_Pilar_Prop!C279:C380,1,FALSE),\"NO\"))","v":"NO"},"SECOP II",1,"Bogotá Mejor para Todos"]
[285,2020,"SECOP II","ALPA-CD-285-2020","Contratos de prestación de servicios profesionales y de apoyo a la gestión","Contratación directa","Prestación de servicios profesionales y de apoyo a la gestión, o para la ejecución de trabajos artísticos que sólo puedan encomendarse a determinadas personas naturales;","El contratista se obliga con el Fondo de Desarrollo Local de Puente Aranda a prestar sus servicios como instructor deportivo en la ejecución de las actividades previstas para la implementación del programa Vivir Bien Sentirse Bien y sus estrategias de actividad física y cuidado en el territorio en la Localidad de Puente Aranda, de conformidad con los estudios previos.","Inversión","Bogotá Mejor para Todos",45,{"$f":"IF(ISERROR(VLOOKUP(K298,Eje_Pilar_Prop!$C$2:$E$104,2,FALSE)),\" \",VLOOKUP(K298,Eje_Pilar_Prop!$C$2:$E$104,2,FALSE))","v":"Gobernanza e influencia local, regional e internacional"},{"$f":"IF(ISERROR(VLOOKUP(K298,Eje_Pilar_Prop!$C$2:$E$104,3,FALSE)),\" \",VLOOKUP(K298,Eje_Pilar_Prop!$C$2:$E$104,3,FALSE))","v":"Eje Transversal 4 Gobierno Legitimo, Fortalecimiento Local y Eficiencia"},"3-3-1-15-01-11-1309",1030609515,"HERNAN FELIPE SOLANO GARCIA",4693333,null,null,null,null,4693333,3413333,"2020-11-05","2020-11-06","2020-12-31",55,null,null,null,null,null,null,null,null,"X",null,0.72727270790289122,null,{"$f":"IF(SUMPRODUCT((A$14:A298=A298)*(B$14:B298=B298)*(D$14:D298=D298))>1,0,1)","v":1},"Contratos de prestación de servicios profesionales y de apoyo a la gestión","Contratación directa",{"$f":"IF(ISBLANK(G298),1,IFERROR(VLOOKUP(G298,Tipo!$C$12:$C$27,1,FALSE),\"NO\"))","v":"Prestación de servicios profesionales y de apoyo a la gestión, o para la ejecución de trabajos artísticos que sólo puedan encomendarse a determinadas personas naturales;"},"Inversión",{"$f":"IF(ISBLANK(K298),1,IFERROR(VLOOKUP(K298,Eje_Pilar_Prop!C280:C381,1,FALSE),\"NO\"))","v":"NO"},"SECOP II",1,"Bogotá Mejor para Todos"]
[286,2020,"SECOP II","ALPA-CD-286-2020","Contratos de prestación de servicios profesionales y de apoyo a la gestión","Contratación directa","Prestación de servicios profesionales y de apoyo a la gestión, o para la ejecución de trabajos artísticos que sólo puedan encomendarse a determinadas personas naturales;","El contratista se obliga con el Fondo de Desarrollo Local de Puente Aranda a prestar sus servicios como instructor deportivo en la ejecución de las actividades previstas para la implementación del programa Vivir Bien Sentirse Bien y sus estrategias de actividad física y cuidado en el territorio en la Localidad de Puente Aranda, de conformidad con los estudios previos","Inversión","Bogotá Mejor para Todos",45,{"$f":"IF(ISERROR(VLOOKUP(K299,Eje_Pilar_Prop!$C$2:$E$104,2,FALSE)),\" \",VLOOKUP(K299,Eje_Pilar_Prop!$C$2:$E$104,2,FALSE))","v":"Gobernanza e influencia local, regional e internacional"},{"$f":"IF(ISERROR(VLOOKUP(K299,Eje_Pilar_Prop!$C$2:$E$104,3,FALSE)),\" \",VLOOKUP(K299,Eje_Pilar_Prop!$C$2:$E$104,3,FALSE))","v":"Eje Transversal 4 Gobierno Legitimo, Fortalecimiento Local y Eficiencia"},"3-3-1-15-01-11-1309","79 742 313","ALDEMAR TORRES RIVERA",4693333,null,null,null,null,4693333,3413333,"2020-11-05","2020-11-06","2020-12-31",55,null,null,null,null,null,null,null,null,"X",null,0.72727270790289122,null,{"$f":"IF(SUMPRODUCT((A$14:A299=A299)*(B$14:B299=B299)*(D$14:D299=D299))>1,0,1)","v":1},"Contratos de prestación de servicios profesionales y de apoyo a la gestión","Contratación directa",{"$f":"IF(ISBLANK(G299),1,IFERROR(VLOOKUP(G299,Tipo!$C$12:$C$27,1,FALSE),\"NO\"))","v":"Prestación de servicios profesionales y de apoyo a la gestión, o para la ejecución de trabajos artísticos que sólo puedan encomendarse a determinadas personas naturales;"},"Inversión",{"$f":"IF(ISBLANK(K299),1,IFERROR(VLOOKUP(K299,Eje_Pilar_Prop!C281:C382,1,FALSE),\"NO\"))","v":"NO"},"SECOP II",1,"Bogotá Mejor para Todos"]
[287,2020,"SECOP II","ALPA-CD-287-2020","Contratos de prestación de servicios profesionales y de apoyo a la gestión","Contratación directa","Prestación de servicios profesionales y de apoyo a la gestión, o para la ejecución de trabajos artísticos que sólo puedan encomendarse a determinadas personas naturales;","El contratista se obliga con el Fondo de Desarrollo Local de Puente Aranda a prestar sus servicios como instructor de formación deportiva en la ejecución de las actividades previstas para la implementación del programa Vivir Bien Sentirse Bien y sus procesos de formación deportiva y la estrategia de cuidado en el territorio en la Localidad de Puente Aranda, de conformidad con los estudios previos.","Inversión","Bogotá Mejor para Todos",45,{"$f":"IF(ISERROR(VLOOKUP(K300,Eje_Pilar_Prop!$C$2:$E$104,2,FALSE)),\" \",VLOOKUP(K300,Eje_Pilar_Prop!$C$2:$E$104,2,FALSE))","v":"Gobernanza e influencia local, regional e internacional"},{"$f":"IF(ISERROR(VLOOKUP(K300,Eje_Pilar_Prop!$C$2:$E$104,3,FALSE)),\" \",VLOOKUP(K300,Eje_Pilar_Prop!$C$2:$E$104,3,FALSE))","v":"Eje Transversal 4 Gobierno Legitimo, Fortalecimiento Local y Eficiencia"},"3-3-1-15-01-11-1309",". 52'243.371","ADRIANA MARIA SALAZAR VASQUEZ",4693333,null,null,null,null,4693333,3413333,"2020-11-05","2020-11-06","2020-12-31",55,null,null,null,null,null,null,null,null,"X",null,0.72727270790289122,null,{"$f":"IF(SUMPRODUCT((A$14:A300=A300)*(B$14:B300=B300)*(D$14:D300=D300))>1,0,1)","v":1},"Contratos de prestación de servicios profesionales y de apoyo a la gestión","Contratación directa",{"$f":"IF(ISBLANK(G300),1,IFERROR(VLOOKUP(G300,Tipo!$C$12:$C$27,1,FALSE),\"NO\"))","v":"Prestación de servicios profesionales y de apoyo a la gestión, o para la ejecución de trabajos artísticos que sólo puedan encomendarse a determinadas personas naturales;"},"Inversión",{"$f":"IF(ISBLANK(K300),1,IFERROR(VLOOKUP(K300,Eje_Pilar_Prop!C282:C383,1,FALSE),\"NO\"))","v":"NO"},"SECOP II",1,"Bogotá Mejor para Todos"]
[288,2020,"SECOP II","ALPA-CD-288-2020","Contratos de prestación de servicios profesionales y de apoyo a la gestión","Contratación directa","Prestación de servicios profesionales y de apoyo a la gestión, o para la ejecución de trabajos artísticos que sólo puedan encomendarse a determinadas personas naturales;","El contratista se obliga con el Fondo de Desarrollo Local de Puente Aranda a prestar sus servicios como instructor de formación deportiva en la ejecución de las actividades previstas para la implementación del programa Vivir Bien Sentirse Bien y sus procesos de formación deportiva y la estrategia de cuidado en el territorio en la Localidad de Puente Aranda, de conformidad con los estudios previos.","Inversión","Bogotá Mejor para Todos",45,{"$f":"IF(ISERROR(VLOOKUP(K301,Eje_Pilar_Prop!$C$2:$E$104,2,FALSE)),\" \",VLOOKUP(K301,Eje_Pilar_Prop!$C$2:$E$104,2,FALSE))","v":"Gobernanza e influencia local, regional e internacional"},{"$f":"IF(ISERROR(VLOOKUP(K301,Eje_Pilar_Prop!$C$2:$E$104,3,FALSE)),\" \",VLOOKUP(K301,Eje_Pilar_Prop!$C$2:$E$104,3,FALSE))","v":"Eje Transversal 4 Gobierno Legitimo, Fortalecimiento Local y Eficiencia"},"3-3-1-15-01-11-1309",1118554262,"OSCAR GIHOVANY MEDINA CARROL",4693333,null,null,null,null,4693333,3413333,"2020-11-05","2020-11-06","2020-12-31",55,null,null,null,null,null,null,null,null,"X",null,0.72727270790289122,null,{"$f":"IF(SUMPRODUCT((A$14:A301=A301)*(B$14:B301=B301)*(D$14:D301=D301))>1,0,1)","v":1},"Contratos de prestación de servicios profesionales y de apoyo a la gestión","Contratación directa",{"$f":"IF(ISBLANK(G301),1,IFERROR(VLOOKUP(G301,Tipo!$C$12:$C$27,1,FALSE),\"NO\"))","v":"Prestación de servicios profesionales y de apoyo a la gestión, o para la ejecución de trabajos artísticos que sólo puedan encomendarse a determinadas personas naturales;"},"Inversión",{"$f":"IF(ISBLANK(K301),1,IFERROR(VLOOKUP(K301,Eje_Pilar_Prop!C283:C384,1,FALSE),\"NO\"))","v":"NO"},"SECOP II",1,"Bogotá Mejor para Todos"]
[289,2020,"SECOP II","ALPA-CD-289-2020","Contratos de prestación de servicios profesionales y de apoyo a la gestión","Contratación directa","Prestación de servicios profesionales y de apoyo a la gestión, o para la ejecución de trabajos artísticos que sólo puedan encomendarse a determinadas personas naturales;","El contratista se obliga con el Fondo de Desarrollo Local de Puente Aranda a prestar sus servicios como instructor de formación deportiva en la ejecución de las actividades previstas para la implementación del programa Vivir Bien Sentirse Bien y sus procesos de formación deportiva y la estrategia de cuidado en el territorio en la Localidad de Puente Aranda, de conformidad con los estudios previos.","Inversión","Bogotá Mejor para Todos",45,{"$f":"IF(ISERROR(VLOOKUP(K302,Eje_Pilar_Prop!$C$2:$E$104,2,FALSE)),\" \",VLOOKUP(K302,Eje_Pilar_Prop!$C$2:$E$104,2,FALSE))","v":"Gobernanza e influencia local, regional e internacional"},{"$f":"IF(ISERROR(VLOOKUP(K302,Eje_Pilar_Prop!$C$2:$E$104,3,FALSE)),\" \",VLOOKUP(K302,Eje_Pilar_Prop!$C$2:$E$104,3,FALSE))","v":"Eje Transversal 4 Gobierno Legitimo, Fortalecimiento Local y Eficiencia"},"3-3-1-15-01-11-1309",80452722,"LIDIER FONSECA GUERRERO",4693333,null,null,null,null,4693333,0,"2020-11-05","2020-11-06","2020-12-31",55,null,null,null,null,null,null,null,null,"X",null,0,null,{"$f":"IF(SUMPRODUCT((A$14:A302=A302)*(B$14:B302=B302)*(D$14:D302=D302))>1,0,1)","v":1},"Contratos de prestación de servicios profesionales y de apoyo a la gestión","Contratación directa",{"$f":"IF(ISBLANK(G302),1,IFERROR(VLOOKUP(G302,Tipo!$C$12:$C$27,1,FALSE),\"NO\"))","v":"Prestación de servicios profesionales y de apoyo a la gestión, o para la ejecución de trabajos artísticos que sólo puedan encomendarse a determinadas personas naturales;"},"Inversión",{"$f":"IF(ISBLANK(K302),1,IFERROR(VLOOKUP(K302,Eje_Pilar_Prop!C284:C385,1,FALSE),\"NO\"))","v":"NO"},"SECOP II",1,"Bogotá Mejor para Todos"]
[290,2020,"SECOP II","ALPA-CD-290-2020","Contratos de prestación de servicios profesionales y de apoyo a la gestión","Contratación directa","Prestación de servicios profesionales y de apoyo a la gestión, o para la ejecución de trabajos artísticos que sólo puedan encomendarse a determinadas personas naturales;","El contratista se obliga con el Fondo de Desarrollo Local de Puente Aranda a prestar sus servicios como instructor deportivo en la ejecución de las actividades previstas para la implementación del programa Vivir Bien Sentirse Bien y sus estrategias de actividad física y cuidado en el territorio en la Localidad de Puente Aranda, de conformidad con los estudios previos.","Inversión","Bogotá Mejor para Todos",45,{"$f":"IF(ISERROR(VLOOKUP(K303,Eje_Pilar_Prop!$C$2:$E$104,2,FALSE)),\" \",VLOOKUP(K303,Eje_Pilar_Prop!$C$2:$E$104,2,FALSE))","v":"Gobernanza e influencia local, regional e internacional"},{"$f":"IF(ISERROR(VLOOKUP(K303,Eje_Pilar_Prop!$C$2:$E$104,3,FALSE)),\" \",VLOOKUP(K303,Eje_Pilar_Prop!$C$2:$E$104,3,FALSE))","v":"Eje Transversal 4 Gobierno Legitimo, Fortalecimiento Local y Eficiencia"},"3-3-1-15-01-11-1309",80120720,"JHON ADER HURTADO DELGADO",4693333,null,null,null,null,4693333,3413333,"2020-11-05","2020-11-06","2020-12-31",55,null,null,null,null,null,null,null,null,"X",null,0.72727270790289122,null,{"$f":"IF(SUMPRODUCT((A$14:A303=A303)*(B$14:B303=B303)*(D$14:D303=D303))>1,0,1)","v":1},"Contratos de prestación de servicios profesionales y de apoyo a la gestión","Contratación directa",{"$f":"IF(ISBLANK(G303),1,IFERROR(VLOOKUP(G303,Tipo!$C$12:$C$27,1,FALSE),\"NO\"))","v":"Prestación de servicios profesionales y de apoyo a la gestión, o para la ejecución de trabajos artísticos que sólo puedan encomendarse a determinadas personas naturales;"},"Inversión",{"$f":"IF(ISBLANK(K303),1,IFERROR(VLOOKUP(K303,Eje_Pilar_Prop!C285:C386,1,FALSE),\"NO\"))","v":"NO"},"SECOP II",1,"Bogotá Mejor para Todos"]
[291,2020,"SECOP II","ALPA-CD-291-2020","Contratos de prestación de servicios profesionales y de apoyo a la gestión","Contratación directa","Prestación de servicios profesionales y de apoyo a la gestión, o para la ejecución de trabajos artísticos que sólo puedan encomendarse a determinadas personas naturales;","El contrato que se pretende celebrar, tendrá por objeto El contratista se obliga con el Fondo de Desarrollo Local de Puente Aranda a prestar sus servicios como instructor deportivo en la ejecución de las actividades previstas para la implementación del programa Vivir Bien Sentirse Bien y sus estrategias de actividad física y cuidado en el territorio en la Localidad de Puente Aranda, de conformidad con los estudios previos.","Inversión","Bogotá Mejor para Todos",45,{"$f":"IF(ISERROR(VLOOKUP(K304,Eje_Pilar_Prop!$C$2:$E$104,2,FALSE)),\" \",VLOOKUP(K304,Eje_Pilar_Prop!$C$2:$E$104,2,FALSE))","v":"Gobernanza e influencia local, regional e internacional"},{"$f":"IF(ISERROR(VLOOKUP(K304,Eje_Pilar_Prop!$C$2:$E$104,3,FALSE)),\" \",VLOOKUP(K304,Eje_Pilar_Prop!$C$2:$E$104,3,FALSE))","v":"Eje Transversal 4 Gobierno Legitimo, Fortalecimiento Local y Eficiencia"},"3-3-1-15-01-11-1309"," 52362160","DIANA LUCIA SANCHEZ PEREZ",4693333,null,null,null,null,4693333,3413333,"2020-11-05","2020-11-06","2020-12-31",55,null,null,null,null,null,null,null,null,"X",null,0.72727270790289122,null,{"$f":"IF(SUMPRODUCT((A$14:A304=A304)*(B$14:B304=B304)*(D$14:D304=D304))>1,0,1)","v":1},"Contratos de prestación de servicios profesionales y de apoyo a la gestión","Contratación directa",{"$f":"IF(ISBLANK(G304),1,IFERROR(VLOOKUP(G304,Tipo!$C$12:$C$27,1,FALSE),\"NO\"))","v":"Prestación de servicios profesionales y de apoyo a la gestión, o para la ejecución de trabajos artísticos que sólo puedan encomendarse a determinadas personas naturales;"},"Inversión",{"$f":"IF(ISBLANK(K304),1,IFERROR(VLOOKUP(K304,Eje_Pilar_Prop!C286:C387,1,FALSE),\"NO\"))","v":"NO"},"SECOP II",1,"Bogotá Mejor para Todos"]
[292,2020,"SECOP II","ALPA-CD-292-2020","Contratos de prestación de servicios profesionales y de apoyo a la gestión","Contratación directa","Prestación de servicios profesionales y de apoyo a la gestión, o para la ejecución de trabajos artísticos que sólo puedan encomendarse a determinadas personas naturales;","El contratista se obliga con el Fondo de Desarrollo Local de Puente Aranda a prestar sus servicios como instructor deportivo en la ejecución de las actividades previstas para la implementación del programa Vivir Bien Sentirse Bien y sus estrategias de actividad física y cuidado en el territorio en la Localidad de Puente Aranda, de conformidad con los estudios previos.","Inversión","Bogotá Mejor para Todos",45,{"$f":"IF(ISERROR(VLOOKUP(K305,Eje_Pilar_Prop!$C$2:$E$104,2,FALSE)),\" \",VLOOKUP(K305,Eje_Pilar_Prop!$C$2:$E$104,2,FALSE))","v":"Gobernanza e influencia local, regional e internacional"},{"$f":"IF(ISERROR(VLOOKUP(K305,Eje_Pilar_Prop!$C$2:$E$104,3,FALSE)),\" \",VLOOKUP(K305,Eje_Pilar_Prop!$C$2:$E$104,3,FALSE))","v":"Eje Transversal 4 Gobierno Legitimo, Fortalecimiento Local y Eficiencia"},"3-3-1-15-01-11-1309",1018432107,"JUAN SEBASTIAN RODRIGUEZ LEON",4693333,null,null,null,null,4693333,3413333,"2020-11-05","2020-11-06","2020-12-31",55,null,null,null,null,null,null,null,null,"X",null,0.72727270790289122,null,{"$f":"IF(SUMPRODUCT((A$14:A305=A305)*(B$14:B305=B305)*(D$14:D305=D305))>1,0,1)","v":1},"Contratos de prestación de servicios profesionales y de apoyo a la gestión","Contratación directa",{"$f":"IF(ISBLANK(G305),1,IFERROR(VLOOKUP(G305,Tipo!$C$12:$C$27,1,FALSE),\"NO\"))","v":"Prestación de servicios profesionales y de apoyo a la gestión, o para la ejecución de trabajos artísticos que sólo puedan encomendarse a determinadas personas naturales;"},"Inversión",{"$f":"IF(ISBLANK(K305),1,IFERROR(VLOOKUP(K305,Eje_Pilar_Prop!C287:C388,1,FALSE),\"NO\"))","v":"NO"},"SECOP II",1,"Bogotá Mejor para Todos"]
[293,2020,"SECOP II","ALPA-CD-293-2020","Contratos de prestación de servicios profesionales y de apoyo a la gestión","Contratación directa","Prestación de servicios profesionales y de apoyo a la gestión, o para la ejecución de trabajos artísticos que sólo puedan encomendarse a determinadas personas naturales;","El contratista se obliga con el Fondo de Desarrollo Local de Puente Aranda a prestar sus servicios como instructor deportivo en la ejecución de las actividades previstas para la implementación del programa Vivir Bien Sentirse Bien y sus estrategias de actividad física y cuidado en el territorio en la Localidad de Puente Aranda, de conformidad con los estudios previos.","Inversión","Bogotá Mejor para Todos",45,{"$f":"IF(ISERROR(VLOOKUP(K306,Eje_Pilar_Prop!$C$2:$E$104,2,FALSE)),\" \",VLOOKUP(K306,Eje_Pilar_Prop!$C$2:$E$104,2,FALSE))","v":"Gobernanza e influencia local, regional e internacional"},{"$f":"IF(ISERROR(VLOOKUP(K306,Eje_Pilar_Prop!$C$2:$E$104,3,FALSE)),\" \",VLOOKUP(K306,Eje_Pilar_Prop!$C$2:$E$104,3,FALSE))","v":"Eje Transversal 4 Gobierno Legitimo, Fortalecimiento Local y Eficiencia"},"3-3-1-15-01-11-1309"," 79646732","DIEGO NOY LOPEZ",4693333,null,null,null,null,4693333,3413333,"2020-11-05","2020-11-06","2020-12-31",55,null,null,null,null,null,null,null,null,"X",null,0.72727270790289122,null,{"$f":"IF(SUMPRODUCT((A$14:A306=A306)*(B$14:B306=B306)*(D$14:D306=D306))>1,0,1)","v":1},"Contratos de prestación de servicios profesionales y de apoyo a la gestión","Contratación directa",{"$f":"IF(ISBLANK(G306),1,IFERROR(VLOOKUP(G306,Tipo!$C$12:$C$27,1,FALSE),\"NO\"))","v":"Prestación de servicios profesionales y de apoyo a la gestión, o para la ejecución de trabajos artísticos que sólo puedan encomendarse a determinadas personas naturales;"},"Inversión",{"$f":"IF(ISBLANK(K306),1,IFERROR(VLOOKUP(K306,Eje_Pilar_Prop!C288:C389,1,FALSE),\"NO\"))","v":"NO"},"SECOP II",1,"Bogotá Mejor para Todos"]
[294,2020,"SECOP II","ALPA-SASI-013-2020","Compraventa de bienes muebles","Selección abreviada","Subasta inversa ","la adquisicion de elementos de papeleria y utiles de oficina a precios unitarios para la Alcaldia Local de Puente Aranda, de conformidad con las especificaciones tecnicas y condiciones establecidas en los estudios previos y ficha tecnica, documentos que forman parte integral del contrato ","Funcionamiento","Bogotá Mejor para Todos",null,{"$f":"IF(ISERROR(VLOOKUP(K307,Eje_Pilar_Prop!$C$2:$E$104,2,FALSE)),\" \",VLOOKUP(K307,Eje_Pilar_Prop!$C$2:$E$104,2,FALSE))","v":" "},{"$f":"IF(ISERROR(VLOOKUP(K307,Eje_Pilar_Prop!$C$2:$E$104,3,FALSE)),\" \",VLOOKUP(K307,Eje_Pilar_Prop!$C$2:$E$104,3,FALSE))","v":" "},"3-1-2-02-01-02-0002-000",901346888,"GRUPO GESTION EMPRESARIAL COLOMBIA S.A.S",30000000,null,null,null,null,30000000,0,"2020-11-12","2020-11-13","2020-12-12",30,null,null,null,null,null,null,null,null,"X",null,0,null,{"$f":"IF(SUMPRODUCT((A$14:A307=A307)*(B$14:B307=B307)*(D$14:D307=D307))>1,0,1)","v":1},"Compraventa de bienes muebles","Selección abreviada",{"$f":"IF(ISBLANK(G307),1,IFERROR(VLOOKUP(G307,Tipo!$C$12:$C$27,1,FALSE),\"NO\"))","v":"Subasta inversa "},"Funcionamiento",{"$f":"IF(ISBLANK(K307),1,IFERROR(VLOOKUP(K307,Eje_Pilar_Prop!C289:C390,1,FALSE),\"NO\"))","v":1},"SECOP II",1,"Bogotá Mejor para Todos"]
[295,2020,"SECOP II","ALPA-CD-295-2020","Contratos de prestación de servicios profesionales y de apoyo a la gestión","Contratación directa","Prestación de servicios profesionales y de apoyo a la gestión, o para la ejecución de trabajos artísticos que sólo puedan encomendarse a determinadas personas naturales;","El contratista se obliga con el Fondo de Desarrollo Local de la Alcaldía de Puente Aranda a Apoyar jurídicamente la ejecución de las acciones requeridas para la depuración de las actuaciones administrativas que cursan en la Alcaldía Local","Inversión","Bogotá Mejor para Todos",45,{"$f":"IF(ISERROR(VLOOKUP(K308,Eje_Pilar_Prop!$C$2:$E$104,2,FALSE)),\" \",VLOOKUP(K308,Eje_Pilar_Prop!$C$2:$E$104,2,FALSE))","v":"Gobernanza e influencia local, regional e internacional"},{"$f":"IF(ISERROR(VLOOKUP(K308,Eje_Pilar_Prop!$C$2:$E$104,3,FALSE)),\" \",VLOOKUP(K308,Eje_Pilar_Prop!$C$2:$E$104,3,FALSE))","v":"Eje Transversal 4 Gobierno Legitimo, Fortalecimiento Local y Eficiencia"},"3-3-1-15-07-45-1312-00",45549339,"Maria Claudia Simancas Maya",7833333,null,null,null,null,7833333,1096667,"2020-11-10","2020-11-17","2021-01-06",51,null,null,52709886,"AURA MARIA COTES COBO","2021-11-24",6736666,null,"X",null,null,0.14000004851064035,null,{"$f":"IF(SUMPRODUCT((A$14:A308=A308)*(B$14:B308=B308)*(D$14:D308=D308))>1,0,1)","v":1},"Contratos de prestación de servicios profesionales y de apoyo a la gestión","Contratación directa",{"$f":"IF(ISBLANK(G308),1,IFERROR(VLOOKUP(G308,Tipo!$C$12:$C$27,1,FALSE),\"NO\"))","v":"Prestación de servicios profesionales y de apoyo a la gestión, o para la ejecución de trabajos artísticos que sólo puedan encomendarse a determinadas personas naturales;"},"Inversión",{"$f":"IF(ISBLANK(K308),1,IFERROR(VLOOKUP(K308,Eje_Pilar_Prop!C290:C391,1,FALSE),\"NO\"))","v":"NO"},"SECOP II",1,"Bogotá Mejor para Todos"]
[296,2020,"SECOP II","ALPA-IPMC-019-2020","Contratos de prestación de servicios","Contratación mínima cuantia","No aplica","PRESTAR EL SERVICIO DE MANTENIMIENTO PREVENTIVO Y CORRECTIVO, INCLUIDO EL SUMINISTRO DE REPUESTOS, DE LOS AIRES ACONDICIONADOS DE PROPIEDAD DEL FONDO DE DESARROLLO LOCAL DE PUENTE ARANDA, PUNTOS VIVE DIGITAL Y JUNTA ADMINISTRADORA LOCAL, DE ACUERDO CON LOS ESTUDIOS PREVIOS, ANEXO TÉCNICO Y PROPUESTA PRESENTADA","Inversión","Bogotá Mejor para Todos",45,{"$f":"IF(ISERROR(VLOOKUP(K309,Eje_Pilar_Prop!$C$2:$E$104,2,FALSE)),\" \",VLOOKUP(K309,Eje_Pilar_Prop!$C$2:$E$104,2,FALSE))","v":"Gobernanza e influencia local, regional e internacional"},{"$f":"IF(ISERROR(VLOOKUP(K309,Eje_Pilar_Prop!$C$2:$E$104,3,FALSE)),\" \",VLOOKUP(K309,Eje_Pilar_Prop!$C$2:$E$104,3,FALSE))","v":"Eje Transversal 4 Gobierno Legitimo, Fortalecimiento Local y Eficiencia"},"3-3-1-15-07-45-1312-00",900150067,"Expertos Ingenieros S.A.S",12994059,null,null,null,null,12994059,0,"2020-11-13","2020-11-26","2021-07-25",240,null,null,null,null,null,null,null,null,"X",null,0,null,{"$f":"IF(SUMPRODUCT((A$14:A309=A309)*(B$14:B309=B309)*(D$14:D309=D309))>1,0,1)","v":1},"Contratos de prestación de servicios","Contratación mínima cuantia",{"$f":"IF(ISBLANK(G309),1,IFERROR(VLOOKUP(G309,Tipo!$C$12:$C$27,1,FALSE),\"NO\"))","v":"NO"},"Inversión",{"$f":"IF(ISBLANK(K309),1,IFERROR(VLOOKUP(K309,Eje_Pilar_Prop!C291:C392,1,FALSE),\"NO\"))","v":"NO"},"SECOP II",1,"Bogotá Mejor para Todos"]
[297,2020,"SECOP II","ALPA-CD-297-2020","Contratos de prestación de servicios profesionales y de apoyo a la gestión","Contratación directa","Prestación de servicios profesionales y de apoyo a la gestión, o para la ejecución de trabajos artísticos que sólo puedan encomendarse a determinadas personas naturales;","El contratista se obliga con el Fondo de Desarrollo Local de Puente Aranda a prestar sus servicios profesionales especializados brindado apoyo jurídico en temas contractuales en el área de gestión para el desarrollo local y el despacho del Despacho de la Alcaldía Local de Puente Aranda.","Inversión","Bogotá Mejor para Todos",45,{"$f":"IF(ISERROR(VLOOKUP(K310,Eje_Pilar_Prop!$C$2:$E$104,2,FALSE)),\" \",VLOOKUP(K310,Eje_Pilar_Prop!$C$2:$E$104,2,FALSE))","v":"Gobernanza e influencia local, regional e internacional"},{"$f":"IF(ISERROR(VLOOKUP(K310,Eje_Pilar_Prop!$C$2:$E$104,3,FALSE)),\" \",VLOOKUP(K310,Eje_Pilar_Prop!$C$2:$E$104,3,FALSE))","v":"Eje Transversal 4 Gobierno Legitimo, Fortalecimiento Local y Eficiencia"},"01-03-03-01-1501110000001312"," 52011073","DAVID ANDRES FAJARDO GOMEZ",7000000,null,null,null,null,7000000,1633333,"2020-11-12","2020-11-13","2020-12-12",30,null,null,null,null,null,null,null,null,"X",null,0.23333328571428572,null,{"$f":"IF(SUMPRODUCT((A$14:A310=A310)*(B$14:B310=B310)*(D$14:D310=D310))>1,0,1)","v":1},"Contratos de prestación de servicios profesionales y de apoyo a la gestión","Contratación directa",{"$f":"IF(ISBLANK(G310),1,IFERROR(VLOOKUP(G310,Tipo!$C$12:$C$27,1,FALSE),\"NO\"))","v":"Prestación de servicios profesionales y de apoyo a la gestión, o para la ejecución de trabajos artísticos que sólo puedan encomendarse a determinadas personas naturales;"},"Inversión",{"$f":"IF(ISBLANK(K310),1,IFERROR(VLOOKUP(K310,Eje_Pilar_Prop!C292:C393,1,FALSE),\"NO\"))","v":"NO"},"SECOP II",1,"Bogotá Mejor para Todos"]
[298,2020,"SECOP II","ALPA-CD-298-2020","Contratos de prestación de servicios profesionales y de apoyo a la gestión","Contratación directa","Prestación de servicios profesionales y de apoyo a la gestión, o para la ejecución de trabajos artísticos que sólo puedan encomendarse a determinadas personas naturales;","El contratista se obliga con el Fondo de Desarrollo Local de la Alcaldía de Puente Aranda a Apoyar jurídicamente la ejecución de las acciones requeridas para la depuración de las actuaciones administrativas que cursan en la Alcaldía Local.","Inversión","Bogotá Mejor para Todos",45,{"$f":"IF(ISERROR(VLOOKUP(K311,Eje_Pilar_Prop!$C$2:$E$104,2,FALSE)),\" \",VLOOKUP(K311,Eje_Pilar_Prop!$C$2:$E$104,2,FALSE))","v":"Gobernanza e influencia local, regional e internacional"},{"$f":"IF(ISERROR(VLOOKUP(K311,Eje_Pilar_Prop!$C$2:$E$104,3,FALSE)),\" \",VLOOKUP(K311,Eje_Pilar_Prop!$C$2:$E$104,3,FALSE))","v":"Eje Transversal 4 Gobierno Legitimo, Fortalecimiento Local y Eficiencia"},"3-3-1-15-07-45-1312-00",1098310626,"Juan David Bedoya Ospina",6893333,null,null,1,3446667,10340000,2193333,"2020-11-13","2020-11-17","2020-12-31",44,1,22,52011073,"LUZ DARY AYALA","2020-11-20",5133333,null,null,"X",null,0.21212117988394585,null,{"$f":"IF(SUMPRODUCT((A$14:A311=A311)*(B$14:B311=B311)*(D$14:D311=D311))>1,0,1)","v":1},"Contratos de prestación de servicios profesionales y de apoyo a la gestión","Contratación directa",{"$f":"IF(ISBLANK(G311),1,IFERROR(VLOOKUP(G311,Tipo!$C$12:$C$27,1,FALSE),\"NO\"))","v":"Prestación de servicios profesionales y de apoyo a la gestión, o para la ejecución de trabajos artísticos que sólo puedan encomendarse a determinadas personas naturales;"},"Inversión",{"$f":"IF(ISBLANK(K311),1,IFERROR(VLOOKUP(K311,Eje_Pilar_Prop!C293:C394,1,FALSE),\"NO\"))","v":"NO"},"SECOP II",1,"Bogotá Mejor para Todos"]
[299,2020,"SECOP II","ALPA-CD-299-2020","Contratos de prestación de servicios profesionales y de apoyo a la gestión","Contratación directa","Prestación de servicios profesionales y de apoyo a la gestión, o para la ejecución de trabajos artísticos que sólo puedan encomendarse a determinadas personas naturales;","EL CONTRATISTA SE OBLIGA CON EL FONDO DE DESARROLLO LOCAL DE PUENTE ARANDA A PRESTAR SUS SERVICIOS PROFESIONALES AL DESPACHO COMO ENLACE CON LAS ORGANIZACIONES SOCIALES RELACIONADAS CON LOS VENDEDORES AMBULANTES DE LA LOCALIDAD DE PUENTE ARANDA","Inversión","Bogotá Mejor para Todos",45,{"$f":"IF(ISERROR(VLOOKUP(K312,Eje_Pilar_Prop!$C$2:$E$104,2,FALSE)),\" \",VLOOKUP(K312,Eje_Pilar_Prop!$C$2:$E$104,2,FALSE))","v":"Gobernanza e influencia local, regional e internacional"},{"$f":"IF(ISERROR(VLOOKUP(K312,Eje_Pilar_Prop!$C$2:$E$104,3,FALSE)),\" \",VLOOKUP(K312,Eje_Pilar_Prop!$C$2:$E$104,3,FALSE))","v":"Eje Transversal 4 Gobierno Legitimo, Fortalecimiento Local y Eficiencia"},"01-03-03-01-1507450000001312",1032477544,"LAURA NATALIA FRANCO CUESTA",4000000,null,null,1,2000000,6000000,0,"2020-11-12","2020-11-13","2020-12-12",30,1,15,null,null,null,null,null,null,"X",null,0,null,{"$f":"IF(SUMPRODUCT((A$14:A312=A312)*(B$14:B312=B312)*(D$14:D312=D312))>1,0,1)","v":1},"Contratos de prestación de servicios profesionales y de apoyo a la gestión","Contratación directa",{"$f":"IF(ISBLANK(G312),1,IFERROR(VLOOKUP(G312,Tipo!$C$12:$C$27,1,FALSE),\"NO\"))","v":"Prestación de servicios profesionales y de apoyo a la gestión, o para la ejecución de trabajos artísticos que sólo puedan encomendarse a determinadas personas naturales;"},"Inversión",{"$f":"IF(ISBLANK(K312),1,IFERROR(VLOOKUP(K312,Eje_Pilar_Prop!C294:C395,1,FALSE),\"NO\"))","v":"NO"},"SECOP II",1,"Bogotá Mejor para Todos"]
[300,2020,"SECOP II","ALPA-CD-300-2020","Contratos de prestación de servicios profesionales y de apoyo a la gestión","Contratación directa","Prestación de servicios profesionales y de apoyo a la gestión, o para la ejecución de trabajos artísticos que sólo puedan encomendarse a determinadas personas naturales;","El contratista se obliga con el Fondo de Desarrollo Local de Puente Aranda a prestar sus servicios como instructor deportivo en la ejecución de las actividades previstas para la implementación del programa Vivir Bien Sentirse Bien y sus estrategias de actividad física y cuidado en el territorio en la Localidad de Puente Aranda, de conformidad con los estudios previos.","Inversión","Bogotá Mejor para Todos",45,{"$f":"IF(ISERROR(VLOOKUP(K313,Eje_Pilar_Prop!$C$2:$E$104,2,FALSE)),\" \",VLOOKUP(K313,Eje_Pilar_Prop!$C$2:$E$104,2,FALSE))","v":"Gobernanza e influencia local, regional e internacional"},{"$f":"IF(ISERROR(VLOOKUP(K313,Eje_Pilar_Prop!$C$2:$E$104,3,FALSE)),\" \",VLOOKUP(K313,Eje_Pilar_Prop!$C$2:$E$104,3,FALSE))","v":"Eje Transversal 4 Gobierno Legitimo, Fortalecimiento Local y Eficiencia"},"03-03-01-15-01110000001309",1022376045,"Andres Fernando Villamil Cruz",2560000,null,null,null,null,2560000,1792000,"2020-11-23","2020-11-25","2020-12-24",30,null,null,null,null,null,null,null,null,"X",null,0.7,null,{"$f":"IF(SUMPRODUCT((A$14:A313=A313)*(B$14:B313=B313)*(D$14:D313=D313))>1,0,1)","v":1},"Contratos de prestación de servicios profesionales y de apoyo a la gestión","Contratación directa",{"$f":"IF(ISBLANK(G313),1,IFERROR(VLOOKUP(G313,Tipo!$C$12:$C$27,1,FALSE),\"NO\"))","v":"Prestación de servicios profesionales y de apoyo a la gestión, o para la ejecución de trabajos artísticos que sólo puedan encomendarse a determinadas personas naturales;"},"Inversión",{"$f":"IF(ISBLANK(K313),1,IFERROR(VLOOKUP(K313,Eje_Pilar_Prop!C295:C396,1,FALSE),\"NO\"))","v":"NO"},"SECOP II",1,"Bogotá Mejor para Todos"]
[301,2020,"SECOP II","ALPA-CD-301-2020","Contratos de prestación de servicios profesionales y de apoyo a la gestión","Contratación directa","Prestación de servicios profesionales y de apoyo a la gestión, o para la ejecución de trabajos artísticos que sólo puedan encomendarse a determinadas personas naturales;","El contratista se obliga con el Fondo de Desarrollo Local de Puente Aranda a prestar sus servicios como instructor deportivo en la ejecución de las actividades previstas para la implementación del programa Vivir Bien Sentirse Bien y sus estrategias de actividad física y cuidado en el territorio en la Localidad de Puente Aranda, de conformidad con los estudios previos.","Inversión","Bogotá Mejor para Todos",45,{"$f":"IF(ISERROR(VLOOKUP(K314,Eje_Pilar_Prop!$C$2:$E$104,2,FALSE)),\" \",VLOOKUP(K314,Eje_Pilar_Prop!$C$2:$E$104,2,FALSE))","v":"Gobernanza e influencia local, regional e internacional"},{"$f":"IF(ISERROR(VLOOKUP(K314,Eje_Pilar_Prop!$C$2:$E$104,3,FALSE)),\" \",VLOOKUP(K314,Eje_Pilar_Prop!$C$2:$E$104,3,FALSE))","v":"Eje Transversal 4 Gobierno Legitimo, Fortalecimiento Local y Eficiencia"},"03-03-01-15-01110000001309",1022409964,"JUAN SEBASTIAN MAYORGA CIFUENTES",2560000,null,null,null,null,2560000,1792000,"2020-11-23","2020-11-25","2020-11-24",30,null,null,null,null,null,null,null,"X",null,null,0.7,null,{"$f":"IF(SUMPRODUCT((A$14:A314=A314)*(B$14:B314=B314)*(D$14:D314=D314))>1,0,1)","v":1},"Contratos de prestación de servicios profesionales y de apoyo a la gestión","Contratación directa",{"$f":"IF(ISBLANK(G314),1,IFERROR(VLOOKUP(G314,Tipo!$C$12:$C$27,1,FALSE),\"NO\"))","v":"Prestación de servicios profesionales y de apoyo a la gestión, o para la ejecución de trabajos artísticos que sólo puedan encomendarse a determinadas personas naturales;"},"Inversión",{"$f":"IF(ISBLANK(K314),1,IFERROR(VLOOKUP(K314,Eje_Pilar_Prop!C296:C397,1,FALSE),\"NO\"))","v":"NO"},"SECOP II",1,"Bogotá Mejor para Todos"]
[302,2020,"SECOP II","ALPA-CD-302-2020","Contratos de prestación de servicios profesionales y de apoyo a la gestión","Contratación directa","Prestación de servicios profesionales y de apoyo a la gestión, o para la ejecución de trabajos artísticos que sólo puedan encomendarse a determinadas personas naturales;","El contratista se obliga con el Fondo de Desarrollo Local de Puente Aranda a prestar sus servicios como instructor deportivo en la ejecución de las actividades previstas para la implementación del programa Vivir Bien Sentirse Bien y sus estrategias de actividad física y cuidado en el territorio en la Localidad de Puente Aranda, de conformidad con los estudios previos","Inversión","Bogotá Mejor para Todos",45,{"$f":"IF(ISERROR(VLOOKUP(K315,Eje_Pilar_Prop!$C$2:$E$104,2,FALSE)),\" \",VLOOKUP(K315,Eje_Pilar_Prop!$C$2:$E$104,2,FALSE))","v":"Gobernanza e influencia local, regional e internacional"},{"$f":"IF(ISERROR(VLOOKUP(K315,Eje_Pilar_Prop!$C$2:$E$104,3,FALSE)),\" \",VLOOKUP(K315,Eje_Pilar_Prop!$C$2:$E$104,3,FALSE))","v":"Eje Transversal 4 Gobierno Legitimo, Fortalecimiento Local y Eficiencia"},"03-03-01-15-01110000001309",1010182645,"OSCAR MAURICIO CASTILLO CARRILLO",2560000,null,null,null,null,2560000,0,"2020-11-23","2020-11-25","2020-11-24",30,null,null,null,null,null,null,null,"X",null,null,0,null,{"$f":"IF(SUMPRODUCT((A$14:A315=A315)*(B$14:B315=B315)*(D$14:D315=D315))>1,0,1)","v":1},"Contratos de prestación de servicios profesionales y de apoyo a la gestión","Contratación directa",{"$f":"IF(ISBLANK(G315),1,IFERROR(VLOOKUP(G315,Tipo!$C$12:$C$27,1,FALSE),\"NO\"))","v":"Prestación de servicios profesionales y de apoyo a la gestión, o para la ejecución de trabajos artísticos que sólo puedan encomendarse a determinadas personas naturales;"},"Inversión",{"$f":"IF(ISBLANK(K315),1,IFERROR(VLOOKUP(K315,Eje_Pilar_Prop!C297:C398,1,FALSE),\"NO\"))","v":"NO"},"SECOP II",1,"Bogotá Mejor para Todos"]
[303,2020,"SECOP II","ALPA-CD-303-2020","Contratos de prestación de servicios profesionales y de apoyo a la gestión","Contratación directa","Prestación de servicios profesionales y de apoyo a la gestión, o para la ejecución de trabajos artísticos que sólo puedan encomendarse a determinadas personas naturales;","El contratista se obliga con el Fondo de Desarrollo Local de Puente Aranda a prestar sus servicios como instructor deportivo en la ejecución de las actividades previstas para la implementación del programa Vivir Bien Sentirse Bien y sus estrategias de actividad física y cuidado en el territorio en la Localidad de Puente Aranda, de conformidad con los estudios previos.","Inversión","Bogotá Mejor para Todos",45,{"$f":"IF(ISERROR(VLOOKUP(K316,Eje_Pilar_Prop!$C$2:$E$104,2,FALSE)),\" \",VLOOKUP(K316,Eje_Pilar_Prop!$C$2:$E$104,2,FALSE))","v":"Gobernanza e influencia local, regional e internacional"},{"$f":"IF(ISERROR(VLOOKUP(K316,Eje_Pilar_Prop!$C$2:$E$104,3,FALSE)),\" \",VLOOKUP(K316,Eje_Pilar_Prop!$C$2:$E$104,3,FALSE))","v":"Eje Transversal 4 Gobierno Legitimo, Fortalecimiento Local y Eficiencia"},"03-03-01-15-01110000001309",53117792,"MARIA CAMILA PINEDA RAMIREZ",2560000,null,null,null,null,2560000,1792000,"2020-11-23","2020-11-25","2020-11-24",30,null,null,null,null,null,null,null,"X",null,null,0.7,null,{"$f":"IF(SUMPRODUCT((A$14:A316=A316)*(B$14:B316=B316)*(D$14:D316=D316))>1,0,1)","v":1},"Contratos de prestación de servicios profesionales y de apoyo a la gestión","Contratación directa",{"$f":"IF(ISBLANK(G316),1,IFERROR(VLOOKUP(G316,Tipo!$C$12:$C$27,1,FALSE),\"NO\"))","v":"Prestación de servicios profesionales y de apoyo a la gestión, o para la ejecución de trabajos artísticos que sólo puedan encomendarse a determinadas personas naturales;"},"Inversión",{"$f":"IF(ISBLANK(K316),1,IFERROR(VLOOKUP(K316,Eje_Pilar_Prop!C298:C399,1,FALSE),\"NO\"))","v":"NO"},"SECOP II",1,"Bogotá Mejor para Todos"]
[304,2020,"SECOP II","ALPA-CD-304-2020","Contratos de prestación de servicios profesionales y de apoyo a la gestión","Contratación directa","Prestación de servicios profesionales y de apoyo a la gestión, o para la ejecución de trabajos artísticos que sólo puedan encomendarse a determinadas personas naturales;","El contratista se obliga con el Fondo de Desarrollo Local de Puente Aranda a prestar sus servicios como instructor deportivo en la ejecución de las actividades previstas para la implementación del programa Vivir Bien Sentirse Bien y sus estrategias de actividad física y cuidado en el territorio en la Localidad de Puente Aranda, de conformidad con los estudios previos.","Inversión","Bogotá Mejor para Todos",45,{"$f":"IF(ISERROR(VLOOKUP(K317,Eje_Pilar_Prop!$C$2:$E$104,2,FALSE)),\" \",VLOOKUP(K317,Eje_Pilar_Prop!$C$2:$E$104,2,FALSE))","v":"Gobernanza e influencia local, regional e internacional"},{"$f":"IF(ISERROR(VLOOKUP(K317,Eje_Pilar_Prop!$C$2:$E$104,3,FALSE)),\" \",VLOOKUP(K317,Eje_Pilar_Prop!$C$2:$E$104,3,FALSE))","v":"Eje Transversal 4 Gobierno Legitimo, Fortalecimiento Local y Eficiencia"},"03-03-01-15-01110000001309",1022438041,"Nicolás Esteban Medina León",2560000,null,null,null,null,2560000,1706666,"2020-11-23","2020-11-25","2020-11-24",30,null,null,null,null,null,null,null,"X",null,null,0.66666640624999995,null,{"$f":"IF(SUMPRODUCT((A$14:A317=A317)*(B$14:B317=B317)*(D$14:D317=D317))>1,0,1)","v":1},"Contratos de prestación de servicios profesionales y de apoyo a la gestión","Contratación directa",{"$f":"IF(ISBLANK(G317),1,IFERROR(VLOOKUP(G317,Tipo!$C$12:$C$27,1,FALSE),\"NO\"))","v":"Prestación de servicios profesionales y de apoyo a la gestión, o para la ejecución de trabajos artísticos que sólo puedan encomendarse a determinadas personas naturales;"},"Inversión",{"$f":"IF(ISBLANK(K317),1,IFERROR(VLOOKUP(K317,Eje_Pilar_Prop!C299:C400,1,FALSE),\"NO\"))","v":"NO"},"SECOP II",1,"Bogotá Mejor para Todos"]
[305,2020,"SECOP II","ALPA-CD-305-2020","Contratos de prestación de servicios profesionales y de apoyo a la gestión","Contratación directa","Prestación de servicios profesionales y de apoyo a la gestión, o para la ejecución de trabajos artísticos que sólo puedan encomendarse a determinadas personas naturales;","El contratista se obliga con el Fondo de Desarrollo Local de Puente Aranda a prestar sus servicios profesionales brindado apoyo jurídico en el área de gestión para el desarrollo local en los temas de precontractuales, contractuales, postcontractuales y de obligaciones por pagar.","Inversión","Bogotá Mejor para Todos",45,{"$f":"IF(ISERROR(VLOOKUP(K318,Eje_Pilar_Prop!$C$2:$E$104,2,FALSE)),\" \",VLOOKUP(K318,Eje_Pilar_Prop!$C$2:$E$104,2,FALSE))","v":"Gobernanza e influencia local, regional e internacional"},{"$f":"IF(ISERROR(VLOOKUP(K318,Eje_Pilar_Prop!$C$2:$E$104,3,FALSE)),\" \",VLOOKUP(K318,Eje_Pilar_Prop!$C$2:$E$104,3,FALSE))","v":"Eje Transversal 4 Gobierno Legitimo, Fortalecimiento Local y Eficiencia"},"03-03-01-15-07-45-1312-000",45549338,"Maria Claudia Simancas Maya",5500000,null,null,1,2750000,8250000,0,"2020-11-26","2020-11-27","27/12/200",30,1,15,null,null,null,null,null,"X",null,null,0,null,{"$f":"IF(SUMPRODUCT((A$14:A318=A318)*(B$14:B318=B318)*(D$14:D318=D318))>1,0,1)","v":1},"Contratos de prestación de servicios profesionales y de apoyo a la gestión","Contratación directa",{"$f":"IF(ISBLANK(G318),1,IFERROR(VLOOKUP(G318,Tipo!$C$12:$C$27,1,FALSE),\"NO\"))","v":"Prestación de servicios profesionales y de apoyo a la gestión, o para la ejecución de trabajos artísticos que sólo puedan encomendarse a determinadas personas naturales;"},"Inversión",{"$f":"IF(ISBLANK(K318),1,IFERROR(VLOOKUP(K318,Eje_Pilar_Prop!C300:C401,1,FALSE),\"NO\"))","v":"NO"},"SECOP II",1,"Bogotá Mejor para Todos"]
[306,2020,"SECOP II","ALPA-IPMC-025-2020","Suministro","Contratación mínima cuantia","No aplica","Suministro de elementos de Ferretería, Plomería, Electricidad y Otros a monto agotable, necesarios para las reparaciones locativas menores de las instalaciones de la Alcaldía local, Junta Administradora Local, Puntos Vive Digital y Bodega, de acuerdo con los estudios previos, anexo técnico, invitación y propuesta presentada","Funcionamiento","Bogotá Mejor para Todos",null,{"$f":"IF(ISERROR(VLOOKUP(K319,Eje_Pilar_Prop!$C$2:$E$104,2,FALSE)),\" \",VLOOKUP(K319,Eje_Pilar_Prop!$C$2:$E$104,2,FALSE))","v":" "},{"$f":"IF(ISERROR(VLOOKUP(K319,Eje_Pilar_Prop!$C$2:$E$104,3,FALSE)),\" \",VLOOKUP(K319,Eje_Pilar_Prop!$C$2:$E$104,3,FALSE))","v":" "},"01-03-01-02-02010208",830073899,"COMERCIALIZADORA ELECTROCON SAS",20000000,null,null,null,null,20000000,0,"2020-11-26","2020-11-23","2021-04-23",150,null,null,null,null,null,null,null,"X",null,null,0,null,{"$f":"IF(SUMPRODUCT((A$14:A319=A319)*(B$14:B319=B319)*(D$14:D319=D319))>1,0,1)","v":1},"Suministro","Contratación mínima cuantia",{"$f":"IF(ISBLANK(G319),1,IFERROR(VLOOKUP(G319,Tipo!$C$12:$C$27,1,FALSE),\"NO\"))","v":"NO"},"Funcionamiento",{"$f":"IF(ISBLANK(K319),1,IFERROR(VLOOKUP(K319,Eje_Pilar_Prop!C301:C402,1,FALSE),\"NO\"))","v":1},"SECOP II",1,"Bogotá Mejor para Todos"]
[307,2020,"SECOP II","ALPA-IPMC-026-2020","Contratos de prestación de servicios","Contratación mínima cuantia","No aplica","CONTRATAR EL SERVICIO DE MANTENIMIENTO INTEGRAL PREVENTIVO Y CORRECTIVO, INCLUIDO SUMINISTRO E INSTALAClÓN DE REPUESTOS Y ACCESORIOS, CON MANO DE OBRA ESPECIALIZADA AL PARQUE AUTOMOTOR DEL FDL DE PUENTE ARANDA, A MONTO AGOTABLE","Funcionamiento","Bogotá Mejor para Todos",null,{"$f":"IF(ISERROR(VLOOKUP(K320,Eje_Pilar_Prop!$C$2:$E$104,2,FALSE)),\" \",VLOOKUP(K320,Eje_Pilar_Prop!$C$2:$E$104,2,FALSE))","v":" "},{"$f":"IF(ISERROR(VLOOKUP(K320,Eje_Pilar_Prop!$C$2:$E$104,3,FALSE)),\" \",VLOOKUP(K320,Eje_Pilar_Prop!$C$2:$E$104,3,FALSE))","v":" "},"01-03-01-00-20202030604",800250589,"CENTRO CAR 19 LIMITADA",12524372,null,null,null,null,12524372,0,"2020-11-27","2020-12-03","2/04/2021 ",120,null,null,null,null,null,null,null,"X",null,null,0,null,{"$f":"IF(SUMPRODUCT((A$14:A320=A320)*(B$14:B320=B320)*(D$14:D320=D320))>1,0,1)","v":1},"Contratos de prestación de servicios","Contratación mínima cuantia",{"$f":"IF(ISBLANK(G320),1,IFERROR(VLOOKUP(G320,Tipo!$C$12:$C$27,1,FALSE),\"NO\"))","v":"NO"},"Funcionamiento",{"$f":"IF(ISBLANK(K320),1,IFERROR(VLOOKUP(K320,Eje_Pilar_Prop!C302:C403,1,FALSE),\"NO\"))","v":1},"SECOP II",1,"Bogotá Mejor para Todos"]
[308,2020,"SECOP II","ALPA-CD-308-2020","Contratos de prestación de servicios profesionales y de apoyo a la gestión","Contratación directa","Prestación de servicios profesionales y de apoyo a la gestión, o para la ejecución de trabajos artísticos que sólo puedan encomendarse a determinadas personas naturales;","El contratista se obliga con el Fondo de Desarrollo Local de Puente Aranda a prestar sus servicios profesionales al Despacho para implementar estrategias de prevención de vulneración a los derechos de la vida, integridad y seguridad de las personas de los diferentes grupos poblacionales LGTBI, víctimas del delito de trata de personas, líderes, lideresas, defensores y defensoras de los derechos humanos que requieran medidas de prevención y protección.","Inversión","Bogotá Mejor para Todos",45,{"$f":"IF(ISERROR(VLOOKUP(K321,Eje_Pilar_Prop!$C$2:$E$104,2,FALSE)),\" \",VLOOKUP(K321,Eje_Pilar_Prop!$C$2:$E$104,2,FALSE))","v":"Gobernanza e influencia local, regional e internacional"},{"$f":"IF(ISERROR(VLOOKUP(K321,Eje_Pilar_Prop!$C$2:$E$104,3,FALSE)),\" \",VLOOKUP(K321,Eje_Pilar_Prop!$C$2:$E$104,3,FALSE))","v":"Eje Transversal 4 Gobierno Legitimo, Fortalecimiento Local y Eficiencia"},"03-03-01-15-07-45-1312-000",1020741588,"OLGA BOHORQUEZ DUQUE",5500000,null,null,null,null,5500000,0,"2020-11-30","2020-12-01","2020-12-31",30,null,null,null,null,null,null,null,"X",null,null,0,null,{"$f":"IF(SUMPRODUCT((A$14:A321=A321)*(B$14:B321=B321)*(D$14:D321=D321))>1,0,1)","v":1},"Contratos de prestación de servicios profesionales y de apoyo a la gestión","Contratación directa",{"$f":"IF(ISBLANK(G321),1,IFERROR(VLOOKUP(G321,Tipo!$C$12:$C$27,1,FALSE),\"NO\"))","v":"Prestación de servicios profesionales y de apoyo a la gestión, o para la ejecución de trabajos artísticos que sólo puedan encomendarse a determinadas personas naturales;"},"Inversión",{"$f":"IF(ISBLANK(K321),1,IFERROR(VLOOKUP(K321,Eje_Pilar_Prop!C303:C404,1,FALSE),\"NO\"))","v":"NO"},"SECOP II",1,"Bogotá Mejor para Todos"]
[309,2020,"SECOP II","ALPA-SAMC-015-2020","Contratos de prestación de servicios","Selección abreviada","Selección abreviada por menor cuantía ","PRESTAR EL SERVICIO DE MANTENIMIENTO PREVENTIVO Y CORRECTIVO DE LA PLANTA ELECTRICA, UPS, SUMINISTRO DE REPUESTOS Y LA SINCRONIZACION CON LA RED ELECTRICA Y DISPOSITIVOS QUE LA CONFORMAN. CON LA ENTREGA DE DIAGRAMA UNIFILAR CON LA DISTRIBUCION DE CARGAS Y CIRCUITOS ELECTRICOS REGULADOS DE PROPIEDAD DE LA ALCALDIA LOCAL DE PUENTE ARANDA Y SEDES ANEXAS, INCLUYENDO BOLSA DE REPUESTOS; DE ACUERDO CON LOS ESTUDIOS PREVIOS Y DEMAS DOCUMENTOS ANEXOS","Inversión","Bogotá Mejor para Todos",45,{"$f":"IF(ISERROR(VLOOKUP(K322,Eje_Pilar_Prop!$C$2:$E$104,2,FALSE)),\" \",VLOOKUP(K322,Eje_Pilar_Prop!$C$2:$E$104,2,FALSE))","v":"Gobernanza e influencia local, regional e internacional"},{"$f":"IF(ISERROR(VLOOKUP(K322,Eje_Pilar_Prop!$C$2:$E$104,3,FALSE)),\" \",VLOOKUP(K322,Eje_Pilar_Prop!$C$2:$E$104,3,FALSE))","v":"Eje Transversal 4 Gobierno Legitimo, Fortalecimiento Local y Eficiencia"},"03-03-01-15-07-45-1312-000",900074646,"GRUPO AZER SAS EN REORGANIZACIÓN",75659919,null,null,null,null,75659919,0,"2020-12-02","2020-12-21","2021-08-20",240,null,null,null,null,null,null,null,"X",null,null,0,null,{"$f":"IF(SUMPRODUCT((A$14:A322=A322)*(B$14:B322=B322)*(D$14:D322=D322))>1,0,1)","v":1},"Contratos de prestación de servicios","Selección abreviada",{"$f":"IF(ISBLANK(G322),1,IFERROR(VLOOKUP(G322,Tipo!$C$12:$C$27,1,FALSE),\"NO\"))","v":"Selección abreviada por menor cuantía "},"Inversión",{"$f":"IF(ISBLANK(K322),1,IFERROR(VLOOKUP(K322,Eje_Pilar_Prop!C304:C405,1,FALSE),\"NO\"))","v":"NO"},"SECOP II",1,"Bogotá Mejor para Todos"]
[310,2020,"SECOP II","ALPA-IPMC-028-2020","Contratos de prestación de servicios","Contratación mínima cuantia","No aplica","PRESTAR EL SERVICIO DE MANTENIMIENTO INCLUYENDO LOS REPUESTOS, ANILLADO DE VERIFICAClON, RECARGA Y ETIQUETADO DE LOS EXTINTORES DE PROPIEDAD Y A CARGO DEL FONDO DE DESARROLLO LOCAL DE PUENTE ARANDA, DE ACUERDO CON LOS ESTUDIOS PREVIOS QUE HACEN PARTE INTEGRAL DEL CONTRATO.","Inversión","Bogotá Mejor para Todos",45,{"$f":"IF(ISERROR(VLOOKUP(K323,Eje_Pilar_Prop!$C$2:$E$104,2,FALSE)),\" \",VLOOKUP(K323,Eje_Pilar_Prop!$C$2:$E$104,2,FALSE))","v":"Gobernanza e influencia local, regional e internacional"},{"$f":"IF(ISERROR(VLOOKUP(K323,Eje_Pilar_Prop!$C$2:$E$104,3,FALSE)),\" \",VLOOKUP(K323,Eje_Pilar_Prop!$C$2:$E$104,3,FALSE))","v":"Eje Transversal 4 Gobierno Legitimo, Fortalecimiento Local y Eficiencia"},"01-03-03-01-1501110000001309",901174935,"INGENIERIA, PROTECCIÓN Y SEGURIDAD",1717975,null,null,null,null,1717975,0,"2020-12-04","2020-12-14","2021-01-13",30,null,null,null,null,null,null,null,null,"X",null,0,null,{"$f":"IF(SUMPRODUCT((A$14:A323=A323)*(B$14:B323=B323)*(D$14:D323=D323))>1,0,1)","v":1},"Contratos de prestación de servicios","Contratación mínima cuantia",{"$f":"IF(ISBLANK(G323),1,IFERROR(VLOOKUP(G323,Tipo!$C$12:$C$27,1,FALSE),\"NO\"))","v":"NO"},"Inversión",{"$f":"IF(ISBLANK(K323),1,IFERROR(VLOOKUP(K323,Eje_Pilar_Prop!C305:C406,1,FALSE),\"NO\"))","v":"NO"},"SECOP II",1,"Bogotá Mejor para Todos"]
[311,2020,"SECOP II","ALPA-SAMC-009-2020.","Contratos de prestación de servicios","Selección abreviada","Selección abreviada por menor cuantía ","Ejecutar las conmemoraciones de familia, no violencia contra la mujer, persona mayor y discapacidad de la localidad de Puente Aranda, garantizando el desarrollo de los aspectos logísticos, técnicos, operativos, administrativos y financieros que permitan llevar a cabo cada una de las actividades de los componentes de formación, creación, circulación y recreación en los campos del arte, la cultura y el patrimonio, contenidos en el anexo técnico del proyecto, estudios previos y pliego de condicione","Inversión","Bogotá Mejor para Todos",45,{"$f":"IF(ISERROR(VLOOKUP(K324,Eje_Pilar_Prop!$C$2:$E$104,2,FALSE)),\" \",VLOOKUP(K324,Eje_Pilar_Prop!$C$2:$E$104,2,FALSE))","v":"Gobernanza e influencia local, regional e internacional"},{"$f":"IF(ISERROR(VLOOKUP(K324,Eje_Pilar_Prop!$C$2:$E$104,3,FALSE)),\" \",VLOOKUP(K324,Eje_Pilar_Prop!$C$2:$E$104,3,FALSE))","v":"Eje Transversal 4 Gobierno Legitimo, Fortalecimiento Local y Eficiencia"},"01-03-03-01-1501110000001309",800184306,"ROYAL PARK S.A.S",195334314,null,null,null,null,195334314,0,"2020-12-07",null,null,60,null,null,null,null,null,null,"X",null,null,null,0,null,{"$f":"IF(SUMPRODUCT((A$14:A324=A324)*(B$14:B324=B324)*(D$14:D324=D324))>1,0,1)","v":1},"Contratos de prestación de servicios","Selección abreviada",{"$f":"IF(ISBLANK(G324),1,IFERROR(VLOOKUP(G324,Tipo!$C$12:$C$27,1,FALSE),\"NO\"))","v":"Selección abreviada por menor cuantía "},"Inversión",{"$f":"IF(ISBLANK(K324),1,IFERROR(VLOOKUP(K324,Eje_Pilar_Prop!C306:C407,1,FALSE),\"NO\"))","v":"NO"},"SECOP II",1,"Bogotá Mejor para Todos"]
[312,2020,"SECOP II","ALPA-SAMC-018-2020","Contratos de prestación de servicios","Selección abreviada","Selección abreviada por menor cuantía ","Prestación de los servicios para desarrollar las actividades logísticas para la realización de eventos culturales de dos conmemoraciones de fechas tradicionales: el Día de los niños y las niñas, y el evento de cumpleaños 447 en la localidad de Puente Aranda, de conformidad con los estudios previos, el anexo técnico, y demás documentos anexos","Inversión","Bogotá Mejor para Todos",45,{"$f":"IF(ISERROR(VLOOKUP(K325,Eje_Pilar_Prop!$C$2:$E$104,2,FALSE)),\" \",VLOOKUP(K325,Eje_Pilar_Prop!$C$2:$E$104,2,FALSE))","v":"Gobernanza e influencia local, regional e internacional"},{"$f":"IF(ISERROR(VLOOKUP(K325,Eje_Pilar_Prop!$C$2:$E$104,3,FALSE)),\" \",VLOOKUP(K325,Eje_Pilar_Prop!$C$2:$E$104,3,FALSE))","v":"Eje Transversal 4 Gobierno Legitimo, Fortalecimiento Local y Eficiencia"},"03-03-01-15-01-03-1309-000",900175374,"ASOCIACIÓN DE HOGARES SI A LA VIDA",138776263,null,null,null,null,138776263,0,"2020-12-07","2020-12-21","2021-02-20",60,null,null,null,null,null,null,null,"X",null,null,0,null,{"$f":"IF(SUMPRODUCT((A$14:A325=A325)*(B$14:B325=B325)*(D$14:D325=D325))>1,0,1)","v":1},"Contratos de prestación de servicios","Selección abreviada",{"$f":"IF(ISBLANK(G325),1,IFERROR(VLOOKUP(G325,Tipo!$C$12:$C$27,1,FALSE),\"NO\"))","v":"Selección abreviada por menor cuantía "},"Inversión",{"$f":"IF(ISBLANK(K325),1,IFERROR(VLOOKUP(K325,Eje_Pilar_Prop!C307:C408,1,FALSE),\"NO\"))","v":"NO"},"SECOP II",1,"Bogotá Mejor para Todos"]
[313,2020,"SECOP II","ALPA-SAMC-024-2020","Contratos de prestación de servicios","Selección abreviada","Selección abreviada por menor cuantía ","Prestación de los servicios para desarrollar las actividades logísticas para la realización de las festividades navideñas en la localidad de Puente Aranda, de conformidad con los estudios previos, el anexo técnico, y demás documentos anexos","Inversión","Bogotá Mejor para Todos",45,{"$f":"IF(ISERROR(VLOOKUP(K326,Eje_Pilar_Prop!$C$2:$E$104,2,FALSE)),\" \",VLOOKUP(K326,Eje_Pilar_Prop!$C$2:$E$104,2,FALSE))","v":"Gobernanza e influencia local, regional e internacional"},{"$f":"IF(ISERROR(VLOOKUP(K326,Eje_Pilar_Prop!$C$2:$E$104,3,FALSE)),\" \",VLOOKUP(K326,Eje_Pilar_Prop!$C$2:$E$104,3,FALSE))","v":"Eje Transversal 4 Gobierno Legitimo, Fortalecimiento Local y Eficiencia"},"03-03-01-07-45-1309000","900.360.948-5","CORPORACIÓN COLECTIVO DIGERATI",224965351,null,null,null,null,224965351,0,"2020-12-10","2020-12-11","2021-02-10",60,null,null,null,null,null,null,null,"X",null,null,0,null,{"$f":"IF(SUMPRODUCT((A$14:A326=A326)*(B$14:B326=B326)*(D$14:D326=D326))>1,0,1)","v":1},"Contratos de prestación de servicios","Selección abreviada",{"$f":"IF(ISBLANK(G326),1,IFERROR(VLOOKUP(G326,Tipo!$C$12:$C$27,1,FALSE),\"NO\"))","v":"Selección abreviada por menor cuantía "},"Inversión",{"$f":"IF(ISBLANK(K326),1,IFERROR(VLOOKUP(K326,Eje_Pilar_Prop!C308:C409,1,FALSE),\"NO\"))","v":"NO"},"SECOP II",1,"Bogotá Mejor para Todos"]
[314,2020,"SECOP II","ALPA-SAMC-021-2020","Contratos de prestación de servicios","Selección abreviada","Selección abreviada por menor cuantía ","EJECUTAR LOS ENCUENTROS DE JUVENTUD DE LA LOCALIDAD DE PUENTE ARANDA, GARANTIZANDO EL DESARROLLO DE LOS ASPECTOS LOGÍSTICOS, TÉCNICOS, OPERATIVOS, ADMINISTRATIVOS Y FINANCIEROS QUE PERMITAN LLEVAR A CABO CADA UNA DE LAS ACTIVIDADES DE LOS COMPONENTES DE FORMACIÓN, CREACIÓN Y CIRCULACIÓN, CONTENIDOS EN EL ANEXO TÉCNICO DEL PROYECTO, ESTUDIOS PREVIOS Y PLIEGO DE CONDICIONES","Inversión","Bogotá Mejor para Todos",45,{"$f":"IF(ISERROR(VLOOKUP(K327,Eje_Pilar_Prop!$C$2:$E$104,2,FALSE)),\" \",VLOOKUP(K327,Eje_Pilar_Prop!$C$2:$E$104,2,FALSE))","v":"Gobernanza e influencia local, regional e internacional"},{"$f":"IF(ISERROR(VLOOKUP(K327,Eje_Pilar_Prop!$C$2:$E$104,3,FALSE)),\" \",VLOOKUP(K327,Eje_Pilar_Prop!$C$2:$E$104,3,FALSE))","v":"Eje Transversal 4 Gobierno Legitimo, Fortalecimiento Local y Eficiencia"},"03-03-01-15-01-03-1309000",900837320,"Más Cultural Corporación",109904637,null,null,null,null,109904637,0,"2020-12-11",null,null,60,null,null,null,null,null,null,"X",null,null,null,0,null,{"$f":"IF(SUMPRODUCT((A$14:A327=A327)*(B$14:B327=B327)*(D$14:D327=D327))>1,0,1)","v":1},"Contratos de prestación de servicios","Selección abreviada",{"$f":"IF(ISBLANK(G327),1,IFERROR(VLOOKUP(G327,Tipo!$C$12:$C$27,1,FALSE),\"NO\"))","v":"Selección abreviada por menor cuantía "},"Inversión",{"$f":"IF(ISBLANK(K327),1,IFERROR(VLOOKUP(K327,Eje_Pilar_Prop!C309:C410,1,FALSE),\"NO\"))","v":"NO"},"SECOP II",1,"Bogotá Mejor para Todos"]
[315,2020,"SECOP II","ALPA-IPMC-029-2020","Contratos de prestación de servicios","Contratación mínima cuantia","No aplica","Contratar la prestación del servicio para realizar verificación, actualización y medición posterior de los bienes clasificados como propiedad, planta y equipo de propiedad y/o a cargo del fondo de desarrollo local de puente Aranda, de conformidad con los estudios previos, anexo técnico, invitación y propuesta presentada","Inversión","Bogotá Mejor para Todos",45,{"$f":"IF(ISERROR(VLOOKUP(K328,Eje_Pilar_Prop!$C$2:$E$104,2,FALSE)),\" \",VLOOKUP(K328,Eje_Pilar_Prop!$C$2:$E$104,2,FALSE))","v":"Gobernanza e influencia local, regional e internacional"},{"$f":"IF(ISERROR(VLOOKUP(K328,Eje_Pilar_Prop!$C$2:$E$104,3,FALSE)),\" \",VLOOKUP(K328,Eje_Pilar_Prop!$C$2:$E$104,3,FALSE))","v":"Eje Transversal 4 Gobierno Legitimo, Fortalecimiento Local y Eficiencia"},"01-03-03-011507450000001312",19214464,"LUIS EDUARDO CARVAJALINO SÁNCHEZ",7960000,null,null,null,null,7960000,0,"2020-12-24","2020-12-28","2021-01-27",30,null,null,null,null,null,null,null,"X",null,null,0,null,{"$f":"IF(SUMPRODUCT((A$14:A328=A328)*(B$14:B328=B328)*(D$14:D328=D328))>1,0,1)","v":1},"Contratos de prestación de servicios","Contratación mínima cuantia",{"$f":"IF(ISBLANK(G328),1,IFERROR(VLOOKUP(G328,Tipo!$C$12:$C$27,1,FALSE),\"NO\"))","v":"NO"},"Inversión",{"$f":"IF(ISBLANK(K328),1,IFERROR(VLOOKUP(K328,Eje_Pilar_Prop!C310:C411,1,FALSE),\"NO\"))","v":"NO"},"SECOP II",1,"Bogotá Mejor para Todos"]
[316,2020,"SECOP II","ALPA-CD-316-2020","Contratos de prestación de servicios profesionales y de apoyo a la gestión","Contratación directa","Prestación de servicios profesionales y de apoyo a la gestión, o para la ejecución de trabajos artísticos que sólo puedan encomendarse a determinadas personas naturales;","Prestar los servicios profesionales para la operacion, prestacion, seguimiento y cumplimiento de los procedimientos administrativos, operatives y programaticos del Servicio Apoyo Economico Tipo C, que contribuyan a la garantia de los derechos de la poblacion mayor en el marco de la Politica Publica Social para el Envejecimiento y la Vejez en el Distrito Capital a cargo de la Alcaldla Local, de acuerdo con los estudios previos","Inversión","Bogotá Mejor para Todos",45,{"$f":"IF(ISERROR(VLOOKUP(K329,Eje_Pilar_Prop!$C$2:$E$104,2,FALSE)),\" \",VLOOKUP(K329,Eje_Pilar_Prop!$C$2:$E$104,2,FALSE))","v":"Gobernanza e influencia local, regional e internacional"},{"$f":"IF(ISERROR(VLOOKUP(K329,Eje_Pilar_Prop!$C$2:$E$104,3,FALSE)),\" \",VLOOKUP(K329,Eje_Pilar_Prop!$C$2:$E$104,3,FALSE))","v":"Eje Transversal 4 Gobierno Legitimo, Fortalecimiento Local y Eficiencia"},"01-03-03-01-1501030000001286",51994323,"FANNY ALEJANDRA MARTINEZ SILVA",2350000,null,null,null,null,2350000,0,"2020-12-15","2020-12-16","2020-12-30",15,null,null,null,null,null,null,null,null,"X",null,0,null,{"$f":"IF(SUMPRODUCT((A$14:A329=A329)*(B$14:B329=B329)*(D$14:D329=D329))>1,0,1)","v":1},"Contratos de prestación de servicios profesionales y de apoyo a la gestión","Contratación directa",{"$f":"IF(ISBLANK(G329),1,IFERROR(VLOOKUP(G329,Tipo!$C$12:$C$27,1,FALSE),\"NO\"))","v":"Prestación de servicios profesionales y de apoyo a la gestión, o para la ejecución de trabajos artísticos que sólo puedan encomendarse a determinadas personas naturales;"},"Inversión",{"$f":"IF(ISBLANK(K329),1,IFERROR(VLOOKUP(K329,Eje_Pilar_Prop!C311:C412,1,FALSE),\"NO\"))","v":"NO"},"SECOP II",1,"Bogotá Mejor para Todos"]
[317,2020,"SECOP II","ALPA-LP-014-2020","Contratos de prestación de servicios","Licitación pública","No aplica","PRESTACIÓN DE SERVICIOS PARA REALIZAR ACTIVIDADES DE FORTALECIMIENTO DE LAS CAPACIDADES SOCIALES PARA LA SEGURIDAD Y LA CONVIVENCIA CIUDADANA EN LA LOCALIDAD DE PUENTE ARANDA, DE CONFORMIDAD CON EL ANEXO TÉCNICO Y DEMÁS DOCUMENTOS PREVIOS, LOS CUALES HACEN PARTE INTEGRAL DEL CONTRATO","Inversión","Bogotá Mejor para Todos",45,{"$f":"IF(ISERROR(VLOOKUP(K330,Eje_Pilar_Prop!$C$2:$E$104,2,FALSE)),\" \",VLOOKUP(K330,Eje_Pilar_Prop!$C$2:$E$104,2,FALSE))","v":"Gobernanza e influencia local, regional e internacional"},{"$f":"IF(ISERROR(VLOOKUP(K330,Eje_Pilar_Prop!$C$2:$E$104,3,FALSE)),\" \",VLOOKUP(K330,Eje_Pilar_Prop!$C$2:$E$104,3,FALSE))","v":"Eje Transversal 4 Gobierno Legitimo, Fortalecimiento Local y Eficiencia"},"03-03-01-15-03-19-1310-000",900709887,"K-HUA GESTION INTEGRAL DE",643820057,null,null,null,null,643820057,0,"2020-12-23","2020-12-28","2806/2021",180,null,null,null,null,null,null,"X",null,null,null,0,null,{"$f":"IF(SUMPRODUCT((A$14:A330=A330)*(B$14:B330=B330)*(D$14:D330=D330))>1,0,1)","v":1},"Contratos de prestación de servicios","Licitación pública",{"$f":"IF(ISBLANK(G330),1,IFERROR(VLOOKUP(G330,Tipo!$C$12:$C$27,1,FALSE),\"NO\"))","v":"NO"},"Inversión",{"$f":"IF(ISBLANK(K330),1,IFERROR(VLOOKUP(K330,Eje_Pilar_Prop!C312:C413,1,FALSE),\"NO\"))","v":"NO"},"SECOP II",1,"Bogotá Mejor para Todos"]
[318,2020,"SECOP II","ALPA-IPMC-030-2020","Contratos de prestación de servicios","Contratación mínima cuantia","No aplica","CONTRATAR SERVICIOS LOGÍSTICOS PARA LA ORGANIZACIÓN Y EJECUCIÓN DE LA CELEBRACIÓN DEL DÍA DE LA ACCIÓN COMUNAL EN LA LOCALIDAD DE PUENTE ARANDA VIGENCIA 2020","Inversión","Bogotá Mejor para Todos",45,{"$f":"IF(ISERROR(VLOOKUP(K331,Eje_Pilar_Prop!$C$2:$E$104,2,FALSE)),\" \",VLOOKUP(K331,Eje_Pilar_Prop!$C$2:$E$104,2,FALSE))","v":"Gobernanza e influencia local, regional e internacional"},{"$f":"IF(ISERROR(VLOOKUP(K331,Eje_Pilar_Prop!$C$2:$E$104,3,FALSE)),\" \",VLOOKUP(K331,Eje_Pilar_Prop!$C$2:$E$104,3,FALSE))","v":"Eje Transversal 4 Gobierno Legitimo, Fortalecimiento Local y Eficiencia"},"03-03-01-15-07-45-1289",900438648,"DIAGO Y BENITEZ SAS",20299005,null,null,null,null,20299005,0,"2020-12-28","2020-12-28","2021-01-27",30,null,null,null,null,null,null,null,null,null,null,0,null,{"$f":"IF(SUMPRODUCT((A$14:A331=A331)*(B$14:B331=B331)*(D$14:D331=D331))>1,0,1)","v":1},"Contratos de prestación de servicios","Contratación mínima cuantia",{"$f":"IF(ISBLANK(G331),1,IFERROR(VLOOKUP(G331,Tipo!$C$12:$C$27,1,FALSE),\"NO\"))","v":"NO"},"Inversión",{"$f":"IF(ISBLANK(K331),1,IFERROR(VLOOKUP(K331,Eje_Pilar_Prop!C313:C414,1,FALSE),\"NO\"))","v":"NO"},"SECOP II",1,"Bogotá Mejor para Todos"]
[319,2020,"SECOP II","ALPA-LP-017-2020","Obra pública","Licitación pública","No aplica","CONTRATAR A PRECIOS UNITARIOS FI JOS Y A MONTO AGOTABLE LAS OBRAS PARA LA CONSERVACION DE LA MALLA VIAL Y SU ESPACIO PUBLICO ASOCIADO EN LA LOCALIDAD DE PUENTE ARANDA","Inversión","Bogotá Mejor para Todos",18,{"$f":"IF(ISERROR(VLOOKUP(K332,Eje_Pilar_Prop!$C$2:$E$104,2,FALSE)),\" \",VLOOKUP(K332,Eje_Pilar_Prop!$C$2:$E$104,2,FALSE))","v":"Mejor movilidad para todos"},{"$f":"IF(ISERROR(VLOOKUP(K332,Eje_Pilar_Prop!$C$2:$E$104,3,FALSE)),\" \",VLOOKUP(K332,Eje_Pilar_Prop!$C$2:$E$104,3,FALSE))","v":"Pilar 2 Democracía Urbana"},"01-03-03-011502180000001290",901441640,"CONSORCIO PRATO",5000000000,null,null,null,null,5000000000,0,"2020-12-29",null,null,180,null,null,null,null,null,null,"X",null,null,null,0,null,{"$f":"IF(SUMPRODUCT((A$14:A332=A332)*(B$14:B332=B332)*(D$14:D332=D332))>1,0,1)","v":1},"Obra pública","Licitación pública",{"$f":"IF(ISBLANK(G332),1,IFERROR(VLOOKUP(G332,Tipo!$C$12:$C$27,1,FALSE),\"NO\"))","v":"NO"},"Inversión",{"$f":"IF(ISBLANK(K332),1,IFERROR(VLOOKUP(K332,Eje_Pilar_Prop!C314:C415,1,FALSE),\"NO\"))","v":"NO"},"SECOP II",1,"Bogotá Mejor para Todos"]
[320,2020,"SECOP II","ALPA-CMA-023-2020","Interventoría","Concurso de méritos","No aplica","EJECUTAR LA INTERVENTORIA, TECNICA, ADMINISTRATIVA, FINANCIERA, JURIDICA, SOCIAL, AMBIENTAL Y SST AL CONTRATO QUE SUSCRIBA EL FONDO DE DESARROLLO LOCAL COMO RESULTADO DEL PROCESO DE LICITACIÓN PÚBLICA No FDLPA-LP-017-2020, CUYO OBJETO ES “CONTRATAR A PRECIOS UNITARIOS FIJOS Y A MONTO AGOTABLE LAS OBRAS PARA LA CONSERVACIÒN DE LA MALLA VIAL Y SU ESPACIO PÚBLICO ASOCIADO EN LA LOCALIDAD DE PUENTE ARANDA","Inversión","Bogotá Mejor para Todos",18,{"$f":"IF(ISERROR(VLOOKUP(K333,Eje_Pilar_Prop!$C$2:$E$104,2,FALSE)),\" \",VLOOKUP(K333,Eje_Pilar_Prop!$C$2:$E$104,2,FALSE))","v":"Mejor movilidad para todos"},{"$f":"IF(ISERROR(VLOOKUP(K333,Eje_Pilar_Prop!$C$2:$E$104,3,FALSE)),\" \",VLOOKUP(K333,Eje_Pilar_Prop!$C$2:$E$104,3,FALSE))","v":"Pilar 2 Democracía Urbana"},"01-03-03-01-1502180000001290",830028126,"R&M CONSTRUCCIONES E INTERVENTORIAS S.A.S",499604526,null,null,null,null,499604526,0,"2020-12-29",null,null,null,null,null,null,null,null,null,"X",null,null,null,0,null,{"$f":"IF(SUMPRODUCT((A$14:A333=A333)*(B$14:B333=B333)*(D$14:D333=D333))>1,0,1)","v":1},"Interventoría","Concurso de méritos",{"$f":"IF(ISBLANK(G333),1,IFERROR(VLOOKUP(G333,Tipo!$C$12:$C$27,1,FALSE),\"NO\"))","v":"NO"},"Inversión",{"$f":"IF(ISBLANK(K333),1,IFERROR(VLOOKUP(K333,Eje_Pilar_Prop!C315:C416,1,FALSE),\"NO\"))","v":"NO"},"SECOP II",1,"Bogotá Mejor para Todos"]
[321,2020,"SECOP II","ALPA-LP-22-2020","Obra pública","Licitación pública","No aplica","EJECUTAR A PRECIOS UNITARIOS FIJOS, LA CONSTRUCCIÓN DEL PARQUE VECINAL BARRIO PRADERA NORTE (ANTES SALAZAR GÓMEZ), EN LA LOCALIDAD DE PUENTE ARANDA, CÓDIGO IDRD 16-053, DE CONFORMIDAD CON LOS ESTUDIOS Y DISEÑOS, ANEXOS TECNICOS, PLIEGOS DE CONDICIONES Y DEMÁS DOCUMENTOS QUE HACEN PARTE INTEGRAL DEL PROCESO Y DEL CONTRATO","Inversión","Bogotá Mejor para Todos",18,{"$f":"IF(ISERROR(VLOOKUP(K334,Eje_Pilar_Prop!$C$2:$E$104,2,FALSE)),\" \",VLOOKUP(K334,Eje_Pilar_Prop!$C$2:$E$104,2,FALSE))","v":"Mejor movilidad para todos"},{"$f":"IF(ISERROR(VLOOKUP(K334,Eje_Pilar_Prop!$C$2:$E$104,3,FALSE)),\" \",VLOOKUP(K334,Eje_Pilar_Prop!$C$2:$E$104,3,FALSE))","v":"Pilar 2 Democracía Urbana"},"01-03-03-01-1502170000001291",9009611378,"PROYECTOS CIVILES DE INFRAESTRUCTURA S.A.S",2094425430,null,null,null,null,2094425430,0,"2020-12-29",null,null,180,null,null,null,null,null,null,"X",null,null,null,0,null,{"$f":"IF(SUMPRODUCT((A$14:A334=A334)*(B$14:B334=B334)*(D$14:D334=D334))>1,0,1)","v":1},"Obra pública","Licitación pública",{"$f":"IF(ISBLANK(G334),1,IFERROR(VLOOKUP(G334,Tipo!$C$12:$C$27,1,FALSE),\"NO\"))","v":"NO"},"Inversión",{"$f":"IF(ISBLANK(K334),1,IFERROR(VLOOKUP(K334,Eje_Pilar_Prop!C316:C417,1,FALSE),\"NO\"))","v":"NO"},"SECOP II",1,{"$f":"IF(ISBLANK(J334),1,IFERROR(VLOOKUP(J334,pdd,1,FALSE),\"NO\"))","v":"Bogotá Mejor para Todos"}]
[322,2020,"SECOP II","ALPA-CMA-027-2020","Interventoría","Concurso de méritos","No aplica","“EJECUTAR LA INTERVENTORIA, TECNICA, ADMINISTRATIVA, FINANCIERA, JURIDICA, SOCIAL, AMBIENTAL Y SG-SST AL CONTRATO QUE SUSCRIBA EL FONDO DE DESARROLLO LOCAL COMO RESULTADO DEL PROCESO DE LICITACIÓN PÚBLICA No FDLPA-LP-022, CUYO OBJETO ES: “EJECUTAR A PRECIOS UNITARIOS FIJOS, LA CONSTRUCCIÓN DEL PARQUE VECINAL BARRIO PRADERA NORTE (ANTES SALAZAR GÓMEZ), EN LA LOCALIDAD DE PUENTE ARANDA, CÓDIGO IDRD 16-053, DE CONFORMIDAD CON LOS ESTUDIOS Y DISEÑOS, ANEXOS TECNICOS, PLIEGOS DE CONDICIONES ","Inversión","Bogotá Mejor para Todos",18,{"$f":"IF(ISERROR(VLOOKUP(K335,Eje_Pilar_Prop!$C$2:$E$104,2,FALSE)),\" \",VLOOKUP(K335,Eje_Pilar_Prop!$C$2:$E$104,2,FALSE))","v":"Mejor movilidad para todos"},{"$f":"IF(ISERROR(VLOOKUP(K335,Eje_Pilar_Prop!$C$2:$E$104,3,FALSE)),\" \",VLOOKUP(K335,Eje_Pilar_Prop!$C$2:$E$104,3,FALSE))","v":"Pilar 2 Democracía Urbana"},"13-30-11-50-217-000-0001291",null,"CONSORCIO STOA",204954652,null,null,null,null,204954652,0,"2020-12-29",null,null,180,null,null,null,null,null,null,"X",null,null,null,0,null,{"$f":"IF(SUMPRODUCT((A$14:A335=A335)*(B$14:B335=B335)*(D$14:D335=D335))>1,0,1)","v":1},"Interventoría","Concurso de méritos",{"$f":"IF(ISBLANK(G335),1,IFERROR(VLOOKUP(G335,Tipo!$C$12:$C$27,1,FALSE),\"NO\"))","v":"NO"},"Inversión",{"$f":"IF(ISBLANK(K335),1,IFERROR(VLOOKUP(K335,Eje_Pilar_Prop!C317:C418,1,FALSE),\"NO\"))","v":"NO"},"SECOP II",1,"Bogotá Mejor para Todos"]
[323,2020,"SECOP II","ALPA-CD-RES-292-2020","Otros","Contratación directa","Contratos interadministrativos","Aunar recursos técnicos, administrativos, económicos y financieros a fin de ejecutar el Centro Orquestal de Puente Aranda, de acuerdo con la formulación del convenio, estudios previos, anexo técnico y la propuesta presentada por el ejecutor, documentos que hacen parte integral del convenio.","Inversión","Bogotá Mejor para Todos",45,{"$f":"IF(ISERROR(VLOOKUP(K336,Eje_Pilar_Prop!$C$2:$E$104,2,FALSE)),\" \",VLOOKUP(K336,Eje_Pilar_Prop!$C$2:$E$104,2,FALSE))","v":"Gobernanza e influencia local, regional e internacional"},{"$f":"IF(ISERROR(VLOOKUP(K336,Eje_Pilar_Prop!$C$2:$E$104,3,FALSE)),\" \",VLOOKUP(K336,Eje_Pilar_Prop!$C$2:$E$104,3,FALSE))","v":"Eje Transversal 4 Gobierno Legitimo, Fortalecimiento Local y Eficiencia"},"01-03-30-11501110000001309",800148631,"Fundacion Nacional Batuta",700000000,null,null,null,null,700000000,0,"2020-12-30",null,null,180,null,null,null,null,null,null,"X",null,null,null,0,null,{"$f":"IF(SUMPRODUCT((A$14:A336=A336)*(B$14:B336=B336)*(D$14:D336=D336))>1,0,1)","v":1},"Otros","Contratación directa",{"$f":"IF(ISBLANK(G336),1,IFERROR(VLOOKUP(G336,Tipo!$C$12:$C$27,1,FALSE),\"NO\"))","v":"Contratos interadministrativos"},"Inversión",{"$f":"IF(ISBLANK(K336),1,IFERROR(VLOOKUP(K336,Eje_Pilar_Prop!C318:C419,1,FALSE),\"NO\"))","v":"NO"},"SECOP II",1,"Bogotá Mejor para Todos"]
[324,2020,"SECOP II","ALPA-IPMC-031-2020","Compraventa de bienes muebles","Contratación mínima cuantia","No aplica","ADQUISICION A MONTO AGOTABLE DE ELEMENTOS DE PROTECCION Y BIOSEGURIDAD PARA GARANTIZAR LA SEGURIDAD DEL PERSONAL DEL FDLPA EN EL DESARROLLO DE SUS LABORES Y POR OCASION DEL CORONAVIRUS COVID 19, DE ACUERDO CON LAS ESPECIFICACIONES ESTABLECIDAS EN EL ANEXO TECNICO Y DEMAS DOCUMENTOS DEL PROCESO.","Inversión","Bogotá Mejor para Todos",45,{"$f":"IF(ISERROR(VLOOKUP(K337,Eje_Pilar_Prop!$C$2:$E$104,2,FALSE)),\" \",VLOOKUP(K337,Eje_Pilar_Prop!$C$2:$E$104,2,FALSE))","v":"Gobernanza e influencia local, regional e internacional"},{"$f":"IF(ISERROR(VLOOKUP(K337,Eje_Pilar_Prop!$C$2:$E$104,3,FALSE)),\" \",VLOOKUP(K337,Eje_Pilar_Prop!$C$2:$E$104,3,FALSE))","v":"Eje Transversal 4 Gobierno Legitimo, Fortalecimiento Local y Eficiencia"},"01-03-03-01-15-03190000001310",900301734,"LUVFRANK S.A.S",23187129,null,null,null,null,23187129,0,"2020-12-30","2021-01-04","2021-02-03",30,null,null,null,null,null,null,null,"X",null,null,0,null,{"$f":"IF(SUMPRODUCT((A$14:A337=A337)*(B$14:B337=B337)*(D$14:D337=D337))>1,0,1)","v":1},"Compraventa de bienes muebles","Contratación mínima cuantia",{"$f":"IF(ISBLANK(G337),1,IFERROR(VLOOKUP(G337,Tipo!$C$12:$C$27,1,FALSE),\"NO\"))","v":"NO"},"Inversión",{"$f":"IF(ISBLANK(K337),1,IFERROR(VLOOKUP(K337,Eje_Pilar_Prop!C319:C420,1,FALSE),\"NO\"))","v":"NO"},"SECOP II",1,"Bogotá Mejor para Todos"]
[null,null,null,null,null,null,null,null,null,null,null,{"$f":"IF(ISERROR(VLOOKUP(K338,Eje_Pilar_Prop!$C$2:$E$104,2,FALSE)),\" \",VLOOKUP(K338,Eje_Pilar_Prop!$C$2:$E$104,2,FALSE))","v":" "},{"$f":"IF(ISERROR(VLOOKUP(K338,Eje_Pilar_Prop!$C$2:$E$104,3,FALSE)),\" \",VLOOKUP(K338,Eje_Pilar_Prop!$C$2:$E$104,3,FALSE))","v":" "},null,null,null,null,null,null,null,null,0,null,null,null,null,null,null,null,null,null,null,null,null,null,null,null,"-",null,{"$f":"IF(SUMPRODUCT((A$14:A338=A338)*(B$14:B338=B338)*(D$14:D338=D338))>1,0,1)","v":1},1,1,{"$f":"IF(ISBLANK(G338),1,IFERROR(VLOOKUP(G338,Tipo!$C$12:$C$27,1,FALSE),\"NO\"))","v":1},1,{"$f":"IF(ISBLANK(K338),1,IFERROR(VLOOKUP(K338,Eje_Pilar_Prop!C320:C421,1,FALSE),\"NO\"))","v":1},1,1,1]
[null,null,null,null,null,null,null,null,null,null,null,{"$f":"IF(ISERROR(VLOOKUP(K339,Eje_Pilar_Prop!$C$2:$E$104,2,FALSE)),\" \",VLOOKUP(K339,Eje_Pilar_Prop!$C$2:$E$104,2,FALSE))","v":" "},{"$f":"IF(ISERROR(VLOOKUP(K339,Eje_Pilar_Prop!$C$2:$E$104,3,FALSE)),\" \",VLOOKUP(K339,Eje_Pilar_Prop!$C$2:$E$104,3,FALSE))","v":" "},null,null,null,null,null,null,null,null,0,null,null,null,null,null,null,null,null,null,null,null,null,null,null,null,"-",null,{"$f":"IF(SUMPRODUCT((A$14:A339=A339)*(B$14:B339=B339)*(D$14:D339=D339))>1,0,1)","v":0},1,1,{"$f":"IF(ISBLANK(G339),1,IFERROR(VLOOKUP(G339,Tipo!$C$12:$C$27,1,FALSE),\"NO\"))","v":1},1,{"$f":"IF(ISBLANK(K339),1,IFERROR(VLOOKUP(K339,Eje_Pilar_Prop!C321:C422,1,FALSE),\"NO\"))","v":1},1,1,1]
[null,null,null,null,null,null,null,null,null,null,null,{"$f":"IF(ISERROR(VLOOKUP(K340,Eje_Pilar_Prop!$C$2:$E$104,2,FALSE)),\" \",VLOOKUP(K340,Eje_Pilar_Prop!$C$2:$E$104,2,FALSE))","v":" "},{"$f":"IF(ISERROR(VLOOKUP(K340,Eje_Pilar_Prop!$C$2:$E$104,3,FALSE)),\" \",VLOOKUP(K340,Eje_Pilar_Prop!$C$2:$E$104,3,FALSE))","v":" "},null,null,null,null,null,null,null,null,0,null,null,null,null,null,null,null,null,null,null,null,null,null,null,null,"-",null,{"$f":"IF(SUMPRODUCT((A$14:A340=A340)*(B$14:B340=B340)*(D$14:D340=D340))>1,0,1)","v":0},1,1,{"$f":"IF(ISBLANK(G340),1,IFERROR(VLOOKUP(G340,Tipo!$C$12:$C$27,1,FALSE),\"NO\"))","v":1},1,{"$f":"IF(ISBLANK(K340),1,IFERROR(VLOOKUP(K340,Eje_Pilar_Prop!C322:C423,1,FALSE),\"NO\"))","v":1},1,1,1]
[null,null,null,null,null,null,null,null,null,null,null,{"$f":"IF(ISERROR(VLOOKUP(K341,Eje_Pilar_Prop!$C$2:$E$104,2,FALSE)),\" \",VLOOKUP(K341,Eje_Pilar_Prop!$C$2:$E$104,2,FALSE))","v":" "},{"$f":"IF(ISERROR(VLOOKUP(K341,Eje_Pilar_Prop!$C$2:$E$104,3,FALSE)),\" \",VLOOKUP(K341,Eje_Pilar_Prop!$C$2:$E$104,3,FALSE))","v":" "},null,null,null,null,null,null,null,null,0,null,null,null,null,null,null,null,null,null,null,null,null,null,null,null,"-",null,{"$f":"IF(SUMPRODUCT((A$14:A341=A341)*(B$14:B341=B341)*(D$14:D341=D341))>1,0,1)","v":0},1,1,{"$f":"IF(ISBLANK(G341),1,IFERROR(VLOOKUP(G341,Tipo!$C$12:$C$27,1,FALSE),\"NO\"))","v":1},1,{"$f":"IF(ISBLANK(K341),1,IFERROR(VLOOKUP(K341,Eje_Pilar_Prop!C323:C424,1,FALSE),\"NO\"))","v":1},{"$f":"IF(ISBLANK(C341),1,IFERROR(VLOOKUP(C341,SECOP,1,FALSE),\"NO\"))","v":1},1,1]
[null,null,null,null,null,null,null,null,null,null,null,{"$f":"IF(ISERROR(VLOOKUP(K342,Eje_Pilar_Prop!$C$2:$E$104,2,FALSE)),\" \",VLOOKUP(K342,Eje_Pilar_Prop!$C$2:$E$104,2,FALSE))","v":" "},{"$f":"IF(ISERROR(VLOOKUP(K342,Eje_Pilar_Prop!$C$2:$E$104,3,FALSE)),\" \",VLOOKUP(K342,Eje_Pilar_Prop!$C$2:$E$104,3,FALSE))","v":" "},null,null,null,null,null,null,null,null,0,null,null,null,null,null,null,null,null,null,null,null,null,null,null,null,"-",null,{"$f":"IF(SUMPRODUCT((A$14:A342=A342)*(B$14:B342=B342)*(D$14:D342=D342))>1,0,1)","v":0},1,1,{"$f":"IF(ISBLANK(G342),1,IFERROR(VLOOKUP(G342,Tipo!$C$12:$C$27,1,FALSE),\"NO\"))","v":1},1,{"$f":"IF(ISBLANK(K342),1,IFERROR(VLOOKUP(K342,Eje_Pilar_Prop!C324:C425,1,FALSE),\"NO\"))","v":1},1,1,1]
[null,null,null,null,null,null,null,null,null,null,null,{"$f":"IF(ISERROR(VLOOKUP(K343,Eje_Pilar_Prop!$C$2:$E$104,2,FALSE)),\" \",VLOOKUP(K343,Eje_Pilar_Prop!$C$2:$E$104,2,FALSE))","v":" "},{"$f":"IF(ISERROR(VLOOKUP(K343,Eje_Pilar_Prop!$C$2:$E$104,3,FALSE)),\" \",VLOOKUP(K343,Eje_Pilar_Prop!$C$2:$E$104,3,FALSE))","v":" "},null,null,null,null,null,null,null,null,0,null,null,null,null,null,null,null,null,null,null,null,null,null,null,null,"-",null,{"$f":"IF(SUMPRODUCT((A$14:A343=A343)*(B$14:B343=B343)*(D$14:D343=D343))>1,0,1)","v":0},1,1,{"$f":"IF(ISBLANK(G343),1,IFERROR(VLOOKUP(G343,Tipo!$C$12:$C$27,1,FALSE),\"NO\"))","v":1},1,{"$f":"IF(ISBLANK(K343),1,IFERROR(VLOOKUP(K343,Eje_Pilar_Prop!C325:C426,1,FALSE),\"NO\"))","v":1},1,1,1]
[null,null,null,null,null,null,null,null,null,null,null,{"$f":"IF(ISERROR(VLOOKUP(K344,Eje_Pilar_Prop!$C$2:$E$104,2,FALSE)),\" \",VLOOKUP(K344,Eje_Pilar_Prop!$C$2:$E$104,2,FALSE))","v":" "},{"$f":"IF(ISERROR(VLOOKUP(K344,Eje_Pilar_Prop!$C$2:$E$104,3,FALSE)),\" \",VLOOKUP(K344,Eje_Pilar_Prop!$C$2:$E$104,3,FALSE))","v":" "},null,null,null,null,null,null,null,null,0,null,null,null,null,null,null,null,null,null,null,null,null,null,null,null,"-",null,{"$f":"IF(SUMPRODUCT((A$14:A344=A344)*(B$14:B344=B344)*(D$14:D344=D344))>1,0,1)","v":0},{"$f":"IF(ISBLANK(E344),1,IFERROR(VLOOKUP(E344,tipo,1,FALSE),\"NO\"))","v":1},{"$f":"IF(ISBLANK(F344),1,IFERROR(VLOOKUP(F344,modal,1,FALSE),\"NO\"))","v":1},{"$f":"IF(ISBLANK(G344),1,IFERROR(VLOOKUP(G344,Tipo!$C$12:$C$27,1,FALSE),\"NO\"))","v":1},{"$f":"IF(ISBLANK(I344),1,IFERROR(VLOOKUP(I344,afectacion,1,FALSE),\"NO\"))","v":1},{"$f":"IF(ISBLANK(K344),1,IFERROR(VLOOKUP(K344,Eje_Pilar_Prop!C326:C427,1,FALSE),\"NO\"))","v":1},1,1,1]
[null,null,null,null,null,null,null,null,null,null,null,{"$f":"IF(ISERROR(VLOOKUP(K345,Eje_Pilar_Prop!$C$2:$E$104,2,FALSE)),\" \",VLOOKUP(K345,Eje_Pilar_Prop!$C$2:$E$104,2,FALSE))","v":" "},{"$f":"IF(ISERROR(VLOOKUP(K345,Eje_Pilar_Prop!$C$2:$E$104,3,FALSE)),\" \",VLOOKUP(K345,Eje_Pilar_Prop!$C$2:$E$104,3,FALSE))","v":" "},null,null,null,null,null,null,null,null,0,null,null,null,null,null,null,null,null,null,null,null,null,null,null,null,"-",null,{"$f":"IF(SUMPRODUCT((A$14:A345=A345)*(B$14:B345=B345)*(D$14:D345=D345))>1,0,1)","v":0},1,1,{"$f":"IF(ISBLANK(G345),1,IFERROR(VLOOKUP(G345,Tipo!$C$12:$C$27,1,FALSE),\"NO\"))","v":1},1,{"$f":"IF(ISBLANK(K345),1,IFERROR(VLOOKUP(K345,Eje_Pilar_Prop!C327:C428,1,FALSE),\"NO\"))","v":1},1,1,1]
[null,null,null,null,null,null,null,null,null,null,null,{"$f":"IF(ISERROR(VLOOKUP(K346,Eje_Pilar_Prop!$C$2:$E$104,2,FALSE)),\" \",VLOOKUP(K346,Eje_Pilar_Prop!$C$2:$E$104,2,FALSE))","v":" "},{"$f":"IF(ISERROR(VLOOKUP(K346,Eje_Pilar_Prop!$C$2:$E$104,3,FALSE)),\" \",VLOOKUP(K346,Eje_Pilar_Prop!$C$2:$E$104,3,FALSE))","v":" "},null,null,null,null,null,null,null,null,0,null,null,null,null,null,null,null,null,null,null,null,null,null,null,null,"-",null,{"$f":"IF(SUMPRODUCT((A$14:A346=A346)*(B$14:B346=B346)*(D$14:D346=D346))>1,0,1)","v":0},1,1,{"$f":"IF(ISBLANK(G346),1,IFERROR(VLOOKUP(G346,Tipo!$C$12:$C$27,1,FALSE),\"NO\"))","v":1},1,{"$f":"IF(ISBLANK(K346),1,IFERROR(VLOOKUP(K346,Eje_Pilar_Prop!C328:C429,1,FALSE),\"NO\"))","v":1},1,1,1]
[null,null,null,null,null,null,null,null,null,null,null,{"$f":"IF(ISERROR(VLOOKUP(K347,Eje_Pilar_Prop!$C$2:$E$104,2,FALSE)),\" \",VLOOKUP(K347,Eje_Pilar_Prop!$C$2:$E$104,2,FALSE))","v":" "},{"$f":"IF(ISERROR(VLOOKUP(K347,Eje_Pilar_Prop!$C$2:$E$104,3,FALSE)),\" \",VLOOKUP(K347,Eje_Pilar_Prop!$C$2:$E$104,3,FALSE))","v":" "},null,null,null,null,null,null,null,null,0,null,null,null,null,null,null,null,null,null,null,null,null,null,null,null,"-",null,{"$f":"IF(SUMPRODUCT((A$14:A347=A347)*(B$14:B347=B347)*(D$14:D347=D347))>1,0,1)","v":0},1,1,{"$f":"IF(ISBLANK(G347),1,IFERROR(VLOOKUP(G347,Tipo!$C$12:$C$27,1,FALSE),\"NO\"))","v":1},1,{"$f":"IF(ISBLANK(K347),1,IFERROR(VLOOKUP(K347,Eje_Pilar_Prop!C329:C430,1,FALSE),\"NO\"))","v":1},1,1,1]
[null,null,null,null,null,null,null,null,null,null,null,{"$f":"IF(ISERROR(VLOOKUP(K348,Eje_Pilar_Prop!$C$2:$E$104,2,FALSE)),\" \",VLOOKUP(K348,Eje_Pilar_Prop!$C$2:$E$104,2,FALSE))","v":" "},{"$f":"IF(ISERROR(VLOOKUP(K348,Eje_Pilar_Prop!$C$2:$E$104,3,FALSE)),\" \",VLOOKUP(K348,Eje_Pilar_Prop!$C$2:$E$104,3,FALSE))","v":" "},null,null,null,null,null,null,null,null,0,null,null,null,null,null,null,null,null,null,null,null,null,null,null,null,"-",null,{"$f":"IF(SUMPRODUCT((A$14:A348=A348)*(B$14:B348=B348)*(D$14:D348=D348))>1,0,1)","v":0},1,1,{"$f":"IF(ISBLANK(G348),1,IFERROR(VLOOKUP(G348,Tipo!$C$12:$C$27,1,FALSE),\"NO\"))","v":1},1,{"$f":"IF(ISBLANK(K348),1,IFERROR(VLOOKUP(K348,Eje_Pilar_Prop!C330:C431,1,FALSE),\"NO\"))","v":1},1,{"$f":"IF(OR(YEAR(X348)=2020,ISBLANK(X348)),1,\"NO\")","v":1},1]
[null,null,null,null,null,null,null,null,null,null,null,{"$f":"IF(ISERROR(VLOOKUP(K349,Eje_Pilar_Prop!$C$2:$E$104,2,FALSE)),\" \",VLOOKUP(K349,Eje_Pilar_Prop!$C$2:$E$104,2,FALSE))","v":" "},{"$f":"IF(ISERROR(VLOOKUP(K349,Eje_Pilar_Prop!$C$2:$E$104,3,FALSE)),\" \",VLOOKUP(K349,Eje_Pilar_Prop!$C$2:$E$104,3,FALSE))","v":" "},null,null,null,null,null,null,null,null,0,null,null,null,null,null,null,null,null,null,null,null,null,null,null,null,"-",null,{"$f":"IF(SUMPRODUCT((A$14:A349=A349)*(B$14:B349=B349)*(D$14:D349=D349))>1,0,1)","v":0},1,1,{"$f":"IF(ISBLANK(G349),1,IFERROR(VLOOKUP(G349,Tipo!$C$12:$C$27,1,FALSE),\"NO\"))","v":1},1,{"$f":"IF(ISBLANK(K349),1,IFERROR(VLOOKUP(K349,Eje_Pilar_Prop!C331:C432,1,FALSE),\"NO\"))","v":1},1,1,1]
[null,null,null,null,null,null,null,null,null,null,null,{"$f":"IF(ISERROR(VLOOKUP(K350,Eje_Pilar_Prop!$C$2:$E$104,2,FALSE)),\" \",VLOOKUP(K350,Eje_Pilar_Prop!$C$2:$E$104,2,FALSE))","v":" "},{"$f":"IF(ISERROR(VLOOKUP(K350,Eje_Pilar_Prop!$C$2:$E$104,3,FALSE)),\" \",VLOOKUP(K350,Eje_Pilar_Prop!$C$2:$E$104,3,FALSE))","v":" "},null,null,null,null,null,null,null,null,0,null,null,null,null,null,null,null,null,null,null,null,null,null,null,null,{"$f":"IF(ISERROR(W350/V350),\"-\",(W350/V350))","v":"-"},null,{"$f":"IF(SUMPRODUCT((A$14:A350=A350)*(B$14:B350=B350)*(D$14:D350=D350))>1,0,1)","v":0},1,1,{"$f":"IF(ISBLANK(G350),1,IFERROR(VLOOKUP(G350,Tipo!$C$12:$C$27,1,FALSE),\"NO\"))","v":1},1,{"$f":"IF(ISBLANK(K350),1,IFERROR(VLOOKUP(K350,Eje_Pilar_Prop!C332:C433,1,FALSE),\"NO\"))","v":1},1,1,1]
[null,null,null,null,null,null,null,null,null,null,null,{"$f":"IF(ISERROR(VLOOKUP(K351,Eje_Pilar_Prop!$C$2:$E$104,2,FALSE)),\" \",VLOOKUP(K351,Eje_Pilar_Prop!$C$2:$E$104,2,FALSE))","v":" "},{"$f":"IF(ISERROR(VLOOKUP(K351,Eje_Pilar_Prop!$C$2:$E$104,3,FALSE)),\" \",VLOOKUP(K351,Eje_Pilar_Prop!$C$2:$E$104,3,FALSE))","v":" "},null,null,null,null,null,null,null,null,{"$f":"+Q351+S351+U351","v":0},null,null,null,null,null,null,null,null,null,null,null,null,null,null,null,"-",null,{"$f":"IF(SUMPRODUCT((A$14:A351=A351)*(B$14:B351=B351)*(D$14:D351=D351))>1,0,1)","v":0},1,1,{"$f":"IF(ISBLANK(G351),1,IFERROR(VLOOKUP(G351,Tipo!$C$12:$C$27,1,FALSE),\"NO\"))","v":1},1,{"$f":"IF(ISBLANK(K351),1,IFERROR(VLOOKUP(K351,Eje_Pilar_Prop!C333:C434,1,FALSE),\"NO\"))","v":1},1,1,1]
[null,null,null,null,null,null,null,null,null,null,null,{"$f":"IF(ISERROR(VLOOKUP(K352,Eje_Pilar_Prop!$C$2:$E$104,2,FALSE)),\" \",VLOOKUP(K352,Eje_Pilar_Prop!$C$2:$E$104,2,FALSE))","v":" "},{"$f":"IF(ISERROR(VLOOKUP(K352,Eje_Pilar_Prop!$C$2:$E$104,3,FALSE)),\" \",VLOOKUP(K352,Eje_Pilar_Prop!$C$2:$E$104,3,FALSE))","v":" "},null,null,null,null,null,null,null,null,0,null,null,null,null,null,null,null,null,null,null,null,null,null,null,null,"-",null,{"$f":"IF(SUMPRODUCT((A$14:A352=A352)*(B$14:B352=B352)*(D$14:D352=D352))>1,0,1)","v":0},1,1,{"$f":"IF(ISBLANK(G352),1,IFERROR(VLOOKUP(G352,Tipo!$C$12:$C$27,1,FALSE),\"NO\"))","v":1},1,{"$f":"IF(ISBLANK(K352),1,IFERROR(VLOOKUP(K352,Eje_Pilar_Prop!C334:C435,1,FALSE),\"NO\"))","v":1},1,1,1]
[null,null,null,null,null,null,null,null,null,null,null,{"$f":"IF(ISERROR(VLOOKUP(K353,Eje_Pilar_Prop!$C$2:$E$104,2,FALSE)),\" \",VLOOKUP(K353,Eje_Pilar_Prop!$C$2:$E$104,2,FALSE))","v":" "},{"$f":"IF(ISERROR(VLOOKUP(K353,Eje_Pilar_Prop!$C$2:$E$104,3,FALSE)),\" \",VLOOKUP(K353,Eje_Pilar_Prop!$C$2:$E$104,3,FALSE))","v":" "},null,null,null,null,null,null,null,null,0,null,null,null,null,null,null,null,null,null,null,null,null,null,null,null,"-",null,{"$f":"IF(SUMPRODUCT((A$14:A353=A353)*(B$14:B353=B353)*(D$14:D353=D353))>1,0,1)","v":0},1,1,{"$f":"IF(ISBLANK(G353),1,IFERROR(VLOOKUP(G353,Tipo!$C$12:$C$27,1,FALSE),\"NO\"))","v":1},1,{"$f":"IF(ISBLANK(K353),1,IFERROR(VLOOKUP(K353,Eje_Pilar_Prop!C335:C436,1,FALSE),\"NO\"))","v":1},1,1,1]
[null,null,null,null,null,null,null,null,null,null,null,{"$f":"IF(ISERROR(VLOOKUP(K354,Eje_Pilar_Prop!$C$2:$E$104,2,FALSE)),\" \",VLOOKUP(K354,Eje_Pilar_Prop!$C$2:$E$104,2,FALSE))","v":" "},{"$f":"IF(ISERROR(VLOOKUP(K354,Eje_Pilar_Prop!$C$2:$E$104,3,FALSE)),\" \",VLOOKUP(K354,Eje_Pilar_Prop!$C$2:$E$104,3,FALSE))","v":" "},null,null,null,null,null,null,null,null,0,null,null,null,null,null,null,null,null,null,null,null,null,null,null,null,"-",null,{"$f":"IF(SUMPRODUCT((A$14:A354=A354)*(B$14:B354=B354)*(D$14:D354=D354))>1,0,1)","v":0},1,1,{"$f":"IF(ISBLANK(G354),1,IFERROR(VLOOKUP(G354,Tipo!$C$12:$C$27,1,FALSE),\"NO\"))","v":1},1,{"$f":"IF(ISBLANK(K354),1,IFERROR(VLOOKUP(K354,Eje_Pilar_Prop!C336:C437,1,FALSE),\"NO\"))","v":1},1,1,1]
[null,null,null,null,null,null,null,null,null,null,null,{"$f":"IF(ISERROR(VLOOKUP(K355,Eje_Pilar_Prop!$C$2:$E$104,2,FALSE)),\" \",VLOOKUP(K355,Eje_Pilar_Prop!$C$2:$E$104,2,FALSE))","v":" "},{"$f":"IF(ISERROR(VLOOKUP(K355,Eje_Pilar_Prop!$C$2:$E$104,3,FALSE)),\" \",VLOOKUP(K355,Eje_Pilar_Prop!$C$2:$E$104,3,FALSE))","v":" "},null,null,null,null,null,null,null,null,0,null,null,null,null,null,null,null,null,null,null,null,null,null,null,null,"-",null,{"$f":"IF(SUMPRODUCT((A$14:A355=A355)*(B$14:B355=B355)*(D$14:D355=D355))>1,0,1)","v":0},1,1,{"$f":"IF(ISBLANK(G355),1,IFERROR(VLOOKUP(G355,Tipo!$C$12:$C$27,1,FALSE),\"NO\"))","v":1},1,{"$f":"IF(ISBLANK(K355),1,IFERROR(VLOOKUP(K355,Eje_Pilar_Prop!C337:C438,1,FALSE),\"NO\"))","v":1},1,1,1]
[null,null,null,null,null,null,null,null,null,null,null,{"$f":"IF(ISERROR(VLOOKUP(K356,Eje_Pilar_Prop!$C$2:$E$104,2,FALSE)),\" \",VLOOKUP(K356,Eje_Pilar_Prop!$C$2:$E$104,2,FALSE))","v":" "},{"$f":"IF(ISERROR(VLOOKUP(K356,Eje_Pilar_Prop!$C$2:$E$104,3,FALSE)),\" \",VLOOKUP(K356,Eje_Pilar_Prop!$C$2:$E$104,3,FALSE))","v":" "},null,null,null,null,null,null,null,null,0,null,null,null,null,null,null,null,null,null,null,null,null,null,null,null,"-",null,{"$f":"IF(SUMPRODUCT((A$14:A356=A356)*(B$14:B356=B356)*(D$14:D356=D356))>1,0,1)","v":0},1,1,{"$f":"IF(ISBLANK(G356),1,IFERROR(VLOOKUP(G356,Tipo!$C$12:$C$27,1,FALSE),\"NO\"))","v":1},1,{"$f":"IF(ISBLANK(K356),1,IFERROR(VLOOKUP(K356,Eje_Pilar_Prop!C338:C439,1,FALSE),\"NO\"))","v":1},1,1,1]
[null,null,null,null,null,null,null,null,null,null,null,{"$f":"IF(ISERROR(VLOOKUP(K357,Eje_Pilar_Prop!$C$2:$E$104,2,FALSE)),\" \",VLOOKUP(K357,Eje_Pilar_Prop!$C$2:$E$104,2,FALSE))","v":" "},{"$f":"IF(ISERROR(VLOOKUP(K357,Eje_Pilar_Prop!$C$2:$E$104,3,FALSE)),\" \",VLOOKUP(K357,Eje_Pilar_Prop!$C$2:$E$104,3,FALSE))","v":" "},null,null,null,null,null,null,null,null,0,null,null,null,null,null,null,null,null,null,null,null,null,null,null,null,"-",null,{"$f":"IF(SUMPRODUCT((A$14:A357=A357)*(B$14:B357=B357)*(D$14:D357=D357))>1,0,1)","v":0},1,1,{"$f":"IF(ISBLANK(G357),1,IFERROR(VLOOKUP(G357,Tipo!$C$12:$C$27,1,FALSE),\"NO\"))","v":1},1,{"$f":"IF(ISBLANK(K357),1,IFERROR(VLOOKUP(K357,Eje_Pilar_Prop!C339:C440,1,FALSE),\"NO\"))","v":1},1,1,1]
[null,null,null,null,null,null,null,null,null,null,null,{"$f":"IF(ISERROR(VLOOKUP(K358,Eje_Pilar_Prop!$C$2:$E$104,2,FALSE)),\" \",VLOOKUP(K358,Eje_Pilar_Prop!$C$2:$E$104,2,FALSE))","v":" "},{"$f":"IF(ISERROR(VLOOKUP(K358,Eje_Pilar_Prop!$C$2:$E$104,3,FALSE)),\" \",VLOOKUP(K358,Eje_Pilar_Prop!$C$2:$E$104,3,FALSE))","v":" "},null,null,null,null,null,null,null,null,0,null,null,null,null,null,null,null,null,null,null,null,null,null,null,null,"-",null,{"$f":"IF(SUMPRODUCT((A$14:A358=A358)*(B$14:B358=B358)*(D$14:D358=D358))>1,0,1)","v":0},1,1,{"$f":"IF(ISBLANK(G358),1,IFERROR(VLOOKUP(G358,Tipo!$C$12:$C$27,1,FALSE),\"NO\"))","v":1},1,{"$f":"IF(ISBLANK(K358),1,IFERROR(VLOOKUP(K358,Eje_Pilar_Prop!C340:C441,1,FALSE),\"NO\"))","v":1},1,1,1]
[null,null,null,null,null,null,null,null,null,null,null,{"$f":"IF(ISERROR(VLOOKUP(K359,Eje_Pilar_Prop!$C$2:$E$104,2,FALSE)),\" \",VLOOKUP(K359,Eje_Pilar_Prop!$C$2:$E$104,2,FALSE))","v":" "},{"$f":"IF(ISERROR(VLOOKUP(K359,Eje_Pilar_Prop!$C$2:$E$104,3,FALSE)),\" \",VLOOKUP(K359,Eje_Pilar_Prop!$C$2:$E$104,3,FALSE))","v":" "},null,null,null,null,null,null,null,null,0,null,null,null,null,null,null,null,null,null,null,null,null,null,null,null,"-",null,{"$f":"IF(SUMPRODUCT((A$14:A359=A359)*(B$14:B359=B359)*(D$14:D359=D359))>1,0,1)","v":0},1,1,{"$f":"IF(ISBLANK(G359),1,IFERROR(VLOOKUP(G359,Tipo!$C$12:$C$27,1,FALSE),\"NO\"))","v":1},1,{"$f":"IF(ISBLANK(K359),1,IFERROR(VLOOKUP(K359,Eje_Pilar_Prop!C341:C442,1,FALSE),\"NO\"))","v":1},1,1,1]
[null,null,null,null,null,null,null,null,null,null,null,{"$f":"IF(ISERROR(VLOOKUP(K360,Eje_Pilar_Prop!$C$2:$E$104,2,FALSE)),\" \",VLOOKUP(K360,Eje_Pilar_Prop!$C$2:$E$104,2,FALSE))","v":" "},{"$f":"IF(ISERROR(VLOOKUP(K360,Eje_Pilar_Prop!$C$2:$E$104,3,FALSE)),\" \",VLOOKUP(K360,Eje_Pilar_Prop!$C$2:$E$104,3,FALSE))","v":" "},null,null,null,null,null,null,null,null,0,null,null,null,null,null,null,null,null,null,null,null,null,null,null,null,"-",null,{"$f":"IF(SUMPRODUCT((A$14:A360=A360)*(B$14:B360=B360)*(D$14:D360=D360))>1,0,1)","v":0},1,1,{"$f":"IF(ISBLANK(G360),1,IFERROR(VLOOKUP(G360,Tipo!$C$12:$C$27,1,FALSE),\"NO\"))","v":1},1,{"$f":"IF(ISBLANK(K360),1,IFERROR(VLOOKUP(K360,Eje_Pilar_Prop!C342:C443,1,FALSE),\"NO\"))","v":1},1,1,1]
[null,null,null,null,null,null,null,null,null,null,null,{"$f":"IF(ISERROR(VLOOKUP(K361,Eje_Pilar_Prop!$C$2:$E$104,2,FALSE)),\" \",VLOOKUP(K361,Eje_Pilar_Prop!$C$2:$E$104,2,FALSE))","v":" "},{"$f":"IF(ISERROR(VLOOKUP(K361,Eje_Pilar_Prop!$C$2:$E$104,3,FALSE)),\" \",VLOOKUP(K361,Eje_Pilar_Prop!$C$2:$E$104,3,FALSE))","v":" "},null,null,null,null,null,null,null,null,0,null,null,null,null,null,null,null,null,null,null,null,null,null,null,null,"-",null,{"$f":"IF(SUMPRODUCT((A$14:A361=A361)*(B$14:B361=B361)*(D$14:D361=D361))>1,0,1)","v":0},1,1,{"$f":"IF(ISBLANK(G361),1,IFERROR(VLOOKUP(G361,Tipo!$C$12:$C$27,1,FALSE),\"NO\"))","v":1},1,{"$f":"IF(ISBLANK(K361),1,IFERROR(VLOOKUP(K361,Eje_Pilar_Prop!C343:C444,1,FALSE),\"NO\"))","v":1},1,1,1]
[null,null,null,null,null,null,null,null,null,null,null,{"$f":"IF(ISERROR(VLOOKUP(K362,Eje_Pilar_Prop!$C$2:$E$104,2,FALSE)),\" \",VLOOKUP(K362,Eje_Pilar_Prop!$C$2:$E$104,2,FALSE))","v":" "},{"$f":"IF(ISERROR(VLOOKUP(K362,Eje_Pilar_Prop!$C$2:$E$104,3,FALSE)),\" \",VLOOKUP(K362,Eje_Pilar_Prop!$C$2:$E$104,3,FALSE))","v":" "},null,null,null,null,null,null,null,null,0,null,null,null,null,null,null,null,null,null,null,null,null,null,null,null,"-",null,{"$f":"IF(SUMPRODUCT((A$14:A362=A362)*(B$14:B362=B362)*(D$14:D362=D362))>1,0,1)","v":0},1,1,{"$f":"IF(ISBLANK(G362),1,IFERROR(VLOOKUP(G362,Tipo!$C$12:$C$27,1,FALSE),\"NO\"))","v":1},1,{"$f":"IF(ISBLANK(K362),1,IFERROR(VLOOKUP(K362,Eje_Pilar_Prop!C344:C445,1,FALSE),\"NO\"))","v":1},1,1,1]
[null,null,null,null,null,null,null,null,null,null,null,{"$f":"IF(ISERROR(VLOOKUP(K363,Eje_Pilar_Prop!$C$2:$E$104,2,FALSE)),\" \",VLOOKUP(K363,Eje_Pilar_Prop!$C$2:$E$104,2,FALSE))","v":" "},{"$f":"IF(ISERROR(VLOOKUP(K363,Eje_Pilar_Prop!$C$2:$E$104,3,FALSE)),\" \",VLOOKUP(K363,Eje_Pilar_Prop!$C$2:$E$104,3,FALSE))","v":" "},null,null,null,null,null,null,null,null,0,null,null,null,null,null,null,null,null,null,null,null,null,null,null,null,"-",null,{"$f":"IF(SUMPRODUCT((A$14:A363=A363)*(B$14:B363=B363)*(D$14:D363=D363))>1,0,1)","v":0},1,1,{"$f":"IF(ISBLANK(G363),1,IFERROR(VLOOKUP(G363,Tipo!$C$12:$C$27,1,FALSE),\"NO\"))","v":1},1,{"$f":"IF(ISBLANK(K363),1,IFERROR(VLOOKUP(K363,Eje_Pilar_Prop!C345:C446,1,FALSE),\"NO\"))","v":1},1,1,1]
[null,null,null,null,null,null,null,null,null,null,null,{"$f":"IF(ISERROR(VLOOKUP(K364,Eje_Pilar_Prop!$C$2:$E$104,2,FALSE)),\" \",VLOOKUP(K364,Eje_Pilar_Prop!$C$2:$E$104,2,FALSE))","v":" "},{"$f":"IF(ISERROR(VLOOKUP(K364,Eje_Pilar_Prop!$C$2:$E$104,3,FALSE)),\" \",VLOOKUP(K364,Eje_Pilar_Prop!$C$2:$E$104,3,FALSE))","v":" "},null,null,null,null,null,null,null,null,0,null,null,null,null,null,null,null,null,null,null,null,null,null,null,null,"-",null,{"$f":"IF(SUMPRODUCT((A$14:A364=A364)*(B$14:B364=B364)*(D$14:D364=D364))>1,0,1)","v":0},1,1,{"$f":"IF(ISBLANK(G364),1,IFERROR(VLOOKUP(G364,Tipo!$C$12:$C$27,1,FALSE),\"NO\"))","v":1},1,{"$f":"IF(ISBLANK(K364),1,IFERROR(VLOOKUP(K364,Eje_Pilar_Prop!C346:C447,1,FALSE),\"NO\"))","v":1},1,1,1]
[null,null,null,null,null,null,null,null,null,null,null,{"$f":"IF(ISERROR(VLOOKUP(K365,Eje_Pilar_Prop!$C$2:$E$104,2,FALSE)),\" \",VLOOKUP(K365,Eje_Pilar_Prop!$C$2:$E$104,2,FALSE))","v":" "},{"$f":"IF(ISERROR(VLOOKUP(K365,Eje_Pilar_Prop!$C$2:$E$104,3,FALSE)),\" \",VLOOKUP(K365,Eje_Pilar_Prop!$C$2:$E$104,3,FALSE))","v":" "},null,null,null,null,null,null,null,null,0,null,null,null,null,null,null,null,null,null,null,null,null,null,null,null,"-",null,{"$f":"IF(SUMPRODUCT((A$14:A365=A365)*(B$14:B365=B365)*(D$14:D365=D365))>1,0,1)","v":0},1,1,{"$f":"IF(ISBLANK(G365),1,IFERROR(VLOOKUP(G365,Tipo!$C$12:$C$27,1,FALSE),\"NO\"))","v":1},1,{"$f":"IF(ISBLANK(K365),1,IFERROR(VLOOKUP(K365,Eje_Pilar_Prop!C347:C448,1,FALSE),\"NO\"))","v":1},1,1,1]
[null,null,null,null,null,null,null,null,null,null,null,{"$f":"IF(ISERROR(VLOOKUP(K366,Eje_Pilar_Prop!$C$2:$E$104,2,FALSE)),\" \",VLOOKUP(K366,Eje_Pilar_Prop!$C$2:$E$104,2,FALSE))","v":" "},{"$f":"IF(ISERROR(VLOOKUP(K366,Eje_Pilar_Prop!$C$2:$E$104,3,FALSE)),\" \",VLOOKUP(K366,Eje_Pilar_Prop!$C$2:$E$104,3,FALSE))","v":" "},null,null,null,null,null,null,null,null,0,null,null,null,null,null,null,null,null,null,null,null,null,null,null,null,"-",null,{"$f":"IF(SUMPRODUCT((A$14:A366=A366)*(B$14:B366=B366)*(D$14:D366=D366))>1,0,1)","v":0},1,1,{"$f":"IF(ISBLANK(G366),1,IFERROR(VLOOKUP(G366,Tipo!$C$12:$C$27,1,FALSE),\"NO\"))","v":1},1,{"$f":"IF(ISBLANK(K366),1,IFERROR(VLOOKUP(K366,Eje_Pilar_Prop!C348:C449,1,FALSE),\"NO\"))","v":1},1,1,1]
[null,null,null,null,null,null,null,null,null,null,null,{"$f":"IF(ISERROR(VLOOKUP(K367,Eje_Pilar_Prop!$C$2:$E$104,2,FALSE)),\" \",VLOOKUP(K367,Eje_Pilar_Prop!$C$2:$E$104,2,FALSE))","v":" "},{"$f":"IF(ISERROR(VLOOKUP(K367,Eje_Pilar_Prop!$C$2:$E$104,3,FALSE)),\" \",VLOOKUP(K367,Eje_Pilar_Prop!$C$2:$E$104,3,FALSE))","v":" "},null,null,null,null,null,null,null,null,0,null,null,null,null,null,null,null,null,null,null,null,null,null,null,null,"-",null,{"$f":"IF(SUMPRODUCT((A$14:A367=A367)*(B$14:B367=B367)*(D$14:D367=D367))>1,0,1)","v":0},1,1,{"$f":"IF(ISBLANK(G367),1,IFERROR(VLOOKUP(G367,Tipo!$C$12:$C$27,1,FALSE),\"NO\"))","v":1},1,{"$f":"IF(ISBLANK(K367),1,IFERROR(VLOOKUP(K367,Eje_Pilar_Prop!C349:C450,1,FALSE),\"NO\"))","v":1},1,1,1]
[null,null,null,null,null,null,null,null,null,null,null,{"$f":"IF(ISERROR(VLOOKUP(K368,Eje_Pilar_Prop!$C$2:$E$104,2,FALSE)),\" \",VLOOKUP(K368,Eje_Pilar_Prop!$C$2:$E$104,2,FALSE))","v":" "},{"$f":"IF(ISERROR(VLOOKUP(K368,Eje_Pilar_Prop!$C$2:$E$104,3,FALSE)),\" \",VLOOKUP(K368,Eje_Pilar_Prop!$C$2:$E$104,3,FALSE))","v":" "},null,null,null,null,null,null,null,null,0,null,null,null,null,null,null,null,null,null,null,null,null,null,null,null,"-",null,{"$f":"IF(SUMPRODUCT((A$14:A368=A368)*(B$14:B368=B368)*(D$14:D368=D368))>1,0,1)","v":0},1,1,{"$f":"IF(ISBLANK(G368),1,IFERROR(VLOOKUP(G368,Tipo!$C$12:$C$27,1,FALSE),\"NO\"))","v":1},1,{"$f":"IF(ISBLANK(K368),1,IFERROR(VLOOKUP(K368,Eje_Pilar_Prop!C350:C451,1,FALSE),\"NO\"))","v":1},1,1,1]
[null,null,null,null,null,null,null,null,null,null,null,{"$f":"IF(ISERROR(VLOOKUP(K369,Eje_Pilar_Prop!$C$2:$E$104,2,FALSE)),\" \",VLOOKUP(K369,Eje_Pilar_Prop!$C$2:$E$104,2,FALSE))","v":" "},{"$f":"IF(ISERROR(VLOOKUP(K369,Eje_Pilar_Prop!$C$2:$E$104,3,FALSE)),\" \",VLOOKUP(K369,Eje_Pilar_Prop!$C$2:$E$104,3,FALSE))","v":" "},null,null,null,null,null,null,null,null,0,null,null,null,null,null,null,null,null,null,null,null,null,null,null,null,"-",null,{"$f":"IF(SUMPRODUCT((A$14:A369=A369)*(B$14:B369=B369)*(D$14:D369=D369))>1,0,1)","v":0},1,1,{"$f":"IF(ISBLANK(G369),1,IFERROR(VLOOKUP(G369,Tipo!$C$12:$C$27,1,FALSE),\"NO\"))","v":1},1,{"$f":"IF(ISBLANK(K369),1,IFERROR(VLOOKUP(K369,Eje_Pilar_Prop!C351:C452,1,FALSE),\"NO\"))","v":1},1,1,1]
[null,null,null,null,null,null,null,null,null,null,null,{"$f":"IF(ISERROR(VLOOKUP(K370,Eje_Pilar_Prop!$C$2:$E$104,2,FALSE)),\" \",VLOOKUP(K370,Eje_Pilar_Prop!$C$2:$E$104,2,FALSE))","v":" "},{"$f":"IF(ISERROR(VLOOKUP(K370,Eje_Pilar_Prop!$C$2:$E$104,3,FALSE)),\" \",VLOOKUP(K370,Eje_Pilar_Prop!$C$2:$E$104,3,FALSE))","v":" "},null,null,null,null,null,null,null,null,0,null,null,null,null,null,null,null,null,null,null,null,null,null,null,null,"-",null,{"$f":"IF(SUMPRODUCT((A$14:A370=A370)*(B$14:B370=B370)*(D$14:D370=D370))>1,0,1)","v":0},1,1,{"$f":"IF(ISBLANK(G370),1,IFERROR(VLOOKUP(G370,Tipo!$C$12:$C$27,1,FALSE),\"NO\"))","v":1},1,{"$f":"IF(ISBLANK(K370),1,IFERROR(VLOOKUP(K370,Eje_Pilar_Prop!C352:C453,1,FALSE),\"NO\"))","v":1},1,1,1]
[null,null,null,null,null,null,null,null,null,null,null,{"$f":"IF(ISERROR(VLOOKUP(K371,Eje_Pilar_Prop!$C$2:$E$104,2,FALSE)),\" \",VLOOKUP(K371,Eje_Pilar_Prop!$C$2:$E$104,2,FALSE))","v":" "},{"$f":"IF(ISERROR(VLOOKUP(K371,Eje_Pilar_Prop!$C$2:$E$104,3,FALSE)),\" \",VLOOKUP(K371,Eje_Pilar_Prop!$C$2:$E$104,3,FALSE))","v":" "},null,null,null,null,null,null,null,null,0,null,null,null,null,null,null,null,null,null,null,null,null,null,null,null,"-",null,{"$f":"IF(SUMPRODUCT((A$14:A371=A371)*(B$14:B371=B371)*(D$14:D371=D371))>1,0,1)","v":0},1,1,{"$f":"IF(ISBLANK(G371),1,IFERROR(VLOOKUP(G371,Tipo!$C$12:$C$27,1,FALSE),\"NO\"))","v":1},1,{"$f":"IF(ISBLANK(K371),1,IFERROR(VLOOKUP(K371,Eje_Pilar_Prop!C353:C454,1,FALSE),\"NO\"))","v":1},1,1,1]
[null,null,null,null,null,null,null,null,null,null,null,{"$f":"IF(ISERROR(VLOOKUP(K372,Eje_Pilar_Prop!$C$2:$E$104,2,FALSE)),\" \",VLOOKUP(K372,Eje_Pilar_Prop!$C$2:$E$104,2,FALSE))","v":" "},{"$f":"IF(ISERROR(VLOOKUP(K372,Eje_Pilar_Prop!$C$2:$E$104,3,FALSE)),\" \",VLOOKUP(K372,Eje_Pilar_Prop!$C$2:$E$104,3,FALSE))","v":" "},null,null,null,null,null,null,null,null,0,null,null,null,null,null,null,null,null,null,null,null,null,null,null,null,"-",null,{"$f":"IF(SUMPRODUCT((A$14:A372=A372)*(B$14:B372=B372)*(D$14:D372=D372))>1,0,1)","v":0},1,1,{"$f":"IF(ISBLANK(G372),1,IFERROR(VLOOKUP(G372,Tipo!$C$12:$C$27,1,FALSE),\"NO\"))","v":1},1,{"$f":"IF(ISBLANK(K372),1,IFERROR(VLOOKUP(K372,Eje_Pilar_Prop!C354:C455,1,FALSE),\"NO\"))","v":1},1,1,1]
[null,null,null,null,null,null,null,null,null,null,null,{"$f":"IF(ISERROR(VLOOKUP(K373,Eje_Pilar_Prop!$C$2:$E$104,2,FALSE)),\" \",VLOOKUP(K373,Eje_Pilar_Prop!$C$2:$E$104,2,FALSE))","v":" "},{"$f":"IF(ISERROR(VLOOKUP(K373,Eje_Pilar_Prop!$C$2:$E$104,3,FALSE)),\" \",VLOOKUP(K373,Eje_Pilar_Prop!$C$2:$E$104,3,FALSE))","v":" "},null,null,null,null,null,null,null,null,0,null,null,null,null,null,null,null,null,null,null,null,null,null,null,null,"-",null,{"$f":"IF(SUMPRODUCT((A$14:A373=A373)*(B$14:B373=B373)*(D$14:D373=D373))>1,0,1)","v":0},1,1,{"$f":"IF(ISBLANK(G373),1,IFERROR(VLOOKUP(G373,Tipo!$C$12:$C$27,1,FALSE),\"NO\"))","v":1},1,{"$f":"IF(ISBLANK(K373),1,IFERROR(VLOOKUP(K373,Eje_Pilar_Prop!C355:C456,1,FALSE),\"NO\"))","v":1},1,1,1]
[null,null,null,null,null,null,null,null,null,null,null,{"$f":"IF(ISERROR(VLOOKUP(K374,Eje_Pilar_Prop!$C$2:$E$104,2,FALSE)),\" \",VLOOKUP(K374,Eje_Pilar_Prop!$C$2:$E$104,2,FALSE))","v":" "},{"$f":"IF(ISERROR(VLOOKUP(K374,Eje_Pilar_Prop!$C$2:$E$104,3,FALSE)),\" \",VLOOKUP(K374,Eje_Pilar_Prop!$C$2:$E$104,3,FALSE))","v":" "},null,null,null,null,null,null,null,null,0,null,null,null,null,null,null,null,null,null,null,null,null,null,null,null,"-",null,{"$f":"IF(SUMPRODUCT((A$14:A374=A374)*(B$14:B374=B374)*(D$14:D374=D374))>1,0,1)","v":0},1,1,{"$f":"IF(ISBLANK(G374),1,IFERROR(VLOOKUP(G374,Tipo!$C$12:$C$27,1,FALSE),\"NO\"))","v":1},1,{"$f":"IF(ISBLANK(K374),1,IFERROR(VLOOKUP(K374,Eje_Pilar_Prop!C356:C457,1,FALSE),\"NO\"))","v":1},1,1,1]
[null,null,null,null,null,null,null,null,null,null,null,{"$f":"IF(ISERROR(VLOOKUP(K375,Eje_Pilar_Prop!$C$2:$E$104,2,FALSE)),\" \",VLOOKUP(K375,Eje_Pilar_Prop!$C$2:$E$104,2,FALSE))","v":" "},{"$f":"IF(ISERROR(VLOOKUP(K375,Eje_Pilar_Prop!$C$2:$E$104,3,FALSE)),\" \",VLOOKUP(K375,Eje_Pilar_Prop!$C$2:$E$104,3,FALSE))","v":" "},null,null,null,null,null,null,null,null,0,null,null,null,null,null,null,null,null,null,null,null,null,null,null,null,"-",null,{"$f":"IF(SUMPRODUCT((A$14:A375=A375)*(B$14:B375=B375)*(D$14:D375=D375))>1,0,1)","v":0},1,1,{"$f":"IF(ISBLANK(G375),1,IFERROR(VLOOKUP(G375,Tipo!$C$12:$C$27,1,FALSE),\"NO\"))","v":1},1,{"$f":"IF(ISBLANK(K375),1,IFERROR(VLOOKUP(K375,Eje_Pilar_Prop!C357:C458,1,FALSE),\"NO\"))","v":1},1,1,1]
[null,null,null,null,null,null,null,null,null,null,null,{"$f":"IF(ISERROR(VLOOKUP(K376,Eje_Pilar_Prop!$C$2:$E$104,2,FALSE)),\" \",VLOOKUP(K376,Eje_Pilar_Prop!$C$2:$E$104,2,FALSE))","v":" "},{"$f":"IF(ISERROR(VLOOKUP(K376,Eje_Pilar_Prop!$C$2:$E$104,3,FALSE)),\" \",VLOOKUP(K376,Eje_Pilar_Prop!$C$2:$E$104,3,FALSE))","v":" "},null,null,null,null,null,null,null,null,0,null,null,null,null,null,null,null,null,null,null,null,null,null,null,null,"-",null,{"$f":"IF(SUMPRODUCT((A$14:A376=A376)*(B$14:B376=B376)*(D$14:D376=D376))>1,0,1)","v":0},1,1,{"$f":"IF(ISBLANK(G376),1,IFERROR(VLOOKUP(G376,Tipo!$C$12:$C$27,1,FALSE),\"NO\"))","v":1},1,{"$f":"IF(ISBLANK(K376),1,IFERROR(VLOOKUP(K376,Eje_Pilar_Prop!C358:C459,1,FALSE),\"NO\"))","v":1},1,1,1]
[null,null,null,null,null,null,null,null,null,null,null,{"$f":"IF(ISERROR(VLOOKUP(K377,Eje_Pilar_Prop!$C$2:$E$104,2,FALSE)),\" \",VLOOKUP(K377,Eje_Pilar_Prop!$C$2:$E$104,2,FALSE))","v":" "},{"$f":"IF(ISERROR(VLOOKUP(K377,Eje_Pilar_Prop!$C$2:$E$104,3,FALSE)),\" \",VLOOKUP(K377,Eje_Pilar_Prop!$C$2:$E$104,3,FALSE))","v":" "},null,null,null,null,null,null,null,null,0,null,null,null,null,null,null,null,null,null,null,null,null,null,null,null,"-",null,{"$f":"IF(SUMPRODUCT((A$14:A377=A377)*(B$14:B377=B377)*(D$14:D377=D377))>1,0,1)","v":0},1,1,{"$f":"IF(ISBLANK(G377),1,IFERROR(VLOOKUP(G377,Tipo!$C$12:$C$27,1,FALSE),\"NO\"))","v":1},1,{"$f":"IF(ISBLANK(K377),1,IFERROR(VLOOKUP(K377,Eje_Pilar_Prop!C359:C460,1,FALSE),\"NO\"))","v":1},1,1,1]
[null,null,null,null,null,null,null,null,null,null,null,{"$f":"IF(ISERROR(VLOOKUP(K378,Eje_Pilar_Prop!$C$2:$E$104,2,FALSE)),\" \",VLOOKUP(K378,Eje_Pilar_Prop!$C$2:$E$104,2,FALSE))","v":" "},{"$f":"IF(ISERROR(VLOOKUP(K378,Eje_Pilar_Prop!$C$2:$E$104,3,FALSE)),\" \",VLOOKUP(K378,Eje_Pilar_Prop!$C$2:$E$104,3,FALSE))","v":" "},null,null,null,null,null,null,null,null,0,null,null,null,null,null,null,null,null,null,null,null,null,null,null,null,"-",null,{"$f":"IF(SUMPRODUCT((A$14:A378=A378)*(B$14:B378=B378)*(D$14:D378=D378))>1,0,1)","v":0},1,1,{"$f":"IF(ISBLANK(G378),1,IFERROR(VLOOKUP(G378,Tipo!$C$12:$C$27,1,FALSE),\"NO\"))","v":1},1,{"$f":"IF(ISBLANK(K378),1,IFERROR(VLOOKUP(K378,Eje_Pilar_Prop!C360:C461,1,FALSE),\"NO\"))","v":1},1,1,1]
[null,null,null,null,null,null,null,null,null,null,null,{"$f":"IF(ISERROR(VLOOKUP(K379,Eje_Pilar_Prop!$C$2:$E$104,2,FALSE)),\" \",VLOOKUP(K379,Eje_Pilar_Prop!$C$2:$E$104,2,FALSE))","v":" "},{"$f":"IF(ISERROR(VLOOKUP(K379,Eje_Pilar_Prop!$C$2:$E$104,3,FALSE)),\" \",VLOOKUP(K379,Eje_Pilar_Prop!$C$2:$E$104,3,FALSE))","v":" "},null,null,null,null,null,null,null,null,0,null,null,null,null,null,null,null,null,null,null,null,null,null,null,null,"-",null,{"$f":"IF(SUMPRODUCT((A$14:A379=A379)*(B$14:B379=B379)*(D$14:D379=D379))>1,0,1)","v":0},1,1,{"$f":"IF(ISBLANK(G379),1,IFERROR(VLOOKUP(G379,Tipo!$C$12:$C$27,1,FALSE),\"NO\"))","v":1},1,{"$f":"IF(ISBLANK(K379),1,IFERROR(VLOOKUP(K379,Eje_Pilar_Prop!C361:C462,1,FALSE),\"NO\"))","v":1},1,1,1]
[null,null,null,null,null,null,null,null,null,null,null,{"$f":"IF(ISERROR(VLOOKUP(K380,Eje_Pilar_Prop!$C$2:$E$104,2,FALSE)),\" \",VLOOKUP(K380,Eje_Pilar_Prop!$C$2:$E$104,2,FALSE))","v":" "},{"$f":"IF(ISERROR(VLOOKUP(K380,Eje_Pilar_Prop!$C$2:$E$104,3,FALSE)),\" \",VLOOKUP(K380,Eje_Pilar_Prop!$C$2:$E$104,3,FALSE))","v":" "},null,null,null,null,null,null,null,null,0,null,null,null,null,null,null,null,null,null,null,null,null,null,null,null,"-",null,{"$f":"IF(SUMPRODUCT((A$14:A380=A380)*(B$14:B380=B380)*(D$14:D380=D380))>1,0,1)","v":0},1,1,{"$f":"IF(ISBLANK(G380),1,IFERROR(VLOOKUP(G380,Tipo!$C$12:$C$27,1,FALSE),\"NO\"))","v":1},1,{"$f":"IF(ISBLANK(K380),1,IFERROR(VLOOKUP(K380,Eje_Pilar_Prop!C362:C463,1,FALSE),\"NO\"))","v":1},1,1,1]
[null,null,null,null,null,null,null,null,null,null,null,{"$f":"IF(ISERROR(VLOOKUP(K381,Eje_Pilar_Prop!$C$2:$E$104,2,FALSE)),\" \",VLOOKUP(K381,Eje_Pilar_Prop!$C$2:$E$104,2,FALSE))","v":" "},{"$f":"IF(ISERROR(VLOOKUP(K381,Eje_Pilar_Prop!$C$2:$E$104,3,FALSE)),\" \",VLOOKUP(K381,Eje_Pilar_Prop!$C$2:$E$104,3,FALSE))","v":" "},null,null,null,null,null,null,null,null,0,null,null,null,null,null,null,null,null,null,null,null,null,null,null,null,"-",null,{"$f":"IF(SUMPRODUCT((A$14:A381=A381)*(B$14:B381=B381)*(D$14:D381=D381))>1,0,1)","v":0},1,1,{"$f":"IF(ISBLANK(G381),1,IFERROR(VLOOKUP(G381,Tipo!$C$12:$C$27,1,FALSE),\"NO\"))","v":1},1,{"$f":"IF(ISBLANK(K381),1,IFERROR(VLOOKUP(K381,Eje_Pilar_Prop!C363:C464,1,FALSE),\"NO\"))","v":1},1,1,1]
[null,null,null,null,null,null,null,null,null,null,null,{"$f":"IF(ISERROR(VLOOKUP(K382,Eje_Pilar_Prop!$C$2:$E$104,2,FALSE)),\" \",VLOOKUP(K382,Eje_Pilar_Prop!$C$2:$E$104,2,FALSE))","v":" "},{"$f":"IF(ISERROR(VLOOKUP(K382,Eje_Pilar_Prop!$C$2:$E$104,3,FALSE)),\" \",VLOOKUP(K382,Eje_Pilar_Prop!$C$2:$E$104,3,FALSE))","v":" "},null,null,null,null,null,null,null,null,0,null,null,null,null,null,null,null,null,null,null,null,null,null,null,null,"-",null,{"$f":"IF(SUMPRODUCT((A$14:A382=A382)*(B$14:B382=B382)*(D$14:D382=D382))>1,0,1)","v":0},1,1,{"$f":"IF(ISBLANK(G382),1,IFERROR(VLOOKUP(G382,Tipo!$C$12:$C$27,1,FALSE),\"NO\"))","v":1},1,{"$f":"IF(ISBLANK(K382),1,IFERROR(VLOOKUP(K382,Eje_Pilar_Prop!C364:C465,1,FALSE),\"NO\"))","v":1},1,1,1]
[null,null,null,null,null,null,null,null,null,null,null,{"$f":"IF(ISERROR(VLOOKUP(K383,Eje_Pilar_Prop!$C$2:$E$104,2,FALSE)),\" \",VLOOKUP(K383,Eje_Pilar_Prop!$C$2:$E$104,2,FALSE))","v":" "},{"$f":"IF(ISERROR(VLOOKUP(K383,Eje_Pilar_Prop!$C$2:$E$104,3,FALSE)),\" \",VLOOKUP(K383,Eje_Pilar_Prop!$C$2:$E$104,3,FALSE))","v":" "},null,null,null,null,null,null,null,null,0,null,null,null,null,null,null,null,null,null,null,null,null,null,null,null,"-",null,{"$f":"IF(SUMPRODUCT((A$14:A383=A383)*(B$14:B383=B383)*(D$14:D383=D383))>1,0,1)","v":0},1,1,{"$f":"IF(ISBLANK(G383),1,IFERROR(VLOOKUP(G383,Tipo!$C$12:$C$27,1,FALSE),\"NO\"))","v":1},1,{"$f":"IF(ISBLANK(K383),1,IFERROR(VLOOKUP(K383,Eje_Pilar_Prop!C365:C466,1,FALSE),\"NO\"))","v":1},1,1,1]
[null,null,null,null,null,null,null,null,null,null,null,{"$f":"IF(ISERROR(VLOOKUP(K384,Eje_Pilar_Prop!$C$2:$E$104,2,FALSE)),\" \",VLOOKUP(K384,Eje_Pilar_Prop!$C$2:$E$104,2,FALSE))","v":" "},{"$f":"IF(ISERROR(VLOOKUP(K384,Eje_Pilar_Prop!$C$2:$E$104,3,FALSE)),\" \",VLOOKUP(K384,Eje_Pilar_Prop!$C$2:$E$104,3,FALSE))","v":" "},null,null,null,null,null,null,null,null,0,null,null,null,null,null,null,null,null,null,null,null,null,null,null,null,"-",null,{"$f":"IF(SUMPRODUCT((A$14:A384=A384)*(B$14:B384=B384)*(D$14:D384=D384))>1,0,1)","v":0},1,1,{"$f":"IF(ISBLANK(G384),1,IFERROR(VLOOKUP(G384,Tipo!$C$12:$C$27,1,FALSE),\"NO\"))","v":1},1,{"$f":"IF(ISBLANK(K384),1,IFERROR(VLOOKUP(K384,Eje_Pilar_Prop!C366:C467,1,FALSE),\"NO\"))","v":1},1,1,1]
[null,null,null,null,null,null,null,null,null,null,null,{"$f":"IF(ISERROR(VLOOKUP(K385,Eje_Pilar_Prop!$C$2:$E$104,2,FALSE)),\" \",VLOOKUP(K385,Eje_Pilar_Prop!$C$2:$E$104,2,FALSE))","v":" "},{"$f":"IF(ISERROR(VLOOKUP(K385,Eje_Pilar_Prop!$C$2:$E$104,3,FALSE)),\" \",VLOOKUP(K385,Eje_Pilar_Prop!$C$2:$E$104,3,FALSE))","v":" "},null,null,null,null,null,null,null,null,0,null,null,null,null,null,null,null,null,null,null,null,null,null,null,null,"-",null,{"$f":"IF(SUMPRODUCT((A$14:A385=A385)*(B$14:B385=B385)*(D$14:D385=D385))>1,0,1)","v":0},1,1,{"$f":"IF(ISBLANK(G385),1,IFERROR(VLOOKUP(G385,Tipo!$C$12:$C$27,1,FALSE),\"NO\"))","v":1},1,{"$f":"IF(ISBLANK(K385),1,IFERROR(VLOOKUP(K385,Eje_Pilar_Prop!C367:C468,1,FALSE),\"NO\"))","v":1},1,1,1]
[null,null,null,null,null,null,null,null,null,null,null,{"$f":"IF(ISERROR(VLOOKUP(K386,Eje_Pilar_Prop!$C$2:$E$104,2,FALSE)),\" \",VLOOKUP(K386,Eje_Pilar_Prop!$C$2:$E$104,2,FALSE))","v":" "},{"$f":"IF(ISERROR(VLOOKUP(K386,Eje_Pilar_Prop!$C$2:$E$104,3,FALSE)),\" \",VLOOKUP(K386,Eje_Pilar_Prop!$C$2:$E$104,3,FALSE))","v":" "},null,null,null,null,null,null,null,null,0,null,null,null,null,null,null,null,null,null,null,null,null,null,null,null,"-",null,{"$f":"IF(SUMPRODUCT((A$14:A386=A386)*(B$14:B386=B386)*(D$14:D386=D386))>1,0,1)","v":0},1,1,{"$f":"IF(ISBLANK(G386),1,IFERROR(VLOOKUP(G386,Tipo!$C$12:$C$27,1,FALSE),\"NO\"))","v":1},1,{"$f":"IF(ISBLANK(K386),1,IFERROR(VLOOKUP(K386,Eje_Pilar_Prop!C368:C469,1,FALSE),\"NO\"))","v":1},1,1,1]
[null,null,null,null,null,null,null,null,null,null,null,{"$f":"IF(ISERROR(VLOOKUP(K387,Eje_Pilar_Prop!$C$2:$E$104,2,FALSE)),\" \",VLOOKUP(K387,Eje_Pilar_Prop!$C$2:$E$104,2,FALSE))","v":" "},{"$f":"IF(ISERROR(VLOOKUP(K387,Eje_Pilar_Prop!$C$2:$E$104,3,FALSE)),\" \",VLOOKUP(K387,Eje_Pilar_Prop!$C$2:$E$104,3,FALSE))","v":" "},null,null,null,null,null,null,null,null,0,null,null,null,null,null,null,null,null,null,null,null,null,null,null,null,"-",null,{"$f":"IF(SUMPRODUCT((A$14:A387=A387)*(B$14:B387=B387)*(D$14:D387=D387))>1,0,1)","v":0},1,1,{"$f":"IF(ISBLANK(G387),1,IFERROR(VLOOKUP(G387,Tipo!$C$12:$C$27,1,FALSE),\"NO\"))","v":1},1,{"$f":"IF(ISBLANK(K387),1,IFERROR(VLOOKUP(K387,Eje_Pilar_Prop!C369:C470,1,FALSE),\"NO\"))","v":1},1,1,1]
[null,null,null,null,null,null,null,null,null,null,null,{"$f":"IF(ISERROR(VLOOKUP(K388,Eje_Pilar_Prop!$C$2:$E$104,2,FALSE)),\" \",VLOOKUP(K388,Eje_Pilar_Prop!$C$2:$E$104,2,FALSE))","v":" "},{"$f":"IF(ISERROR(VLOOKUP(K388,Eje_Pilar_Prop!$C$2:$E$104,3,FALSE)),\" \",VLOOKUP(K388,Eje_Pilar_Prop!$C$2:$E$104,3,FALSE))","v":" "},null,null,null,null,null,null,null,null,0,null,null,null,null,null,null,null,null,null,null,null,null,null,null,null,"-",null,{"$f":"IF(SUMPRODUCT((A$14:A388=A388)*(B$14:B388=B388)*(D$14:D388=D388))>1,0,1)","v":0},1,1,{"$f":"IF(ISBLANK(G388),1,IFERROR(VLOOKUP(G388,Tipo!$C$12:$C$27,1,FALSE),\"NO\"))","v":1},1,{"$f":"IF(ISBLANK(K388),1,IFERROR(VLOOKUP(K388,Eje_Pilar_Prop!C370:C471,1,FALSE),\"NO\"))","v":1},1,1,1]
[null,null,null,null,null,null,null,null,null,null,null,{"$f":"IF(ISERROR(VLOOKUP(K389,Eje_Pilar_Prop!$C$2:$E$104,2,FALSE)),\" \",VLOOKUP(K389,Eje_Pilar_Prop!$C$2:$E$104,2,FALSE))","v":" "},{"$f":"IF(ISERROR(VLOOKUP(K389,Eje_Pilar_Prop!$C$2:$E$104,3,FALSE)),\" \",VLOOKUP(K389,Eje_Pilar_Prop!$C$2:$E$104,3,FALSE))","v":" "},null,null,null,null,null,null,null,null,0,null,null,null,null,null,null,null,null,null,null,null,null,null,null,null,"-",null,{"$f":"IF(SUMPRODUCT((A$14:A389=A389)*(B$14:B389=B389)*(D$14:D389=D389))>1,0,1)","v":0},1,1,{"$f":"IF(ISBLANK(G389),1,IFERROR(VLOOKUP(G389,Tipo!$C$12:$C$27,1,FALSE),\"NO\"))","v":1},1,{"$f":"IF(ISBLANK(K389),1,IFERROR(VLOOKUP(K389,Eje_Pilar_Prop!C371:C472,1,FALSE),\"NO\"))","v":1},1,1,1]
[null,null,null,null,null,null,null,null,null,null,null,{"$f":"IF(ISERROR(VLOOKUP(K390,Eje_Pilar_Prop!$C$2:$E$104,2,FALSE)),\" \",VLOOKUP(K390,Eje_Pilar_Prop!$C$2:$E$104,2,FALSE))","v":" "},{"$f":"IF(ISERROR(VLOOKUP(K390,Eje_Pilar_Prop!$C$2:$E$104,3,FALSE)),\" \",VLOOKUP(K390,Eje_Pilar_Prop!$C$2:$E$104,3,FALSE))","v":" "},null,null,null,null,null,null,null,null,0,null,null,null,null,null,null,null,null,null,null,null,null,null,null,null,"-",null,{"$f":"IF(SUMPRODUCT((A$14:A390=A390)*(B$14:B390=B390)*(D$14:D390=D390))>1,0,1)","v":0},1,1,{"$f":"IF(ISBLANK(G390),1,IFERROR(VLOOKUP(G390,Tipo!$C$12:$C$27,1,FALSE),\"NO\"))","v":1},1,{"$f":"IF(ISBLANK(K390),1,IFERROR(VLOOKUP(K390,Eje_Pilar_Prop!C372:C473,1,FALSE),\"NO\"))","v":1},1,1,1]
[null,null,null,null,null,null,null,null,null,null,null,{"$f":"IF(ISERROR(VLOOKUP(K391,Eje_Pilar_Prop!$C$2:$E$104,2,FALSE)),\" \",VLOOKUP(K391,Eje_Pilar_Prop!$C$2:$E$104,2,FALSE))","v":" "},{"$f":"IF(ISERROR(VLOOKUP(K391,Eje_Pilar_Prop!$C$2:$E$104,3,FALSE)),\" \",VLOOKUP(K391,Eje_Pilar_Prop!$C$2:$E$104,3,FALSE))","v":" "},null,null,null,null,null,null,null,null,0,null,null,null,null,null,null,null,null,null,null,null,null,null,null,null,"-",null,{"$f":"IF(SUMPRODUCT((A$14:A391=A391)*(B$14:B391=B391)*(D$14:D391=D391))>1,0,1)","v":0},1,1,{"$f":"IF(ISBLANK(G391),1,IFERROR(VLOOKUP(G391,Tipo!$C$12:$C$27,1,FALSE),\"NO\"))","v":1},1,{"$f":"IF(ISBLANK(K391),1,IFERROR(VLOOKUP(K391,Eje_Pilar_Prop!C373:C474,1,FALSE),\"NO\"))","v":1},1,1,1]
[null,null,null,null,null,null,null,null,null,null,null,{"$f":"IF(ISERROR(VLOOKUP(K392,Eje_Pilar_Prop!$C$2:$E$104,2,FALSE)),\" \",VLOOKUP(K392,Eje_Pilar_Prop!$C$2:$E$104,2,FALSE))","v":" "},{"$f":"IF(ISERROR(VLOOKUP(K392,Eje_Pilar_Prop!$C$2:$E$104,3,FALSE)),\" \",VLOOKUP(K392,Eje_Pilar_Prop!$C$2:$E$104,3,FALSE))","v":" "},null,null,null,null,null,null,null,null,0,null,null,null,null,null,null,null,null,null,null,null,null,null,null,null,"-",null,{"$f":"IF(SUMPRODUCT((A$14:A392=A392)*(B$14:B392=B392)*(D$14:D392=D392))>1,0,1)","v":0},1,1,{"$f":"IF(ISBLANK(G392),1,IFERROR(VLOOKUP(G392,Tipo!$C$12:$C$27,1,FALSE),\"NO\"))","v":1},1,{"$f":"IF(ISBLANK(K392),1,IFERROR(VLOOKUP(K392,Eje_Pilar_Prop!C374:C475,1,FALSE),\"NO\"))","v":1},1,1,1]
[null,null,null,null,null,null,null,null,null,null,null,{"$f":"IF(ISERROR(VLOOKUP(K393,Eje_Pilar_Prop!$C$2:$E$104,2,FALSE)),\" \",VLOOKUP(K393,Eje_Pilar_Prop!$C$2:$E$104,2,FALSE))","v":" "},{"$f":"IF(ISERROR(VLOOKUP(K393,Eje_Pilar_Prop!$C$2:$E$104,3,FALSE)),\" \",VLOOKUP(K393,Eje_Pilar_Prop!$C$2:$E$104,3,FALSE))","v":" "},null,null,null,null,null,null,null,null,0,null,null,null,null,null,null,null,null,null,null,null,null,null,null,null,"-",null,{"$f":"IF(SUMPRODUCT((A$14:A393=A393)*(B$14:B393=B393)*(D$14:D393=D393))>1,0,1)","v":0},1,1,{"$f":"IF(ISBLANK(G393),1,IFERROR(VLOOKUP(G393,Tipo!$C$12:$C$27,1,FALSE),\"NO\"))","v":1},1,{"$f":"IF(ISBLANK(K393),1,IFERROR(VLOOKUP(K393,Eje_Pilar_Prop!C375:C476,1,FALSE),\"NO\"))","v":1},1,1,1]
[null,null,null,null,null,null,null,null,null,null,null,{"$f":"IF(ISERROR(VLOOKUP(K394,Eje_Pilar_Prop!$C$2:$E$104,2,FALSE)),\" \",VLOOKUP(K394,Eje_Pilar_Prop!$C$2:$E$104,2,FALSE))","v":" "},{"$f":"IF(ISERROR(VLOOKUP(K394,Eje_Pilar_Prop!$C$2:$E$104,3,FALSE)),\" \",VLOOKUP(K394,Eje_Pilar_Prop!$C$2:$E$104,3,FALSE))","v":" "},null,null,null,null,null,null,null,null,0,null,null,null,null,null,null,null,null,null,null,null,null,null,null,null,"-",null,{"$f":"IF(SUMPRODUCT((A$14:A394=A394)*(B$14:B394=B394)*(D$14:D394=D394))>1,0,1)","v":0},1,1,{"$f":"IF(ISBLANK(G394),1,IFERROR(VLOOKUP(G394,Tipo!$C$12:$C$27,1,FALSE),\"NO\"))","v":1},1,{"$f":"IF(ISBLANK(K394),1,IFERROR(VLOOKUP(K394,Eje_Pilar_Prop!C376:C477,1,FALSE),\"NO\"))","v":1},1,1,1]
[null,null,null,null,null,null,null,null,null,null,null,{"$f":"IF(ISERROR(VLOOKUP(K395,Eje_Pilar_Prop!$C$2:$E$104,2,FALSE)),\" \",VLOOKUP(K395,Eje_Pilar_Prop!$C$2:$E$104,2,FALSE))","v":" "},{"$f":"IF(ISERROR(VLOOKUP(K395,Eje_Pilar_Prop!$C$2:$E$104,3,FALSE)),\" \",VLOOKUP(K395,Eje_Pilar_Prop!$C$2:$E$104,3,FALSE))","v":" "},null,null,null,null,null,null,null,null,0,null,null,null,null,null,null,null,null,null,null,null,null,null,null,null,"-",null,{"$f":"IF(SUMPRODUCT((A$14:A395=A395)*(B$14:B395=B395)*(D$14:D395=D395))>1,0,1)","v":0},1,1,{"$f":"IF(ISBLANK(G395),1,IFERROR(VLOOKUP(G395,Tipo!$C$12:$C$27,1,FALSE),\"NO\"))","v":1},1,{"$f":"IF(ISBLANK(K395),1,IFERROR(VLOOKUP(K395,Eje_Pilar_Prop!C377:C478,1,FALSE),\"NO\"))","v":1},1,1,1]
[null,null,null,null,null,null,null,null,null,null,null,{"$f":"IF(ISERROR(VLOOKUP(K396,Eje_Pilar_Prop!$C$2:$E$104,2,FALSE)),\" \",VLOOKUP(K396,Eje_Pilar_Prop!$C$2:$E$104,2,FALSE))","v":" "},{"$f":"IF(ISERROR(VLOOKUP(K396,Eje_Pilar_Prop!$C$2:$E$104,3,FALSE)),\" \",VLOOKUP(K396,Eje_Pilar_Prop!$C$2:$E$104,3,FALSE))","v":" "},null,null,null,null,null,null,null,null,0,null,null,null,null,null,null,null,null,null,null,null,null,null,null,null,"-",null,{"$f":"IF(SUMPRODUCT((A$14:A396=A396)*(B$14:B396=B396)*(D$14:D396=D396))>1,0,1)","v":0},1,1,{"$f":"IF(ISBLANK(G396),1,IFERROR(VLOOKUP(G396,Tipo!$C$12:$C$27,1,FALSE),\"NO\"))","v":1},1,{"$f":"IF(ISBLANK(K396),1,IFERROR(VLOOKUP(K396,Eje_Pilar_Prop!C378:C479,1,FALSE),\"NO\"))","v":1},1,1,1]
[null,null,null,null,null,null,null,null,null,null,null,{"$f":"IF(ISERROR(VLOOKUP(K397,Eje_Pilar_Prop!$C$2:$E$104,2,FALSE)),\" \",VLOOKUP(K397,Eje_Pilar_Prop!$C$2:$E$104,2,FALSE))","v":" "},{"$f":"IF(ISERROR(VLOOKUP(K397,Eje_Pilar_Prop!$C$2:$E$104,3,FALSE)),\" \",VLOOKUP(K397,Eje_Pilar_Prop!$C$2:$E$104,3,FALSE))","v":" "},null,null,null,null,null,null,null,null,0,null,null,null,null,null,null,null,null,null,null,null,null,null,null,null,"-",null,{"$f":"IF(SUMPRODUCT((A$14:A397=A397)*(B$14:B397=B397)*(D$14:D397=D397))>1,0,1)","v":0},1,1,{"$f":"IF(ISBLANK(G397),1,IFERROR(VLOOKUP(G397,Tipo!$C$12:$C$27,1,FALSE),\"NO\"))","v":1},1,{"$f":"IF(ISBLANK(K397),1,IFERROR(VLOOKUP(K397,Eje_Pilar_Prop!C379:C480,1,FALSE),\"NO\"))","v":1},1,1,1]
[null,null,null,null,null,null,null,null,null,null,null,{"$f":"IF(ISERROR(VLOOKUP(K398,Eje_Pilar_Prop!$C$2:$E$104,2,FALSE)),\" \",VLOOKUP(K398,Eje_Pilar_Prop!$C$2:$E$104,2,FALSE))","v":" "},{"$f":"IF(ISERROR(VLOOKUP(K398,Eje_Pilar_Prop!$C$2:$E$104,3,FALSE)),\" \",VLOOKUP(K398,Eje_Pilar_Prop!$C$2:$E$104,3,FALSE))","v":" "},null,null,null,null,null,null,null,null,0,null,null,null,null,null,null,null,null,null,null,null,null,null,null,null,"-",null,{"$f":"IF(SUMPRODUCT((A$14:A398=A398)*(B$14:B398=B398)*(D$14:D398=D398))>1,0,1)","v":0},1,1,{"$f":"IF(ISBLANK(G398),1,IFERROR(VLOOKUP(G398,Tipo!$C$12:$C$27,1,FALSE),\"NO\"))","v":1},1,{"$f":"IF(ISBLANK(K398),1,IFERROR(VLOOKUP(K398,Eje_Pilar_Prop!C380:C481,1,FALSE),\"NO\"))","v":1},1,1,{"$f":"IF(ISBLANK(J398),1,IFERROR(VLOOKUP(J398,pdd,1,FALSE),\"NO\"))","v":1}]
[null,null,null,null,null,null,null,null,null,null,null,{"$f":"IF(ISERROR(VLOOKUP(K399,Eje_Pilar_Prop!$C$2:$E$104,2,FALSE)),\" \",VLOOKUP(K399,Eje_Pilar_Prop!$C$2:$E$104,2,FALSE))","v":" "},{"$f":"IF(ISERROR(VLOOKUP(K399,Eje_Pilar_Prop!$C$2:$E$104,3,FALSE)),\" \",VLOOKUP(K399,Eje_Pilar_Prop!$C$2:$E$104,3,FALSE))","v":" "},null,null,null,null,null,null,null,null,0,null,null,null,null,null,null,null,null,null,null,null,null,null,null,null,"-",null,{"$f":"IF(SUMPRODUCT((A$14:A399=A399)*(B$14:B399=B399)*(D$14:D399=D399))>1,0,1)","v":0},1,1,{"$f":"IF(ISBLANK(G399),1,IFERROR(VLOOKUP(G399,Tipo!$C$12:$C$27,1,FALSE),\"NO\"))","v":1},1,{"$f":"IF(ISBLANK(K399),1,IFERROR(VLOOKUP(K399,Eje_Pilar_Prop!C381:C482,1,FALSE),\"NO\"))","v":1},1,1,1]
[null,null,null,null,null,null,null,null,null,null,null,{"$f":"IF(ISERROR(VLOOKUP(K400,Eje_Pilar_Prop!$C$2:$E$104,2,FALSE)),\" \",VLOOKUP(K400,Eje_Pilar_Prop!$C$2:$E$104,2,FALSE))","v":" "},{"$f":"IF(ISERROR(VLOOKUP(K400,Eje_Pilar_Prop!$C$2:$E$104,3,FALSE)),\" \",VLOOKUP(K400,Eje_Pilar_Prop!$C$2:$E$104,3,FALSE))","v":" "},null,null,null,null,null,null,null,null,0,null,null,null,null,null,null,null,null,null,null,null,null,null,null,null,"-",null,{"$f":"IF(SUMPRODUCT((A$14:A400=A400)*(B$14:B400=B400)*(D$14:D400=D400))>1,0,1)","v":0},1,1,{"$f":"IF(ISBLANK(G400),1,IFERROR(VLOOKUP(G400,Tipo!$C$12:$C$27,1,FALSE),\"NO\"))","v":1},1,{"$f":"IF(ISBLANK(K400),1,IFERROR(VLOOKUP(K400,Eje_Pilar_Prop!C382:C483,1,FALSE),\"NO\"))","v":1},1,1,1]
[null,null,null,null,null,null,null,null,null,null,null,{"$f":"IF(ISERROR(VLOOKUP(K401,Eje_Pilar_Prop!$C$2:$E$104,2,FALSE)),\" \",VLOOKUP(K401,Eje_Pilar_Prop!$C$2:$E$104,2,FALSE))","v":" "},{"$f":"IF(ISERROR(VLOOKUP(K401,Eje_Pilar_Prop!$C$2:$E$104,3,FALSE)),\" \",VLOOKUP(K401,Eje_Pilar_Prop!$C$2:$E$104,3,FALSE))","v":" "},null,null,null,null,null,null,null,null,0,null,null,null,null,null,null,null,null,null,null,null,null,null,null,null,"-",null,{"$f":"IF(SUMPRODUCT((A$14:A401=A401)*(B$14:B401=B401)*(D$14:D401=D401))>1,0,1)","v":0},1,1,{"$f":"IF(ISBLANK(G401),1,IFERROR(VLOOKUP(G401,Tipo!$C$12:$C$27,1,FALSE),\"NO\"))","v":1},1,{"$f":"IF(ISBLANK(K401),1,IFERROR(VLOOKUP(K401,Eje_Pilar_Prop!C383:C484,1,FALSE),\"NO\"))","v":1},1,1,1]
[null,null,null,null,null,null,null,null,null,null,null,{"$f":"IF(ISERROR(VLOOKUP(K402,Eje_Pilar_Prop!$C$2:$E$104,2,FALSE)),\" \",VLOOKUP(K402,Eje_Pilar_Prop!$C$2:$E$104,2,FALSE))","v":" "},{"$f":"IF(ISERROR(VLOOKUP(K402,Eje_Pilar_Prop!$C$2:$E$104,3,FALSE)),\" \",VLOOKUP(K402,Eje_Pilar_Prop!$C$2:$E$104,3,FALSE))","v":" "},null,null,null,null,null,null,null,null,0,null,null,null,null,null,null,null,null,null,null,null,null,null,null,null,"-",null,{"$f":"IF(SUMPRODUCT((A$14:A402=A402)*(B$14:B402=B402)*(D$14:D402=D402))>1,0,1)","v":0},1,1,{"$f":"IF(ISBLANK(G402),1,IFERROR(VLOOKUP(G402,Tipo!$C$12:$C$27,1,FALSE),\"NO\"))","v":1},1,{"$f":"IF(ISBLANK(K402),1,IFERROR(VLOOKUP(K402,Eje_Pilar_Prop!C384:C485,1,FALSE),\"NO\"))","v":1},1,1,1]
[null,null,null,null,null,null,null,null,null,null,null,{"$f":"IF(ISERROR(VLOOKUP(K403,Eje_Pilar_Prop!$C$2:$E$104,2,FALSE)),\" \",VLOOKUP(K403,Eje_Pilar_Prop!$C$2:$E$104,2,FALSE))","v":" "},{"$f":"IF(ISERROR(VLOOKUP(K403,Eje_Pilar_Prop!$C$2:$E$104,3,FALSE)),\" \",VLOOKUP(K403,Eje_Pilar_Prop!$C$2:$E$104,3,FALSE))","v":" "},null,null,null,null,null,null,null,null,0,null,null,null,null,null,null,null,null,null,null,null,null,null,null,null,"-",null,{"$f":"IF(SUMPRODUCT((A$14:A403=A403)*(B$14:B403=B403)*(D$14:D403=D403))>1,0,1)","v":0},1,1,{"$f":"IF(ISBLANK(G403),1,IFERROR(VLOOKUP(G403,Tipo!$C$12:$C$27,1,FALSE),\"NO\"))","v":1},1,{"$f":"IF(ISBLANK(K403),1,IFERROR(VLOOKUP(K403,Eje_Pilar_Prop!C385:C486,1,FALSE),\"NO\"))","v":1},1,1,1]
[null,null,null,null,null,null,null,null,null,null,null,{"$f":"IF(ISERROR(VLOOKUP(K404,Eje_Pilar_Prop!$C$2:$E$104,2,FALSE)),\" \",VLOOKUP(K404,Eje_Pilar_Prop!$C$2:$E$104,2,FALSE))","v":" "},{"$f":"IF(ISERROR(VLOOKUP(K404,Eje_Pilar_Prop!$C$2:$E$104,3,FALSE)),\" \",VLOOKUP(K404,Eje_Pilar_Prop!$C$2:$E$104,3,FALSE))","v":" "},null,null,null,null,null,null,null,null,0,null,null,null,null,null,null,null,null,null,null,null,null,null,null,null,"-",null,{"$f":"IF(SUMPRODUCT((A$14:A404=A404)*(B$14:B404=B404)*(D$14:D404=D404))>1,0,1)","v":0},1,1,{"$f":"IF(ISBLANK(G404),1,IFERROR(VLOOKUP(G404,Tipo!$C$12:$C$27,1,FALSE),\"NO\"))","v":1},1,{"$f":"IF(ISBLANK(K404),1,IFERROR(VLOOKUP(K404,Eje_Pilar_Prop!C386:C487,1,FALSE),\"NO\"))","v":1},1,1,1]
[null,null,null,null,null,null,null,null,null,null,null,{"$f":"IF(ISERROR(VLOOKUP(K405,Eje_Pilar_Prop!$C$2:$E$104,2,FALSE)),\" \",VLOOKUP(K405,Eje_Pilar_Prop!$C$2:$E$104,2,FALSE))","v":" "},{"$f":"IF(ISERROR(VLOOKUP(K405,Eje_Pilar_Prop!$C$2:$E$104,3,FALSE)),\" \",VLOOKUP(K405,Eje_Pilar_Prop!$C$2:$E$104,3,FALSE))","v":" "},null,null,null,null,null,null,null,null,0,null,null,null,null,null,null,null,null,null,null,null,null,null,null,null,"-",null,{"$f":"IF(SUMPRODUCT((A$14:A405=A405)*(B$14:B405=B405)*(D$14:D405=D405))>1,0,1)","v":0},1,1,{"$f":"IF(ISBLANK(G405),1,IFERROR(VLOOKUP(G405,Tipo!$C$12:$C$27,1,FALSE),\"NO\"))","v":1},1,{"$f":"IF(ISBLANK(K405),1,IFERROR(VLOOKUP(K405,Eje_Pilar_Prop!C387:C488,1,FALSE),\"NO\"))","v":1},{"$f":"IF(ISBLANK(C405),1,IFERROR(VLOOKUP(C405,SECOP,1,FALSE),\"NO\"))","v":1},1,1]
[null,null,null,null,null,null,null,null,null,null,null,{"$f":"IF(ISERROR(VLOOKUP(K406,Eje_Pilar_Prop!$C$2:$E$104,2,FALSE)),\" \",VLOOKUP(K406,Eje_Pilar_Prop!$C$2:$E$104,2,FALSE))","v":" "},{"$f":"IF(ISERROR(VLOOKUP(K406,Eje_Pilar_Prop!$C$2:$E$104,3,FALSE)),\" \",VLOOKUP(K406,Eje_Pilar_Prop!$C$2:$E$104,3,FALSE))","v":" "},null,null,null,null,null,null,null,null,0,null,null,null,null,null,null,null,null,null,null,null,null,null,null,null,"-",null,{"$f":"IF(SUMPRODUCT((A$14:A406=A406)*(B$14:B406=B406)*(D$14:D406=D406))>1,0,1)","v":0},1,1,{"$f":"IF(ISBLANK(G406),1,IFERROR(VLOOKUP(G406,Tipo!$C$12:$C$27,1,FALSE),\"NO\"))","v":1},1,{"$f":"IF(ISBLANK(K406),1,IFERROR(VLOOKUP(K406,Eje_Pilar_Prop!C388:C489,1,FALSE),\"NO\"))","v":1},1,1,1]
[null,null,null,null,null,null,null,null,null,null,null,{"$f":"IF(ISERROR(VLOOKUP(K407,Eje_Pilar_Prop!$C$2:$E$104,2,FALSE)),\" \",VLOOKUP(K407,Eje_Pilar_Prop!$C$2:$E$104,2,FALSE))","v":" "},{"$f":"IF(ISERROR(VLOOKUP(K407,Eje_Pilar_Prop!$C$2:$E$104,3,FALSE)),\" \",VLOOKUP(K407,Eje_Pilar_Prop!$C$2:$E$104,3,FALSE))","v":" "},null,null,null,null,null,null,null,null,0,null,null,null,null,null,null,null,null,null,null,null,null,null,null,null,"-",null,{"$f":"IF(SUMPRODUCT((A$14:A407=A407)*(B$14:B407=B407)*(D$14:D407=D407))>1,0,1)","v":0},1,1,{"$f":"IF(ISBLANK(G407),1,IFERROR(VLOOKUP(G407,Tipo!$C$12:$C$27,1,FALSE),\"NO\"))","v":1},1,{"$f":"IF(ISBLANK(K407),1,IFERROR(VLOOKUP(K407,Eje_Pilar_Prop!C389:C490,1,FALSE),\"NO\"))","v":1},1,1,1]
[null,null,null,null,null,null,null,null,null,null,null,{"$f":"IF(ISERROR(VLOOKUP(K408,Eje_Pilar_Prop!$C$2:$E$104,2,FALSE)),\" \",VLOOKUP(K408,Eje_Pilar_Prop!$C$2:$E$104,2,FALSE))","v":" "},{"$f":"IF(ISERROR(VLOOKUP(K408,Eje_Pilar_Prop!$C$2:$E$104,3,FALSE)),\" \",VLOOKUP(K408,Eje_Pilar_Prop!$C$2:$E$104,3,FALSE))","v":" "},null,null,null,null,null,null,null,null,0,null,null,null,null,null,null,null,null,null,null,null,null,null,null,null,"-",null,{"$f":"IF(SUMPRODUCT((A$14:A408=A408)*(B$14:B408=B408)*(D$14:D408=D408))>1,0,1)","v":0},{"$f":"IF(ISBLANK(E408),1,IFERROR(VLOOKUP(E408,tipo,1,FALSE),\"NO\"))","v":1},{"$f":"IF(ISBLANK(F408),1,IFERROR(VLOOKUP(F408,modal,1,FALSE),\"NO\"))","v":1},{"$f":"IF(ISBLANK(G408),1,IFERROR(VLOOKUP(G408,Tipo!$C$12:$C$27,1,FALSE),\"NO\"))","v":1},{"$f":"IF(ISBLANK(I408),1,IFERROR(VLOOKUP(I408,afectacion,1,FALSE),\"NO\"))","v":1},{"$f":"IF(ISBLANK(K408),1,IFERROR(VLOOKUP(K408,Eje_Pilar_Prop!C390:C491,1,FALSE),\"NO\"))","v":1},1,1,1]
[null,null,null,null,null,null,null,null,null,null,null,{"$f":"IF(ISERROR(VLOOKUP(K409,Eje_Pilar_Prop!$C$2:$E$104,2,FALSE)),\" \",VLOOKUP(K409,Eje_Pilar_Prop!$C$2:$E$104,2,FALSE))","v":" "},{"$f":"IF(ISERROR(VLOOKUP(K409,Eje_Pilar_Prop!$C$2:$E$104,3,FALSE)),\" \",VLOOKUP(K409,Eje_Pilar_Prop!$C$2:$E$104,3,FALSE))","v":" "},null,null,null,null,null,null,null,null,0,null,null,null,null,null,null,null,null,null,null,null,null,null,null,null,"-",null,{"$f":"IF(SUMPRODUCT((A$14:A409=A409)*(B$14:B409=B409)*(D$14:D409=D409))>1,0,1)","v":0},1,1,{"$f":"IF(ISBLANK(G409),1,IFERROR(VLOOKUP(G409,Tipo!$C$12:$C$27,1,FALSE),\"NO\"))","v":1},1,{"$f":"IF(ISBLANK(K409),1,IFERROR(VLOOKUP(K409,Eje_Pilar_Prop!C391:C492,1,FALSE),\"NO\"))","v":1},1,1,1]
[null,null,null,null,null,null,null,null,null,null,null,{"$f":"IF(ISERROR(VLOOKUP(K410,Eje_Pilar_Prop!$C$2:$E$104,2,FALSE)),\" \",VLOOKUP(K410,Eje_Pilar_Prop!$C$2:$E$104,2,FALSE))","v":" "},{"$f":"IF(ISERROR(VLOOKUP(K410,Eje_Pilar_Prop!$C$2:$E$104,3,FALSE)),\" \",VLOOKUP(K410,Eje_Pilar_Prop!$C$2:$E$104,3,FALSE))","v":" "},null,null,null,null,null,null,null,null,0,null,null,null,null,null,null,null,null,null,null,null,null,null,null,null,"-",null,{"$f":"IF(SUMPRODUCT((A$14:A410=A410)*(B$14:B410=B410)*(D$14:D410=D410))>1,0,1)","v":0},1,1,{"$f":"IF(ISBLANK(G410),1,IFERROR(VLOOKUP(G410,Tipo!$C$12:$C$27,1,FALSE),\"NO\"))","v":1},1,{"$f":"IF(ISBLANK(K410),1,IFERROR(VLOOKUP(K410,Eje_Pilar_Prop!C392:C493,1,FALSE),\"NO\"))","v":1},1,1,1]
[null,null,null,null,null,null,null,null,null,null,null,{"$f":"IF(ISERROR(VLOOKUP(K411,Eje_Pilar_Prop!$C$2:$E$104,2,FALSE)),\" \",VLOOKUP(K411,Eje_Pilar_Prop!$C$2:$E$104,2,FALSE))","v":" "},{"$f":"IF(ISERROR(VLOOKUP(K411,Eje_Pilar_Prop!$C$2:$E$104,3,FALSE)),\" \",VLOOKUP(K411,Eje_Pilar_Prop!$C$2:$E$104,3,FALSE))","v":" "},null,null,null,null,null,null,null,null,0,null,null,null,null,null,null,null,null,null,null,null,null,null,null,null,"-",null,{"$f":"IF(SUMPRODUCT((A$14:A411=A411)*(B$14:B411=B411)*(D$14:D411=D411))>1,0,1)","v":0},1,1,{"$f":"IF(ISBLANK(G411),1,IFERROR(VLOOKUP(G411,Tipo!$C$12:$C$27,1,FALSE),\"NO\"))","v":1},1,{"$f":"IF(ISBLANK(K411),1,IFERROR(VLOOKUP(K411,Eje_Pilar_Prop!C393:C494,1,FALSE),\"NO\"))","v":1},1,1,1]
[null,null,null,null,null,null,null,null,null,null,null,{"$f":"IF(ISERROR(VLOOKUP(K412,Eje_Pilar_Prop!$C$2:$E$104,2,FALSE)),\" \",VLOOKUP(K412,Eje_Pilar_Prop!$C$2:$E$104,2,FALSE))","v":" "},{"$f":"IF(ISERROR(VLOOKUP(K412,Eje_Pilar_Prop!$C$2:$E$104,3,FALSE)),\" \",VLOOKUP(K412,Eje_Pilar_Prop!$C$2:$E$104,3,FALSE))","v":" "},null,null,null,null,null,null,null,null,0,null,null,null,null,null,null,null,null,null,null,null,null,null,null,null,"-",null,{"$f":"IF(SUMPRODUCT((A$14:A412=A412)*(B$14:B412=B412)*(D$14:D412=D412))>1,0,1)","v":0},1,1,{"$f":"IF(ISBLANK(G412),1,IFERROR(VLOOKUP(G412,Tipo!$C$12:$C$27,1,FALSE),\"NO\"))","v":1},1,{"$f":"IF(ISBLANK(K412),1,IFERROR(VLOOKUP(K412,Eje_Pilar_Prop!C394:C495,1,FALSE),\"NO\"))","v":1},1,{"$f":"IF(OR(YEAR(X412)=2020,ISBLANK(X412)),1,\"NO\")","v":1},1]
[null,null,null,null,null,null,null,null,null,null,null,{"$f":"IF(ISERROR(VLOOKUP(K413,Eje_Pilar_Prop!$C$2:$E$104,2,FALSE)),\" \",VLOOKUP(K413,Eje_Pilar_Prop!$C$2:$E$104,2,FALSE))","v":" "},{"$f":"IF(ISERROR(VLOOKUP(K413,Eje_Pilar_Prop!$C$2:$E$104,3,FALSE)),\" \",VLOOKUP(K413,Eje_Pilar_Prop!$C$2:$E$104,3,FALSE))","v":" "},null,null,null,null,null,null,null,null,0,null,null,null,null,null,null,null,null,null,null,null,null,null,null,null,"-",null,{"$f":"IF(SUMPRODUCT((A$14:A413=A413)*(B$14:B413=B413)*(D$14:D413=D413))>1,0,1)","v":0},1,1,{"$f":"IF(ISBLANK(G413),1,IFERROR(VLOOKUP(G413,Tipo!$C$12:$C$27,1,FALSE),\"NO\"))","v":1},1,{"$f":"IF(ISBLANK(K413),1,IFERROR(VLOOKUP(K413,Eje_Pilar_Prop!C395:C496,1,FALSE),\"NO\"))","v":1},1,1,1]
[null,null,null,null,null,null,null,null,null,null,null,{"$f":"IF(ISERROR(VLOOKUP(K414,Eje_Pilar_Prop!$C$2:$E$104,2,FALSE)),\" \",VLOOKUP(K414,Eje_Pilar_Prop!$C$2:$E$104,2,FALSE))","v":" "},{"$f":"IF(ISERROR(VLOOKUP(K414,Eje_Pilar_Prop!$C$2:$E$104,3,FALSE)),\" \",VLOOKUP(K414,Eje_Pilar_Prop!$C$2:$E$104,3,FALSE))","v":" "},null,null,null,null,null,null,null,null,0,null,null,null,null,null,null,null,null,null,null,null,null,null,null,null,{"$f":"IF(ISERROR(W414/V414),\"-\",(W414/V414))","v":"-"},null,{"$f":"IF(SUMPRODUCT((A$14:A414=A414)*(B$14:B414=B414)*(D$14:D414=D414))>1,0,1)","v":0},1,1,{"$f":"IF(ISBLANK(G414),1,IFERROR(VLOOKUP(G414,Tipo!$C$12:$C$27,1,FALSE),\"NO\"))","v":1},1,{"$f":"IF(ISBLANK(K414),1,IFERROR(VLOOKUP(K414,Eje_Pilar_Prop!C396:C497,1,FALSE),\"NO\"))","v":1},1,1,1]
[null,null,null,null,null,null,null,null,null,null,null,{"$f":"IF(ISERROR(VLOOKUP(K415,Eje_Pilar_Prop!$C$2:$E$104,2,FALSE)),\" \",VLOOKUP(K415,Eje_Pilar_Prop!$C$2:$E$104,2,FALSE))","v":" "},{"$f":"IF(ISERROR(VLOOKUP(K415,Eje_Pilar_Prop!$C$2:$E$104,3,FALSE)),\" \",VLOOKUP(K415,Eje_Pilar_Prop!$C$2:$E$104,3,FALSE))","v":" "},null,null,null,null,null,null,null,null,{"$f":"+Q415+S415+U415","v":0},null,null,null,null,null,null,null,null,null,null,null,null,null,null,null,"-",null,{"$f":"IF(SUMPRODUCT((A$14:A415=A415)*(B$14:B415=B415)*(D$14:D415=D415))>1,0,1)","v":0},1,1,{"$f":"IF(ISBLANK(G415),1,IFERROR(VLOOKUP(G415,Tipo!$C$12:$C$27,1,FALSE),\"NO\"))","v":1},1,{"$f":"IF(ISBLANK(K415),1,IFERROR(VLOOKUP(K415,Eje_Pilar_Prop!C397:C498,1,FALSE),\"NO\"))","v":1},1,1,1]
[null,null,null,null,null,null,null,null,null,null,null,{"$f":"IF(ISERROR(VLOOKUP(K416,Eje_Pilar_Prop!$C$2:$E$104,2,FALSE)),\" \",VLOOKUP(K416,Eje_Pilar_Prop!$C$2:$E$104,2,FALSE))","v":" "},{"$f":"IF(ISERROR(VLOOKUP(K416,Eje_Pilar_Prop!$C$2:$E$104,3,FALSE)),\" \",VLOOKUP(K416,Eje_Pilar_Prop!$C$2:$E$104,3,FALSE))","v":" "},null,null,null,null,null,null,null,null,0,null,null,null,null,null,null,null,null,null,null,null,null,null,null,null,"-",null,{"$f":"IF(SUMPRODUCT((A$14:A416=A416)*(B$14:B416=B416)*(D$14:D416=D416))>1,0,1)","v":0},1,1,{"$f":"IF(ISBLANK(G416),1,IFERROR(VLOOKUP(G416,Tipo!$C$12:$C$27,1,FALSE),\"NO\"))","v":1},1,{"$f":"IF(ISBLANK(K416),1,IFERROR(VLOOKUP(K416,Eje_Pilar_Prop!C398:C499,1,FALSE),\"NO\"))","v":1},1,1,1]
[null,null,null,null,null,null,null,null,null,null,null,{"$f":"IF(ISERROR(VLOOKUP(K417,Eje_Pilar_Prop!$C$2:$E$104,2,FALSE)),\" \",VLOOKUP(K417,Eje_Pilar_Prop!$C$2:$E$104,2,FALSE))","v":" "},{"$f":"IF(ISERROR(VLOOKUP(K417,Eje_Pilar_Prop!$C$2:$E$104,3,FALSE)),\" \",VLOOKUP(K417,Eje_Pilar_Prop!$C$2:$E$104,3,FALSE))","v":" "},null,null,null,null,null,null,null,null,0,null,null,null,null,null,null,null,null,null,null,null,null,null,null,null,"-",null,{"$f":"IF(SUMPRODUCT((A$14:A417=A417)*(B$14:B417=B417)*(D$14:D417=D417))>1,0,1)","v":0},1,1,{"$f":"IF(ISBLANK(G417),1,IFERROR(VLOOKUP(G417,Tipo!$C$12:$C$27,1,FALSE),\"NO\"))","v":1},1,{"$f":"IF(ISBLANK(K417),1,IFERROR(VLOOKUP(K417,Eje_Pilar_Prop!C399:C500,1,FALSE),\"NO\"))","v":1},1,1,1]
[null,null,null,null,null,null,null,null,null,null,null,{"$f":"IF(ISERROR(VLOOKUP(K418,Eje_Pilar_Prop!$C$2:$E$104,2,FALSE)),\" \",VLOOKUP(K418,Eje_Pilar_Prop!$C$2:$E$104,2,FALSE))","v":" "},{"$f":"IF(ISERROR(VLOOKUP(K418,Eje_Pilar_Prop!$C$2:$E$104,3,FALSE)),\" \",VLOOKUP(K418,Eje_Pilar_Prop!$C$2:$E$104,3,FALSE))","v":" "},null,null,null,null,null,null,null,null,0,null,null,null,null,null,null,null,null,null,null,null,null,null,null,null,"-",null,{"$f":"IF(SUMPRODUCT((A$14:A418=A418)*(B$14:B418=B418)*(D$14:D418=D418))>1,0,1)","v":0},1,1,{"$f":"IF(ISBLANK(G418),1,IFERROR(VLOOKUP(G418,Tipo!$C$12:$C$27,1,FALSE),\"NO\"))","v":1},1,{"$f":"IF(ISBLANK(K418),1,IFERROR(VLOOKUP(K418,Eje_Pilar_Prop!C400:C501,1,FALSE),\"NO\"))","v":1},1,1,1]
[null,null,null,null,null,null,null,null,null,null,null,{"$f":"IF(ISERROR(VLOOKUP(K419,Eje_Pilar_Prop!$C$2:$E$104,2,FALSE)),\" \",VLOOKUP(K419,Eje_Pilar_Prop!$C$2:$E$104,2,FALSE))","v":" "},{"$f":"IF(ISERROR(VLOOKUP(K419,Eje_Pilar_Prop!$C$2:$E$104,3,FALSE)),\" \",VLOOKUP(K419,Eje_Pilar_Prop!$C$2:$E$104,3,FALSE))","v":" "},null,null,null,null,null,null,null,null,0,null,null,null,null,null,null,null,null,null,null,null,null,null,null,null,"-",null,{"$f":"IF(SUMPRODUCT((A$14:A419=A419)*(B$14:B419=B419)*(D$14:D419=D419))>1,0,1)","v":0},1,1,{"$f":"IF(ISBLANK(G419),1,IFERROR(VLOOKUP(G419,Tipo!$C$12:$C$27,1,FALSE),\"NO\"))","v":1},1,{"$f":"IF(ISBLANK(K419),1,IFERROR(VLOOKUP(K419,Eje_Pilar_Prop!C401:C502,1,FALSE),\"NO\"))","v":1},1,1,1]
[null,null,null,null,null,null,null,null,null,null,null,{"$f":"IF(ISERROR(VLOOKUP(K420,Eje_Pilar_Prop!$C$2:$E$104,2,FALSE)),\" \",VLOOKUP(K420,Eje_Pilar_Prop!$C$2:$E$104,2,FALSE))","v":" "},{"$f":"IF(ISERROR(VLOOKUP(K420,Eje_Pilar_Prop!$C$2:$E$104,3,FALSE)),\" \",VLOOKUP(K420,Eje_Pilar_Prop!$C$2:$E$104,3,FALSE))","v":" "},null,null,null,null,null,null,null,null,0,null,null,null,null,null,null,null,null,null,null,null,null,null,null,null,"-",null,{"$f":"IF(SUMPRODUCT((A$14:A420=A420)*(B$14:B420=B420)*(D$14:D420=D420))>1,0,1)","v":0},1,1,{"$f":"IF(ISBLANK(G420),1,IFERROR(VLOOKUP(G420,Tipo!$C$12:$C$27,1,FALSE),\"NO\"))","v":1},1,{"$f":"IF(ISBLANK(K420),1,IFERROR(VLOOKUP(K420,Eje_Pilar_Prop!C402:C503,1,FALSE),\"NO\"))","v":1},1,1,1]
[null,null,null,null,null,null,null,null,null,null,null,{"$f":"IF(ISERROR(VLOOKUP(K421,Eje_Pilar_Prop!$C$2:$E$104,2,FALSE)),\" \",VLOOKUP(K421,Eje_Pilar_Prop!$C$2:$E$104,2,FALSE))","v":" "},{"$f":"IF(ISERROR(VLOOKUP(K421,Eje_Pilar_Prop!$C$2:$E$104,3,FALSE)),\" \",VLOOKUP(K421,Eje_Pilar_Prop!$C$2:$E$104,3,FALSE))","v":" "},null,null,null,null,null,null,null,null,0,null,null,null,null,null,null,null,null,null,null,null,null,null,null,null,"-",null,{"$f":"IF(SUMPRODUCT((A$14:A421=A421)*(B$14:B421=B421)*(D$14:D421=D421))>1,0,1)","v":0},1,1,{"$f":"IF(ISBLANK(G421),1,IFERROR(VLOOKUP(G421,Tipo!$C$12:$C$27,1,FALSE),\"NO\"))","v":1},1,{"$f":"IF(ISBLANK(K421),1,IFERROR(VLOOKUP(K421,Eje_Pilar_Prop!C403:C504,1,FALSE),\"NO\"))","v":1},1,1,1]
[null,null,null,null,null,null,null,null,null,null,null,{"$f":"IF(ISERROR(VLOOKUP(K422,Eje_Pilar_Prop!$C$2:$E$104,2,FALSE)),\" \",VLOOKUP(K422,Eje_Pilar_Prop!$C$2:$E$104,2,FALSE))","v":" "},{"$f":"IF(ISERROR(VLOOKUP(K422,Eje_Pilar_Prop!$C$2:$E$104,3,FALSE)),\" \",VLOOKUP(K422,Eje_Pilar_Prop!$C$2:$E$104,3,FALSE))","v":" "},null,null,null,null,null,null,null,null,0,null,null,null,null,null,null,null,null,null,null,null,null,null,null,null,"-",null,{"$f":"IF(SUMPRODUCT((A$14:A422=A422)*(B$14:B422=B422)*(D$14:D422=D422))>1,0,1)","v":0},1,1,{"$f":"IF(ISBLANK(G422),1,IFERROR(VLOOKUP(G422,Tipo!$C$12:$C$27,1,FALSE),\"NO\"))","v":1},1,{"$f":"IF(ISBLANK(K422),1,IFERROR(VLOOKUP(K422,Eje_Pilar_Prop!C404:C505,1,FALSE),\"NO\"))","v":1},1,1,1]
[null,null,null,null,null,null,null,null,null,null,null,{"$f":"IF(ISERROR(VLOOKUP(K423,Eje_Pilar_Prop!$C$2:$E$104,2,FALSE)),\" \",VLOOKUP(K423,Eje_Pilar_Prop!$C$2:$E$104,2,FALSE))","v":" "},{"$f":"IF(ISERROR(VLOOKUP(K423,Eje_Pilar_Prop!$C$2:$E$104,3,FALSE)),\" \",VLOOKUP(K423,Eje_Pilar_Prop!$C$2:$E$104,3,FALSE))","v":" "},null,null,null,null,null,null,null,null,0,null,null,null,null,null,null,null,null,null,null,null,null,null,null,null,"-",null,{"$f":"IF(SUMPRODUCT((A$14:A423=A423)*(B$14:B423=B423)*(D$14:D423=D423))>1,0,1)","v":0},1,1,{"$f":"IF(ISBLANK(G423),1,IFERROR(VLOOKUP(G423,Tipo!$C$12:$C$27,1,FALSE),\"NO\"))","v":1},1,{"$f":"IF(ISBLANK(K423),1,IFERROR(VLOOKUP(K423,Eje_Pilar_Prop!C405:C506,1,FALSE),\"NO\"))","v":1},1,1,1]
[null,null,null,null,null,null,null,null,null,null,null,{"$f":"IF(ISERROR(VLOOKUP(K424,Eje_Pilar_Prop!$C$2:$E$104,2,FALSE)),\" \",VLOOKUP(K424,Eje_Pilar_Prop!$C$2:$E$104,2,FALSE))","v":" "},{"$f":"IF(ISERROR(VLOOKUP(K424,Eje_Pilar_Prop!$C$2:$E$104,3,FALSE)),\" \",VLOOKUP(K424,Eje_Pilar_Prop!$C$2:$E$104,3,FALSE))","v":" "},null,null,null,null,null,null,null,null,0,null,null,null,null,null,null,null,null,null,null,null,null,null,null,null,"-",null,{"$f":"IF(SUMPRODUCT((A$14:A424=A424)*(B$14:B424=B424)*(D$14:D424=D424))>1,0,1)","v":0},1,1,{"$f":"IF(ISBLANK(G424),1,IFERROR(VLOOKUP(G424,Tipo!$C$12:$C$27,1,FALSE),\"NO\"))","v":1},1,{"$f":"IF(ISBLANK(K424),1,IFERROR(VLOOKUP(K424,Eje_Pilar_Prop!C406:C507,1,FALSE),\"NO\"))","v":1},1,1,1]
[null,null,null,null,null,null,null,null,null,null,null,{"$f":"IF(ISERROR(VLOOKUP(K425,Eje_Pilar_Prop!$C$2:$E$104,2,FALSE)),\" \",VLOOKUP(K425,Eje_Pilar_Prop!$C$2:$E$104,2,FALSE))","v":" "},{"$f":"IF(ISERROR(VLOOKUP(K425,Eje_Pilar_Prop!$C$2:$E$104,3,FALSE)),\" \",VLOOKUP(K425,Eje_Pilar_Prop!$C$2:$E$104,3,FALSE))","v":" "},null,null,null,null,null,null,null,null,0,null,null,null,null,null,null,null,null,null,null,null,null,null,null,null,"-",null,{"$f":"IF(SUMPRODUCT((A$14:A425=A425)*(B$14:B425=B425)*(D$14:D425=D425))>1,0,1)","v":0},1,1,{"$f":"IF(ISBLANK(G425),1,IFERROR(VLOOKUP(G425,Tipo!$C$12:$C$27,1,FALSE),\"NO\"))","v":1},1,{"$f":"IF(ISBLANK(K425),1,IFERROR(VLOOKUP(K425,Eje_Pilar_Prop!C407:C508,1,FALSE),\"NO\"))","v":1},1,1,1]
[null,null,null,null,null,null,null,null,null,null,null,{"$f":"IF(ISERROR(VLOOKUP(K426,Eje_Pilar_Prop!$C$2:$E$104,2,FALSE)),\" \",VLOOKUP(K426,Eje_Pilar_Prop!$C$2:$E$104,2,FALSE))","v":" "},{"$f":"IF(ISERROR(VLOOKUP(K426,Eje_Pilar_Prop!$C$2:$E$104,3,FALSE)),\" \",VLOOKUP(K426,Eje_Pilar_Prop!$C$2:$E$104,3,FALSE))","v":" "},null,null,null,null,null,null,null,null,0,null,null,null,null,null,null,null,null,null,null,null,null,null,null,null,"-",null,{"$f":"IF(SUMPRODUCT((A$14:A426=A426)*(B$14:B426=B426)*(D$14:D426=D426))>1,0,1)","v":0},1,1,{"$f":"IF(ISBLANK(G426),1,IFERROR(VLOOKUP(G426,Tipo!$C$12:$C$27,1,FALSE),\"NO\"))","v":1},1,{"$f":"IF(ISBLANK(K426),1,IFERROR(VLOOKUP(K426,Eje_Pilar_Prop!C408:C509,1,FALSE),\"NO\"))","v":1},1,1,1]
[null,null,null,null,null,null,null,null,null,null,null,{"$f":"IF(ISERROR(VLOOKUP(K427,Eje_Pilar_Prop!$C$2:$E$104,2,FALSE)),\" \",VLOOKUP(K427,Eje_Pilar_Prop!$C$2:$E$104,2,FALSE))","v":" "},{"$f":"IF(ISERROR(VLOOKUP(K427,Eje_Pilar_Prop!$C$2:$E$104,3,FALSE)),\" \",VLOOKUP(K427,Eje_Pilar_Prop!$C$2:$E$104,3,FALSE))","v":" "},null,null,null,null,null,null,null,null,0,null,null,null,null,null,null,null,null,null,null,null,null,null,null,null,"-",null,{"$f":"IF(SUMPRODUCT((A$14:A427=A427)*(B$14:B427=B427)*(D$14:D427=D427))>1,0,1)","v":0},1,1,{"$f":"IF(ISBLANK(G427),1,IFERROR(VLOOKUP(G427,Tipo!$C$12:$C$27,1,FALSE),\"NO\"))","v":1},1,{"$f":"IF(ISBLANK(K427),1,IFERROR(VLOOKUP(K427,Eje_Pilar_Prop!C409:C510,1,FALSE),\"NO\"))","v":1},1,1,1]
[null,null,null,null,null,null,null,null,null,null,null,{"$f":"IF(ISERROR(VLOOKUP(K428,Eje_Pilar_Prop!$C$2:$E$104,2,FALSE)),\" \",VLOOKUP(K428,Eje_Pilar_Prop!$C$2:$E$104,2,FALSE))","v":" "},{"$f":"IF(ISERROR(VLOOKUP(K428,Eje_Pilar_Prop!$C$2:$E$104,3,FALSE)),\" \",VLOOKUP(K428,Eje_Pilar_Prop!$C$2:$E$104,3,FALSE))","v":" "},null,null,null,null,null,null,null,null,0,null,null,null,null,null,null,null,null,null,null,null,null,null,null,null,"-",null,{"$f":"IF(SUMPRODUCT((A$14:A428=A428)*(B$14:B428=B428)*(D$14:D428=D428))>1,0,1)","v":0},1,1,{"$f":"IF(ISBLANK(G428),1,IFERROR(VLOOKUP(G428,Tipo!$C$12:$C$27,1,FALSE),\"NO\"))","v":1},1,{"$f":"IF(ISBLANK(K428),1,IFERROR(VLOOKUP(K428,Eje_Pilar_Prop!C410:C511,1,FALSE),\"NO\"))","v":1},1,1,1]
[null,null,null,null,null,null,null,null,null,null,null,{"$f":"IF(ISERROR(VLOOKUP(K429,Eje_Pilar_Prop!$C$2:$E$104,2,FALSE)),\" \",VLOOKUP(K429,Eje_Pilar_Prop!$C$2:$E$104,2,FALSE))","v":" "},{"$f":"IF(ISERROR(VLOOKUP(K429,Eje_Pilar_Prop!$C$2:$E$104,3,FALSE)),\" \",VLOOKUP(K429,Eje_Pilar_Prop!$C$2:$E$104,3,FALSE))","v":" "},null,null,null,null,null,null,null,null,0,null,null,null,null,null,null,null,null,null,null,null,null,null,null,null,"-",null,{"$f":"IF(SUMPRODUCT((A$14:A429=A429)*(B$14:B429=B429)*(D$14:D429=D429))>1,0,1)","v":0},1,1,{"$f":"IF(ISBLANK(G429),1,IFERROR(VLOOKUP(G429,Tipo!$C$12:$C$27,1,FALSE),\"NO\"))","v":1},1,{"$f":"IF(ISBLANK(K429),1,IFERROR(VLOOKUP(K429,Eje_Pilar_Prop!C411:C512,1,FALSE),\"NO\"))","v":1},1,1,1]
[null,null,null,null,null,null,null,null,null,null,null,{"$f":"IF(ISERROR(VLOOKUP(K430,Eje_Pilar_Prop!$C$2:$E$104,2,FALSE)),\" \",VLOOKUP(K430,Eje_Pilar_Prop!$C$2:$E$104,2,FALSE))","v":" "},{"$f":"IF(ISERROR(VLOOKUP(K430,Eje_Pilar_Prop!$C$2:$E$104,3,FALSE)),\" \",VLOOKUP(K430,Eje_Pilar_Prop!$C$2:$E$104,3,FALSE))","v":" "},null,null,null,null,null,null,null,null,0,null,null,null,null,null,null,null,null,null,null,null,null,null,null,null,"-",null,{"$f":"IF(SUMPRODUCT((A$14:A430=A430)*(B$14:B430=B430)*(D$14:D430=D430))>1,0,1)","v":0},1,1,{"$f":"IF(ISBLANK(G430),1,IFERROR(VLOOKUP(G430,Tipo!$C$12:$C$27,1,FALSE),\"NO\"))","v":1},1,{"$f":"IF(ISBLANK(K430),1,IFERROR(VLOOKUP(K430,Eje_Pilar_Prop!C412:C513,1,FALSE),\"NO\"))","v":1},1,1,1]
[null,null,null,null,null,null,null,null,null,null,null,{"$f":"IF(ISERROR(VLOOKUP(K431,Eje_Pilar_Prop!$C$2:$E$104,2,FALSE)),\" \",VLOOKUP(K431,Eje_Pilar_Prop!$C$2:$E$104,2,FALSE))","v":" "},{"$f":"IF(ISERROR(VLOOKUP(K431,Eje_Pilar_Prop!$C$2:$E$104,3,FALSE)),\" \",VLOOKUP(K431,Eje_Pilar_Prop!$C$2:$E$104,3,FALSE))","v":" "},null,null,null,null,null,null,null,null,0,null,null,null,null,null,null,null,null,null,null,null,null,null,null,null,"-",null,{"$f":"IF(SUMPRODUCT((A$14:A431=A431)*(B$14:B431=B431)*(D$14:D431=D431))>1,0,1)","v":0},1,1,{"$f":"IF(ISBLANK(G431),1,IFERROR(VLOOKUP(G431,Tipo!$C$12:$C$27,1,FALSE),\"NO\"))","v":1},1,{"$f":"IF(ISBLANK(K431),1,IFERROR(VLOOKUP(K431,Eje_Pilar_Prop!C413:C514,1,FALSE),\"NO\"))","v":1},1,1,1]
[null,null,null,null,null,null,null,null,null,null,null,{"$f":"IF(ISERROR(VLOOKUP(K432,Eje_Pilar_Prop!$C$2:$E$104,2,FALSE)),\" \",VLOOKUP(K432,Eje_Pilar_Prop!$C$2:$E$104,2,FALSE))","v":" "},{"$f":"IF(ISERROR(VLOOKUP(K432,Eje_Pilar_Prop!$C$2:$E$104,3,FALSE)),\" \",VLOOKUP(K432,Eje_Pilar_Prop!$C$2:$E$104,3,FALSE))","v":" "},null,null,null,null,null,null,null,null,0,null,null,null,null,null,null,null,null,null,null,null,null,null,null,null,"-",null,{"$f":"IF(SUMPRODUCT((A$14:A432=A432)*(B$14:B432=B432)*(D$14:D432=D432))>1,0,1)","v":0},1,1,{"$f":"IF(ISBLANK(G432),1,IFERROR(VLOOKUP(G432,Tipo!$C$12:$C$27,1,FALSE),\"NO\"))","v":1},1,{"$f":"IF(ISBLANK(K432),1,IFERROR(VLOOKUP(K432,Eje_Pilar_Prop!C414:C515,1,FALSE),\"NO\"))","v":1},1,1,1]
[null,null,null,null,null,null,null,null,null,null,null,{"$f":"IF(ISERROR(VLOOKUP(K433,Eje_Pilar_Prop!$C$2:$E$104,2,FALSE)),\" \",VLOOKUP(K433,Eje_Pilar_Prop!$C$2:$E$104,2,FALSE))","v":" "},{"$f":"IF(ISERROR(VLOOKUP(K433,Eje_Pilar_Prop!$C$2:$E$104,3,FALSE)),\" \",VLOOKUP(K433,Eje_Pilar_Prop!$C$2:$E$104,3,FALSE))","v":" "},null,null,null,null,null,null,null,null,0,null,null,null,null,null,null,null,null,null,null,null,null,null,null,null,"-",null,{"$f":"IF(SUMPRODUCT((A$14:A433=A433)*(B$14:B433=B433)*(D$14:D433=D433))>1,0,1)","v":0},1,1,{"$f":"IF(ISBLANK(G433),1,IFERROR(VLOOKUP(G433,Tipo!$C$12:$C$27,1,FALSE),\"NO\"))","v":1},1,{"$f":"IF(ISBLANK(K433),1,IFERROR(VLOOKUP(K433,Eje_Pilar_Prop!C415:C516,1,FALSE),\"NO\"))","v":1},1,1,1]
[null,null,null,null,null,null,null,null,null,null,null,{"$f":"IF(ISERROR(VLOOKUP(K434,Eje_Pilar_Prop!$C$2:$E$104,2,FALSE)),\" \",VLOOKUP(K434,Eje_Pilar_Prop!$C$2:$E$104,2,FALSE))","v":" "},{"$f":"IF(ISERROR(VLOOKUP(K434,Eje_Pilar_Prop!$C$2:$E$104,3,FALSE)),\" \",VLOOKUP(K434,Eje_Pilar_Prop!$C$2:$E$104,3,FALSE))","v":" "},null,null,null,null,null,null,null,null,0,null,null,null,null,null,null,null,null,null,null,null,null,null,null,null,"-",null,{"$f":"IF(SUMPRODUCT((A$14:A434=A434)*(B$14:B434=B434)*(D$14:D434=D434))>1,0,1)","v":0},1,1,{"$f":"IF(ISBLANK(G434),1,IFERROR(VLOOKUP(G434,Tipo!$C$12:$C$27,1,FALSE),\"NO\"))","v":1},1,{"$f":"IF(ISBLANK(K434),1,IFERROR(VLOOKUP(K434,Eje_Pilar_Prop!C416:C517,1,FALSE),\"NO\"))","v":1},1,1,1]
[null,null,null,null,null,null,null,null,null,null,null,{"$f":"IF(ISERROR(VLOOKUP(K435,Eje_Pilar_Prop!$C$2:$E$104,2,FALSE)),\" \",VLOOKUP(K435,Eje_Pilar_Prop!$C$2:$E$104,2,FALSE))","v":" "},{"$f":"IF(ISERROR(VLOOKUP(K435,Eje_Pilar_Prop!$C$2:$E$104,3,FALSE)),\" \",VLOOKUP(K435,Eje_Pilar_Prop!$C$2:$E$104,3,FALSE))","v":" "},null,null,null,null,null,null,null,null,0,null,null,null,null,null,null,null,null,null,null,null,null,null,null,null,"-",null,{"$f":"IF(SUMPRODUCT((A$14:A435=A435)*(B$14:B435=B435)*(D$14:D435=D435))>1,0,1)","v":0},1,1,{"$f":"IF(ISBLANK(G435),1,IFERROR(VLOOKUP(G435,Tipo!$C$12:$C$27,1,FALSE),\"NO\"))","v":1},1,{"$f":"IF(ISBLANK(K435),1,IFERROR(VLOOKUP(K435,Eje_Pilar_Prop!C417:C518,1,FALSE),\"NO\"))","v":1},1,1,1]
[null,null,null,null,null,null,null,null,null,null,null,{"$f":"IF(ISERROR(VLOOKUP(K436,Eje_Pilar_Prop!$C$2:$E$104,2,FALSE)),\" \",VLOOKUP(K436,Eje_Pilar_Prop!$C$2:$E$104,2,FALSE))","v":" "},{"$f":"IF(ISERROR(VLOOKUP(K436,Eje_Pilar_Prop!$C$2:$E$104,3,FALSE)),\" \",VLOOKUP(K436,Eje_Pilar_Prop!$C$2:$E$104,3,FALSE))","v":" "},null,null,null,null,null,null,null,null,0,null,null,null,null,null,null,null,null,null,null,null,null,null,null,null,"-",null,{"$f":"IF(SUMPRODUCT((A$14:A436=A436)*(B$14:B436=B436)*(D$14:D436=D436))>1,0,1)","v":0},1,1,{"$f":"IF(ISBLANK(G436),1,IFERROR(VLOOKUP(G436,Tipo!$C$12:$C$27,1,FALSE),\"NO\"))","v":1},1,{"$f":"IF(ISBLANK(K436),1,IFERROR(VLOOKUP(K436,Eje_Pilar_Prop!C418:C519,1,FALSE),\"NO\"))","v":1},1,1,1]
[null,null,null,null,null,null,null,null,null,null,null,{"$f":"IF(ISERROR(VLOOKUP(K437,Eje_Pilar_Prop!$C$2:$E$104,2,FALSE)),\" \",VLOOKUP(K437,Eje_Pilar_Prop!$C$2:$E$104,2,FALSE))","v":" "},{"$f":"IF(ISERROR(VLOOKUP(K437,Eje_Pilar_Prop!$C$2:$E$104,3,FALSE)),\" \",VLOOKUP(K437,Eje_Pilar_Prop!$C$2:$E$104,3,FALSE))","v":" "},null,null,null,null,null,null,null,null,0,null,null,null,null,null,null,null,null,null,null,null,null,null,null,null,"-",null,{"$f":"IF(SUMPRODUCT((A$14:A437=A437)*(B$14:B437=B437)*(D$14:D437=D437))>1,0,1)","v":0},1,1,{"$f":"IF(ISBLANK(G437),1,IFERROR(VLOOKUP(G437,Tipo!$C$12:$C$27,1,FALSE),\"NO\"))","v":1},1,{"$f":"IF(ISBLANK(K437),1,IFERROR(VLOOKUP(K437,Eje_Pilar_Prop!C419:C520,1,FALSE),\"NO\"))","v":1},1,1,1]
[null,null,null,null,null,null,null,null,null,null,null,{"$f":"IF(ISERROR(VLOOKUP(K438,Eje_Pilar_Prop!$C$2:$E$104,2,FALSE)),\" \",VLOOKUP(K438,Eje_Pilar_Prop!$C$2:$E$104,2,FALSE))","v":" "},{"$f":"IF(ISERROR(VLOOKUP(K438,Eje_Pilar_Prop!$C$2:$E$104,3,FALSE)),\" \",VLOOKUP(K438,Eje_Pilar_Prop!$C$2:$E$104,3,FALSE))","v":" "},null,null,null,null,null,null,null,null,0,null,null,null,null,null,null,null,null,null,null,null,null,null,null,null,"-",null,{"$f":"IF(SUMPRODUCT((A$14:A438=A438)*(B$14:B438=B438)*(D$14:D438=D438))>1,0,1)","v":0},1,1,{"$f":"IF(ISBLANK(G438),1,IFERROR(VLOOKUP(G438,Tipo!$C$12:$C$27,1,FALSE),\"NO\"))","v":1},1,{"$f":"IF(ISBLANK(K438),1,IFERROR(VLOOKUP(K438,Eje_Pilar_Prop!C420:C521,1,FALSE),\"NO\"))","v":1},1,1,1]
[null,null,null,null,null,null,null,null,null,null,null,{"$f":"IF(ISERROR(VLOOKUP(K439,Eje_Pilar_Prop!$C$2:$E$104,2,FALSE)),\" \",VLOOKUP(K439,Eje_Pilar_Prop!$C$2:$E$104,2,FALSE))","v":" "},{"$f":"IF(ISERROR(VLOOKUP(K439,Eje_Pilar_Prop!$C$2:$E$104,3,FALSE)),\" \",VLOOKUP(K439,Eje_Pilar_Prop!$C$2:$E$104,3,FALSE))","v":" "},null,null,null,null,null,null,null,null,0,null,null,null,null,null,null,null,null,null,null,null,null,null,null,null,"-",null,{"$f":"IF(SUMPRODUCT((A$14:A439=A439)*(B$14:B439=B439)*(D$14:D439=D439))>1,0,1)","v":0},1,1,{"$f":"IF(ISBLANK(G439),1,IFERROR(VLOOKUP(G439,Tipo!$C$12:$C$27,1,FALSE),\"NO\"))","v":1},1,{"$f":"IF(ISBLANK(K439),1,IFERROR(VLOOKUP(K439,Eje_Pilar_Prop!C421:C522,1,FALSE),\"NO\"))","v":1},1,1,1]
[null,null,null,null,null,null,null,null,null,null,null,{"$f":"IF(ISERROR(VLOOKUP(K440,Eje_Pilar_Prop!$C$2:$E$104,2,FALSE)),\" \",VLOOKUP(K440,Eje_Pilar_Prop!$C$2:$E$104,2,FALSE))","v":" "},{"$f":"IF(ISERROR(VLOOKUP(K440,Eje_Pilar_Prop!$C$2:$E$104,3,FALSE)),\" \",VLOOKUP(K440,Eje_Pilar_Prop!$C$2:$E$104,3,FALSE))","v":" "},null,null,null,null,null,null,null,null,0,null,null,null,null,null,null,null,null,null,null,null,null,null,null,null,"-",null,{"$f":"IF(SUMPRODUCT((A$14:A440=A440)*(B$14:B440=B440)*(D$14:D440=D440))>1,0,1)","v":0},1,1,{"$f":"IF(ISBLANK(G440),1,IFERROR(VLOOKUP(G440,Tipo!$C$12:$C$27,1,FALSE),\"NO\"))","v":1},1,{"$f":"IF(ISBLANK(K440),1,IFERROR(VLOOKUP(K440,Eje_Pilar_Prop!C422:C523,1,FALSE),\"NO\"))","v":1},1,1,1]
[null,null,null,null,null,null,null,null,null,null,null,{"$f":"IF(ISERROR(VLOOKUP(K441,Eje_Pilar_Prop!$C$2:$E$104,2,FALSE)),\" \",VLOOKUP(K441,Eje_Pilar_Prop!$C$2:$E$104,2,FALSE))","v":" "},{"$f":"IF(ISERROR(VLOOKUP(K441,Eje_Pilar_Prop!$C$2:$E$104,3,FALSE)),\" \",VLOOKUP(K441,Eje_Pilar_Prop!$C$2:$E$104,3,FALSE))","v":" "},null,null,null,null,null,null,null,null,0,null,null,null,null,null,null,null,null,null,null,null,null,null,null,null,"-",null,{"$f":"IF(SUMPRODUCT((A$14:A441=A441)*(B$14:B441=B441)*(D$14:D441=D441))>1,0,1)","v":0},1,1,{"$f":"IF(ISBLANK(G441),1,IFERROR(VLOOKUP(G441,Tipo!$C$12:$C$27,1,FALSE),\"NO\"))","v":1},1,{"$f":"IF(ISBLANK(K441),1,IFERROR(VLOOKUP(K441,Eje_Pilar_Prop!C423:C524,1,FALSE),\"NO\"))","v":1},1,1,1]
[null,null,null,null,null,null,null,null,null,null,null,{"$f":"IF(ISERROR(VLOOKUP(K442,Eje_Pilar_Prop!$C$2:$E$104,2,FALSE)),\" \",VLOOKUP(K442,Eje_Pilar_Prop!$C$2:$E$104,2,FALSE))","v":" "},{"$f":"IF(ISERROR(VLOOKUP(K442,Eje_Pilar_Prop!$C$2:$E$104,3,FALSE)),\" \",VLOOKUP(K442,Eje_Pilar_Prop!$C$2:$E$104,3,FALSE))","v":" "},null,null,null,null,null,null,null,null,0,null,null,null,null,null,null,null,null,null,null,null,null,null,null,null,"-",null,{"$f":"IF(SUMPRODUCT((A$14:A442=A442)*(B$14:B442=B442)*(D$14:D442=D442))>1,0,1)","v":0},1,1,{"$f":"IF(ISBLANK(G442),1,IFERROR(VLOOKUP(G442,Tipo!$C$12:$C$27,1,FALSE),\"NO\"))","v":1},1,{"$f":"IF(ISBLANK(K442),1,IFERROR(VLOOKUP(K442,Eje_Pilar_Prop!C424:C525,1,FALSE),\"NO\"))","v":1},1,1,1]
[null,null,null,null,null,null,null,null,null,null,null,{"$f":"IF(ISERROR(VLOOKUP(K443,Eje_Pilar_Prop!$C$2:$E$104,2,FALSE)),\" \",VLOOKUP(K443,Eje_Pilar_Prop!$C$2:$E$104,2,FALSE))","v":" "},{"$f":"IF(ISERROR(VLOOKUP(K443,Eje_Pilar_Prop!$C$2:$E$104,3,FALSE)),\" \",VLOOKUP(K443,Eje_Pilar_Prop!$C$2:$E$104,3,FALSE))","v":" "},null,null,null,null,null,null,null,null,0,null,null,null,null,null,null,null,null,null,null,null,null,null,null,null,"-",null,{"$f":"IF(SUMPRODUCT((A$14:A443=A443)*(B$14:B443=B443)*(D$14:D443=D443))>1,0,1)","v":0},1,1,{"$f":"IF(ISBLANK(G443),1,IFERROR(VLOOKUP(G443,Tipo!$C$12:$C$27,1,FALSE),\"NO\"))","v":1},1,{"$f":"IF(ISBLANK(K443),1,IFERROR(VLOOKUP(K443,Eje_Pilar_Prop!C425:C526,1,FALSE),\"NO\"))","v":1},1,1,1]
[null,null,null,null,null,null,null,null,null,null,null,{"$f":"IF(ISERROR(VLOOKUP(K444,Eje_Pilar_Prop!$C$2:$E$104,2,FALSE)),\" \",VLOOKUP(K444,Eje_Pilar_Prop!$C$2:$E$104,2,FALSE))","v":" "},{"$f":"IF(ISERROR(VLOOKUP(K444,Eje_Pilar_Prop!$C$2:$E$104,3,FALSE)),\" \",VLOOKUP(K444,Eje_Pilar_Prop!$C$2:$E$104,3,FALSE))","v":" "},null,null,null,null,null,null,null,null,0,null,null,null,null,null,null,null,null,null,null,null,null,null,null,null,"-",null,{"$f":"IF(SUMPRODUCT((A$14:A444=A444)*(B$14:B444=B444)*(D$14:D444=D444))>1,0,1)","v":0},1,1,{"$f":"IF(ISBLANK(G444),1,IFERROR(VLOOKUP(G444,Tipo!$C$12:$C$27,1,FALSE),\"NO\"))","v":1},1,{"$f":"IF(ISBLANK(K444),1,IFERROR(VLOOKUP(K444,Eje_Pilar_Prop!C426:C527,1,FALSE),\"NO\"))","v":1},1,1,1]
[null,null,null,null,null,null,null,null,null,null,null,{"$f":"IF(ISERROR(VLOOKUP(K445,Eje_Pilar_Prop!$C$2:$E$104,2,FALSE)),\" \",VLOOKUP(K445,Eje_Pilar_Prop!$C$2:$E$104,2,FALSE))","v":" "},{"$f":"IF(ISERROR(VLOOKUP(K445,Eje_Pilar_Prop!$C$2:$E$104,3,FALSE)),\" \",VLOOKUP(K445,Eje_Pilar_Prop!$C$2:$E$104,3,FALSE))","v":" "},null,null,null,null,null,null,null,null,0,null,null,null,null,null,null,null,null,null,null,null,null,null,null,null,"-",null,{"$f":"IF(SUMPRODUCT((A$14:A445=A445)*(B$14:B445=B445)*(D$14:D445=D445))>1,0,1)","v":0},1,1,{"$f":"IF(ISBLANK(G445),1,IFERROR(VLOOKUP(G445,Tipo!$C$12:$C$27,1,FALSE),\"NO\"))","v":1},1,{"$f":"IF(ISBLANK(K445),1,IFERROR(VLOOKUP(K445,Eje_Pilar_Prop!C427:C528,1,FALSE),\"NO\"))","v":1},1,1,1]
[null,null,null,null,null,null,null,null,null,null,null,{"$f":"IF(ISERROR(VLOOKUP(K446,Eje_Pilar_Prop!$C$2:$E$104,2,FALSE)),\" \",VLOOKUP(K446,Eje_Pilar_Prop!$C$2:$E$104,2,FALSE))","v":" "},{"$f":"IF(ISERROR(VLOOKUP(K446,Eje_Pilar_Prop!$C$2:$E$104,3,FALSE)),\" \",VLOOKUP(K446,Eje_Pilar_Prop!$C$2:$E$104,3,FALSE))","v":" "},null,null,null,null,null,null,null,null,0,null,null,null,null,null,null,null,null,null,null,null,null,null,null,null,"-",null,{"$f":"IF(SUMPRODUCT((A$14:A446=A446)*(B$14:B446=B446)*(D$14:D446=D446))>1,0,1)","v":0},1,1,{"$f":"IF(ISBLANK(G446),1,IFERROR(VLOOKUP(G446,Tipo!$C$12:$C$27,1,FALSE),\"NO\"))","v":1},1,{"$f":"IF(ISBLANK(K446),1,IFERROR(VLOOKUP(K446,Eje_Pilar_Prop!C428:C529,1,FALSE),\"NO\"))","v":1},1,1,1]
[null,null,null,null,null,null,null,null,null,null,null,{"$f":"IF(ISERROR(VLOOKUP(K447,Eje_Pilar_Prop!$C$2:$E$104,2,FALSE)),\" \",VLOOKUP(K447,Eje_Pilar_Prop!$C$2:$E$104,2,FALSE))","v":" "},{"$f":"IF(ISERROR(VLOOKUP(K447,Eje_Pilar_Prop!$C$2:$E$104,3,FALSE)),\" \",VLOOKUP(K447,Eje_Pilar_Prop!$C$2:$E$104,3,FALSE))","v":" "},null,null,null,null,null,null,null,null,0,null,null,null,null,null,null,null,null,null,null,null,null,null,null,null,"-",null,{"$f":"IF(SUMPRODUCT((A$14:A447=A447)*(B$14:B447=B447)*(D$14:D447=D447))>1,0,1)","v":0},1,1,{"$f":"IF(ISBLANK(G447),1,IFERROR(VLOOKUP(G447,Tipo!$C$12:$C$27,1,FALSE),\"NO\"))","v":1},1,{"$f":"IF(ISBLANK(K447),1,IFERROR(VLOOKUP(K447,Eje_Pilar_Prop!C429:C530,1,FALSE),\"NO\"))","v":1},1,1,1]
[null,null,null,null,null,null,null,null,null,null,null,{"$f":"IF(ISERROR(VLOOKUP(K448,Eje_Pilar_Prop!$C$2:$E$104,2,FALSE)),\" \",VLOOKUP(K448,Eje_Pilar_Prop!$C$2:$E$104,2,FALSE))","v":" "},{"$f":"IF(ISERROR(VLOOKUP(K448,Eje_Pilar_Prop!$C$2:$E$104,3,FALSE)),\" \",VLOOKUP(K448,Eje_Pilar_Prop!$C$2:$E$104,3,FALSE))","v":" "},null,null,null,null,null,null,null,null,0,null,null,null,null,null,null,null,null,null,null,null,null,null,null,null,"-",null,{"$f":"IF(SUMPRODUCT((A$14:A448=A448)*(B$14:B448=B448)*(D$14:D448=D448))>1,0,1)","v":0},1,1,{"$f":"IF(ISBLANK(G448),1,IFERROR(VLOOKUP(G448,Tipo!$C$12:$C$27,1,FALSE),\"NO\"))","v":1},1,{"$f":"IF(ISBLANK(K448),1,IFERROR(VLOOKUP(K448,Eje_Pilar_Prop!C430:C531,1,FALSE),\"NO\"))","v":1},1,1,1]
[null,null,null,null,null,null,null,null,null,null,null,{"$f":"IF(ISERROR(VLOOKUP(K449,Eje_Pilar_Prop!$C$2:$E$104,2,FALSE)),\" \",VLOOKUP(K449,Eje_Pilar_Prop!$C$2:$E$104,2,FALSE))","v":" "},{"$f":"IF(ISERROR(VLOOKUP(K449,Eje_Pilar_Prop!$C$2:$E$104,3,FALSE)),\" \",VLOOKUP(K449,Eje_Pilar_Prop!$C$2:$E$104,3,FALSE))","v":" "},null,null,null,null,null,null,null,null,0,null,null,null,null,null,null,null,null,null,null,null,null,null,null,null,"-",null,{"$f":"IF(SUMPRODUCT((A$14:A449=A449)*(B$14:B449=B449)*(D$14:D449=D449))>1,0,1)","v":0},1,1,{"$f":"IF(ISBLANK(G449),1,IFERROR(VLOOKUP(G449,Tipo!$C$12:$C$27,1,FALSE),\"NO\"))","v":1},1,{"$f":"IF(ISBLANK(K449),1,IFERROR(VLOOKUP(K449,Eje_Pilar_Prop!C431:C532,1,FALSE),\"NO\"))","v":1},1,1,1]
[null,null,null,null,null,null,null,null,null,null,null,{"$f":"IF(ISERROR(VLOOKUP(K450,Eje_Pilar_Prop!$C$2:$E$104,2,FALSE)),\" \",VLOOKUP(K450,Eje_Pilar_Prop!$C$2:$E$104,2,FALSE))","v":" "},{"$f":"IF(ISERROR(VLOOKUP(K450,Eje_Pilar_Prop!$C$2:$E$104,3,FALSE)),\" \",VLOOKUP(K450,Eje_Pilar_Prop!$C$2:$E$104,3,FALSE))","v":" "},null,null,null,null,null,null,null,null,0,null,null,null,null,null,null,null,null,null,null,null,null,null,null,null,"-",null,{"$f":"IF(SUMPRODUCT((A$14:A450=A450)*(B$14:B450=B450)*(D$14:D450=D450))>1,0,1)","v":0},1,1,{"$f":"IF(ISBLANK(G450),1,IFERROR(VLOOKUP(G450,Tipo!$C$12:$C$27,1,FALSE),\"NO\"))","v":1},1,{"$f":"IF(ISBLANK(K450),1,IFERROR(VLOOKUP(K450,Eje_Pilar_Prop!C432:C533,1,FALSE),\"NO\"))","v":1},1,1,1]
[null,null,null,null,null,null,null,null,null,null,null,{"$f":"IF(ISERROR(VLOOKUP(K451,Eje_Pilar_Prop!$C$2:$E$104,2,FALSE)),\" \",VLOOKUP(K451,Eje_Pilar_Prop!$C$2:$E$104,2,FALSE))","v":" "},{"$f":"IF(ISERROR(VLOOKUP(K451,Eje_Pilar_Prop!$C$2:$E$104,3,FALSE)),\" \",VLOOKUP(K451,Eje_Pilar_Prop!$C$2:$E$104,3,FALSE))","v":" "},null,null,null,null,null,null,null,null,0,null,null,null,null,null,null,null,null,null,null,null,null,null,null,null,"-",null,{"$f":"IF(SUMPRODUCT((A$14:A451=A451)*(B$14:B451=B451)*(D$14:D451=D451))>1,0,1)","v":0},1,1,{"$f":"IF(ISBLANK(G451),1,IFERROR(VLOOKUP(G451,Tipo!$C$12:$C$27,1,FALSE),\"NO\"))","v":1},1,{"$f":"IF(ISBLANK(K451),1,IFERROR(VLOOKUP(K451,Eje_Pilar_Prop!C433:C534,1,FALSE),\"NO\"))","v":1},1,1,1]
[null,null,null,null,null,null,null,null,null,null,null,{"$f":"IF(ISERROR(VLOOKUP(K452,Eje_Pilar_Prop!$C$2:$E$104,2,FALSE)),\" \",VLOOKUP(K452,Eje_Pilar_Prop!$C$2:$E$104,2,FALSE))","v":" "},{"$f":"IF(ISERROR(VLOOKUP(K452,Eje_Pilar_Prop!$C$2:$E$104,3,FALSE)),\" \",VLOOKUP(K452,Eje_Pilar_Prop!$C$2:$E$104,3,FALSE))","v":" "},null,null,null,null,null,null,null,null,0,null,null,null,null,null,null,null,null,null,null,null,null,null,null,null,"-",null,{"$f":"IF(SUMPRODUCT((A$14:A452=A452)*(B$14:B452=B452)*(D$14:D452=D452))>1,0,1)","v":0},1,1,{"$f":"IF(ISBLANK(G452),1,IFERROR(VLOOKUP(G452,Tipo!$C$12:$C$27,1,FALSE),\"NO\"))","v":1},1,{"$f":"IF(ISBLANK(K452),1,IFERROR(VLOOKUP(K452,Eje_Pilar_Prop!C434:C535,1,FALSE),\"NO\"))","v":1},1,1,1]
[null,null,null,null,null,null,null,null,null,null,null,{"$f":"IF(ISERROR(VLOOKUP(K453,Eje_Pilar_Prop!$C$2:$E$104,2,FALSE)),\" \",VLOOKUP(K453,Eje_Pilar_Prop!$C$2:$E$104,2,FALSE))","v":" "},{"$f":"IF(ISERROR(VLOOKUP(K453,Eje_Pilar_Prop!$C$2:$E$104,3,FALSE)),\" \",VLOOKUP(K453,Eje_Pilar_Prop!$C$2:$E$104,3,FALSE))","v":" "},null,null,null,null,null,null,null,null,0,null,null,null,null,null,null,null,null,null,null,null,null,null,null,null,"-",null,{"$f":"IF(SUMPRODUCT((A$14:A453=A453)*(B$14:B453=B453)*(D$14:D453=D453))>1,0,1)","v":0},1,1,{"$f":"IF(ISBLANK(G453),1,IFERROR(VLOOKUP(G453,Tipo!$C$12:$C$27,1,FALSE),\"NO\"))","v":1},1,{"$f":"IF(ISBLANK(K453),1,IFERROR(VLOOKUP(K453,Eje_Pilar_Prop!C435:C536,1,FALSE),\"NO\"))","v":1},1,1,1]
[null,null,null,null,null,null,null,null,null,null,null,{"$f":"IF(ISERROR(VLOOKUP(K454,Eje_Pilar_Prop!$C$2:$E$104,2,FALSE)),\" \",VLOOKUP(K454,Eje_Pilar_Prop!$C$2:$E$104,2,FALSE))","v":" "},{"$f":"IF(ISERROR(VLOOKUP(K454,Eje_Pilar_Prop!$C$2:$E$104,3,FALSE)),\" \",VLOOKUP(K454,Eje_Pilar_Prop!$C$2:$E$104,3,FALSE))","v":" "},null,null,null,null,null,null,null,null,0,null,null,null,null,null,null,null,null,null,null,null,null,null,null,null,"-",null,{"$f":"IF(SUMPRODUCT((A$14:A454=A454)*(B$14:B454=B454)*(D$14:D454=D454))>1,0,1)","v":0},1,1,{"$f":"IF(ISBLANK(G454),1,IFERROR(VLOOKUP(G454,Tipo!$C$12:$C$27,1,FALSE),\"NO\"))","v":1},1,{"$f":"IF(ISBLANK(K454),1,IFERROR(VLOOKUP(K454,Eje_Pilar_Prop!C436:C537,1,FALSE),\"NO\"))","v":1},1,1,1]
[null,null,null,null,null,null,null,null,null,null,null,{"$f":"IF(ISERROR(VLOOKUP(K455,Eje_Pilar_Prop!$C$2:$E$104,2,FALSE)),\" \",VLOOKUP(K455,Eje_Pilar_Prop!$C$2:$E$104,2,FALSE))","v":" "},{"$f":"IF(ISERROR(VLOOKUP(K455,Eje_Pilar_Prop!$C$2:$E$104,3,FALSE)),\" \",VLOOKUP(K455,Eje_Pilar_Prop!$C$2:$E$104,3,FALSE))","v":" "},null,null,null,null,null,null,null,null,0,null,null,null,null,null,null,null,null,null,null,null,null,null,null,null,"-",null,{"$f":"IF(SUMPRODUCT((A$14:A455=A455)*(B$14:B455=B455)*(D$14:D455=D455))>1,0,1)","v":0},1,1,{"$f":"IF(ISBLANK(G455),1,IFERROR(VLOOKUP(G455,Tipo!$C$12:$C$27,1,FALSE),\"NO\"))","v":1},1,{"$f":"IF(ISBLANK(K455),1,IFERROR(VLOOKUP(K455,Eje_Pilar_Prop!C437:C538,1,FALSE),\"NO\"))","v":1},1,1,1]
[null,null,null,null,null,null,null,null,null,null,null,{"$f":"IF(ISERROR(VLOOKUP(K456,Eje_Pilar_Prop!$C$2:$E$104,2,FALSE)),\" \",VLOOKUP(K456,Eje_Pilar_Prop!$C$2:$E$104,2,FALSE))","v":" "},{"$f":"IF(ISERROR(VLOOKUP(K456,Eje_Pilar_Prop!$C$2:$E$104,3,FALSE)),\" \",VLOOKUP(K456,Eje_Pilar_Prop!$C$2:$E$104,3,FALSE))","v":" "},null,null,null,null,null,null,null,null,0,null,null,null,null,null,null,null,null,null,null,null,null,null,null,null,"-",null,{"$f":"IF(SUMPRODUCT((A$14:A456=A456)*(B$14:B456=B456)*(D$14:D456=D456))>1,0,1)","v":0},1,1,{"$f":"IF(ISBLANK(G456),1,IFERROR(VLOOKUP(G456,Tipo!$C$12:$C$27,1,FALSE),\"NO\"))","v":1},1,{"$f":"IF(ISBLANK(K456),1,IFERROR(VLOOKUP(K456,Eje_Pilar_Prop!C438:C539,1,FALSE),\"NO\"))","v":1},1,1,1]
[null,null,null,null,null,null,null,null,null,null,null,{"$f":"IF(ISERROR(VLOOKUP(K457,Eje_Pilar_Prop!$C$2:$E$104,2,FALSE)),\" \",VLOOKUP(K457,Eje_Pilar_Prop!$C$2:$E$104,2,FALSE))","v":" "},{"$f":"IF(ISERROR(VLOOKUP(K457,Eje_Pilar_Prop!$C$2:$E$104,3,FALSE)),\" \",VLOOKUP(K457,Eje_Pilar_Prop!$C$2:$E$104,3,FALSE))","v":" "},null,null,null,null,null,null,null,null,0,null,null,null,null,null,null,null,null,null,null,null,null,null,null,null,"-",null,{"$f":"IF(SUMPRODUCT((A$14:A457=A457)*(B$14:B457=B457)*(D$14:D457=D457))>1,0,1)","v":0},1,1,{"$f":"IF(ISBLANK(G457),1,IFERROR(VLOOKUP(G457,Tipo!$C$12:$C$27,1,FALSE),\"NO\"))","v":1},1,{"$f":"IF(ISBLANK(K457),1,IFERROR(VLOOKUP(K457,Eje_Pilar_Prop!C439:C540,1,FALSE),\"NO\"))","v":1},1,1,1]
[null,null,null,null,null,null,null,null,null,null,null,{"$f":"IF(ISERROR(VLOOKUP(K458,Eje_Pilar_Prop!$C$2:$E$104,2,FALSE)),\" \",VLOOKUP(K458,Eje_Pilar_Prop!$C$2:$E$104,2,FALSE))","v":" "},{"$f":"IF(ISERROR(VLOOKUP(K458,Eje_Pilar_Prop!$C$2:$E$104,3,FALSE)),\" \",VLOOKUP(K458,Eje_Pilar_Prop!$C$2:$E$104,3,FALSE))","v":" "},null,null,null,null,null,null,null,null,0,null,null,null,null,null,null,null,null,null,null,null,null,null,null,null,"-",null,{"$f":"IF(SUMPRODUCT((A$14:A458=A458)*(B$14:B458=B458)*(D$14:D458=D458))>1,0,1)","v":0},1,1,{"$f":"IF(ISBLANK(G458),1,IFERROR(VLOOKUP(G458,Tipo!$C$12:$C$27,1,FALSE),\"NO\"))","v":1},1,{"$f":"IF(ISBLANK(K458),1,IFERROR(VLOOKUP(K458,Eje_Pilar_Prop!C440:C541,1,FALSE),\"NO\"))","v":1},1,1,1]
[null,null,null,null,null,null,null,null,null,null,null,{"$f":"IF(ISERROR(VLOOKUP(K459,Eje_Pilar_Prop!$C$2:$E$104,2,FALSE)),\" \",VLOOKUP(K459,Eje_Pilar_Prop!$C$2:$E$104,2,FALSE))","v":" "},{"$f":"IF(ISERROR(VLOOKUP(K459,Eje_Pilar_Prop!$C$2:$E$104,3,FALSE)),\" \",VLOOKUP(K459,Eje_Pilar_Prop!$C$2:$E$104,3,FALSE))","v":" "},null,null,null,null,null,null,null,null,0,null,null,null,null,null,null,null,null,null,null,null,null,null,null,null,"-",null,{"$f":"IF(SUMPRODUCT((A$14:A459=A459)*(B$14:B459=B459)*(D$14:D459=D459))>1,0,1)","v":0},1,1,{"$f":"IF(ISBLANK(G459),1,IFERROR(VLOOKUP(G459,Tipo!$C$12:$C$27,1,FALSE),\"NO\"))","v":1},1,{"$f":"IF(ISBLANK(K459),1,IFERROR(VLOOKUP(K459,Eje_Pilar_Prop!C441:C542,1,FALSE),\"NO\"))","v":1},1,1,1]
[null,null,null,null,null,null,null,null,null,null,null,{"$f":"IF(ISERROR(VLOOKUP(K460,Eje_Pilar_Prop!$C$2:$E$104,2,FALSE)),\" \",VLOOKUP(K460,Eje_Pilar_Prop!$C$2:$E$104,2,FALSE))","v":" "},{"$f":"IF(ISERROR(VLOOKUP(K460,Eje_Pilar_Prop!$C$2:$E$104,3,FALSE)),\" \",VLOOKUP(K460,Eje_Pilar_Prop!$C$2:$E$104,3,FALSE))","v":" "},null,null,null,null,null,null,null,null,0,null,null,null,null,null,null,null,null,null,null,null,null,null,null,null,"-",null,{"$f":"IF(SUMPRODUCT((A$14:A460=A460)*(B$14:B460=B460)*(D$14:D460=D460))>1,0,1)","v":0},1,1,{"$f":"IF(ISBLANK(G460),1,IFERROR(VLOOKUP(G460,Tipo!$C$12:$C$27,1,FALSE),\"NO\"))","v":1},1,{"$f":"IF(ISBLANK(K460),1,IFERROR(VLOOKUP(K460,Eje_Pilar_Prop!C442:C543,1,FALSE),\"NO\"))","v":1},1,1,1]
[null,null,null,null,null,null,null,null,null,null,null,{"$f":"IF(ISERROR(VLOOKUP(K461,Eje_Pilar_Prop!$C$2:$E$104,2,FALSE)),\" \",VLOOKUP(K461,Eje_Pilar_Prop!$C$2:$E$104,2,FALSE))","v":" "},{"$f":"IF(ISERROR(VLOOKUP(K461,Eje_Pilar_Prop!$C$2:$E$104,3,FALSE)),\" \",VLOOKUP(K461,Eje_Pilar_Prop!$C$2:$E$104,3,FALSE))","v":" "},null,null,null,null,null,null,null,null,0,null,null,null,null,null,null,null,null,null,null,null,null,null,null,null,"-",null,{"$f":"IF(SUMPRODUCT((A$14:A461=A461)*(B$14:B461=B461)*(D$14:D461=D461))>1,0,1)","v":0},1,1,{"$f":"IF(ISBLANK(G461),1,IFERROR(VLOOKUP(G461,Tipo!$C$12:$C$27,1,FALSE),\"NO\"))","v":1},1,{"$f":"IF(ISBLANK(K461),1,IFERROR(VLOOKUP(K461,Eje_Pilar_Prop!C443:C544,1,FALSE),\"NO\"))","v":1},1,1,1]
[null,null,null,null,null,null,null,null,null,null,null,{"$f":"IF(ISERROR(VLOOKUP(K462,Eje_Pilar_Prop!$C$2:$E$104,2,FALSE)),\" \",VLOOKUP(K462,Eje_Pilar_Prop!$C$2:$E$104,2,FALSE))","v":" "},{"$f":"IF(ISERROR(VLOOKUP(K462,Eje_Pilar_Prop!$C$2:$E$104,3,FALSE)),\" \",VLOOKUP(K462,Eje_Pilar_Prop!$C$2:$E$104,3,FALSE))","v":" "},null,null,null,null,null,null,null,null,0,null,null,null,null,null,null,null,null,null,null,null,null,null,null,null,"-",null,{"$f":"IF(SUMPRODUCT((A$14:A462=A462)*(B$14:B462=B462)*(D$14:D462=D462))>1,0,1)","v":0},1,1,{"$f":"IF(ISBLANK(G462),1,IFERROR(VLOOKUP(G462,Tipo!$C$12:$C$27,1,FALSE),\"NO\"))","v":1},1,{"$f":"IF(ISBLANK(K462),1,IFERROR(VLOOKUP(K462,Eje_Pilar_Prop!C444:C545,1,FALSE),\"NO\"))","v":1},1,1,{"$f":"IF(ISBLANK(J462),1,IFERROR(VLOOKUP(J462,pdd,1,FALSE),\"NO\"))","v":1}]
[null,null,null,null,null,null,null,null,null,null,null,{"$f":"IF(ISERROR(VLOOKUP(K463,Eje_Pilar_Prop!$C$2:$E$104,2,FALSE)),\" \",VLOOKUP(K463,Eje_Pilar_Prop!$C$2:$E$104,2,FALSE))","v":" "},{"$f":"IF(ISERROR(VLOOKUP(K463,Eje_Pilar_Prop!$C$2:$E$104,3,FALSE)),\" \",VLOOKUP(K463,Eje_Pilar_Prop!$C$2:$E$104,3,FALSE))","v":" "},null,null,null,null,null,null,null,null,0,null,null,null,null,null,null,null,null,null,null,null,null,null,null,null,"-",null,{"$f":"IF(SUMPRODUCT((A$14:A463=A463)*(B$14:B463=B463)*(D$14:D463=D463))>1,0,1)","v":0},1,1,{"$f":"IF(ISBLANK(G463),1,IFERROR(VLOOKUP(G463,Tipo!$C$12:$C$27,1,FALSE),\"NO\"))","v":1},1,{"$f":"IF(ISBLANK(K463),1,IFERROR(VLOOKUP(K463,Eje_Pilar_Prop!C445:C546,1,FALSE),\"NO\"))","v":1},1,1,1]
[null,null,null,null,null,null,null,null,null,null,null,{"$f":"IF(ISERROR(VLOOKUP(K464,Eje_Pilar_Prop!$C$2:$E$104,2,FALSE)),\" \",VLOOKUP(K464,Eje_Pilar_Prop!$C$2:$E$104,2,FALSE))","v":" "},{"$f":"IF(ISERROR(VLOOKUP(K464,Eje_Pilar_Prop!$C$2:$E$104,3,FALSE)),\" \",VLOOKUP(K464,Eje_Pilar_Prop!$C$2:$E$104,3,FALSE))","v":" "},null,null,null,null,null,null,null,null,0,null,null,null,null,null,null,null,null,null,null,null,null,null,null,null,"-",null,{"$f":"IF(SUMPRODUCT((A$14:A464=A464)*(B$14:B464=B464)*(D$14:D464=D464))>1,0,1)","v":0},1,1,{"$f":"IF(ISBLANK(G464),1,IFERROR(VLOOKUP(G464,Tipo!$C$12:$C$27,1,FALSE),\"NO\"))","v":1},1,{"$f":"IF(ISBLANK(K464),1,IFERROR(VLOOKUP(K464,Eje_Pilar_Prop!C446:C547,1,FALSE),\"NO\"))","v":1},1,1,1]
[null,null,null,null,null,null,null,null,null,null,null,{"$f":"IF(ISERROR(VLOOKUP(K465,Eje_Pilar_Prop!$C$2:$E$104,2,FALSE)),\" \",VLOOKUP(K465,Eje_Pilar_Prop!$C$2:$E$104,2,FALSE))","v":" "},{"$f":"IF(ISERROR(VLOOKUP(K465,Eje_Pilar_Prop!$C$2:$E$104,3,FALSE)),\" \",VLOOKUP(K465,Eje_Pilar_Prop!$C$2:$E$104,3,FALSE))","v":" "},null,null,null,null,null,null,null,null,0,null,null,null,null,null,null,null,null,null,null,null,null,null,null,null,"-",null,{"$f":"IF(SUMPRODUCT((A$14:A465=A465)*(B$14:B465=B465)*(D$14:D465=D465))>1,0,1)","v":0},1,1,{"$f":"IF(ISBLANK(G465),1,IFERROR(VLOOKUP(G465,Tipo!$C$12:$C$27,1,FALSE),\"NO\"))","v":1},1,{"$f":"IF(ISBLANK(K465),1,IFERROR(VLOOKUP(K465,Eje_Pilar_Prop!C447:C548,1,FALSE),\"NO\"))","v":1},1,1,1]
[null,null,null,null,null,null,null,null,null,null,null,{"$f":"IF(ISERROR(VLOOKUP(K466,Eje_Pilar_Prop!$C$2:$E$104,2,FALSE)),\" \",VLOOKUP(K466,Eje_Pilar_Prop!$C$2:$E$104,2,FALSE))","v":" "},{"$f":"IF(ISERROR(VLOOKUP(K466,Eje_Pilar_Prop!$C$2:$E$104,3,FALSE)),\" \",VLOOKUP(K466,Eje_Pilar_Prop!$C$2:$E$104,3,FALSE))","v":" "},null,null,null,null,null,null,null,null,0,null,null,null,null,null,null,null,null,null,null,null,null,null,null,null,"-",null,{"$f":"IF(SUMPRODUCT((A$14:A466=A466)*(B$14:B466=B466)*(D$14:D466=D466))>1,0,1)","v":0},1,1,{"$f":"IF(ISBLANK(G466),1,IFERROR(VLOOKUP(G466,Tipo!$C$12:$C$27,1,FALSE),\"NO\"))","v":1},1,{"$f":"IF(ISBLANK(K466),1,IFERROR(VLOOKUP(K466,Eje_Pilar_Prop!C448:C549,1,FALSE),\"NO\"))","v":1},1,1,1]
[null,null,null,null,null,null,null,null,null,null,null,{"$f":"IF(ISERROR(VLOOKUP(K467,Eje_Pilar_Prop!$C$2:$E$104,2,FALSE)),\" \",VLOOKUP(K467,Eje_Pilar_Prop!$C$2:$E$104,2,FALSE))","v":" "},{"$f":"IF(ISERROR(VLOOKUP(K467,Eje_Pilar_Prop!$C$2:$E$104,3,FALSE)),\" \",VLOOKUP(K467,Eje_Pilar_Prop!$C$2:$E$104,3,FALSE))","v":" "},null,null,null,null,null,null,null,null,0,null,null,null,null,null,null,null,null,null,null,null,null,null,null,null,"-",null,{"$f":"IF(SUMPRODUCT((A$14:A467=A467)*(B$14:B467=B467)*(D$14:D467=D467))>1,0,1)","v":0},1,1,{"$f":"IF(ISBLANK(G467),1,IFERROR(VLOOKUP(G467,Tipo!$C$12:$C$27,1,FALSE),\"NO\"))","v":1},1,{"$f":"IF(ISBLANK(K467),1,IFERROR(VLOOKUP(K467,Eje_Pilar_Prop!C449:C550,1,FALSE),\"NO\"))","v":1},1,1,1]
[null,null,null,null,null,null,null,null,null,null,null,{"$f":"IF(ISERROR(VLOOKUP(K468,Eje_Pilar_Prop!$C$2:$E$104,2,FALSE)),\" \",VLOOKUP(K468,Eje_Pilar_Prop!$C$2:$E$104,2,FALSE))","v":" "},{"$f":"IF(ISERROR(VLOOKUP(K468,Eje_Pilar_Prop!$C$2:$E$104,3,FALSE)),\" \",VLOOKUP(K468,Eje_Pilar_Prop!$C$2:$E$104,3,FALSE))","v":" "},null,null,null,null,null,null,null,null,0,null,null,null,null,null,null,null,null,null,null,null,null,null,null,null,"-",null,{"$f":"IF(SUMPRODUCT((A$14:A468=A468)*(B$14:B468=B468)*(D$14:D468=D468))>1,0,1)","v":0},1,1,{"$f":"IF(ISBLANK(G468),1,IFERROR(VLOOKUP(G468,Tipo!$C$12:$C$27,1,FALSE),\"NO\"))","v":1},1,{"$f":"IF(ISBLANK(K468),1,IFERROR(VLOOKUP(K468,Eje_Pilar_Prop!C450:C551,1,FALSE),\"NO\"))","v":1},1,1,1]
[null,null,null,null,null,null,null,null,null,null,null,{"$f":"IF(ISERROR(VLOOKUP(K469,Eje_Pilar_Prop!$C$2:$E$104,2,FALSE)),\" \",VLOOKUP(K469,Eje_Pilar_Prop!$C$2:$E$104,2,FALSE))","v":" "},{"$f":"IF(ISERROR(VLOOKUP(K469,Eje_Pilar_Prop!$C$2:$E$104,3,FALSE)),\" \",VLOOKUP(K469,Eje_Pilar_Prop!$C$2:$E$104,3,FALSE))","v":" "},null,null,null,null,null,null,null,null,0,null,null,null,null,null,null,null,null,null,null,null,null,null,null,null,"-",null,{"$f":"IF(SUMPRODUCT((A$14:A469=A469)*(B$14:B469=B469)*(D$14:D469=D469))>1,0,1)","v":0},1,1,{"$f":"IF(ISBLANK(G469),1,IFERROR(VLOOKUP(G469,Tipo!$C$12:$C$27,1,FALSE),\"NO\"))","v":1},1,{"$f":"IF(ISBLANK(K469),1,IFERROR(VLOOKUP(K469,Eje_Pilar_Prop!C451:C552,1,FALSE),\"NO\"))","v":1},{"$f":"IF(ISBLANK(C469),1,IFERROR(VLOOKUP(C469,SECOP,1,FALSE),\"NO\"))","v":1},1,1]
[null,null,null,null,null,null,null,null,null,null,null,{"$f":"IF(ISERROR(VLOOKUP(K470,Eje_Pilar_Prop!$C$2:$E$104,2,FALSE)),\" \",VLOOKUP(K470,Eje_Pilar_Prop!$C$2:$E$104,2,FALSE))","v":" "},{"$f":"IF(ISERROR(VLOOKUP(K470,Eje_Pilar_Prop!$C$2:$E$104,3,FALSE)),\" \",VLOOKUP(K470,Eje_Pilar_Prop!$C$2:$E$104,3,FALSE))","v":" "},null,null,null,null,null,null,null,null,0,null,null,null,null,null,null,null,null,null,null,null,null,null,null,null,"-",null,{"$f":"IF(SUMPRODUCT((A$14:A470=A470)*(B$14:B470=B470)*(D$14:D470=D470))>1,0,1)","v":0},1,1,{"$f":"IF(ISBLANK(G470),1,IFERROR(VLOOKUP(G470,Tipo!$C$12:$C$27,1,FALSE),\"NO\"))","v":1},1,{"$f":"IF(ISBLANK(K470),1,IFERROR(VLOOKUP(K470,Eje_Pilar_Prop!C452:C553,1,FALSE),\"NO\"))","v":1},1,1,1]
[null,null,null,null,null,null,null,null,null,null,null,{"$f":"IF(ISERROR(VLOOKUP(K471,Eje_Pilar_Prop!$C$2:$E$104,2,FALSE)),\" \",VLOOKUP(K471,Eje_Pilar_Prop!$C$2:$E$104,2,FALSE))","v":" "},{"$f":"IF(ISERROR(VLOOKUP(K471,Eje_Pilar_Prop!$C$2:$E$104,3,FALSE)),\" \",VLOOKUP(K471,Eje_Pilar_Prop!$C$2:$E$104,3,FALSE))","v":" "},null,null,null,null,null,null,null,null,0,null,null,null,null,null,null,null,null,null,null,null,null,null,null,null,"-",null,{"$f":"IF(SUMPRODUCT((A$14:A471=A471)*(B$14:B471=B471)*(D$14:D471=D471))>1,0,1)","v":0},1,1,{"$f":"IF(ISBLANK(G471),1,IFERROR(VLOOKUP(G471,Tipo!$C$12:$C$27,1,FALSE),\"NO\"))","v":1},1,{"$f":"IF(ISBLANK(K471),1,IFERROR(VLOOKUP(K471,Eje_Pilar_Prop!C453:C554,1,FALSE),\"NO\"))","v":1},1,1,1]
[null,null,null,null,null,null,null,null,null,null,null,{"$f":"IF(ISERROR(VLOOKUP(K472,Eje_Pilar_Prop!$C$2:$E$104,2,FALSE)),\" \",VLOOKUP(K472,Eje_Pilar_Prop!$C$2:$E$104,2,FALSE))","v":" "},{"$f":"IF(ISERROR(VLOOKUP(K472,Eje_Pilar_Prop!$C$2:$E$104,3,FALSE)),\" \",VLOOKUP(K472,Eje_Pilar_Prop!$C$2:$E$104,3,FALSE))","v":" "},null,null,null,null,null,null,null,null,0,null,null,null,null,null,null,null,null,null,null,null,null,null,null,null,"-",null,{"$f":"IF(SUMPRODUCT((A$14:A472=A472)*(B$14:B472=B472)*(D$14:D472=D472))>1,0,1)","v":0},{"$f":"IF(ISBLANK(E472),1,IFERROR(VLOOKUP(E472,tipo,1,FALSE),\"NO\"))","v":1},{"$f":"IF(ISBLANK(F472),1,IFERROR(VLOOKUP(F472,modal,1,FALSE),\"NO\"))","v":1},{"$f":"IF(ISBLANK(G472),1,IFERROR(VLOOKUP(G472,Tipo!$C$12:$C$27,1,FALSE),\"NO\"))","v":1},{"$f":"IF(ISBLANK(I472),1,IFERROR(VLOOKUP(I472,afectacion,1,FALSE),\"NO\"))","v":1},{"$f":"IF(ISBLANK(K472),1,IFERROR(VLOOKUP(K472,Eje_Pilar_Prop!C454:C555,1,FALSE),\"NO\"))","v":1},1,1,1]
[null,null,null,null,null,null,null,null,null,null,null,{"$f":"IF(ISERROR(VLOOKUP(K473,Eje_Pilar_Prop!$C$2:$E$104,2,FALSE)),\" \",VLOOKUP(K473,Eje_Pilar_Prop!$C$2:$E$104,2,FALSE))","v":" "},{"$f":"IF(ISERROR(VLOOKUP(K473,Eje_Pilar_Prop!$C$2:$E$104,3,FALSE)),\" \",VLOOKUP(K473,Eje_Pilar_Prop!$C$2:$E$104,3,FALSE))","v":" "},null,null,null,null,null,null,null,null,0,null,null,null,null,null,null,null,null,null,null,null,null,null,null,null,"-",null,{"$f":"IF(SUMPRODUCT((A$14:A473=A473)*(B$14:B473=B473)*(D$14:D473=D473))>1,0,1)","v":0},1,1,{"$f":"IF(ISBLANK(G473),1,IFERROR(VLOOKUP(G473,Tipo!$C$12:$C$27,1,FALSE),\"NO\"))","v":1},1,{"$f":"IF(ISBLANK(K473),1,IFERROR(VLOOKUP(K473,Eje_Pilar_Prop!C455:C556,1,FALSE),\"NO\"))","v":1},1,1,1]
[null,null,null,null,null,null,null,null,null,null,null,{"$f":"IF(ISERROR(VLOOKUP(K474,Eje_Pilar_Prop!$C$2:$E$104,2,FALSE)),\" \",VLOOKUP(K474,Eje_Pilar_Prop!$C$2:$E$104,2,FALSE))","v":" "},{"$f":"IF(ISERROR(VLOOKUP(K474,Eje_Pilar_Prop!$C$2:$E$104,3,FALSE)),\" \",VLOOKUP(K474,Eje_Pilar_Prop!$C$2:$E$104,3,FALSE))","v":" "},null,null,null,null,null,null,null,null,0,null,null,null,null,null,null,null,null,null,null,null,null,null,null,null,"-",null,{"$f":"IF(SUMPRODUCT((A$14:A474=A474)*(B$14:B474=B474)*(D$14:D474=D474))>1,0,1)","v":0},1,1,{"$f":"IF(ISBLANK(G474),1,IFERROR(VLOOKUP(G474,Tipo!$C$12:$C$27,1,FALSE),\"NO\"))","v":1},1,{"$f":"IF(ISBLANK(K474),1,IFERROR(VLOOKUP(K474,Eje_Pilar_Prop!C456:C557,1,FALSE),\"NO\"))","v":1},1,1,1]
[null,null,null,null,null,null,null,null,null,null,null,{"$f":"IF(ISERROR(VLOOKUP(K475,Eje_Pilar_Prop!$C$2:$E$104,2,FALSE)),\" \",VLOOKUP(K475,Eje_Pilar_Prop!$C$2:$E$104,2,FALSE))","v":" "},{"$f":"IF(ISERROR(VLOOKUP(K475,Eje_Pilar_Prop!$C$2:$E$104,3,FALSE)),\" \",VLOOKUP(K475,Eje_Pilar_Prop!$C$2:$E$104,3,FALSE))","v":" "},null,null,null,null,null,null,null,null,0,null,null,null,null,null,null,null,null,null,null,null,null,null,null,null,"-",null,{"$f":"IF(SUMPRODUCT((A$14:A475=A475)*(B$14:B475=B475)*(D$14:D475=D475))>1,0,1)","v":0},1,1,{"$f":"IF(ISBLANK(G475),1,IFERROR(VLOOKUP(G475,Tipo!$C$12:$C$27,1,FALSE),\"NO\"))","v":1},1,{"$f":"IF(ISBLANK(K475),1,IFERROR(VLOOKUP(K475,Eje_Pilar_Prop!C457:C558,1,FALSE),\"NO\"))","v":1},1,1,1]
[null,null,null,null,null,null,null,null,null,null,null,{"$f":"IF(ISERROR(VLOOKUP(K476,Eje_Pilar_Prop!$C$2:$E$104,2,FALSE)),\" \",VLOOKUP(K476,Eje_Pilar_Prop!$C$2:$E$104,2,FALSE))","v":" "},{"$f":"IF(ISERROR(VLOOKUP(K476,Eje_Pilar_Prop!$C$2:$E$104,3,FALSE)),\" \",VLOOKUP(K476,Eje_Pilar_Prop!$C$2:$E$104,3,FALSE))","v":" "},null,null,null,null,null,null,null,null,0,null,null,null,null,null,null,null,null,null,null,null,null,null,null,null,"-",null,{"$f":"IF(SUMPRODUCT((A$14:A476=A476)*(B$14:B476=B476)*(D$14:D476=D476))>1,0,1)","v":0},1,1,{"$f":"IF(ISBLANK(G476),1,IFERROR(VLOOKUP(G476,Tipo!$C$12:$C$27,1,FALSE),\"NO\"))","v":1},1,{"$f":"IF(ISBLANK(K476),1,IFERROR(VLOOKUP(K476,Eje_Pilar_Prop!C458:C559,1,FALSE),\"NO\"))","v":1},1,{"$f":"IF(OR(YEAR(X476)=2020,ISBLANK(X476)),1,\"NO\")","v":1},1]
[null,null,null,null,null,null,null,null,null,null,null,{"$f":"IF(ISERROR(VLOOKUP(K477,Eje_Pilar_Prop!$C$2:$E$104,2,FALSE)),\" \",VLOOKUP(K477,Eje_Pilar_Prop!$C$2:$E$104,2,FALSE))","v":" "},{"$f":"IF(ISERROR(VLOOKUP(K477,Eje_Pilar_Prop!$C$2:$E$104,3,FALSE)),\" \",VLOOKUP(K477,Eje_Pilar_Prop!$C$2:$E$104,3,FALSE))","v":" "},null,null,null,null,null,null,null,null,0,null,null,null,null,null,null,null,null,null,null,null,null,null,null,null,"-",null,{"$f":"IF(SUMPRODUCT((A$14:A477=A477)*(B$14:B477=B477)*(D$14:D477=D477))>1,0,1)","v":0},1,1,{"$f":"IF(ISBLANK(G477),1,IFERROR(VLOOKUP(G477,Tipo!$C$12:$C$27,1,FALSE),\"NO\"))","v":1},1,{"$f":"IF(ISBLANK(K477),1,IFERROR(VLOOKUP(K477,Eje_Pilar_Prop!C459:C560,1,FALSE),\"NO\"))","v":1},1,1,1]
[null,null,null,null,null,null,null,null,null,null,null,{"$f":"IF(ISERROR(VLOOKUP(K478,Eje_Pilar_Prop!$C$2:$E$104,2,FALSE)),\" \",VLOOKUP(K478,Eje_Pilar_Prop!$C$2:$E$104,2,FALSE))","v":" "},{"$f":"IF(ISERROR(VLOOKUP(K478,Eje_Pilar_Prop!$C$2:$E$104,3,FALSE)),\" \",VLOOKUP(K478,Eje_Pilar_Prop!$C$2:$E$104,3,FALSE))","v":" "},null,null,null,null,null,null,null,null,0,null,null,null,null,null,null,null,null,null,null,null,null,null,null,null,{"$f":"IF(ISERROR(W478/V478),\"-\",(W478/V478))","v":"-"},null,{"$f":"IF(SUMPRODUCT((A$14:A478=A478)*(B$14:B478=B478)*(D$14:D478=D478))>1,0,1)","v":0},1,1,{"$f":"IF(ISBLANK(G478),1,IFERROR(VLOOKUP(G478,Tipo!$C$12:$C$27,1,FALSE),\"NO\"))","v":1},1,{"$f":"IF(ISBLANK(K478),1,IFERROR(VLOOKUP(K478,Eje_Pilar_Prop!C460:C561,1,FALSE),\"NO\"))","v":1},1,1,1]
[null,null,null,null,null,null,null,null,null,null,null,{"$f":"IF(ISERROR(VLOOKUP(K479,Eje_Pilar_Prop!$C$2:$E$104,2,FALSE)),\" \",VLOOKUP(K479,Eje_Pilar_Prop!$C$2:$E$104,2,FALSE))","v":" "},{"$f":"IF(ISERROR(VLOOKUP(K479,Eje_Pilar_Prop!$C$2:$E$104,3,FALSE)),\" \",VLOOKUP(K479,Eje_Pilar_Prop!$C$2:$E$104,3,FALSE))","v":" "},null,null,null,null,null,null,null,null,{"$f":"+Q479+S479+U479","v":0},null,null,null,null,null,null,null,null,null,null,null,null,null,null,null,"-",null,{"$f":"IF(SUMPRODUCT((A$14:A479=A479)*(B$14:B479=B479)*(D$14:D479=D479))>1,0,1)","v":0},1,1,{"$f":"IF(ISBLANK(G479),1,IFERROR(VLOOKUP(G479,Tipo!$C$12:$C$27,1,FALSE),\"NO\"))","v":1},1,{"$f":"IF(ISBLANK(K479),1,IFERROR(VLOOKUP(K479,Eje_Pilar_Prop!C461:C562,1,FALSE),\"NO\"))","v":1},1,1,1]
[null,null,null,null,null,null,null,null,null,null,null,{"$f":"IF(ISERROR(VLOOKUP(K480,Eje_Pilar_Prop!$C$2:$E$104,2,FALSE)),\" \",VLOOKUP(K480,Eje_Pilar_Prop!$C$2:$E$104,2,FALSE))","v":" "},{"$f":"IF(ISERROR(VLOOKUP(K480,Eje_Pilar_Prop!$C$2:$E$104,3,FALSE)),\" \",VLOOKUP(K480,Eje_Pilar_Prop!$C$2:$E$104,3,FALSE))","v":" "},null,null,null,null,null,null,null,null,0,null,null,null,null,null,null,null,null,null,null,null,null,null,null,null,"-",null,{"$f":"IF(SUMPRODUCT((A$14:A480=A480)*(B$14:B480=B480)*(D$14:D480=D480))>1,0,1)","v":0},1,1,{"$f":"IF(ISBLANK(G480),1,IFERROR(VLOOKUP(G480,Tipo!$C$12:$C$27,1,FALSE),\"NO\"))","v":1},1,{"$f":"IF(ISBLANK(K480),1,IFERROR(VLOOKUP(K480,Eje_Pilar_Prop!C462:C563,1,FALSE),\"NO\"))","v":1},1,1,1]
[null,null,null,null,null,null,null,null,null,null,null,{"$f":"IF(ISERROR(VLOOKUP(K481,Eje_Pilar_Prop!$C$2:$E$104,2,FALSE)),\" \",VLOOKUP(K481,Eje_Pilar_Prop!$C$2:$E$104,2,FALSE))","v":" "},{"$f":"IF(ISERROR(VLOOKUP(K481,Eje_Pilar_Prop!$C$2:$E$104,3,FALSE)),\" \",VLOOKUP(K481,Eje_Pilar_Prop!$C$2:$E$104,3,FALSE))","v":" "},null,null,null,null,null,null,null,null,0,null,null,null,null,null,null,null,null,null,null,null,null,null,null,null,"-",null,{"$f":"IF(SUMPRODUCT((A$14:A481=A481)*(B$14:B481=B481)*(D$14:D481=D481))>1,0,1)","v":0},1,1,{"$f":"IF(ISBLANK(G481),1,IFERROR(VLOOKUP(G481,Tipo!$C$12:$C$27,1,FALSE),\"NO\"))","v":1},1,{"$f":"IF(ISBLANK(K481),1,IFERROR(VLOOKUP(K481,Eje_Pilar_Prop!C463:C564,1,FALSE),\"NO\"))","v":1},1,1,1]
[null,null,null,null,null,null,null,null,null,null,null,{"$f":"IF(ISERROR(VLOOKUP(K482,Eje_Pilar_Prop!$C$2:$E$104,2,FALSE)),\" \",VLOOKUP(K482,Eje_Pilar_Prop!$C$2:$E$104,2,FALSE))","v":" "},{"$f":"IF(ISERROR(VLOOKUP(K482,Eje_Pilar_Prop!$C$2:$E$104,3,FALSE)),\" \",VLOOKUP(K482,Eje_Pilar_Prop!$C$2:$E$104,3,FALSE))","v":" "},null,null,null,null,null,null,null,null,0,null,null,null,null,null,null,null,null,null,null,null,null,null,null,null,"-",null,{"$f":"IF(SUMPRODUCT((A$14:A482=A482)*(B$14:B482=B482)*(D$14:D482=D482))>1,0,1)","v":0},1,1,{"$f":"IF(ISBLANK(G482),1,IFERROR(VLOOKUP(G482,Tipo!$C$12:$C$27,1,FALSE),\"NO\"))","v":1},1,{"$f":"IF(ISBLANK(K482),1,IFERROR(VLOOKUP(K482,Eje_Pilar_Prop!C464:C565,1,FALSE),\"NO\"))","v":1},1,1,1]
[null,null,null,null,null,null,null,null,null,null,null,{"$f":"IF(ISERROR(VLOOKUP(K483,Eje_Pilar_Prop!$C$2:$E$104,2,FALSE)),\" \",VLOOKUP(K483,Eje_Pilar_Prop!$C$2:$E$104,2,FALSE))","v":" "},{"$f":"IF(ISERROR(VLOOKUP(K483,Eje_Pilar_Prop!$C$2:$E$104,3,FALSE)),\" \",VLOOKUP(K483,Eje_Pilar_Prop!$C$2:$E$104,3,FALSE))","v":" "},null,null,null,null,null,null,null,null,0,null,null,null,null,null,null,null,null,null,null,null,null,null,null,null,"-",null,{"$f":"IF(SUMPRODUCT((A$14:A483=A483)*(B$14:B483=B483)*(D$14:D483=D483))>1,0,1)","v":0},1,1,{"$f":"IF(ISBLANK(G483),1,IFERROR(VLOOKUP(G483,Tipo!$C$12:$C$27,1,FALSE),\"NO\"))","v":1},1,{"$f":"IF(ISBLANK(K483),1,IFERROR(VLOOKUP(K483,Eje_Pilar_Prop!C465:C566,1,FALSE),\"NO\"))","v":1},1,1,1]
[null,null,null,null,null,null,null,null,null,null,null,{"$f":"IF(ISERROR(VLOOKUP(K484,Eje_Pilar_Prop!$C$2:$E$104,2,FALSE)),\" \",VLOOKUP(K484,Eje_Pilar_Prop!$C$2:$E$104,2,FALSE))","v":" "},{"$f":"IF(ISERROR(VLOOKUP(K484,Eje_Pilar_Prop!$C$2:$E$104,3,FALSE)),\" \",VLOOKUP(K484,Eje_Pilar_Prop!$C$2:$E$104,3,FALSE))","v":" "},null,null,null,null,null,null,null,null,0,null,null,null,null,null,null,null,null,null,null,null,null,null,null,null,"-",null,{"$f":"IF(SUMPRODUCT((A$14:A484=A484)*(B$14:B484=B484)*(D$14:D484=D484))>1,0,1)","v":0},1,1,{"$f":"IF(ISBLANK(G484),1,IFERROR(VLOOKUP(G484,Tipo!$C$12:$C$27,1,FALSE),\"NO\"))","v":1},1,{"$f":"IF(ISBLANK(K484),1,IFERROR(VLOOKUP(K484,Eje_Pilar_Prop!C466:C567,1,FALSE),\"NO\"))","v":1},1,1,1]
[null,null,null,null,null,null,null,null,null,null,null,{"$f":"IF(ISERROR(VLOOKUP(K485,Eje_Pilar_Prop!$C$2:$E$104,2,FALSE)),\" \",VLOOKUP(K485,Eje_Pilar_Prop!$C$2:$E$104,2,FALSE))","v":" "},{"$f":"IF(ISERROR(VLOOKUP(K485,Eje_Pilar_Prop!$C$2:$E$104,3,FALSE)),\" \",VLOOKUP(K485,Eje_Pilar_Prop!$C$2:$E$104,3,FALSE))","v":" "},null,null,null,null,null,null,null,null,0,null,null,null,null,null,null,null,null,null,null,null,null,null,null,null,"-",null,{"$f":"IF(SUMPRODUCT((A$14:A485=A485)*(B$14:B485=B485)*(D$14:D485=D485))>1,0,1)","v":0},1,1,{"$f":"IF(ISBLANK(G485),1,IFERROR(VLOOKUP(G485,Tipo!$C$12:$C$27,1,FALSE),\"NO\"))","v":1},1,{"$f":"IF(ISBLANK(K485),1,IFERROR(VLOOKUP(K485,Eje_Pilar_Prop!C467:C568,1,FALSE),\"NO\"))","v":1},1,1,1]
[null,null,null,null,null,null,null,null,null,null,null,{"$f":"IF(ISERROR(VLOOKUP(K486,Eje_Pilar_Prop!$C$2:$E$104,2,FALSE)),\" \",VLOOKUP(K486,Eje_Pilar_Prop!$C$2:$E$104,2,FALSE))","v":" "},{"$f":"IF(ISERROR(VLOOKUP(K486,Eje_Pilar_Prop!$C$2:$E$104,3,FALSE)),\" \",VLOOKUP(K486,Eje_Pilar_Prop!$C$2:$E$104,3,FALSE))","v":" "},null,null,null,null,null,null,null,null,0,null,null,null,null,null,null,null,null,null,null,null,null,null,null,null,"-",null,{"$f":"IF(SUMPRODUCT((A$14:A486=A486)*(B$14:B486=B486)*(D$14:D486=D486))>1,0,1)","v":0},1,1,{"$f":"IF(ISBLANK(G486),1,IFERROR(VLOOKUP(G486,Tipo!$C$12:$C$27,1,FALSE),\"NO\"))","v":1},1,{"$f":"IF(ISBLANK(K486),1,IFERROR(VLOOKUP(K486,Eje_Pilar_Prop!C468:C569,1,FALSE),\"NO\"))","v":1},1,1,1]
[null,null,null,null,null,null,null,null,null,null,null,{"$f":"IF(ISERROR(VLOOKUP(K487,Eje_Pilar_Prop!$C$2:$E$104,2,FALSE)),\" \",VLOOKUP(K487,Eje_Pilar_Prop!$C$2:$E$104,2,FALSE))","v":" "},{"$f":"IF(ISERROR(VLOOKUP(K487,Eje_Pilar_Prop!$C$2:$E$104,3,FALSE)),\" \",VLOOKUP(K487,Eje_Pilar_Prop!$C$2:$E$104,3,FALSE))","v":" "},null,null,null,null,null,null,null,null,0,null,null,null,null,null,null,null,null,null,null,null,null,null,null,null,"-",null,{"$f":"IF(SUMPRODUCT((A$14:A487=A487)*(B$14:B487=B487)*(D$14:D487=D487))>1,0,1)","v":0},1,1,{"$f":"IF(ISBLANK(G487),1,IFERROR(VLOOKUP(G487,Tipo!$C$12:$C$27,1,FALSE),\"NO\"))","v":1},1,{"$f":"IF(ISBLANK(K487),1,IFERROR(VLOOKUP(K487,Eje_Pilar_Prop!C469:C570,1,FALSE),\"NO\"))","v":1},1,1,1]
[null,null,null,null,null,null,null,null,null,null,null,{"$f":"IF(ISERROR(VLOOKUP(K488,Eje_Pilar_Prop!$C$2:$E$104,2,FALSE)),\" \",VLOOKUP(K488,Eje_Pilar_Prop!$C$2:$E$104,2,FALSE))","v":" "},{"$f":"IF(ISERROR(VLOOKUP(K488,Eje_Pilar_Prop!$C$2:$E$104,3,FALSE)),\" \",VLOOKUP(K488,Eje_Pilar_Prop!$C$2:$E$104,3,FALSE))","v":" "},null,null,null,null,null,null,null,null,0,null,null,null,null,null,null,null,null,null,null,null,null,null,null,null,"-",null,{"$f":"IF(SUMPRODUCT((A$14:A488=A488)*(B$14:B488=B488)*(D$14:D488=D488))>1,0,1)","v":0},1,1,{"$f":"IF(ISBLANK(G488),1,IFERROR(VLOOKUP(G488,Tipo!$C$12:$C$27,1,FALSE),\"NO\"))","v":1},1,{"$f":"IF(ISBLANK(K488),1,IFERROR(VLOOKUP(K488,Eje_Pilar_Prop!C470:C571,1,FALSE),\"NO\"))","v":1},1,1,1]
[null,null,null,null,null,null,null,null,null,null,null,{"$f":"IF(ISERROR(VLOOKUP(K489,Eje_Pilar_Prop!$C$2:$E$104,2,FALSE)),\" \",VLOOKUP(K489,Eje_Pilar_Prop!$C$2:$E$104,2,FALSE))","v":" "},{"$f":"IF(ISERROR(VLOOKUP(K489,Eje_Pilar_Prop!$C$2:$E$104,3,FALSE)),\" \",VLOOKUP(K489,Eje_Pilar_Prop!$C$2:$E$104,3,FALSE))","v":" "},null,null,null,null,null,null,null,null,0,null,null,null,null,null,null,null,null,null,null,null,null,null,null,null,"-",null,{"$f":"IF(SUMPRODUCT((A$14:A489=A489)*(B$14:B489=B489)*(D$14:D489=D489))>1,0,1)","v":0},1,1,{"$f":"IF(ISBLANK(G489),1,IFERROR(VLOOKUP(G489,Tipo!$C$12:$C$27,1,FALSE),\"NO\"))","v":1},1,{"$f":"IF(ISBLANK(K489),1,IFERROR(VLOOKUP(K489,Eje_Pilar_Prop!C471:C572,1,FALSE),\"NO\"))","v":1},1,1,1]
[null,null,null,null,null,null,null,null,null,null,null,{"$f":"IF(ISERROR(VLOOKUP(K490,Eje_Pilar_Prop!$C$2:$E$104,2,FALSE)),\" \",VLOOKUP(K490,Eje_Pilar_Prop!$C$2:$E$104,2,FALSE))","v":" "},{"$f":"IF(ISERROR(VLOOKUP(K490,Eje_Pilar_Prop!$C$2:$E$104,3,FALSE)),\" \",VLOOKUP(K490,Eje_Pilar_Prop!$C$2:$E$104,3,FALSE))","v":" "},null,null,null,null,null,null,null,null,0,null,null,null,null,null,null,null,null,null,null,null,null,null,null,null,"-",null,{"$f":"IF(SUMPRODUCT((A$14:A490=A490)*(B$14:B490=B490)*(D$14:D490=D490))>1,0,1)","v":0},1,1,{"$f":"IF(ISBLANK(G490),1,IFERROR(VLOOKUP(G490,Tipo!$C$12:$C$27,1,FALSE),\"NO\"))","v":1},1,{"$f":"IF(ISBLANK(K490),1,IFERROR(VLOOKUP(K490,Eje_Pilar_Prop!C472:C573,1,FALSE),\"NO\"))","v":1},1,1,1]
[null,null,null,null,null,null,null,null,null,null,null,{"$f":"IF(ISERROR(VLOOKUP(K491,Eje_Pilar_Prop!$C$2:$E$104,2,FALSE)),\" \",VLOOKUP(K491,Eje_Pilar_Prop!$C$2:$E$104,2,FALSE))","v":" "},{"$f":"IF(ISERROR(VLOOKUP(K491,Eje_Pilar_Prop!$C$2:$E$104,3,FALSE)),\" \",VLOOKUP(K491,Eje_Pilar_Prop!$C$2:$E$104,3,FALSE))","v":" "},null,null,null,null,null,null,null,null,0,null,null,null,null,null,null,null,null,null,null,null,null,null,null,null,"-",null,{"$f":"IF(SUMPRODUCT((A$14:A491=A491)*(B$14:B491=B491)*(D$14:D491=D491))>1,0,1)","v":0},1,1,{"$f":"IF(ISBLANK(G491),1,IFERROR(VLOOKUP(G491,Tipo!$C$12:$C$27,1,FALSE),\"NO\"))","v":1},1,{"$f":"IF(ISBLANK(K491),1,IFERROR(VLOOKUP(K491,Eje_Pilar_Prop!C473:C574,1,FALSE),\"NO\"))","v":1},1,1,1]
[null,null,null,null,null,null,null,null,null,null,null,{"$f":"IF(ISERROR(VLOOKUP(K492,Eje_Pilar_Prop!$C$2:$E$104,2,FALSE)),\" \",VLOOKUP(K492,Eje_Pilar_Prop!$C$2:$E$104,2,FALSE))","v":" "},{"$f":"IF(ISERROR(VLOOKUP(K492,Eje_Pilar_Prop!$C$2:$E$104,3,FALSE)),\" \",VLOOKUP(K492,Eje_Pilar_Prop!$C$2:$E$104,3,FALSE))","v":" "},null,null,null,null,null,null,null,null,0,null,null,null,null,null,null,null,null,null,null,null,null,null,null,null,"-",null,{"$f":"IF(SUMPRODUCT((A$14:A492=A492)*(B$14:B492=B492)*(D$14:D492=D492))>1,0,1)","v":0},1,1,{"$f":"IF(ISBLANK(G492),1,IFERROR(VLOOKUP(G492,Tipo!$C$12:$C$27,1,FALSE),\"NO\"))","v":1},1,{"$f":"IF(ISBLANK(K492),1,IFERROR(VLOOKUP(K492,Eje_Pilar_Prop!C474:C575,1,FALSE),\"NO\"))","v":1},1,1,1]
[null,null,null,null,null,null,null,null,null,null,null,{"$f":"IF(ISERROR(VLOOKUP(K493,Eje_Pilar_Prop!$C$2:$E$104,2,FALSE)),\" \",VLOOKUP(K493,Eje_Pilar_Prop!$C$2:$E$104,2,FALSE))","v":" "},{"$f":"IF(ISERROR(VLOOKUP(K493,Eje_Pilar_Prop!$C$2:$E$104,3,FALSE)),\" \",VLOOKUP(K493,Eje_Pilar_Prop!$C$2:$E$104,3,FALSE))","v":" "},null,null,null,null,null,null,null,null,0,null,null,null,null,null,null,null,null,null,null,null,null,null,null,null,"-",null,{"$f":"IF(SUMPRODUCT((A$14:A493=A493)*(B$14:B493=B493)*(D$14:D493=D493))>1,0,1)","v":0},1,1,{"$f":"IF(ISBLANK(G493),1,IFERROR(VLOOKUP(G493,Tipo!$C$12:$C$27,1,FALSE),\"NO\"))","v":1},1,{"$f":"IF(ISBLANK(K493),1,IFERROR(VLOOKUP(K493,Eje_Pilar_Prop!C475:C576,1,FALSE),\"NO\"))","v":1},1,1,1]
[null,null,null,null,null,null,null,null,null,null,null,{"$f":"IF(ISERROR(VLOOKUP(K494,Eje_Pilar_Prop!$C$2:$E$104,2,FALSE)),\" \",VLOOKUP(K494,Eje_Pilar_Prop!$C$2:$E$104,2,FALSE))","v":" "},{"$f":"IF(ISERROR(VLOOKUP(K494,Eje_Pilar_Prop!$C$2:$E$104,3,FALSE)),\" \",VLOOKUP(K494,Eje_Pilar_Prop!$C$2:$E$104,3,FALSE))","v":" "},null,null,null,null,null,null,null,null,0,null,null,null,null,null,null,null,null,null,null,null,null,null,null,null,"-",null,{"$f":"IF(SUMPRODUCT((A$14:A494=A494)*(B$14:B494=B494)*(D$14:D494=D494))>1,0,1)","v":0},1,1,{"$f":"IF(ISBLANK(G494),1,IFERROR(VLOOKUP(G494,Tipo!$C$12:$C$27,1,FALSE),\"NO\"))","v":1},1,{"$f":"IF(ISBLANK(K494),1,IFERROR(VLOOKUP(K494,Eje_Pilar_Prop!C476:C577,1,FALSE),\"NO\"))","v":1},1,1,1]
[null,null,null,null,null,null,null,null,null,null,null,{"$f":"IF(ISERROR(VLOOKUP(K495,Eje_Pilar_Prop!$C$2:$E$104,2,FALSE)),\" \",VLOOKUP(K495,Eje_Pilar_Prop!$C$2:$E$104,2,FALSE))","v":" "},{"$f":"IF(ISERROR(VLOOKUP(K495,Eje_Pilar_Prop!$C$2:$E$104,3,FALSE)),\" \",VLOOKUP(K495,Eje_Pilar_Prop!$C$2:$E$104,3,FALSE))","v":" "},null,null,null,null,null,null,null,null,0,null,null,null,null,null,null,null,null,null,null,null,null,null,null,null,"-",null,{"$f":"IF(SUMPRODUCT((A$14:A495=A495)*(B$14:B495=B495)*(D$14:D495=D495))>1,0,1)","v":0},1,1,{"$f":"IF(ISBLANK(G495),1,IFERROR(VLOOKUP(G495,Tipo!$C$12:$C$27,1,FALSE),\"NO\"))","v":1},1,{"$f":"IF(ISBLANK(K495),1,IFERROR(VLOOKUP(K495,Eje_Pilar_Prop!C477:C578,1,FALSE),\"NO\"))","v":1},1,1,1]
[null,null,null,null,null,null,null,null,null,null,null,{"$f":"IF(ISERROR(VLOOKUP(K496,Eje_Pilar_Prop!$C$2:$E$104,2,FALSE)),\" \",VLOOKUP(K496,Eje_Pilar_Prop!$C$2:$E$104,2,FALSE))","v":" "},{"$f":"IF(ISERROR(VLOOKUP(K496,Eje_Pilar_Prop!$C$2:$E$104,3,FALSE)),\" \",VLOOKUP(K496,Eje_Pilar_Prop!$C$2:$E$104,3,FALSE))","v":" "},null,null,null,null,null,null,null,null,0,null,null,null,null,null,null,null,null,null,null,null,null,null,null,null,"-",null,{"$f":"IF(SUMPRODUCT((A$14:A496=A496)*(B$14:B496=B496)*(D$14:D496=D496))>1,0,1)","v":0},1,1,{"$f":"IF(ISBLANK(G496),1,IFERROR(VLOOKUP(G496,Tipo!$C$12:$C$27,1,FALSE),\"NO\"))","v":1},1,{"$f":"IF(ISBLANK(K496),1,IFERROR(VLOOKUP(K496,Eje_Pilar_Prop!C478:C579,1,FALSE),\"NO\"))","v":1},1,1,1]
[null,null,null,null,null,null,null,null,null,null,null,{"$f":"IF(ISERROR(VLOOKUP(K497,Eje_Pilar_Prop!$C$2:$E$104,2,FALSE)),\" \",VLOOKUP(K497,Eje_Pilar_Prop!$C$2:$E$104,2,FALSE))","v":" "},{"$f":"IF(ISERROR(VLOOKUP(K497,Eje_Pilar_Prop!$C$2:$E$104,3,FALSE)),\" \",VLOOKUP(K497,Eje_Pilar_Prop!$C$2:$E$104,3,FALSE))","v":" "},null,null,null,null,null,null,null,null,0,null,null,null,null,null,null,null,null,null,null,null,null,null,null,null,"-",null,{"$f":"IF(SUMPRODUCT((A$14:A497=A497)*(B$14:B497=B497)*(D$14:D497=D497))>1,0,1)","v":0},1,1,{"$f":"IF(ISBLANK(G497),1,IFERROR(VLOOKUP(G497,Tipo!$C$12:$C$27,1,FALSE),\"NO\"))","v":1},1,{"$f":"IF(ISBLANK(K497),1,IFERROR(VLOOKUP(K497,Eje_Pilar_Prop!C479:C580,1,FALSE),\"NO\"))","v":1},1,1,1]
[null,null,null,null,null,null,null,null,null,null,null,{"$f":"IF(ISERROR(VLOOKUP(K498,Eje_Pilar_Prop!$C$2:$E$104,2,FALSE)),\" \",VLOOKUP(K498,Eje_Pilar_Prop!$C$2:$E$104,2,FALSE))","v":" "},{"$f":"IF(ISERROR(VLOOKUP(K498,Eje_Pilar_Prop!$C$2:$E$104,3,FALSE)),\" \",VLOOKUP(K498,Eje_Pilar_Prop!$C$2:$E$104,3,FALSE))","v":" "},null,null,null,null,null,null,null,null,0,null,null,null,null,null,null,null,null,null,null,null,null,null,null,null,"-",null,{"$f":"IF(SUMPRODUCT((A$14:A498=A498)*(B$14:B498=B498)*(D$14:D498=D498))>1,0,1)","v":0},1,1,{"$f":"IF(ISBLANK(G498),1,IFERROR(VLOOKUP(G498,Tipo!$C$12:$C$27,1,FALSE),\"NO\"))","v":1},1,{"$f":"IF(ISBLANK(K498),1,IFERROR(VLOOKUP(K498,Eje_Pilar_Prop!C480:C581,1,FALSE),\"NO\"))","v":1},1,1,1]
[null,null,null,null,null,null,null,null,null,null,null,{"$f":"IF(ISERROR(VLOOKUP(K499,Eje_Pilar_Prop!$C$2:$E$104,2,FALSE)),\" \",VLOOKUP(K499,Eje_Pilar_Prop!$C$2:$E$104,2,FALSE))","v":" "},{"$f":"IF(ISERROR(VLOOKUP(K499,Eje_Pilar_Prop!$C$2:$E$104,3,FALSE)),\" \",VLOOKUP(K499,Eje_Pilar_Prop!$C$2:$E$104,3,FALSE))","v":" "},null,null,null,null,null,null,null,null,0,null,null,null,null,null,null,null,null,null,null,null,null,null,null,null,"-",null,{"$f":"IF(SUMPRODUCT((A$14:A499=A499)*(B$14:B499=B499)*(D$14:D499=D499))>1,0,1)","v":0},1,1,{"$f":"IF(ISBLANK(G499),1,IFERROR(VLOOKUP(G499,Tipo!$C$12:$C$27,1,FALSE),\"NO\"))","v":1},1,{"$f":"IF(ISBLANK(K499),1,IFERROR(VLOOKUP(K499,Eje_Pilar_Prop!C481:C582,1,FALSE),\"NO\"))","v":1},1,1,1]
[null,null,null,null,null,null,null,null,null,null,null,{"$f":"IF(ISERROR(VLOOKUP(K500,Eje_Pilar_Prop!$C$2:$E$104,2,FALSE)),\" \",VLOOKUP(K500,Eje_Pilar_Prop!$C$2:$E$104,2,FALSE))","v":" "},{"$f":"IF(ISERROR(VLOOKUP(K500,Eje_Pilar_Prop!$C$2:$E$104,3,FALSE)),\" \",VLOOKUP(K500,Eje_Pilar_Prop!$C$2:$E$104,3,FALSE))","v":" "},null,null,null,null,null,null,null,null,0,null,null,null,null,null,null,null,null,null,null,null,null,null,null,null,"-",null,{"$f":"IF(SUMPRODUCT((A$14:A500=A500)*(B$14:B500=B500)*(D$14:D500=D500))>1,0,1)","v":0},1,1,{"$f":"IF(ISBLANK(G500),1,IFERROR(VLOOKUP(G500,Tipo!$C$12:$C$27,1,FALSE),\"NO\"))","v":1},1,{"$f":"IF(ISBLANK(K500),1,IFERROR(VLOOKUP(K500,Eje_Pilar_Prop!C482:C583,1,FALSE),\"NO\"))","v":1},1,1,1]
[null,null,null,null,null,null,null,null,null,null,null,{"$f":"IF(ISERROR(VLOOKUP(K501,Eje_Pilar_Prop!$C$2:$E$104,2,FALSE)),\" \",VLOOKUP(K501,Eje_Pilar_Prop!$C$2:$E$104,2,FALSE))","v":" "},{"$f":"IF(ISERROR(VLOOKUP(K501,Eje_Pilar_Prop!$C$2:$E$104,3,FALSE)),\" \",VLOOKUP(K501,Eje_Pilar_Prop!$C$2:$E$104,3,FALSE))","v":" "},null,null,null,null,null,null,null,null,0,null,null,null,null,null,null,null,null,null,null,null,null,null,null,null,"-",null,{"$f":"IF(SUMPRODUCT((A$14:A501=A501)*(B$14:B501=B501)*(D$14:D501=D501))>1,0,1)","v":0},1,1,{"$f":"IF(ISBLANK(G501),1,IFERROR(VLOOKUP(G501,Tipo!$C$12:$C$27,1,FALSE),\"NO\"))","v":1},1,{"$f":"IF(ISBLANK(K501),1,IFERROR(VLOOKUP(K501,Eje_Pilar_Prop!C483:C584,1,FALSE),\"NO\"))","v":1},1,1,1]
[null,null,null,null,null,null,null,null,null,null,null,{"$f":"IF(ISERROR(VLOOKUP(K502,Eje_Pilar_Prop!$C$2:$E$104,2,FALSE)),\" \",VLOOKUP(K502,Eje_Pilar_Prop!$C$2:$E$104,2,FALSE))","v":" "},{"$f":"IF(ISERROR(VLOOKUP(K502,Eje_Pilar_Prop!$C$2:$E$104,3,FALSE)),\" \",VLOOKUP(K502,Eje_Pilar_Prop!$C$2:$E$104,3,FALSE))","v":" "},null,null,null,null,null,null,null,null,0,null,null,null,null,null,null,null,null,null,null,null,null,null,null,null,"-",null,{"$f":"IF(SUMPRODUCT((A$14:A502=A502)*(B$14:B502=B502)*(D$14:D502=D502))>1,0,1)","v":0},1,1,{"$f":"IF(ISBLANK(G502),1,IFERROR(VLOOKUP(G502,Tipo!$C$12:$C$27,1,FALSE),\"NO\"))","v":1},1,{"$f":"IF(ISBLANK(K502),1,IFERROR(VLOOKUP(K502,Eje_Pilar_Prop!C484:C585,1,FALSE),\"NO\"))","v":1},1,1,1]
[null,null,null,null,null,null,null,null,null,null,null,{"$f":"IF(ISERROR(VLOOKUP(K503,Eje_Pilar_Prop!$C$2:$E$104,2,FALSE)),\" \",VLOOKUP(K503,Eje_Pilar_Prop!$C$2:$E$104,2,FALSE))","v":" "},{"$f":"IF(ISERROR(VLOOKUP(K503,Eje_Pilar_Prop!$C$2:$E$104,3,FALSE)),\" \",VLOOKUP(K503,Eje_Pilar_Prop!$C$2:$E$104,3,FALSE))","v":" "},null,null,null,null,null,null,null,null,0,null,null,null,null,null,null,null,null,null,null,null,null,null,null,null,"-",null,{"$f":"IF(SUMPRODUCT((A$14:A503=A503)*(B$14:B503=B503)*(D$14:D503=D503))>1,0,1)","v":0},1,1,{"$f":"IF(ISBLANK(G503),1,IFERROR(VLOOKUP(G503,Tipo!$C$12:$C$27,1,FALSE),\"NO\"))","v":1},1,{"$f":"IF(ISBLANK(K503),1,IFERROR(VLOOKUP(K503,Eje_Pilar_Prop!C485:C586,1,FALSE),\"NO\"))","v":1},1,1,1]
[null,null,null,null,null,null,null,null,null,null,null,{"$f":"IF(ISERROR(VLOOKUP(K504,Eje_Pilar_Prop!$C$2:$E$104,2,FALSE)),\" \",VLOOKUP(K504,Eje_Pilar_Prop!$C$2:$E$104,2,FALSE))","v":" "},{"$f":"IF(ISERROR(VLOOKUP(K504,Eje_Pilar_Prop!$C$2:$E$104,3,FALSE)),\" \",VLOOKUP(K504,Eje_Pilar_Prop!$C$2:$E$104,3,FALSE))","v":" "},null,null,null,null,null,null,null,null,0,null,null,null,null,null,null,null,null,null,null,null,null,null,null,null,"-",null,{"$f":"IF(SUMPRODUCT((A$14:A504=A504)*(B$14:B504=B504)*(D$14:D504=D504))>1,0,1)","v":0},1,1,{"$f":"IF(ISBLANK(G504),1,IFERROR(VLOOKUP(G504,Tipo!$C$12:$C$27,1,FALSE),\"NO\"))","v":1},1,{"$f":"IF(ISBLANK(K504),1,IFERROR(VLOOKUP(K504,Eje_Pilar_Prop!C486:C587,1,FALSE),\"NO\"))","v":1},1,1,1]
[null,null,null,null,null,null,null,null,null,null,null,{"$f":"IF(ISERROR(VLOOKUP(K505,Eje_Pilar_Prop!$C$2:$E$104,2,FALSE)),\" \",VLOOKUP(K505,Eje_Pilar_Prop!$C$2:$E$104,2,FALSE))","v":" "},{"$f":"IF(ISERROR(VLOOKUP(K505,Eje_Pilar_Prop!$C$2:$E$104,3,FALSE)),\" \",VLOOKUP(K505,Eje_Pilar_Prop!$C$2:$E$104,3,FALSE))","v":" "},null,null,null,null,null,null,null,null,0,null,null,null,null,null,null,null,null,null,null,null,null,null,null,null,"-",null,{"$f":"IF(SUMPRODUCT((A$14:A505=A505)*(B$14:B505=B505)*(D$14:D505=D505))>1,0,1)","v":0},1,1,{"$f":"IF(ISBLANK(G505),1,IFERROR(VLOOKUP(G505,Tipo!$C$12:$C$27,1,FALSE),\"NO\"))","v":1},1,{"$f":"IF(ISBLANK(K505),1,IFERROR(VLOOKUP(K505,Eje_Pilar_Prop!C487:C588,1,FALSE),\"NO\"))","v":1},1,1,1]
[null,null,null,null,null,null,null,null,null,null,null,{"$f":"IF(ISERROR(VLOOKUP(K506,Eje_Pilar_Prop!$C$2:$E$104,2,FALSE)),\" \",VLOOKUP(K506,Eje_Pilar_Prop!$C$2:$E$104,2,FALSE))","v":" "},{"$f":"IF(ISERROR(VLOOKUP(K506,Eje_Pilar_Prop!$C$2:$E$104,3,FALSE)),\" \",VLOOKUP(K506,Eje_Pilar_Prop!$C$2:$E$104,3,FALSE))","v":" "},null,null,null,null,null,null,null,null,0,null,null,null,null,null,null,null,null,null,null,null,null,null,null,null,"-",null,{"$f":"IF(SUMPRODUCT((A$14:A506=A506)*(B$14:B506=B506)*(D$14:D506=D506))>1,0,1)","v":0},1,1,{"$f":"IF(ISBLANK(G506),1,IFERROR(VLOOKUP(G506,Tipo!$C$12:$C$27,1,FALSE),\"NO\"))","v":1},1,{"$f":"IF(ISBLANK(K506),1,IFERROR(VLOOKUP(K506,Eje_Pilar_Prop!C488:C589,1,FALSE),\"NO\"))","v":1},1,1,1]
[null,null,null,null,null,null,null,null,null,null,null,{"$f":"IF(ISERROR(VLOOKUP(K507,Eje_Pilar_Prop!$C$2:$E$104,2,FALSE)),\" \",VLOOKUP(K507,Eje_Pilar_Prop!$C$2:$E$104,2,FALSE))","v":" "},{"$f":"IF(ISERROR(VLOOKUP(K507,Eje_Pilar_Prop!$C$2:$E$104,3,FALSE)),\" \",VLOOKUP(K507,Eje_Pilar_Prop!$C$2:$E$104,3,FALSE))","v":" "},null,null,null,null,null,null,null,null,0,null,null,null,null,null,null,null,null,null,null,null,null,null,null,null,"-",null,{"$f":"IF(SUMPRODUCT((A$14:A507=A507)*(B$14:B507=B507)*(D$14:D507=D507))>1,0,1)","v":0},1,1,{"$f":"IF(ISBLANK(G507),1,IFERROR(VLOOKUP(G507,Tipo!$C$12:$C$27,1,FALSE),\"NO\"))","v":1},1,{"$f":"IF(ISBLANK(K507),1,IFERROR(VLOOKUP(K507,Eje_Pilar_Prop!C489:C590,1,FALSE),\"NO\"))","v":1},1,1,1]
[null,null,null,null,null,null,null,null,null,null,null,{"$f":"IF(ISERROR(VLOOKUP(K508,Eje_Pilar_Prop!$C$2:$E$104,2,FALSE)),\" \",VLOOKUP(K508,Eje_Pilar_Prop!$C$2:$E$104,2,FALSE))","v":" "},{"$f":"IF(ISERROR(VLOOKUP(K508,Eje_Pilar_Prop!$C$2:$E$104,3,FALSE)),\" \",VLOOKUP(K508,Eje_Pilar_Prop!$C$2:$E$104,3,FALSE))","v":" "},null,null,null,null,null,null,null,null,0,null,null,null,null,null,null,null,null,null,null,null,null,null,null,null,"-",null,{"$f":"IF(SUMPRODUCT((A$14:A508=A508)*(B$14:B508=B508)*(D$14:D508=D508))>1,0,1)","v":0},1,1,{"$f":"IF(ISBLANK(G508),1,IFERROR(VLOOKUP(G508,Tipo!$C$12:$C$27,1,FALSE),\"NO\"))","v":1},1,{"$f":"IF(ISBLANK(K508),1,IFERROR(VLOOKUP(K508,Eje_Pilar_Prop!C490:C591,1,FALSE),\"NO\"))","v":1},1,1,1]
[null,null,null,null,null,null,null,null,null,null,null,{"$f":"IF(ISERROR(VLOOKUP(K509,Eje_Pilar_Prop!$C$2:$E$104,2,FALSE)),\" \",VLOOKUP(K509,Eje_Pilar_Prop!$C$2:$E$104,2,FALSE))","v":" "},{"$f":"IF(ISERROR(VLOOKUP(K509,Eje_Pilar_Prop!$C$2:$E$104,3,FALSE)),\" \",VLOOKUP(K509,Eje_Pilar_Prop!$C$2:$E$104,3,FALSE))","v":" "},null,null,null,null,null,null,null,null,0,null,null,null,null,null,null,null,null,null,null,null,null,null,null,null,"-",null,{"$f":"IF(SUMPRODUCT((A$14:A509=A509)*(B$14:B509=B509)*(D$14:D509=D509))>1,0,1)","v":0},1,1,{"$f":"IF(ISBLANK(G509),1,IFERROR(VLOOKUP(G509,Tipo!$C$12:$C$27,1,FALSE),\"NO\"))","v":1},1,{"$f":"IF(ISBLANK(K509),1,IFERROR(VLOOKUP(K509,Eje_Pilar_Prop!C491:C592,1,FALSE),\"NO\"))","v":1},1,1,1]
[null,null,null,null,null,null,null,null,null,null,null,{"$f":"IF(ISERROR(VLOOKUP(K510,Eje_Pilar_Prop!$C$2:$E$104,2,FALSE)),\" \",VLOOKUP(K510,Eje_Pilar_Prop!$C$2:$E$104,2,FALSE))","v":" "},{"$f":"IF(ISERROR(VLOOKUP(K510,Eje_Pilar_Prop!$C$2:$E$104,3,FALSE)),\" \",VLOOKUP(K510,Eje_Pilar_Prop!$C$2:$E$104,3,FALSE))","v":" "},null,null,null,null,null,null,null,null,0,null,null,null,null,null,null,null,null,null,null,null,null,null,null,null,"-",null,{"$f":"IF(SUMPRODUCT((A$14:A510=A510)*(B$14:B510=B510)*(D$14:D510=D510))>1,0,1)","v":0},1,1,{"$f":"IF(ISBLANK(G510),1,IFERROR(VLOOKUP(G510,Tipo!$C$12:$C$27,1,FALSE),\"NO\"))","v":1},1,{"$f":"IF(ISBLANK(K510),1,IFERROR(VLOOKUP(K510,Eje_Pilar_Prop!C492:C593,1,FALSE),\"NO\"))","v":1},1,1,1]
[null,null,null,null,null,null,null,null,null,null,null,{"$f":"IF(ISERROR(VLOOKUP(K511,Eje_Pilar_Prop!$C$2:$E$104,2,FALSE)),\" \",VLOOKUP(K511,Eje_Pilar_Prop!$C$2:$E$104,2,FALSE))","v":" "},{"$f":"IF(ISERROR(VLOOKUP(K511,Eje_Pilar_Prop!$C$2:$E$104,3,FALSE)),\" \",VLOOKUP(K511,Eje_Pilar_Prop!$C$2:$E$104,3,FALSE))","v":" "},null,null,null,null,null,null,null,null,0,null,null,null,null,null,null,null,null,null,null,null,null,null,null,null,"-",null,{"$f":"IF(SUMPRODUCT((A$14:A511=A511)*(B$14:B511=B511)*(D$14:D511=D511))>1,0,1)","v":0},1,1,{"$f":"IF(ISBLANK(G511),1,IFERROR(VLOOKUP(G511,Tipo!$C$12:$C$27,1,FALSE),\"NO\"))","v":1},1,{"$f":"IF(ISBLANK(K511),1,IFERROR(VLOOKUP(K511,Eje_Pilar_Prop!C493:C594,1,FALSE),\"NO\"))","v":1},1,1,1]
[null,null,null,null,null,null,null,null,null,null,null,{"$f":"IF(ISERROR(VLOOKUP(K512,Eje_Pilar_Prop!$C$2:$E$104,2,FALSE)),\" \",VLOOKUP(K512,Eje_Pilar_Prop!$C$2:$E$104,2,FALSE))","v":" "},{"$f":"IF(ISERROR(VLOOKUP(K512,Eje_Pilar_Prop!$C$2:$E$104,3,FALSE)),\" \",VLOOKUP(K512,Eje_Pilar_Prop!$C$2:$E$104,3,FALSE))","v":" "},null,null,null,null,null,null,null,null,0,null,null,null,null,null,null,null,null,null,null,null,null,null,null,null,"-",null,{"$f":"IF(SUMPRODUCT((A$14:A512=A512)*(B$14:B512=B512)*(D$14:D512=D512))>1,0,1)","v":0},1,1,{"$f":"IF(ISBLANK(G512),1,IFERROR(VLOOKUP(G512,Tipo!$C$12:$C$27,1,FALSE),\"NO\"))","v":1},1,{"$f":"IF(ISBLANK(K512),1,IFERROR(VLOOKUP(K512,Eje_Pilar_Prop!C494:C595,1,FALSE),\"NO\"))","v":1},1,1,1]
[null,null,null,null,null,null,null,null,null,null,null,{"$f":"IF(ISERROR(VLOOKUP(K513,Eje_Pilar_Prop!$C$2:$E$104,2,FALSE)),\" \",VLOOKUP(K513,Eje_Pilar_Prop!$C$2:$E$104,2,FALSE))","v":" "},{"$f":"IF(ISERROR(VLOOKUP(K513,Eje_Pilar_Prop!$C$2:$E$104,3,FALSE)),\" \",VLOOKUP(K513,Eje_Pilar_Prop!$C$2:$E$104,3,FALSE))","v":" "},null,null,null,null,null,null,null,null,0,null,null,null,null,null,null,null,null,null,null,null,null,null,null,null,"-",null,{"$f":"IF(SUMPRODUCT((A$14:A513=A513)*(B$14:B513=B513)*(D$14:D513=D513))>1,0,1)","v":0},1,1,{"$f":"IF(ISBLANK(G513),1,IFERROR(VLOOKUP(G513,Tipo!$C$12:$C$27,1,FALSE),\"NO\"))","v":1},1,{"$f":"IF(ISBLANK(K513),1,IFERROR(VLOOKUP(K513,Eje_Pilar_Prop!C495:C596,1,FALSE),\"NO\"))","v":1},1,1,1]
[null,null,null,null,null,null,null,null,null,null,null,{"$f":"IF(ISERROR(VLOOKUP(K514,Eje_Pilar_Prop!$C$2:$E$104,2,FALSE)),\" \",VLOOKUP(K514,Eje_Pilar_Prop!$C$2:$E$104,2,FALSE))","v":" "},{"$f":"IF(ISERROR(VLOOKUP(K514,Eje_Pilar_Prop!$C$2:$E$104,3,FALSE)),\" \",VLOOKUP(K514,Eje_Pilar_Prop!$C$2:$E$104,3,FALSE))","v":" "},null,null,null,null,null,null,null,null,0,null,null,null,null,null,null,null,null,null,null,null,null,null,null,null,"-",null,{"$f":"IF(SUMPRODUCT((A$14:A514=A514)*(B$14:B514=B514)*(D$14:D514=D514))>1,0,1)","v":0},1,1,{"$f":"IF(ISBLANK(G514),1,IFERROR(VLOOKUP(G514,Tipo!$C$12:$C$27,1,FALSE),\"NO\"))","v":1},1,{"$f":"IF(ISBLANK(K514),1,IFERROR(VLOOKUP(K514,Eje_Pilar_Prop!C496:C597,1,FALSE),\"NO\"))","v":1},1,1,1]
[null,null,null,null,null,null,null,null,null,null,null,{"$f":"IF(ISERROR(VLOOKUP(K515,Eje_Pilar_Prop!$C$2:$E$104,2,FALSE)),\" \",VLOOKUP(K515,Eje_Pilar_Prop!$C$2:$E$104,2,FALSE))","v":" "},{"$f":"IF(ISERROR(VLOOKUP(K515,Eje_Pilar_Prop!$C$2:$E$104,3,FALSE)),\" \",VLOOKUP(K515,Eje_Pilar_Prop!$C$2:$E$104,3,FALSE))","v":" "},null,null,null,null,null,null,null,null,0,null,null,null,null,null,null,null,null,null,null,null,null,null,null,null,"-",null,{"$f":"IF(SUMPRODUCT((A$14:A515=A515)*(B$14:B515=B515)*(D$14:D515=D515))>1,0,1)","v":0},1,1,{"$f":"IF(ISBLANK(G515),1,IFERROR(VLOOKUP(G515,Tipo!$C$12:$C$27,1,FALSE),\"NO\"))","v":1},1,{"$f":"IF(ISBLANK(K515),1,IFERROR(VLOOKUP(K515,Eje_Pilar_Prop!C497:C598,1,FALSE),\"NO\"))","v":1},1,1,1]
[null,null,null,null,null,null,null,null,null,null,null,{"$f":"IF(ISERROR(VLOOKUP(K516,Eje_Pilar_Prop!$C$2:$E$104,2,FALSE)),\" \",VLOOKUP(K516,Eje_Pilar_Prop!$C$2:$E$104,2,FALSE))","v":" "},{"$f":"IF(ISERROR(VLOOKUP(K516,Eje_Pilar_Prop!$C$2:$E$104,3,FALSE)),\" \",VLOOKUP(K516,Eje_Pilar_Prop!$C$2:$E$104,3,FALSE))","v":" "},null,null,null,null,null,null,null,null,0,null,null,null,null,null,null,null,null,null,null,null,null,null,null,null,"-",null,{"$f":"IF(SUMPRODUCT((A$14:A516=A516)*(B$14:B516=B516)*(D$14:D516=D516))>1,0,1)","v":0},1,1,{"$f":"IF(ISBLANK(G516),1,IFERROR(VLOOKUP(G516,Tipo!$C$12:$C$27,1,FALSE),\"NO\"))","v":1},1,{"$f":"IF(ISBLANK(K516),1,IFERROR(VLOOKUP(K516,Eje_Pilar_Prop!C498:C599,1,FALSE),\"NO\"))","v":1},1,1,1]
[null,null,null,null,null,null,null,null,null,null,null,{"$f":"IF(ISERROR(VLOOKUP(K517,Eje_Pilar_Prop!$C$2:$E$104,2,FALSE)),\" \",VLOOKUP(K517,Eje_Pilar_Prop!$C$2:$E$104,2,FALSE))","v":" "},{"$f":"IF(ISERROR(VLOOKUP(K517,Eje_Pilar_Prop!$C$2:$E$104,3,FALSE)),\" \",VLOOKUP(K517,Eje_Pilar_Prop!$C$2:$E$104,3,FALSE))","v":" "},null,null,null,null,null,null,null,null,0,null,null,null,null,null,null,null,null,null,null,null,null,null,null,null,"-",null,{"$f":"IF(SUMPRODUCT((A$14:A517=A517)*(B$14:B517=B517)*(D$14:D517=D517))>1,0,1)","v":0},1,1,{"$f":"IF(ISBLANK(G517),1,IFERROR(VLOOKUP(G517,Tipo!$C$12:$C$27,1,FALSE),\"NO\"))","v":1},1,{"$f":"IF(ISBLANK(K517),1,IFERROR(VLOOKUP(K517,Eje_Pilar_Prop!C499:C600,1,FALSE),\"NO\"))","v":1},1,1,1]
[null,null,null,null,null,null,null,null,null,null,null,{"$f":"IF(ISERROR(VLOOKUP(K518,Eje_Pilar_Prop!$C$2:$E$104,2,FALSE)),\" \",VLOOKUP(K518,Eje_Pilar_Prop!$C$2:$E$104,2,FALSE))","v":" "},{"$f":"IF(ISERROR(VLOOKUP(K518,Eje_Pilar_Prop!$C$2:$E$104,3,FALSE)),\" \",VLOOKUP(K518,Eje_Pilar_Prop!$C$2:$E$104,3,FALSE))","v":" "},null,null,null,null,null,null,null,null,0,null,null,null,null,null,null,null,null,null,null,null,null,null,null,null,"-",null,{"$f":"IF(SUMPRODUCT((A$14:A518=A518)*(B$14:B518=B518)*(D$14:D518=D518))>1,0,1)","v":0},1,1,{"$f":"IF(ISBLANK(G518),1,IFERROR(VLOOKUP(G518,Tipo!$C$12:$C$27,1,FALSE),\"NO\"))","v":1},1,{"$f":"IF(ISBLANK(K518),1,IFERROR(VLOOKUP(K518,Eje_Pilar_Prop!C500:C601,1,FALSE),\"NO\"))","v":1},1,1,1]
[null,null,null,null,null,null,null,null,null,null,null,{"$f":"IF(ISERROR(VLOOKUP(K519,Eje_Pilar_Prop!$C$2:$E$104,2,FALSE)),\" \",VLOOKUP(K519,Eje_Pilar_Prop!$C$2:$E$104,2,FALSE))","v":" "},{"$f":"IF(ISERROR(VLOOKUP(K519,Eje_Pilar_Prop!$C$2:$E$104,3,FALSE)),\" \",VLOOKUP(K519,Eje_Pilar_Prop!$C$2:$E$104,3,FALSE))","v":" "},null,null,null,null,null,null,null,null,0,null,null,null,null,null,null,null,null,null,null,null,null,null,null,null,"-",null,{"$f":"IF(SUMPRODUCT((A$14:A519=A519)*(B$14:B519=B519)*(D$14:D519=D519))>1,0,1)","v":0},1,1,{"$f":"IF(ISBLANK(G519),1,IFERROR(VLOOKUP(G519,Tipo!$C$12:$C$27,1,FALSE),\"NO\"))","v":1},1,{"$f":"IF(ISBLANK(K519),1,IFERROR(VLOOKUP(K519,Eje_Pilar_Prop!C501:C602,1,FALSE),\"NO\"))","v":1},1,1,1]
[null,null,null,null,null,null,null,null,null,null,null,{"$f":"IF(ISERROR(VLOOKUP(K520,Eje_Pilar_Prop!$C$2:$E$104,2,FALSE)),\" \",VLOOKUP(K520,Eje_Pilar_Prop!$C$2:$E$104,2,FALSE))","v":" "},{"$f":"IF(ISERROR(VLOOKUP(K520,Eje_Pilar_Prop!$C$2:$E$104,3,FALSE)),\" \",VLOOKUP(K520,Eje_Pilar_Prop!$C$2:$E$104,3,FALSE))","v":" "},null,null,null,null,null,null,null,null,0,null,null,null,null,null,null,null,null,null,null,null,null,null,null,null,"-",null,{"$f":"IF(SUMPRODUCT((A$14:A520=A520)*(B$14:B520=B520)*(D$14:D520=D520))>1,0,1)","v":0},1,1,{"$f":"IF(ISBLANK(G520),1,IFERROR(VLOOKUP(G520,Tipo!$C$12:$C$27,1,FALSE),\"NO\"))","v":1},1,{"$f":"IF(ISBLANK(K520),1,IFERROR(VLOOKUP(K520,Eje_Pilar_Prop!C502:C603,1,FALSE),\"NO\"))","v":1},1,1,1]
[null,null,null,null,null,null,null,null,null,null,null,{"$f":"IF(ISERROR(VLOOKUP(K521,Eje_Pilar_Prop!$C$2:$E$104,2,FALSE)),\" \",VLOOKUP(K521,Eje_Pilar_Prop!$C$2:$E$104,2,FALSE))","v":" "},{"$f":"IF(ISERROR(VLOOKUP(K521,Eje_Pilar_Prop!$C$2:$E$104,3,FALSE)),\" \",VLOOKUP(K521,Eje_Pilar_Prop!$C$2:$E$104,3,FALSE))","v":" "},null,null,null,null,null,null,null,null,0,null,null,null,null,null,null,null,null,null,null,null,null,null,null,null,"-",null,{"$f":"IF(SUMPRODUCT((A$14:A521=A521)*(B$14:B521=B521)*(D$14:D521=D521))>1,0,1)","v":0},1,1,{"$f":"IF(ISBLANK(G521),1,IFERROR(VLOOKUP(G521,Tipo!$C$12:$C$27,1,FALSE),\"NO\"))","v":1},1,{"$f":"IF(ISBLANK(K521),1,IFERROR(VLOOKUP(K521,Eje_Pilar_Prop!C503:C604,1,FALSE),\"NO\"))","v":1},1,1,1]
[null,null,null,null,null,null,null,null,null,null,null,{"$f":"IF(ISERROR(VLOOKUP(K522,Eje_Pilar_Prop!$C$2:$E$104,2,FALSE)),\" \",VLOOKUP(K522,Eje_Pilar_Prop!$C$2:$E$104,2,FALSE))","v":" "},{"$f":"IF(ISERROR(VLOOKUP(K522,Eje_Pilar_Prop!$C$2:$E$104,3,FALSE)),\" \",VLOOKUP(K522,Eje_Pilar_Prop!$C$2:$E$104,3,FALSE))","v":" "},null,null,null,null,null,null,null,null,0,null,null,null,null,null,null,null,null,null,null,null,null,null,null,null,"-",null,{"$f":"IF(SUMPRODUCT((A$14:A522=A522)*(B$14:B522=B522)*(D$14:D522=D522))>1,0,1)","v":0},1,1,{"$f":"IF(ISBLANK(G522),1,IFERROR(VLOOKUP(G522,Tipo!$C$12:$C$27,1,FALSE),\"NO\"))","v":1},1,{"$f":"IF(ISBLANK(K522),1,IFERROR(VLOOKUP(K522,Eje_Pilar_Prop!C504:C605,1,FALSE),\"NO\"))","v":1},1,1,1]
[null,null,null,null,null,null,null,null,null,null,null,{"$f":"IF(ISERROR(VLOOKUP(K523,Eje_Pilar_Prop!$C$2:$E$104,2,FALSE)),\" \",VLOOKUP(K523,Eje_Pilar_Prop!$C$2:$E$104,2,FALSE))","v":" "},{"$f":"IF(ISERROR(VLOOKUP(K523,Eje_Pilar_Prop!$C$2:$E$104,3,FALSE)),\" \",VLOOKUP(K523,Eje_Pilar_Prop!$C$2:$E$104,3,FALSE))","v":" "},null,null,null,null,null,null,null,null,0,null,null,null,null,null,null,null,null,null,null,null,null,null,null,null,"-",null,{"$f":"IF(SUMPRODUCT((A$14:A523=A523)*(B$14:B523=B523)*(D$14:D523=D523))>1,0,1)","v":0},1,1,{"$f":"IF(ISBLANK(G523),1,IFERROR(VLOOKUP(G523,Tipo!$C$12:$C$27,1,FALSE),\"NO\"))","v":1},1,{"$f":"IF(ISBLANK(K523),1,IFERROR(VLOOKUP(K523,Eje_Pilar_Prop!C505:C606,1,FALSE),\"NO\"))","v":1},1,1,1]
[null,null,null,null,null,null,null,null,null,null,null,{"$f":"IF(ISERROR(VLOOKUP(K524,Eje_Pilar_Prop!$C$2:$E$104,2,FALSE)),\" \",VLOOKUP(K524,Eje_Pilar_Prop!$C$2:$E$104,2,FALSE))","v":" "},{"$f":"IF(ISERROR(VLOOKUP(K524,Eje_Pilar_Prop!$C$2:$E$104,3,FALSE)),\" \",VLOOKUP(K524,Eje_Pilar_Prop!$C$2:$E$104,3,FALSE))","v":" "},null,null,null,null,null,null,null,null,0,null,null,null,null,null,null,null,null,null,null,null,null,null,null,null,"-",null,{"$f":"IF(SUMPRODUCT((A$14:A524=A524)*(B$14:B524=B524)*(D$14:D524=D524))>1,0,1)","v":0},1,1,{"$f":"IF(ISBLANK(G524),1,IFERROR(VLOOKUP(G524,Tipo!$C$12:$C$27,1,FALSE),\"NO\"))","v":1},1,{"$f":"IF(ISBLANK(K524),1,IFERROR(VLOOKUP(K524,Eje_Pilar_Prop!C506:C607,1,FALSE),\"NO\"))","v":1},1,1,1]
[null,null,null,null,null,null,null,null,null,null,null,{"$f":"IF(ISERROR(VLOOKUP(K525,Eje_Pilar_Prop!$C$2:$E$104,2,FALSE)),\" \",VLOOKUP(K525,Eje_Pilar_Prop!$C$2:$E$104,2,FALSE))","v":" "},{"$f":"IF(ISERROR(VLOOKUP(K525,Eje_Pilar_Prop!$C$2:$E$104,3,FALSE)),\" \",VLOOKUP(K525,Eje_Pilar_Prop!$C$2:$E$104,3,FALSE))","v":" "},null,null,null,null,null,null,null,null,0,null,null,null,null,null,null,null,null,null,null,null,null,null,null,null,"-",null,{"$f":"IF(SUMPRODUCT((A$14:A525=A525)*(B$14:B525=B525)*(D$14:D525=D525))>1,0,1)","v":0},1,1,{"$f":"IF(ISBLANK(G525),1,IFERROR(VLOOKUP(G525,Tipo!$C$12:$C$27,1,FALSE),\"NO\"))","v":1},1,{"$f":"IF(ISBLANK(K525),1,IFERROR(VLOOKUP(K525,Eje_Pilar_Prop!C507:C608,1,FALSE),\"NO\"))","v":1},1,1,1]
[null,null,null,null,null,null,null,null,null,null,null,{"$f":"IF(ISERROR(VLOOKUP(K526,Eje_Pilar_Prop!$C$2:$E$104,2,FALSE)),\" \",VLOOKUP(K526,Eje_Pilar_Prop!$C$2:$E$104,2,FALSE))","v":" "},{"$f":"IF(ISERROR(VLOOKUP(K526,Eje_Pilar_Prop!$C$2:$E$104,3,FALSE)),\" \",VLOOKUP(K526,Eje_Pilar_Prop!$C$2:$E$104,3,FALSE))","v":" "},null,null,null,null,null,null,null,null,0,null,null,null,null,null,null,null,null,null,null,null,null,null,null,null,"-",null,{"$f":"IF(SUMPRODUCT((A$14:A526=A526)*(B$14:B526=B526)*(D$14:D526=D526))>1,0,1)","v":0},1,1,{"$f":"IF(ISBLANK(G526),1,IFERROR(VLOOKUP(G526,Tipo!$C$12:$C$27,1,FALSE),\"NO\"))","v":1},1,{"$f":"IF(ISBLANK(K526),1,IFERROR(VLOOKUP(K526,Eje_Pilar_Prop!C508:C609,1,FALSE),\"NO\"))","v":1},1,1,{"$f":"IF(ISBLANK(J526),1,IFERROR(VLOOKUP(J526,pdd,1,FALSE),\"NO\"))","v":1}]
[null,null,null,null,null,null,null,null,null,null,null,{"$f":"IF(ISERROR(VLOOKUP(K527,Eje_Pilar_Prop!$C$2:$E$104,2,FALSE)),\" \",VLOOKUP(K527,Eje_Pilar_Prop!$C$2:$E$104,2,FALSE))","v":" "},{"$f":"IF(ISERROR(VLOOKUP(K527,Eje_Pilar_Prop!$C$2:$E$104,3,FALSE)),\" \",VLOOKUP(K527,Eje_Pilar_Prop!$C$2:$E$104,3,FALSE))","v":" "},null,null,null,null,null,null,null,null,0,null,null,null,null,null,null,null,null,null,null,null,null,null,null,null,"-",null,{"$f":"IF(SUMPRODUCT((A$14:A527=A527)*(B$14:B527=B527)*(D$14:D527=D527))>1,0,1)","v":0},1,1,{"$f":"IF(ISBLANK(G527),1,IFERROR(VLOOKUP(G527,Tipo!$C$12:$C$27,1,FALSE),\"NO\"))","v":1},1,{"$f":"IF(ISBLANK(K527),1,IFERROR(VLOOKUP(K527,Eje_Pilar_Prop!C509:C610,1,FALSE),\"NO\"))","v":1},1,1,1]
[null,null,null,null,null,null,null,null,null,null,null,{"$f":"IF(ISERROR(VLOOKUP(K528,Eje_Pilar_Prop!$C$2:$E$104,2,FALSE)),\" \",VLOOKUP(K528,Eje_Pilar_Prop!$C$2:$E$104,2,FALSE))","v":" "},{"$f":"IF(ISERROR(VLOOKUP(K528,Eje_Pilar_Prop!$C$2:$E$104,3,FALSE)),\" \",VLOOKUP(K528,Eje_Pilar_Prop!$C$2:$E$104,3,FALSE))","v":" "},null,null,null,null,null,null,null,null,0,null,null,null,null,null,null,null,null,null,null,null,null,null,null,null,"-",null,{"$f":"IF(SUMPRODUCT((A$14:A528=A528)*(B$14:B528=B528)*(D$14:D528=D528))>1,0,1)","v":0},1,1,{"$f":"IF(ISBLANK(G528),1,IFERROR(VLOOKUP(G528,Tipo!$C$12:$C$27,1,FALSE),\"NO\"))","v":1},1,{"$f":"IF(ISBLANK(K528),1,IFERROR(VLOOKUP(K528,Eje_Pilar_Prop!C510:C611,1,FALSE),\"NO\"))","v":1},1,1,1]
[null,null,null,null,null,null,null,null,null,null,null,{"$f":"IF(ISERROR(VLOOKUP(K529,Eje_Pilar_Prop!$C$2:$E$104,2,FALSE)),\" \",VLOOKUP(K529,Eje_Pilar_Prop!$C$2:$E$104,2,FALSE))","v":" "},{"$f":"IF(ISERROR(VLOOKUP(K529,Eje_Pilar_Prop!$C$2:$E$104,3,FALSE)),\" \",VLOOKUP(K529,Eje_Pilar_Prop!$C$2:$E$104,3,FALSE))","v":" "},null,null,null,null,null,null,null,null,0,null,null,null,null,null,null,null,null,null,null,null,null,null,null,null,"-",null,{"$f":"IF(SUMPRODUCT((A$14:A529=A529)*(B$14:B529=B529)*(D$14:D529=D529))>1,0,1)","v":0},1,1,{"$f":"IF(ISBLANK(G529),1,IFERROR(VLOOKUP(G529,Tipo!$C$12:$C$27,1,FALSE),\"NO\"))","v":1},1,{"$f":"IF(ISBLANK(K529),1,IFERROR(VLOOKUP(K529,Eje_Pilar_Prop!C511:C612,1,FALSE),\"NO\"))","v":1},1,1,1]
[null,null,null,null,null,null,null,null,null,null,null,{"$f":"IF(ISERROR(VLOOKUP(K530,Eje_Pilar_Prop!$C$2:$E$104,2,FALSE)),\" \",VLOOKUP(K530,Eje_Pilar_Prop!$C$2:$E$104,2,FALSE))","v":" "},{"$f":"IF(ISERROR(VLOOKUP(K530,Eje_Pilar_Prop!$C$2:$E$104,3,FALSE)),\" \",VLOOKUP(K530,Eje_Pilar_Prop!$C$2:$E$104,3,FALSE))","v":" "},null,null,null,null,null,null,null,null,0,null,null,null,null,null,null,null,null,null,null,null,null,null,null,null,"-",null,{"$f":"IF(SUMPRODUCT((A$14:A530=A530)*(B$14:B530=B530)*(D$14:D530=D530))>1,0,1)","v":0},1,1,{"$f":"IF(ISBLANK(G530),1,IFERROR(VLOOKUP(G530,Tipo!$C$12:$C$27,1,FALSE),\"NO\"))","v":1},1,{"$f":"IF(ISBLANK(K530),1,IFERROR(VLOOKUP(K530,Eje_Pilar_Prop!C512:C613,1,FALSE),\"NO\"))","v":1},1,1,1]
[null,null,null,null,null,null,null,null,null,null,null,{"$f":"IF(ISERROR(VLOOKUP(K531,Eje_Pilar_Prop!$C$2:$E$104,2,FALSE)),\" \",VLOOKUP(K531,Eje_Pilar_Prop!$C$2:$E$104,2,FALSE))","v":" "},{"$f":"IF(ISERROR(VLOOKUP(K531,Eje_Pilar_Prop!$C$2:$E$104,3,FALSE)),\" \",VLOOKUP(K531,Eje_Pilar_Prop!$C$2:$E$104,3,FALSE))","v":" "},null,null,null,null,null,null,null,null,0,null,null,null,null,null,null,null,null,null,null,null,null,null,null,null,"-",null,{"$f":"IF(SUMPRODUCT((A$14:A531=A531)*(B$14:B531=B531)*(D$14:D531=D531))>1,0,1)","v":0},1,1,{"$f":"IF(ISBLANK(G531),1,IFERROR(VLOOKUP(G531,Tipo!$C$12:$C$27,1,FALSE),\"NO\"))","v":1},1,{"$f":"IF(ISBLANK(K531),1,IFERROR(VLOOKUP(K531,Eje_Pilar_Prop!C513:C614,1,FALSE),\"NO\"))","v":1},1,1,1]
[null,null,null,null,null,null,null,null,null,null,null,{"$f":"IF(ISERROR(VLOOKUP(K532,Eje_Pilar_Prop!$C$2:$E$104,2,FALSE)),\" \",VLOOKUP(K532,Eje_Pilar_Prop!$C$2:$E$104,2,FALSE))","v":" "},{"$f":"IF(ISERROR(VLOOKUP(K532,Eje_Pilar_Prop!$C$2:$E$104,3,FALSE)),\" \",VLOOKUP(K532,Eje_Pilar_Prop!$C$2:$E$104,3,FALSE))","v":" "},null,null,null,null,null,null,null,null,0,null,null,null,null,null,null,null,null,null,null,null,null,null,null,null,"-",null,{"$f":"IF(SUMPRODUCT((A$14:A532=A532)*(B$14:B532=B532)*(D$14:D532=D532))>1,0,1)","v":0},1,1,{"$f":"IF(ISBLANK(G532),1,IFERROR(VLOOKUP(G532,Tipo!$C$12:$C$27,1,FALSE),\"NO\"))","v":1},1,{"$f":"IF(ISBLANK(K532),1,IFERROR(VLOOKUP(K532,Eje_Pilar_Prop!C514:C615,1,FALSE),\"NO\"))","v":1},1,1,1]
[null,null,null,null,null,null,null,null,null,null,null,{"$f":"IF(ISERROR(VLOOKUP(K533,Eje_Pilar_Prop!$C$2:$E$104,2,FALSE)),\" \",VLOOKUP(K533,Eje_Pilar_Prop!$C$2:$E$104,2,FALSE))","v":" "},{"$f":"IF(ISERROR(VLOOKUP(K533,Eje_Pilar_Prop!$C$2:$E$104,3,FALSE)),\" \",VLOOKUP(K533,Eje_Pilar_Prop!$C$2:$E$104,3,FALSE))","v":" "},null,null,null,null,null,null,null,null,0,null,null,null,null,null,null,null,null,null,null,null,null,null,null,null,"-",null,{"$f":"IF(SUMPRODUCT((A$14:A533=A533)*(B$14:B533=B533)*(D$14:D533=D533))>1,0,1)","v":0},1,1,{"$f":"IF(ISBLANK(G533),1,IFERROR(VLOOKUP(G533,Tipo!$C$12:$C$27,1,FALSE),\"NO\"))","v":1},1,{"$f":"IF(ISBLANK(K533),1,IFERROR(VLOOKUP(K533,Eje_Pilar_Prop!C515:C616,1,FALSE),\"NO\"))","v":1},{"$f":"IF(ISBLANK(C533),1,IFERROR(VLOOKUP(C533,SECOP,1,FALSE),\"NO\"))","v":1},1,1]
[null,null,null,null,null,null,null,null,null,null,null,{"$f":"IF(ISERROR(VLOOKUP(K534,Eje_Pilar_Prop!$C$2:$E$104,2,FALSE)),\" \",VLOOKUP(K534,Eje_Pilar_Prop!$C$2:$E$104,2,FALSE))","v":" "},{"$f":"IF(ISERROR(VLOOKUP(K534,Eje_Pilar_Prop!$C$2:$E$104,3,FALSE)),\" \",VLOOKUP(K534,Eje_Pilar_Prop!$C$2:$E$104,3,FALSE))","v":" "},null,null,null,null,null,null,null,null,0,null,null,null,null,null,null,null,null,null,null,null,null,null,null,null,"-",null,{"$f":"IF(SUMPRODUCT((A$14:A534=A534)*(B$14:B534=B534)*(D$14:D534=D534))>1,0,1)","v":0},1,1,{"$f":"IF(ISBLANK(G534),1,IFERROR(VLOOKUP(G534,Tipo!$C$12:$C$27,1,FALSE),\"NO\"))","v":1},1,{"$f":"IF(ISBLANK(K534),1,IFERROR(VLOOKUP(K534,Eje_Pilar_Prop!C516:C617,1,FALSE),\"NO\"))","v":1},1,1,1]
[null,null,null,null,null,null,null,null,null,null,null,{"$f":"IF(ISERROR(VLOOKUP(K535,Eje_Pilar_Prop!$C$2:$E$104,2,FALSE)),\" \",VLOOKUP(K535,Eje_Pilar_Prop!$C$2:$E$104,2,FALSE))","v":" "},{"$f":"IF(ISERROR(VLOOKUP(K535,Eje_Pilar_Prop!$C$2:$E$104,3,FALSE)),\" \",VLOOKUP(K535,Eje_Pilar_Prop!$C$2:$E$104,3,FALSE))","v":" "},null,null,null,null,null,null,null,null,0,null,null,null,null,null,null,null,null,null,null,null,null,null,null,null,"-",null,{"$f":"IF(SUMPRODUCT((A$14:A535=A535)*(B$14:B535=B535)*(D$14:D535=D535))>1,0,1)","v":0},1,1,{"$f":"IF(ISBLANK(G535),1,IFERROR(VLOOKUP(G535,Tipo!$C$12:$C$27,1,FALSE),\"NO\"))","v":1},1,{"$f":"IF(ISBLANK(K535),1,IFERROR(VLOOKUP(K535,Eje_Pilar_Prop!C517:C618,1,FALSE),\"NO\"))","v":1},1,1,1]
[null,null,null,null,null,null,null,null,null,null,null,{"$f":"IF(ISERROR(VLOOKUP(K536,Eje_Pilar_Prop!$C$2:$E$104,2,FALSE)),\" \",VLOOKUP(K536,Eje_Pilar_Prop!$C$2:$E$104,2,FALSE))","v":" "},{"$f":"IF(ISERROR(VLOOKUP(K536,Eje_Pilar_Prop!$C$2:$E$104,3,FALSE)),\" \",VLOOKUP(K536,Eje_Pilar_Prop!$C$2:$E$104,3,FALSE))","v":" "},null,null,null,null,null,null,null,null,0,null,null,null,null,null,null,null,null,null,null,null,null,null,null,null,"-",null,{"$f":"IF(SUMPRODUCT((A$14:A536=A536)*(B$14:B536=B536)*(D$14:D536=D536))>1,0,1)","v":0},{"$f":"IF(ISBLANK(E536),1,IFERROR(VLOOKUP(E536,tipo,1,FALSE),\"NO\"))","v":1},{"$f":"IF(ISBLANK(F536),1,IFERROR(VLOOKUP(F536,modal,1,FALSE),\"NO\"))","v":1},{"$f":"IF(ISBLANK(G536),1,IFERROR(VLOOKUP(G536,Tipo!$C$12:$C$27,1,FALSE),\"NO\"))","v":1},{"$f":"IF(ISBLANK(I536),1,IFERROR(VLOOKUP(I536,afectacion,1,FALSE),\"NO\"))","v":1},{"$f":"IF(ISBLANK(K536),1,IFERROR(VLOOKUP(K536,Eje_Pilar_Prop!C518:C619,1,FALSE),\"NO\"))","v":1},1,1,1]
[null,null,null,null,null,null,null,null,null,null,null,{"$f":"IF(ISERROR(VLOOKUP(K537,Eje_Pilar_Prop!$C$2:$E$104,2,FALSE)),\" \",VLOOKUP(K537,Eje_Pilar_Prop!$C$2:$E$104,2,FALSE))","v":" "},{"$f":"IF(ISERROR(VLOOKUP(K537,Eje_Pilar_Prop!$C$2:$E$104,3,FALSE)),\" \",VLOOKUP(K537,Eje_Pilar_Prop!$C$2:$E$104,3,FALSE))","v":" "},null,null,null,null,null,null,null,null,0,null,null,null,null,null,null,null,null,null,null,null,null,null,null,null,"-",null,{"$f":"IF(SUMPRODUCT((A$14:A537=A537)*(B$14:B537=B537)*(D$14:D537=D537))>1,0,1)","v":0},1,1,{"$f":"IF(ISBLANK(G537),1,IFERROR(VLOOKUP(G537,Tipo!$C$12:$C$27,1,FALSE),\"NO\"))","v":1},1,{"$f":"IF(ISBLANK(K537),1,IFERROR(VLOOKUP(K537,Eje_Pilar_Prop!C519:C620,1,FALSE),\"NO\"))","v":1},1,1,1]
[null,null,null,null,null,null,null,null,null,null,null,{"$f":"IF(ISERROR(VLOOKUP(K538,Eje_Pilar_Prop!$C$2:$E$104,2,FALSE)),\" \",VLOOKUP(K538,Eje_Pilar_Prop!$C$2:$E$104,2,FALSE))","v":" "},{"$f":"IF(ISERROR(VLOOKUP(K538,Eje_Pilar_Prop!$C$2:$E$104,3,FALSE)),\" \",VLOOKUP(K538,Eje_Pilar_Prop!$C$2:$E$104,3,FALSE))","v":" "},null,null,null,null,null,null,null,null,0,null,null,null,null,null,null,null,null,null,null,null,null,null,null,null,"-",null,{"$f":"IF(SUMPRODUCT((A$14:A538=A538)*(B$14:B538=B538)*(D$14:D538=D538))>1,0,1)","v":0},1,1,{"$f":"IF(ISBLANK(G538),1,IFERROR(VLOOKUP(G538,Tipo!$C$12:$C$27,1,FALSE),\"NO\"))","v":1},1,{"$f":"IF(ISBLANK(K538),1,IFERROR(VLOOKUP(K538,Eje_Pilar_Prop!C520:C621,1,FALSE),\"NO\"))","v":1},1,1,1]
[null,null,null,null,null,null,null,null,null,null,null,{"$f":"IF(ISERROR(VLOOKUP(K539,Eje_Pilar_Prop!$C$2:$E$104,2,FALSE)),\" \",VLOOKUP(K539,Eje_Pilar_Prop!$C$2:$E$104,2,FALSE))","v":" "},{"$f":"IF(ISERROR(VLOOKUP(K539,Eje_Pilar_Prop!$C$2:$E$104,3,FALSE)),\" \",VLOOKUP(K539,Eje_Pilar_Prop!$C$2:$E$104,3,FALSE))","v":" "},null,null,null,null,null,null,null,null,0,null,null,null,null,null,null,null,null,null,null,null,null,null,null,null,"-",null,{"$f":"IF(SUMPRODUCT((A$14:A539=A539)*(B$14:B539=B539)*(D$14:D539=D539))>1,0,1)","v":0},1,1,{"$f":"IF(ISBLANK(G539),1,IFERROR(VLOOKUP(G539,Tipo!$C$12:$C$27,1,FALSE),\"NO\"))","v":1},1,{"$f":"IF(ISBLANK(K539),1,IFERROR(VLOOKUP(K539,Eje_Pilar_Prop!C521:C622,1,FALSE),\"NO\"))","v":1},1,1,1]
[null,null,null,null,null,null,null,null,null,null,null,{"$f":"IF(ISERROR(VLOOKUP(K540,Eje_Pilar_Prop!$C$2:$E$104,2,FALSE)),\" \",VLOOKUP(K540,Eje_Pilar_Prop!$C$2:$E$104,2,FALSE))","v":" "},{"$f":"IF(ISERROR(VLOOKUP(K540,Eje_Pilar_Prop!$C$2:$E$104,3,FALSE)),\" \",VLOOKUP(K540,Eje_Pilar_Prop!$C$2:$E$104,3,FALSE))","v":" "},null,null,null,null,null,null,null,null,0,null,null,null,null,null,null,null,null,null,null,null,null,null,null,null,"-",null,{"$f":"IF(SUMPRODUCT((A$14:A540=A540)*(B$14:B540=B540)*(D$14:D540=D540))>1,0,1)","v":0},1,1,{"$f":"IF(ISBLANK(G540),1,IFERROR(VLOOKUP(G540,Tipo!$C$12:$C$27,1,FALSE),\"NO\"))","v":1},1,{"$f":"IF(ISBLANK(K540),1,IFERROR(VLOOKUP(K540,Eje_Pilar_Prop!C522:C623,1,FALSE),\"NO\"))","v":1},1,{"$f":"IF(OR(YEAR(X540)=2020,ISBLANK(X540)),1,\"NO\")","v":1},1]
[null,null,null,null,null,null,null,null,null,null,null,{"$f":"IF(ISERROR(VLOOKUP(K541,Eje_Pilar_Prop!$C$2:$E$104,2,FALSE)),\" \",VLOOKUP(K541,Eje_Pilar_Prop!$C$2:$E$104,2,FALSE))","v":" "},{"$f":"IF(ISERROR(VLOOKUP(K541,Eje_Pilar_Prop!$C$2:$E$104,3,FALSE)),\" \",VLOOKUP(K541,Eje_Pilar_Prop!$C$2:$E$104,3,FALSE))","v":" "},null,null,null,null,null,null,null,null,0,null,null,null,null,null,null,null,null,null,null,null,null,null,null,null,"-",null,{"$f":"IF(SUMPRODUCT((A$14:A541=A541)*(B$14:B541=B541)*(D$14:D541=D541))>1,0,1)","v":0},1,1,{"$f":"IF(ISBLANK(G541),1,IFERROR(VLOOKUP(G541,Tipo!$C$12:$C$27,1,FALSE),\"NO\"))","v":1},1,{"$f":"IF(ISBLANK(K541),1,IFERROR(VLOOKUP(K541,Eje_Pilar_Prop!C523:C624,1,FALSE),\"NO\"))","v":1},1,1,1]
[null,null,null,null,null,null,null,null,null,null,null,{"$f":"IF(ISERROR(VLOOKUP(K542,Eje_Pilar_Prop!$C$2:$E$104,2,FALSE)),\" \",VLOOKUP(K542,Eje_Pilar_Prop!$C$2:$E$104,2,FALSE))","v":" "},{"$f":"IF(ISERROR(VLOOKUP(K542,Eje_Pilar_Prop!$C$2:$E$104,3,FALSE)),\" \",VLOOKUP(K542,Eje_Pilar_Prop!$C$2:$E$104,3,FALSE))","v":" "},null,null,null,null,null,null,null,null,0,null,null,null,null,null,null,null,null,null,null,null,null,null,null,null,{"$f":"IF(ISERROR(W542/V542),\"-\",(W542/V542))","v":"-"},null,{"$f":"IF(SUMPRODUCT((A$14:A542=A542)*(B$14:B542=B542)*(D$14:D542=D542))>1,0,1)","v":0},1,1,{"$f":"IF(ISBLANK(G542),1,IFERROR(VLOOKUP(G542,Tipo!$C$12:$C$27,1,FALSE),\"NO\"))","v":1},1,{"$f":"IF(ISBLANK(K542),1,IFERROR(VLOOKUP(K542,Eje_Pilar_Prop!C524:C625,1,FALSE),\"NO\"))","v":1},1,1,1]
[null,null,null,null,null,null,null,null,null,null,null,{"$f":"IF(ISERROR(VLOOKUP(K543,Eje_Pilar_Prop!$C$2:$E$104,2,FALSE)),\" \",VLOOKUP(K543,Eje_Pilar_Prop!$C$2:$E$104,2,FALSE))","v":" "},{"$f":"IF(ISERROR(VLOOKUP(K543,Eje_Pilar_Prop!$C$2:$E$104,3,FALSE)),\" \",VLOOKUP(K543,Eje_Pilar_Prop!$C$2:$E$104,3,FALSE))","v":" "},null,null,null,null,null,null,null,null,{"$f":"+Q543+S543+U543","v":0},null,null,null,null,null,null,null,null,null,null,null,null,null,null,null,"-",null,{"$f":"IF(SUMPRODUCT((A$14:A543=A543)*(B$14:B543=B543)*(D$14:D543=D543))>1,0,1)","v":0},1,1,{"$f":"IF(ISBLANK(G543),1,IFERROR(VLOOKUP(G543,Tipo!$C$12:$C$27,1,FALSE),\"NO\"))","v":1},1,{"$f":"IF(ISBLANK(K543),1,IFERROR(VLOOKUP(K543,Eje_Pilar_Prop!C525:C626,1,FALSE),\"NO\"))","v":1},1,1,1]
[null,null,null,null,null,null,null,null,null,null,null,{"$f":"IF(ISERROR(VLOOKUP(K544,Eje_Pilar_Prop!$C$2:$E$104,2,FALSE)),\" \",VLOOKUP(K544,Eje_Pilar_Prop!$C$2:$E$104,2,FALSE))","v":" "},{"$f":"IF(ISERROR(VLOOKUP(K544,Eje_Pilar_Prop!$C$2:$E$104,3,FALSE)),\" \",VLOOKUP(K544,Eje_Pilar_Prop!$C$2:$E$104,3,FALSE))","v":" "},null,null,null,null,null,null,null,null,0,null,null,null,null,null,null,null,null,null,null,null,null,null,null,null,"-",null,{"$f":"IF(SUMPRODUCT((A$14:A544=A544)*(B$14:B544=B544)*(D$14:D544=D544))>1,0,1)","v":0},1,1,{"$f":"IF(ISBLANK(G544),1,IFERROR(VLOOKUP(G544,Tipo!$C$12:$C$27,1,FALSE),\"NO\"))","v":1},1,{"$f":"IF(ISBLANK(K544),1,IFERROR(VLOOKUP(K544,Eje_Pilar_Prop!C526:C627,1,FALSE),\"NO\"))","v":1},1,1,1]
[null,null,null,null,null,null,null,null,null,null,null,{"$f":"IF(ISERROR(VLOOKUP(K545,Eje_Pilar_Prop!$C$2:$E$104,2,FALSE)),\" \",VLOOKUP(K545,Eje_Pilar_Prop!$C$2:$E$104,2,FALSE))","v":" "},{"$f":"IF(ISERROR(VLOOKUP(K545,Eje_Pilar_Prop!$C$2:$E$104,3,FALSE)),\" \",VLOOKUP(K545,Eje_Pilar_Prop!$C$2:$E$104,3,FALSE))","v":" "},null,null,null,null,null,null,null,null,0,null,null,null,null,null,null,null,null,null,null,null,null,null,null,null,"-",null,{"$f":"IF(SUMPRODUCT((A$14:A545=A545)*(B$14:B545=B545)*(D$14:D545=D545))>1,0,1)","v":0},1,1,{"$f":"IF(ISBLANK(G545),1,IFERROR(VLOOKUP(G545,Tipo!$C$12:$C$27,1,FALSE),\"NO\"))","v":1},1,{"$f":"IF(ISBLANK(K545),1,IFERROR(VLOOKUP(K545,Eje_Pilar_Prop!C527:C628,1,FALSE),\"NO\"))","v":1},1,1,1]
[null,null,null,null,null,null,null,null,null,null,null,{"$f":"IF(ISERROR(VLOOKUP(K546,Eje_Pilar_Prop!$C$2:$E$104,2,FALSE)),\" \",VLOOKUP(K546,Eje_Pilar_Prop!$C$2:$E$104,2,FALSE))","v":" "},{"$f":"IF(ISERROR(VLOOKUP(K546,Eje_Pilar_Prop!$C$2:$E$104,3,FALSE)),\" \",VLOOKUP(K546,Eje_Pilar_Prop!$C$2:$E$104,3,FALSE))","v":" "},null,null,null,null,null,null,null,null,0,null,null,null,null,null,null,null,null,null,null,null,null,null,null,null,"-",null,{"$f":"IF(SUMPRODUCT((A$14:A546=A546)*(B$14:B546=B546)*(D$14:D546=D546))>1,0,1)","v":0},1,1,{"$f":"IF(ISBLANK(G546),1,IFERROR(VLOOKUP(G546,Tipo!$C$12:$C$27,1,FALSE),\"NO\"))","v":1},1,{"$f":"IF(ISBLANK(K546),1,IFERROR(VLOOKUP(K546,Eje_Pilar_Prop!C528:C629,1,FALSE),\"NO\"))","v":1},1,1,1]
[null,null,null,null,null,null,null,null,null,null,null,{"$f":"IF(ISERROR(VLOOKUP(K547,Eje_Pilar_Prop!$C$2:$E$104,2,FALSE)),\" \",VLOOKUP(K547,Eje_Pilar_Prop!$C$2:$E$104,2,FALSE))","v":" "},{"$f":"IF(ISERROR(VLOOKUP(K547,Eje_Pilar_Prop!$C$2:$E$104,3,FALSE)),\" \",VLOOKUP(K547,Eje_Pilar_Prop!$C$2:$E$104,3,FALSE))","v":" "},null,null,null,null,null,null,null,null,0,null,null,null,null,null,null,null,null,null,null,null,null,null,null,null,"-",null,{"$f":"IF(SUMPRODUCT((A$14:A547=A547)*(B$14:B547=B547)*(D$14:D547=D547))>1,0,1)","v":0},1,1,{"$f":"IF(ISBLANK(G547),1,IFERROR(VLOOKUP(G547,Tipo!$C$12:$C$27,1,FALSE),\"NO\"))","v":1},1,{"$f":"IF(ISBLANK(K547),1,IFERROR(VLOOKUP(K547,Eje_Pilar_Prop!C529:C630,1,FALSE),\"NO\"))","v":1},1,1,1]
[null,null,null,null,null,null,null,null,null,null,null,{"$f":"IF(ISERROR(VLOOKUP(K548,Eje_Pilar_Prop!$C$2:$E$104,2,FALSE)),\" \",VLOOKUP(K548,Eje_Pilar_Prop!$C$2:$E$104,2,FALSE))","v":" "},{"$f":"IF(ISERROR(VLOOKUP(K548,Eje_Pilar_Prop!$C$2:$E$104,3,FALSE)),\" \",VLOOKUP(K548,Eje_Pilar_Prop!$C$2:$E$104,3,FALSE))","v":" "},null,null,null,null,null,null,null,null,0,null,null,null,null,null,null,null,null,null,null,null,null,null,null,null,"-",null,{"$f":"IF(SUMPRODUCT((A$14:A548=A548)*(B$14:B548=B548)*(D$14:D548=D548))>1,0,1)","v":0},1,1,{"$f":"IF(ISBLANK(G548),1,IFERROR(VLOOKUP(G548,Tipo!$C$12:$C$27,1,FALSE),\"NO\"))","v":1},1,{"$f":"IF(ISBLANK(K548),1,IFERROR(VLOOKUP(K548,Eje_Pilar_Prop!C530:C631,1,FALSE),\"NO\"))","v":1},1,1,1]
[null,null,null,null,null,null,null,null,null,null,null,{"$f":"IF(ISERROR(VLOOKUP(K549,Eje_Pilar_Prop!$C$2:$E$104,2,FALSE)),\" \",VLOOKUP(K549,Eje_Pilar_Prop!$C$2:$E$104,2,FALSE))","v":" "},{"$f":"IF(ISERROR(VLOOKUP(K549,Eje_Pilar_Prop!$C$2:$E$104,3,FALSE)),\" \",VLOOKUP(K549,Eje_Pilar_Prop!$C$2:$E$104,3,FALSE))","v":" "},null,null,null,null,null,null,null,null,0,null,null,null,null,null,null,null,null,null,null,null,null,null,null,null,"-",null,{"$f":"IF(SUMPRODUCT((A$14:A549=A549)*(B$14:B549=B549)*(D$14:D549=D549))>1,0,1)","v":0},1,1,{"$f":"IF(ISBLANK(G549),1,IFERROR(VLOOKUP(G549,Tipo!$C$12:$C$27,1,FALSE),\"NO\"))","v":1},1,{"$f":"IF(ISBLANK(K549),1,IFERROR(VLOOKUP(K549,Eje_Pilar_Prop!C531:C632,1,FALSE),\"NO\"))","v":1},1,1,1]
[null,null,null,null,null,null,null,null,null,null,null,{"$f":"IF(ISERROR(VLOOKUP(K550,Eje_Pilar_Prop!$C$2:$E$104,2,FALSE)),\" \",VLOOKUP(K550,Eje_Pilar_Prop!$C$2:$E$104,2,FALSE))","v":" "},{"$f":"IF(ISERROR(VLOOKUP(K550,Eje_Pilar_Prop!$C$2:$E$104,3,FALSE)),\" \",VLOOKUP(K550,Eje_Pilar_Prop!$C$2:$E$104,3,FALSE))","v":" "},null,null,null,null,null,null,null,null,0,null,null,null,null,null,null,null,null,null,null,null,null,null,null,null,"-",null,{"$f":"IF(SUMPRODUCT((A$14:A550=A550)*(B$14:B550=B550)*(D$14:D550=D550))>1,0,1)","v":0},1,1,{"$f":"IF(ISBLANK(G550),1,IFERROR(VLOOKUP(G550,Tipo!$C$12:$C$27,1,FALSE),\"NO\"))","v":1},1,{"$f":"IF(ISBLANK(K550),1,IFERROR(VLOOKUP(K550,Eje_Pilar_Prop!C532:C633,1,FALSE),\"NO\"))","v":1},1,1,1]
[null,null,null,null,null,null,null,null,null,null,null,{"$f":"IF(ISERROR(VLOOKUP(K551,Eje_Pilar_Prop!$C$2:$E$104,2,FALSE)),\" \",VLOOKUP(K551,Eje_Pilar_Prop!$C$2:$E$104,2,FALSE))","v":" "},{"$f":"IF(ISERROR(VLOOKUP(K551,Eje_Pilar_Prop!$C$2:$E$104,3,FALSE)),\" \",VLOOKUP(K551,Eje_Pilar_Prop!$C$2:$E$104,3,FALSE))","v":" "},null,null,null,null,null,null,null,null,0,null,null,null,null,null,null,null,null,null,null,null,null,null,null,null,"-",null,{"$f":"IF(SUMPRODUCT((A$14:A551=A551)*(B$14:B551=B551)*(D$14:D551=D551))>1,0,1)","v":0},1,1,{"$f":"IF(ISBLANK(G551),1,IFERROR(VLOOKUP(G551,Tipo!$C$12:$C$27,1,FALSE),\"NO\"))","v":1},1,{"$f":"IF(ISBLANK(K551),1,IFERROR(VLOOKUP(K551,Eje_Pilar_Prop!C533:C634,1,FALSE),\"NO\"))","v":1},1,1,1]
[null,null,null,null,null,null,null,null,null,null,null,{"$f":"IF(ISERROR(VLOOKUP(K552,Eje_Pilar_Prop!$C$2:$E$104,2,FALSE)),\" \",VLOOKUP(K552,Eje_Pilar_Prop!$C$2:$E$104,2,FALSE))","v":" "},{"$f":"IF(ISERROR(VLOOKUP(K552,Eje_Pilar_Prop!$C$2:$E$104,3,FALSE)),\" \",VLOOKUP(K552,Eje_Pilar_Prop!$C$2:$E$104,3,FALSE))","v":" "},null,null,null,null,null,null,null,null,0,null,null,null,null,null,null,null,null,null,null,null,null,null,null,null,"-",null,{"$f":"IF(SUMPRODUCT((A$14:A552=A552)*(B$14:B552=B552)*(D$14:D552=D552))>1,0,1)","v":0},1,1,{"$f":"IF(ISBLANK(G552),1,IFERROR(VLOOKUP(G552,Tipo!$C$12:$C$27,1,FALSE),\"NO\"))","v":1},1,{"$f":"IF(ISBLANK(K552),1,IFERROR(VLOOKUP(K552,Eje_Pilar_Prop!C534:C635,1,FALSE),\"NO\"))","v":1},1,1,1]
[null,null,null,null,null,null,null,null,null,null,null,{"$f":"IF(ISERROR(VLOOKUP(K553,Eje_Pilar_Prop!$C$2:$E$104,2,FALSE)),\" \",VLOOKUP(K553,Eje_Pilar_Prop!$C$2:$E$104,2,FALSE))","v":" "},{"$f":"IF(ISERROR(VLOOKUP(K553,Eje_Pilar_Prop!$C$2:$E$104,3,FALSE)),\" \",VLOOKUP(K553,Eje_Pilar_Prop!$C$2:$E$104,3,FALSE))","v":" "},null,null,null,null,null,null,null,null,0,null,null,null,null,null,null,null,null,null,null,null,null,null,null,null,"-",null,{"$f":"IF(SUMPRODUCT((A$14:A553=A553)*(B$14:B553=B553)*(D$14:D553=D553))>1,0,1)","v":0},1,1,{"$f":"IF(ISBLANK(G553),1,IFERROR(VLOOKUP(G553,Tipo!$C$12:$C$27,1,FALSE),\"NO\"))","v":1},1,{"$f":"IF(ISBLANK(K553),1,IFERROR(VLOOKUP(K553,Eje_Pilar_Prop!C535:C636,1,FALSE),\"NO\"))","v":1},1,1,1]
[null,null,null,null,null,null,null,null,null,null,null,{"$f":"IF(ISERROR(VLOOKUP(K554,Eje_Pilar_Prop!$C$2:$E$104,2,FALSE)),\" \",VLOOKUP(K554,Eje_Pilar_Prop!$C$2:$E$104,2,FALSE))","v":" "},{"$f":"IF(ISERROR(VLOOKUP(K554,Eje_Pilar_Prop!$C$2:$E$104,3,FALSE)),\" \",VLOOKUP(K554,Eje_Pilar_Prop!$C$2:$E$104,3,FALSE))","v":" "},null,null,null,null,null,null,null,null,0,null,null,null,null,null,null,null,null,null,null,null,null,null,null,null,"-",null,{"$f":"IF(SUMPRODUCT((A$14:A554=A554)*(B$14:B554=B554)*(D$14:D554=D554))>1,0,1)","v":0},1,1,{"$f":"IF(ISBLANK(G554),1,IFERROR(VLOOKUP(G554,Tipo!$C$12:$C$27,1,FALSE),\"NO\"))","v":1},1,{"$f":"IF(ISBLANK(K554),1,IFERROR(VLOOKUP(K554,Eje_Pilar_Prop!C536:C637,1,FALSE),\"NO\"))","v":1},1,1,1]
[null,null,null,null,null,null,null,null,null,null,null,{"$f":"IF(ISERROR(VLOOKUP(K555,Eje_Pilar_Prop!$C$2:$E$104,2,FALSE)),\" \",VLOOKUP(K555,Eje_Pilar_Prop!$C$2:$E$104,2,FALSE))","v":" "},{"$f":"IF(ISERROR(VLOOKUP(K555,Eje_Pilar_Prop!$C$2:$E$104,3,FALSE)),\" \",VLOOKUP(K555,Eje_Pilar_Prop!$C$2:$E$104,3,FALSE))","v":" "},null,null,null,null,null,null,null,null,0,null,null,null,null,null,null,null,null,null,null,null,null,null,null,null,"-",null,{"$f":"IF(SUMPRODUCT((A$14:A555=A555)*(B$14:B555=B555)*(D$14:D555=D555))>1,0,1)","v":0},1,1,{"$f":"IF(ISBLANK(G555),1,IFERROR(VLOOKUP(G555,Tipo!$C$12:$C$27,1,FALSE),\"NO\"))","v":1},1,{"$f":"IF(ISBLANK(K555),1,IFERROR(VLOOKUP(K555,Eje_Pilar_Prop!C537:C638,1,FALSE),\"NO\"))","v":1},1,1,1]
[null,null,null,null,null,null,null,null,null,null,null,{"$f":"IF(ISERROR(VLOOKUP(K556,Eje_Pilar_Prop!$C$2:$E$104,2,FALSE)),\" \",VLOOKUP(K556,Eje_Pilar_Prop!$C$2:$E$104,2,FALSE))","v":" "},{"$f":"IF(ISERROR(VLOOKUP(K556,Eje_Pilar_Prop!$C$2:$E$104,3,FALSE)),\" \",VLOOKUP(K556,Eje_Pilar_Prop!$C$2:$E$104,3,FALSE))","v":" "},null,null,null,null,null,null,null,null,0,null,null,null,null,null,null,null,null,null,null,null,null,null,null,null,"-",null,{"$f":"IF(SUMPRODUCT((A$14:A556=A556)*(B$14:B556=B556)*(D$14:D556=D556))>1,0,1)","v":0},1,1,{"$f":"IF(ISBLANK(G556),1,IFERROR(VLOOKUP(G556,Tipo!$C$12:$C$27,1,FALSE),\"NO\"))","v":1},1,{"$f":"IF(ISBLANK(K556),1,IFERROR(VLOOKUP(K556,Eje_Pilar_Prop!C538:C639,1,FALSE),\"NO\"))","v":1},1,1,1]
[null,null,null,null,null,null,null,null,null,null,null,{"$f":"IF(ISERROR(VLOOKUP(K557,Eje_Pilar_Prop!$C$2:$E$104,2,FALSE)),\" \",VLOOKUP(K557,Eje_Pilar_Prop!$C$2:$E$104,2,FALSE))","v":" "},{"$f":"IF(ISERROR(VLOOKUP(K557,Eje_Pilar_Prop!$C$2:$E$104,3,FALSE)),\" \",VLOOKUP(K557,Eje_Pilar_Prop!$C$2:$E$104,3,FALSE))","v":" "},null,null,null,null,null,null,null,null,0,null,null,null,null,null,null,null,null,null,null,null,null,null,null,null,"-",null,{"$f":"IF(SUMPRODUCT((A$14:A557=A557)*(B$14:B557=B557)*(D$14:D557=D557))>1,0,1)","v":0},1,1,{"$f":"IF(ISBLANK(G557),1,IFERROR(VLOOKUP(G557,Tipo!$C$12:$C$27,1,FALSE),\"NO\"))","v":1},1,{"$f":"IF(ISBLANK(K557),1,IFERROR(VLOOKUP(K557,Eje_Pilar_Prop!C539:C640,1,FALSE),\"NO\"))","v":1},1,1,1]
[null,null,null,null,null,null,null,null,null,null,null,{"$f":"IF(ISERROR(VLOOKUP(K558,Eje_Pilar_Prop!$C$2:$E$104,2,FALSE)),\" \",VLOOKUP(K558,Eje_Pilar_Prop!$C$2:$E$104,2,FALSE))","v":" "},{"$f":"IF(ISERROR(VLOOKUP(K558,Eje_Pilar_Prop!$C$2:$E$104,3,FALSE)),\" \",VLOOKUP(K558,Eje_Pilar_Prop!$C$2:$E$104,3,FALSE))","v":" "},null,null,null,null,null,null,null,null,0,null,null,null,null,null,null,null,null,null,null,null,null,null,null,null,"-",null,{"$f":"IF(SUMPRODUCT((A$14:A558=A558)*(B$14:B558=B558)*(D$14:D558=D558))>1,0,1)","v":0},1,1,{"$f":"IF(ISBLANK(G558),1,IFERROR(VLOOKUP(G558,Tipo!$C$12:$C$27,1,FALSE),\"NO\"))","v":1},1,{"$f":"IF(ISBLANK(K558),1,IFERROR(VLOOKUP(K558,Eje_Pilar_Prop!C540:C641,1,FALSE),\"NO\"))","v":1},1,1,1]
[null,null,null,null,null,null,null,null,null,null,null,{"$f":"IF(ISERROR(VLOOKUP(K559,Eje_Pilar_Prop!$C$2:$E$104,2,FALSE)),\" \",VLOOKUP(K559,Eje_Pilar_Prop!$C$2:$E$104,2,FALSE))","v":" "},{"$f":"IF(ISERROR(VLOOKUP(K559,Eje_Pilar_Prop!$C$2:$E$104,3,FALSE)),\" \",VLOOKUP(K559,Eje_Pilar_Prop!$C$2:$E$104,3,FALSE))","v":" "},null,null,null,null,null,null,null,null,0,null,null,null,null,null,null,null,null,null,null,null,null,null,null,null,"-",null,{"$f":"IF(SUMPRODUCT((A$14:A559=A559)*(B$14:B559=B559)*(D$14:D559=D559))>1,0,1)","v":0},1,1,{"$f":"IF(ISBLANK(G559),1,IFERROR(VLOOKUP(G559,Tipo!$C$12:$C$27,1,FALSE),\"NO\"))","v":1},1,{"$f":"IF(ISBLANK(K559),1,IFERROR(VLOOKUP(K559,Eje_Pilar_Prop!C541:C642,1,FALSE),\"NO\"))","v":1},1,1,1]
[null,null,null,null,null,null,null,null,null,null,null,{"$f":"IF(ISERROR(VLOOKUP(K560,Eje_Pilar_Prop!$C$2:$E$104,2,FALSE)),\" \",VLOOKUP(K560,Eje_Pilar_Prop!$C$2:$E$104,2,FALSE))","v":" "},{"$f":"IF(ISERROR(VLOOKUP(K560,Eje_Pilar_Prop!$C$2:$E$104,3,FALSE)),\" \",VLOOKUP(K560,Eje_Pilar_Prop!$C$2:$E$104,3,FALSE))","v":" "},null,null,null,null,null,null,null,null,0,null,null,null,null,null,null,null,null,null,null,null,null,null,null,null,"-",null,{"$f":"IF(SUMPRODUCT((A$14:A560=A560)*(B$14:B560=B560)*(D$14:D560=D560))>1,0,1)","v":0},1,1,{"$f":"IF(ISBLANK(G560),1,IFERROR(VLOOKUP(G560,Tipo!$C$12:$C$27,1,FALSE),\"NO\"))","v":1},1,{"$f":"IF(ISBLANK(K560),1,IFERROR(VLOOKUP(K560,Eje_Pilar_Prop!C542:C643,1,FALSE),\"NO\"))","v":1},1,1,1]
[null,null,null,null,null,null,null,null,null,null,null,{"$f":"IF(ISERROR(VLOOKUP(K561,Eje_Pilar_Prop!$C$2:$E$104,2,FALSE)),\" \",VLOOKUP(K561,Eje_Pilar_Prop!$C$2:$E$104,2,FALSE))","v":" "},{"$f":"IF(ISERROR(VLOOKUP(K561,Eje_Pilar_Prop!$C$2:$E$104,3,FALSE)),\" \",VLOOKUP(K561,Eje_Pilar_Prop!$C$2:$E$104,3,FALSE))","v":" "},null,null,null,null,null,null,null,null,0,null,null,null,null,null,null,null,null,null,null,null,null,null,null,null,"-",null,{"$f":"IF(SUMPRODUCT((A$14:A561=A561)*(B$14:B561=B561)*(D$14:D561=D561))>1,0,1)","v":0},1,1,{"$f":"IF(ISBLANK(G561),1,IFERROR(VLOOKUP(G561,Tipo!$C$12:$C$27,1,FALSE),\"NO\"))","v":1},1,{"$f":"IF(ISBLANK(K561),1,IFERROR(VLOOKUP(K561,Eje_Pilar_Prop!C543:C644,1,FALSE),\"NO\"))","v":1},1,1,1]
[null,null,null,null,null,null,null,null,null,null,null,{"$f":"IF(ISERROR(VLOOKUP(K562,Eje_Pilar_Prop!$C$2:$E$104,2,FALSE)),\" \",VLOOKUP(K562,Eje_Pilar_Prop!$C$2:$E$104,2,FALSE))","v":" "},{"$f":"IF(ISERROR(VLOOKUP(K562,Eje_Pilar_Prop!$C$2:$E$104,3,FALSE)),\" \",VLOOKUP(K562,Eje_Pilar_Prop!$C$2:$E$104,3,FALSE))","v":" "},null,null,null,null,null,null,null,null,0,null,null,null,null,null,null,null,null,null,null,null,null,null,null,null,"-",null,{"$f":"IF(SUMPRODUCT((A$14:A562=A562)*(B$14:B562=B562)*(D$14:D562=D562))>1,0,1)","v":0},1,1,{"$f":"IF(ISBLANK(G562),1,IFERROR(VLOOKUP(G562,Tipo!$C$12:$C$27,1,FALSE),\"NO\"))","v":1},1,{"$f":"IF(ISBLANK(K562),1,IFERROR(VLOOKUP(K562,Eje_Pilar_Prop!C544:C645,1,FALSE),\"NO\"))","v":1},1,1,1]
[null,null,null,null,null,null,null,null,null,null,null,{"$f":"IF(ISERROR(VLOOKUP(K563,Eje_Pilar_Prop!$C$2:$E$104,2,FALSE)),\" \",VLOOKUP(K563,Eje_Pilar_Prop!$C$2:$E$104,2,FALSE))","v":" "},{"$f":"IF(ISERROR(VLOOKUP(K563,Eje_Pilar_Prop!$C$2:$E$104,3,FALSE)),\" \",VLOOKUP(K563,Eje_Pilar_Prop!$C$2:$E$104,3,FALSE))","v":" "},null,null,null,null,null,null,null,null,0,null,null,null,null,null,null,null,null,null,null,null,null,null,null,null,"-",null,{"$f":"IF(SUMPRODUCT((A$14:A563=A563)*(B$14:B563=B563)*(D$14:D563=D563))>1,0,1)","v":0},1,1,{"$f":"IF(ISBLANK(G563),1,IFERROR(VLOOKUP(G563,Tipo!$C$12:$C$27,1,FALSE),\"NO\"))","v":1},1,{"$f":"IF(ISBLANK(K563),1,IFERROR(VLOOKUP(K563,Eje_Pilar_Prop!C545:C646,1,FALSE),\"NO\"))","v":1},1,1,1]
[null,null,null,null,null,null,null,null,null,null,null,{"$f":"IF(ISERROR(VLOOKUP(K564,Eje_Pilar_Prop!$C$2:$E$104,2,FALSE)),\" \",VLOOKUP(K564,Eje_Pilar_Prop!$C$2:$E$104,2,FALSE))","v":" "},{"$f":"IF(ISERROR(VLOOKUP(K564,Eje_Pilar_Prop!$C$2:$E$104,3,FALSE)),\" \",VLOOKUP(K564,Eje_Pilar_Prop!$C$2:$E$104,3,FALSE))","v":" "},null,null,null,null,null,null,null,null,0,null,null,null,null,null,null,null,null,null,null,null,null,null,null,null,"-",null,{"$f":"IF(SUMPRODUCT((A$14:A564=A564)*(B$14:B564=B564)*(D$14:D564=D564))>1,0,1)","v":0},1,1,{"$f":"IF(ISBLANK(G564),1,IFERROR(VLOOKUP(G564,Tipo!$C$12:$C$27,1,FALSE),\"NO\"))","v":1},1,{"$f":"IF(ISBLANK(K564),1,IFERROR(VLOOKUP(K564,Eje_Pilar_Prop!C546:C647,1,FALSE),\"NO\"))","v":1},1,1,1]
[null,null,null,null,null,null,null,null,null,null,null,{"$f":"IF(ISERROR(VLOOKUP(K565,Eje_Pilar_Prop!$C$2:$E$104,2,FALSE)),\" \",VLOOKUP(K565,Eje_Pilar_Prop!$C$2:$E$104,2,FALSE))","v":" "},{"$f":"IF(ISERROR(VLOOKUP(K565,Eje_Pilar_Prop!$C$2:$E$104,3,FALSE)),\" \",VLOOKUP(K565,Eje_Pilar_Prop!$C$2:$E$104,3,FALSE))","v":" "},null,null,null,null,null,null,null,null,0,null,null,null,null,null,null,null,null,null,null,null,null,null,null,null,"-",null,{"$f":"IF(SUMPRODUCT((A$14:A565=A565)*(B$14:B565=B565)*(D$14:D565=D565))>1,0,1)","v":0},1,1,{"$f":"IF(ISBLANK(G565),1,IFERROR(VLOOKUP(G565,Tipo!$C$12:$C$27,1,FALSE),\"NO\"))","v":1},1,{"$f":"IF(ISBLANK(K565),1,IFERROR(VLOOKUP(K565,Eje_Pilar_Prop!C547:C648,1,FALSE),\"NO\"))","v":1},1,1,1]
[null,null,null,null,null,null,null,null,null,null,null,{"$f":"IF(ISERROR(VLOOKUP(K566,Eje_Pilar_Prop!$C$2:$E$104,2,FALSE)),\" \",VLOOKUP(K566,Eje_Pilar_Prop!$C$2:$E$104,2,FALSE))","v":" "},{"$f":"IF(ISERROR(VLOOKUP(K566,Eje_Pilar_Prop!$C$2:$E$104,3,FALSE)),\" \",VLOOKUP(K566,Eje_Pilar_Prop!$C$2:$E$104,3,FALSE))","v":" "},null,null,null,null,null,null,null,null,0,null,null,null,null,null,null,null,null,null,null,null,null,null,null,null,"-",null,{"$f":"IF(SUMPRODUCT((A$14:A566=A566)*(B$14:B566=B566)*(D$14:D566=D566))>1,0,1)","v":0},1,1,{"$f":"IF(ISBLANK(G566),1,IFERROR(VLOOKUP(G566,Tipo!$C$12:$C$27,1,FALSE),\"NO\"))","v":1},1,{"$f":"IF(ISBLANK(K566),1,IFERROR(VLOOKUP(K566,Eje_Pilar_Prop!C548:C649,1,FALSE),\"NO\"))","v":1},1,1,1]
[null,null,null,null,null,null,null,null,null,null,null,{"$f":"IF(ISERROR(VLOOKUP(K567,Eje_Pilar_Prop!$C$2:$E$104,2,FALSE)),\" \",VLOOKUP(K567,Eje_Pilar_Prop!$C$2:$E$104,2,FALSE))","v":" "},{"$f":"IF(ISERROR(VLOOKUP(K567,Eje_Pilar_Prop!$C$2:$E$104,3,FALSE)),\" \",VLOOKUP(K567,Eje_Pilar_Prop!$C$2:$E$104,3,FALSE))","v":" "},null,null,null,null,null,null,null,null,0,null,null,null,null,null,null,null,null,null,null,null,null,null,null,null,"-",null,{"$f":"IF(SUMPRODUCT((A$14:A567=A567)*(B$14:B567=B567)*(D$14:D567=D567))>1,0,1)","v":0},1,1,{"$f":"IF(ISBLANK(G567),1,IFERROR(VLOOKUP(G567,Tipo!$C$12:$C$27,1,FALSE),\"NO\"))","v":1},1,{"$f":"IF(ISBLANK(K567),1,IFERROR(VLOOKUP(K567,Eje_Pilar_Prop!C549:C650,1,FALSE),\"NO\"))","v":1},1,1,1]
[null,null,null,null,null,null,null,null,null,null,null,{"$f":"IF(ISERROR(VLOOKUP(K568,Eje_Pilar_Prop!$C$2:$E$104,2,FALSE)),\" \",VLOOKUP(K568,Eje_Pilar_Prop!$C$2:$E$104,2,FALSE))","v":" "},{"$f":"IF(ISERROR(VLOOKUP(K568,Eje_Pilar_Prop!$C$2:$E$104,3,FALSE)),\" \",VLOOKUP(K568,Eje_Pilar_Prop!$C$2:$E$104,3,FALSE))","v":" "},null,null,null,null,null,null,null,null,0,null,null,null,null,null,null,null,null,null,null,null,null,null,null,null,"-",null,{"$f":"IF(SUMPRODUCT((A$14:A568=A568)*(B$14:B568=B568)*(D$14:D568=D568))>1,0,1)","v":0},1,1,{"$f":"IF(ISBLANK(G568),1,IFERROR(VLOOKUP(G568,Tipo!$C$12:$C$27,1,FALSE),\"NO\"))","v":1},1,{"$f":"IF(ISBLANK(K568),1,IFERROR(VLOOKUP(K568,Eje_Pilar_Prop!C550:C651,1,FALSE),\"NO\"))","v":1},1,1,1]
[null,null,null,null,null,null,null,null,null,null,null,{"$f":"IF(ISERROR(VLOOKUP(K569,Eje_Pilar_Prop!$C$2:$E$104,2,FALSE)),\" \",VLOOKUP(K569,Eje_Pilar_Prop!$C$2:$E$104,2,FALSE))","v":" "},{"$f":"IF(ISERROR(VLOOKUP(K569,Eje_Pilar_Prop!$C$2:$E$104,3,FALSE)),\" \",VLOOKUP(K569,Eje_Pilar_Prop!$C$2:$E$104,3,FALSE))","v":" "},null,null,null,null,null,null,null,null,0,null,null,null,null,null,null,null,null,null,null,null,null,null,null,null,"-",null,{"$f":"IF(SUMPRODUCT((A$14:A569=A569)*(B$14:B569=B569)*(D$14:D569=D569))>1,0,1)","v":0},1,1,{"$f":"IF(ISBLANK(G569),1,IFERROR(VLOOKUP(G569,Tipo!$C$12:$C$27,1,FALSE),\"NO\"))","v":1},1,{"$f":"IF(ISBLANK(K569),1,IFERROR(VLOOKUP(K569,Eje_Pilar_Prop!C551:C652,1,FALSE),\"NO\"))","v":1},1,1,1]
[null,null,null,null,null,null,null,null,null,null,null,{"$f":"IF(ISERROR(VLOOKUP(K570,Eje_Pilar_Prop!$C$2:$E$104,2,FALSE)),\" \",VLOOKUP(K570,Eje_Pilar_Prop!$C$2:$E$104,2,FALSE))","v":" "},{"$f":"IF(ISERROR(VLOOKUP(K570,Eje_Pilar_Prop!$C$2:$E$104,3,FALSE)),\" \",VLOOKUP(K570,Eje_Pilar_Prop!$C$2:$E$104,3,FALSE))","v":" "},null,null,null,null,null,null,null,null,0,null,null,null,null,null,null,null,null,null,null,null,null,null,null,null,"-",null,{"$f":"IF(SUMPRODUCT((A$14:A570=A570)*(B$14:B570=B570)*(D$14:D570=D570))>1,0,1)","v":0},1,1,{"$f":"IF(ISBLANK(G570),1,IFERROR(VLOOKUP(G570,Tipo!$C$12:$C$27,1,FALSE),\"NO\"))","v":1},1,{"$f":"IF(ISBLANK(K570),1,IFERROR(VLOOKUP(K570,Eje_Pilar_Prop!C552:C653,1,FALSE),\"NO\"))","v":1},1,1,1]
[null,null,null,null,null,null,null,null,null,null,null,{"$f":"IF(ISERROR(VLOOKUP(K571,Eje_Pilar_Prop!$C$2:$E$104,2,FALSE)),\" \",VLOOKUP(K571,Eje_Pilar_Prop!$C$2:$E$104,2,FALSE))","v":" "},{"$f":"IF(ISERROR(VLOOKUP(K571,Eje_Pilar_Prop!$C$2:$E$104,3,FALSE)),\" \",VLOOKUP(K571,Eje_Pilar_Prop!$C$2:$E$104,3,FALSE))","v":" "},null,null,null,null,null,null,null,null,0,null,null,null,null,null,null,null,null,null,null,null,null,null,null,null,"-",null,{"$f":"IF(SUMPRODUCT((A$14:A571=A571)*(B$14:B571=B571)*(D$14:D571=D571))>1,0,1)","v":0},1,1,{"$f":"IF(ISBLANK(G571),1,IFERROR(VLOOKUP(G571,Tipo!$C$12:$C$27,1,FALSE),\"NO\"))","v":1},1,{"$f":"IF(ISBLANK(K571),1,IFERROR(VLOOKUP(K571,Eje_Pilar_Prop!C553:C654,1,FALSE),\"NO\"))","v":1},1,1,1]
[null,null,null,null,null,null,null,null,null,null,null,{"$f":"IF(ISERROR(VLOOKUP(K572,Eje_Pilar_Prop!$C$2:$E$104,2,FALSE)),\" \",VLOOKUP(K572,Eje_Pilar_Prop!$C$2:$E$104,2,FALSE))","v":" "},{"$f":"IF(ISERROR(VLOOKUP(K572,Eje_Pilar_Prop!$C$2:$E$104,3,FALSE)),\" \",VLOOKUP(K572,Eje_Pilar_Prop!$C$2:$E$104,3,FALSE))","v":" "},null,null,null,null,null,null,null,null,0,null,null,null,null,null,null,null,null,null,null,null,null,null,null,null,"-",null,{"$f":"IF(SUMPRODUCT((A$14:A572=A572)*(B$14:B572=B572)*(D$14:D572=D572))>1,0,1)","v":0},1,1,{"$f":"IF(ISBLANK(G572),1,IFERROR(VLOOKUP(G572,Tipo!$C$12:$C$27,1,FALSE),\"NO\"))","v":1},1,{"$f":"IF(ISBLANK(K572),1,IFERROR(VLOOKUP(K572,Eje_Pilar_Prop!C554:C655,1,FALSE),\"NO\"))","v":1},1,1,1]
[null,null,null,null,null,null,null,null,null,null,null,{"$f":"IF(ISERROR(VLOOKUP(K573,Eje_Pilar_Prop!$C$2:$E$104,2,FALSE)),\" \",VLOOKUP(K573,Eje_Pilar_Prop!$C$2:$E$104,2,FALSE))","v":" "},{"$f":"IF(ISERROR(VLOOKUP(K573,Eje_Pilar_Prop!$C$2:$E$104,3,FALSE)),\" \",VLOOKUP(K573,Eje_Pilar_Prop!$C$2:$E$104,3,FALSE))","v":" "},null,null,null,null,null,null,null,null,0,null,null,null,null,null,null,null,null,null,null,null,null,null,null,null,"-",null,{"$f":"IF(SUMPRODUCT((A$14:A573=A573)*(B$14:B573=B573)*(D$14:D573=D573))>1,0,1)","v":0},1,1,{"$f":"IF(ISBLANK(G573),1,IFERROR(VLOOKUP(G573,Tipo!$C$12:$C$27,1,FALSE),\"NO\"))","v":1},1,{"$f":"IF(ISBLANK(K573),1,IFERROR(VLOOKUP(K573,Eje_Pilar_Prop!C555:C656,1,FALSE),\"NO\"))","v":1},1,1,1]
[null,null,null,null,null,null,null,null,null,null,null,{"$f":"IF(ISERROR(VLOOKUP(K574,Eje_Pilar_Prop!$C$2:$E$104,2,FALSE)),\" \",VLOOKUP(K574,Eje_Pilar_Prop!$C$2:$E$104,2,FALSE))","v":" "},{"$f":"IF(ISERROR(VLOOKUP(K574,Eje_Pilar_Prop!$C$2:$E$104,3,FALSE)),\" \",VLOOKUP(K574,Eje_Pilar_Prop!$C$2:$E$104,3,FALSE))","v":" "},null,null,null,null,null,null,null,null,0,null,null,null,null,null,null,null,null,null,null,null,null,null,null,null,"-",null,{"$f":"IF(SUMPRODUCT((A$14:A574=A574)*(B$14:B574=B574)*(D$14:D574=D574))>1,0,1)","v":0},1,1,{"$f":"IF(ISBLANK(G574),1,IFERROR(VLOOKUP(G574,Tipo!$C$12:$C$27,1,FALSE),\"NO\"))","v":1},1,{"$f":"IF(ISBLANK(K574),1,IFERROR(VLOOKUP(K574,Eje_Pilar_Prop!C556:C657,1,FALSE),\"NO\"))","v":1},1,1,1]
[null,null,null,null,null,null,null,null,null,null,null,{"$f":"IF(ISERROR(VLOOKUP(K575,Eje_Pilar_Prop!$C$2:$E$104,2,FALSE)),\" \",VLOOKUP(K575,Eje_Pilar_Prop!$C$2:$E$104,2,FALSE))","v":" "},{"$f":"IF(ISERROR(VLOOKUP(K575,Eje_Pilar_Prop!$C$2:$E$104,3,FALSE)),\" \",VLOOKUP(K575,Eje_Pilar_Prop!$C$2:$E$104,3,FALSE))","v":" "},null,null,null,null,null,null,null,null,0,null,null,null,null,null,null,null,null,null,null,null,null,null,null,null,"-",null,{"$f":"IF(SUMPRODUCT((A$14:A575=A575)*(B$14:B575=B575)*(D$14:D575=D575))>1,0,1)","v":0},1,1,{"$f":"IF(ISBLANK(G575),1,IFERROR(VLOOKUP(G575,Tipo!$C$12:$C$27,1,FALSE),\"NO\"))","v":1},1,{"$f":"IF(ISBLANK(K575),1,IFERROR(VLOOKUP(K575,Eje_Pilar_Prop!C557:C658,1,FALSE),\"NO\"))","v":1},1,1,1]
[null,null,null,null,null,null,null,null,null,null,null,{"$f":"IF(ISERROR(VLOOKUP(K576,Eje_Pilar_Prop!$C$2:$E$104,2,FALSE)),\" \",VLOOKUP(K576,Eje_Pilar_Prop!$C$2:$E$104,2,FALSE))","v":" "},{"$f":"IF(ISERROR(VLOOKUP(K576,Eje_Pilar_Prop!$C$2:$E$104,3,FALSE)),\" \",VLOOKUP(K576,Eje_Pilar_Prop!$C$2:$E$104,3,FALSE))","v":" "},null,null,null,null,null,null,null,null,0,null,null,null,null,null,null,null,null,null,null,null,null,null,null,null,"-",null,{"$f":"IF(SUMPRODUCT((A$14:A576=A576)*(B$14:B576=B576)*(D$14:D576=D576))>1,0,1)","v":0},1,1,{"$f":"IF(ISBLANK(G576),1,IFERROR(VLOOKUP(G576,Tipo!$C$12:$C$27,1,FALSE),\"NO\"))","v":1},1,{"$f":"IF(ISBLANK(K576),1,IFERROR(VLOOKUP(K576,Eje_Pilar_Prop!C558:C659,1,FALSE),\"NO\"))","v":1},1,1,1]
[null,null,null,null,null,null,null,null,null,null,null,{"$f":"IF(ISERROR(VLOOKUP(K577,Eje_Pilar_Prop!$C$2:$E$104,2,FALSE)),\" \",VLOOKUP(K577,Eje_Pilar_Prop!$C$2:$E$104,2,FALSE))","v":" "},{"$f":"IF(ISERROR(VLOOKUP(K577,Eje_Pilar_Prop!$C$2:$E$104,3,FALSE)),\" \",VLOOKUP(K577,Eje_Pilar_Prop!$C$2:$E$104,3,FALSE))","v":" "},null,null,null,null,null,null,null,null,0,null,null,null,null,null,null,null,null,null,null,null,null,null,null,null,"-",null,{"$f":"IF(SUMPRODUCT((A$14:A577=A577)*(B$14:B577=B577)*(D$14:D577=D577))>1,0,1)","v":0},1,1,{"$f":"IF(ISBLANK(G577),1,IFERROR(VLOOKUP(G577,Tipo!$C$12:$C$27,1,FALSE),\"NO\"))","v":1},1,{"$f":"IF(ISBLANK(K577),1,IFERROR(VLOOKUP(K577,Eje_Pilar_Prop!C559:C660,1,FALSE),\"NO\"))","v":1},1,1,1]
[null,null,null,null,null,null,null,null,null,null,null,{"$f":"IF(ISERROR(VLOOKUP(K578,Eje_Pilar_Prop!$C$2:$E$104,2,FALSE)),\" \",VLOOKUP(K578,Eje_Pilar_Prop!$C$2:$E$104,2,FALSE))","v":" "},{"$f":"IF(ISERROR(VLOOKUP(K578,Eje_Pilar_Prop!$C$2:$E$104,3,FALSE)),\" \",VLOOKUP(K578,Eje_Pilar_Prop!$C$2:$E$104,3,FALSE))","v":" "},null,null,null,null,null,null,null,null,0,null,null,null,null,null,null,null,null,null,null,null,null,null,null,null,"-",null,{"$f":"IF(SUMPRODUCT((A$14:A578=A578)*(B$14:B578=B578)*(D$14:D578=D578))>1,0,1)","v":0},1,1,{"$f":"IF(ISBLANK(G578),1,IFERROR(VLOOKUP(G578,Tipo!$C$12:$C$27,1,FALSE),\"NO\"))","v":1},1,{"$f":"IF(ISBLANK(K578),1,IFERROR(VLOOKUP(K578,Eje_Pilar_Prop!C560:C661,1,FALSE),\"NO\"))","v":1},1,1,1]
[null,null,null,null,null,null,null,null,null,null,null,{"$f":"IF(ISERROR(VLOOKUP(K579,Eje_Pilar_Prop!$C$2:$E$104,2,FALSE)),\" \",VLOOKUP(K579,Eje_Pilar_Prop!$C$2:$E$104,2,FALSE))","v":" "},{"$f":"IF(ISERROR(VLOOKUP(K579,Eje_Pilar_Prop!$C$2:$E$104,3,FALSE)),\" \",VLOOKUP(K579,Eje_Pilar_Prop!$C$2:$E$104,3,FALSE))","v":" "},null,null,null,null,null,null,null,null,0,null,null,null,null,null,null,null,null,null,null,null,null,null,null,null,"-",null,{"$f":"IF(SUMPRODUCT((A$14:A579=A579)*(B$14:B579=B579)*(D$14:D579=D579))>1,0,1)","v":0},1,1,{"$f":"IF(ISBLANK(G579),1,IFERROR(VLOOKUP(G579,Tipo!$C$12:$C$27,1,FALSE),\"NO\"))","v":1},1,{"$f":"IF(ISBLANK(K579),1,IFERROR(VLOOKUP(K579,Eje_Pilar_Prop!C561:C662,1,FALSE),\"NO\"))","v":1},1,1,1]
[null,null,null,null,null,null,null,null,null,null,null,{"$f":"IF(ISERROR(VLOOKUP(K580,Eje_Pilar_Prop!$C$2:$E$104,2,FALSE)),\" \",VLOOKUP(K580,Eje_Pilar_Prop!$C$2:$E$104,2,FALSE))","v":" "},{"$f":"IF(ISERROR(VLOOKUP(K580,Eje_Pilar_Prop!$C$2:$E$104,3,FALSE)),\" \",VLOOKUP(K580,Eje_Pilar_Prop!$C$2:$E$104,3,FALSE))","v":" "},null,null,null,null,null,null,null,null,0,null,null,null,null,null,null,null,null,null,null,null,null,null,null,null,"-",null,{"$f":"IF(SUMPRODUCT((A$14:A580=A580)*(B$14:B580=B580)*(D$14:D580=D580))>1,0,1)","v":0},1,1,{"$f":"IF(ISBLANK(G580),1,IFERROR(VLOOKUP(G580,Tipo!$C$12:$C$27,1,FALSE),\"NO\"))","v":1},1,{"$f":"IF(ISBLANK(K580),1,IFERROR(VLOOKUP(K580,Eje_Pilar_Prop!C562:C663,1,FALSE),\"NO\"))","v":1},1,1,1]
[null,null,null,null,null,null,null,null,null,null,null,{"$f":"IF(ISERROR(VLOOKUP(K581,Eje_Pilar_Prop!$C$2:$E$104,2,FALSE)),\" \",VLOOKUP(K581,Eje_Pilar_Prop!$C$2:$E$104,2,FALSE))","v":" "},{"$f":"IF(ISERROR(VLOOKUP(K581,Eje_Pilar_Prop!$C$2:$E$104,3,FALSE)),\" \",VLOOKUP(K581,Eje_Pilar_Prop!$C$2:$E$104,3,FALSE))","v":" "},null,null,null,null,null,null,null,null,0,null,null,null,null,null,null,null,null,null,null,null,null,null,null,null,"-",null,{"$f":"IF(SUMPRODUCT((A$14:A581=A581)*(B$14:B581=B581)*(D$14:D581=D581))>1,0,1)","v":0},1,1,{"$f":"IF(ISBLANK(G581),1,IFERROR(VLOOKUP(G581,Tipo!$C$12:$C$27,1,FALSE),\"NO\"))","v":1},1,{"$f":"IF(ISBLANK(K581),1,IFERROR(VLOOKUP(K581,Eje_Pilar_Prop!C563:C664,1,FALSE),\"NO\"))","v":1},1,1,1]
[null,null,null,null,null,null,null,null,null,null,null,{"$f":"IF(ISERROR(VLOOKUP(K582,Eje_Pilar_Prop!$C$2:$E$104,2,FALSE)),\" \",VLOOKUP(K582,Eje_Pilar_Prop!$C$2:$E$104,2,FALSE))","v":" "},{"$f":"IF(ISERROR(VLOOKUP(K582,Eje_Pilar_Prop!$C$2:$E$104,3,FALSE)),\" \",VLOOKUP(K582,Eje_Pilar_Prop!$C$2:$E$104,3,FALSE))","v":" "},null,null,null,null,null,null,null,null,0,null,null,null,null,null,null,null,null,null,null,null,null,null,null,null,"-",null,{"$f":"IF(SUMPRODUCT((A$14:A582=A582)*(B$14:B582=B582)*(D$14:D582=D582))>1,0,1)","v":0},1,1,{"$f":"IF(ISBLANK(G582),1,IFERROR(VLOOKUP(G582,Tipo!$C$12:$C$27,1,FALSE),\"NO\"))","v":1},1,{"$f":"IF(ISBLANK(K582),1,IFERROR(VLOOKUP(K582,Eje_Pilar_Prop!C564:C665,1,FALSE),\"NO\"))","v":1},1,1,1]
[null,null,null,null,null,null,null,null,null,null,null,{"$f":"IF(ISERROR(VLOOKUP(K583,Eje_Pilar_Prop!$C$2:$E$104,2,FALSE)),\" \",VLOOKUP(K583,Eje_Pilar_Prop!$C$2:$E$104,2,FALSE))","v":" "},{"$f":"IF(ISERROR(VLOOKUP(K583,Eje_Pilar_Prop!$C$2:$E$104,3,FALSE)),\" \",VLOOKUP(K583,Eje_Pilar_Prop!$C$2:$E$104,3,FALSE))","v":" "},null,null,null,null,null,null,null,null,0,null,null,null,null,null,null,null,null,null,null,null,null,null,null,null,"-",null,{"$f":"IF(SUMPRODUCT((A$14:A583=A583)*(B$14:B583=B583)*(D$14:D583=D583))>1,0,1)","v":0},1,1,{"$f":"IF(ISBLANK(G583),1,IFERROR(VLOOKUP(G583,Tipo!$C$12:$C$27,1,FALSE),\"NO\"))","v":1},1,{"$f":"IF(ISBLANK(K583),1,IFERROR(VLOOKUP(K583,Eje_Pilar_Prop!C565:C666,1,FALSE),\"NO\"))","v":1},1,1,1]
[null,null,null,null,null,null,null,null,null,null,null,{"$f":"IF(ISERROR(VLOOKUP(K584,Eje_Pilar_Prop!$C$2:$E$104,2,FALSE)),\" \",VLOOKUP(K584,Eje_Pilar_Prop!$C$2:$E$104,2,FALSE))","v":" "},{"$f":"IF(ISERROR(VLOOKUP(K584,Eje_Pilar_Prop!$C$2:$E$104,3,FALSE)),\" \",VLOOKUP(K584,Eje_Pilar_Prop!$C$2:$E$104,3,FALSE))","v":" "},null,null,null,null,null,null,null,null,0,null,null,null,null,null,null,null,null,null,null,null,null,null,null,null,"-",null,{"$f":"IF(SUMPRODUCT((A$14:A584=A584)*(B$14:B584=B584)*(D$14:D584=D584))>1,0,1)","v":0},1,1,{"$f":"IF(ISBLANK(G584),1,IFERROR(VLOOKUP(G584,Tipo!$C$12:$C$27,1,FALSE),\"NO\"))","v":1},1,{"$f":"IF(ISBLANK(K584),1,IFERROR(VLOOKUP(K584,Eje_Pilar_Prop!C566:C667,1,FALSE),\"NO\"))","v":1},1,1,1]
[null,null,null,null,null,null,null,null,null,null,null,{"$f":"IF(ISERROR(VLOOKUP(K585,Eje_Pilar_Prop!$C$2:$E$104,2,FALSE)),\" \",VLOOKUP(K585,Eje_Pilar_Prop!$C$2:$E$104,2,FALSE))","v":" "},{"$f":"IF(ISERROR(VLOOKUP(K585,Eje_Pilar_Prop!$C$2:$E$104,3,FALSE)),\" \",VLOOKUP(K585,Eje_Pilar_Prop!$C$2:$E$104,3,FALSE))","v":" "},null,null,null,null,null,null,null,null,0,null,null,null,null,null,null,null,null,null,null,null,null,null,null,null,"-",null,{"$f":"IF(SUMPRODUCT((A$14:A585=A585)*(B$14:B585=B585)*(D$14:D585=D585))>1,0,1)","v":0},1,1,{"$f":"IF(ISBLANK(G585),1,IFERROR(VLOOKUP(G585,Tipo!$C$12:$C$27,1,FALSE),\"NO\"))","v":1},1,{"$f":"IF(ISBLANK(K585),1,IFERROR(VLOOKUP(K585,Eje_Pilar_Prop!C567:C668,1,FALSE),\"NO\"))","v":1},1,1,1]
[null,null,null,null,null,null,null,null,null,null,null,{"$f":"IF(ISERROR(VLOOKUP(K586,Eje_Pilar_Prop!$C$2:$E$104,2,FALSE)),\" \",VLOOKUP(K586,Eje_Pilar_Prop!$C$2:$E$104,2,FALSE))","v":" "},{"$f":"IF(ISERROR(VLOOKUP(K586,Eje_Pilar_Prop!$C$2:$E$104,3,FALSE)),\" \",VLOOKUP(K586,Eje_Pilar_Prop!$C$2:$E$104,3,FALSE))","v":" "},null,null,null,null,null,null,null,null,0,null,null,null,null,null,null,null,null,null,null,null,null,null,null,null,"-",null,{"$f":"IF(SUMPRODUCT((A$14:A586=A586)*(B$14:B586=B586)*(D$14:D586=D586))>1,0,1)","v":0},1,1,{"$f":"IF(ISBLANK(G586),1,IFERROR(VLOOKUP(G586,Tipo!$C$12:$C$27,1,FALSE),\"NO\"))","v":1},1,{"$f":"IF(ISBLANK(K586),1,IFERROR(VLOOKUP(K586,Eje_Pilar_Prop!C568:C669,1,FALSE),\"NO\"))","v":1},1,1,1]
[null,null,null,null,null,null,null,null,null,null,null,{"$f":"IF(ISERROR(VLOOKUP(K587,Eje_Pilar_Prop!$C$2:$E$104,2,FALSE)),\" \",VLOOKUP(K587,Eje_Pilar_Prop!$C$2:$E$104,2,FALSE))","v":" "},{"$f":"IF(ISERROR(VLOOKUP(K587,Eje_Pilar_Prop!$C$2:$E$104,3,FALSE)),\" \",VLOOKUP(K587,Eje_Pilar_Prop!$C$2:$E$104,3,FALSE))","v":" "},null,null,null,null,null,null,null,null,0,null,null,null,null,null,null,null,null,null,null,null,null,null,null,null,"-",null,{"$f":"IF(SUMPRODUCT((A$14:A587=A587)*(B$14:B587=B587)*(D$14:D587=D587))>1,0,1)","v":0},1,1,{"$f":"IF(ISBLANK(G587),1,IFERROR(VLOOKUP(G587,Tipo!$C$12:$C$27,1,FALSE),\"NO\"))","v":1},1,{"$f":"IF(ISBLANK(K587),1,IFERROR(VLOOKUP(K587,Eje_Pilar_Prop!C569:C670,1,FALSE),\"NO\"))","v":1},1,1,1]
[null,null,null,null,null,null,null,null,null,null,null,{"$f":"IF(ISERROR(VLOOKUP(K588,Eje_Pilar_Prop!$C$2:$E$104,2,FALSE)),\" \",VLOOKUP(K588,Eje_Pilar_Prop!$C$2:$E$104,2,FALSE))","v":" "},{"$f":"IF(ISERROR(VLOOKUP(K588,Eje_Pilar_Prop!$C$2:$E$104,3,FALSE)),\" \",VLOOKUP(K588,Eje_Pilar_Prop!$C$2:$E$104,3,FALSE))","v":" "},null,null,null,null,null,null,null,null,0,null,null,null,null,null,null,null,null,null,null,null,null,null,null,null,"-",null,{"$f":"IF(SUMPRODUCT((A$14:A588=A588)*(B$14:B588=B588)*(D$14:D588=D588))>1,0,1)","v":0},1,1,{"$f":"IF(ISBLANK(G588),1,IFERROR(VLOOKUP(G588,Tipo!$C$12:$C$27,1,FALSE),\"NO\"))","v":1},1,{"$f":"IF(ISBLANK(K588),1,IFERROR(VLOOKUP(K588,Eje_Pilar_Prop!C570:C671,1,FALSE),\"NO\"))","v":1},1,1,1]
[null,null,null,null,null,null,null,null,null,null,null,{"$f":"IF(ISERROR(VLOOKUP(K589,Eje_Pilar_Prop!$C$2:$E$104,2,FALSE)),\" \",VLOOKUP(K589,Eje_Pilar_Prop!$C$2:$E$104,2,FALSE))","v":" "},{"$f":"IF(ISERROR(VLOOKUP(K589,Eje_Pilar_Prop!$C$2:$E$104,3,FALSE)),\" \",VLOOKUP(K589,Eje_Pilar_Prop!$C$2:$E$104,3,FALSE))","v":" "},null,null,null,null,null,null,null,null,0,null,null,null,null,null,null,null,null,null,null,null,null,null,null,null,"-",null,{"$f":"IF(SUMPRODUCT((A$14:A589=A589)*(B$14:B589=B589)*(D$14:D589=D589))>1,0,1)","v":0},1,1,{"$f":"IF(ISBLANK(G589),1,IFERROR(VLOOKUP(G589,Tipo!$C$12:$C$27,1,FALSE),\"NO\"))","v":1},1,{"$f":"IF(ISBLANK(K589),1,IFERROR(VLOOKUP(K589,Eje_Pilar_Prop!C571:C672,1,FALSE),\"NO\"))","v":1},1,1,1]
[null,null,null,null,null,null,null,null,null,null,null,{"$f":"IF(ISERROR(VLOOKUP(K590,Eje_Pilar_Prop!$C$2:$E$104,2,FALSE)),\" \",VLOOKUP(K590,Eje_Pilar_Prop!$C$2:$E$104,2,FALSE))","v":" "},{"$f":"IF(ISERROR(VLOOKUP(K590,Eje_Pilar_Prop!$C$2:$E$104,3,FALSE)),\" \",VLOOKUP(K590,Eje_Pilar_Prop!$C$2:$E$104,3,FALSE))","v":" "},null,null,null,null,null,null,null,null,0,null,null,null,null,null,null,null,null,null,null,null,null,null,null,null,"-",null,{"$f":"IF(SUMPRODUCT((A$14:A590=A590)*(B$14:B590=B590)*(D$14:D590=D590))>1,0,1)","v":0},1,1,{"$f":"IF(ISBLANK(G590),1,IFERROR(VLOOKUP(G590,Tipo!$C$12:$C$27,1,FALSE),\"NO\"))","v":1},1,{"$f":"IF(ISBLANK(K590),1,IFERROR(VLOOKUP(K590,Eje_Pilar_Prop!C572:C673,1,FALSE),\"NO\"))","v":1},1,1,1]
[null,null,null,null,null,null,null,null,null,null,null,{"$f":"IF(ISERROR(VLOOKUP(K591,Eje_Pilar_Prop!$C$2:$E$104,2,FALSE)),\" \",VLOOKUP(K591,Eje_Pilar_Prop!$C$2:$E$104,2,FALSE))","v":" "},{"$f":"IF(ISERROR(VLOOKUP(K591,Eje_Pilar_Prop!$C$2:$E$104,3,FALSE)),\" \",VLOOKUP(K591,Eje_Pilar_Prop!$C$2:$E$104,3,FALSE))","v":" "},null,null,null,null,null,null,null,null,0,null,null,null,null,null,null,null,null,null,null,null,null,null,null,null,"-",null,{"$f":"IF(SUMPRODUCT((A$14:A591=A591)*(B$14:B591=B591)*(D$14:D591=D591))>1,0,1)","v":0},1,1,{"$f":"IF(ISBLANK(G591),1,IFERROR(VLOOKUP(G591,Tipo!$C$12:$C$27,1,FALSE),\"NO\"))","v":1},1,{"$f":"IF(ISBLANK(K591),1,IFERROR(VLOOKUP(K591,Eje_Pilar_Prop!C573:C674,1,FALSE),\"NO\"))","v":1},1,1,1]
[null,null,null,null,null,null,null,null,null,null,null,{"$f":"IF(ISERROR(VLOOKUP(K592,Eje_Pilar_Prop!$C$2:$E$104,2,FALSE)),\" \",VLOOKUP(K592,Eje_Pilar_Prop!$C$2:$E$104,2,FALSE))","v":" "},{"$f":"IF(ISERROR(VLOOKUP(K592,Eje_Pilar_Prop!$C$2:$E$104,3,FALSE)),\" \",VLOOKUP(K592,Eje_Pilar_Prop!$C$2:$E$104,3,FALSE))","v":" "},null,null,null,null,null,null,null,null,0,null,null,null,null,null,null,null,null,null,null,null,null,null,null,null,"-",null,{"$f":"IF(SUMPRODUCT((A$14:A592=A592)*(B$14:B592=B592)*(D$14:D592=D592))>1,0,1)","v":0},1,1,{"$f":"IF(ISBLANK(G592),1,IFERROR(VLOOKUP(G592,Tipo!$C$12:$C$27,1,FALSE),\"NO\"))","v":1},1,{"$f":"IF(ISBLANK(K592),1,IFERROR(VLOOKUP(K592,Eje_Pilar_Prop!C574:C675,1,FALSE),\"NO\"))","v":1},1,1,1]
[null,null,null,null,null,null,null,null,null,null,null,{"$f":"IF(ISERROR(VLOOKUP(K593,Eje_Pilar_Prop!$C$2:$E$104,2,FALSE)),\" \",VLOOKUP(K593,Eje_Pilar_Prop!$C$2:$E$104,2,FALSE))","v":" "},{"$f":"IF(ISERROR(VLOOKUP(K593,Eje_Pilar_Prop!$C$2:$E$104,3,FALSE)),\" \",VLOOKUP(K593,Eje_Pilar_Prop!$C$2:$E$104,3,FALSE))","v":" "},null,null,null,null,null,null,null,null,0,null,null,null,null,null,null,null,null,null,null,null,null,null,null,null,"-",null,{"$f":"IF(SUMPRODUCT((A$14:A593=A593)*(B$14:B593=B593)*(D$14:D593=D593))>1,0,1)","v":0},1,1,{"$f":"IF(ISBLANK(G593),1,IFERROR(VLOOKUP(G593,Tipo!$C$12:$C$27,1,FALSE),\"NO\"))","v":1},1,{"$f":"IF(ISBLANK(K593),1,IFERROR(VLOOKUP(K593,Eje_Pilar_Prop!C575:C676,1,FALSE),\"NO\"))","v":1},1,1,1]
[null,null,null,null,null,null,null,null,null,null,null,{"$f":"IF(ISERROR(VLOOKUP(K594,Eje_Pilar_Prop!$C$2:$E$104,2,FALSE)),\" \",VLOOKUP(K594,Eje_Pilar_Prop!$C$2:$E$104,2,FALSE))","v":" "},{"$f":"IF(ISERROR(VLOOKUP(K594,Eje_Pilar_Prop!$C$2:$E$104,3,FALSE)),\" \",VLOOKUP(K594,Eje_Pilar_Prop!$C$2:$E$104,3,FALSE))","v":" "},null,null,null,null,null,null,null,null,0,null,null,null,null,null,null,null,null,null,null,null,null,null,null,null,"-",null,{"$f":"IF(SUMPRODUCT((A$14:A594=A594)*(B$14:B594=B594)*(D$14:D594=D594))>1,0,1)","v":0},1,1,{"$f":"IF(ISBLANK(G594),1,IFERROR(VLOOKUP(G594,Tipo!$C$12:$C$27,1,FALSE),\"NO\"))","v":1},1,{"$f":"IF(ISBLANK(K594),1,IFERROR(VLOOKUP(K594,Eje_Pilar_Prop!C576:C677,1,FALSE),\"NO\"))","v":1},1,1,1]
["TOTALES",null,null,null,null,null,null,null,null,null,null,null,null,null,null,null,{"$f":"SUM(Q14:Q594)","v":22740732534.623337},{"$f":"SUM(R14:R594)","v":0},0,100,859994473.66666675,23600727008.290001,6723454179]
[]
[null,null,null,null,null,null,null,null,null,null,null,null,null,null,null,null,{"$f":"SUBTOTAL(9,Q14:Q594)","v":22740732534.623337},null,null,null,{"$f":"SUBTOTAL(9,U14:U594)","v":859994473.66666675},23600727008.290001,6723454179]

{"sheet":"Instructivo","index":1,"n_rows":103,"n_cols":4,"rows_kept":103,"cut":false,"hidden":false,"merged":[[101,1,101,3],[77,1,80,1],[77,2,80,2],[83,1,83,3],[84,1,85,1],[84,2,85,2],[98,1,98,3],[92,1,92,3],[68,1,70,1],[68,2,70,2],[71,1,72,1],[71,2,72,2],[74,1,75,1],[74,2,75,2],[67,1,67,3],[26,1,27,1],[26,2,27,2],[31,1,32,1],[31,2,32,2],[33,1,53,1],[35,2,36,2],[54,1,56,1],[54,2,56,2],[59,1,62,1],[61,2,62,2],[64,1,65,1],[29,1,30,1],[25,1,25,3],[1,1,1,3],[2,1,2,3],[3,1,3,3],[4,1,4,3],[5,1,5,3],[6,1,6,3],[7,1,7,3],[10,1,10,3],[11,1,11,3],[12,1,12,3],[14,1,14,3],[8,1,8,3],[9,1,9,3]]}
[]
[null,"INSTRUCTIVO"]
[null,"Recomendamos leer cuidadosamente y poner en práctica las instrucciones que se explican en este instructivo. De la calidad de la información que se registre, depende en gran medida la calidad del informe de rendición de cuentas de la Gestión Contractual que presenta el Alcalde Mayor, consolidado por la Veeduría Distrital."]
[null,"La base en Excel a diligenciar es inmodificable, debe utilizar versión Excel 2010 o posteriores, la versión 2007 no habilita los macros.  La base no permite que se incluyan columnas con otro tipo de información que la Veeduría Distrital no está solicitando o que se cambie el formato de celda establecido. Tenga en cuenta que algunas celdas están bloqueadas y/o solo permiten el registro de una información determinada."]
[null,"La información que se registre en la base, debe coincidir con los reportes realizados en PREDIS y en el SECOP"]
[null,"Diligencie la totalidad de celdas."]
[null,"Para insertar una o varias filas, haga click  en el opción Insertar Filas y digite el número de filas a insertar. Si usted no sigue este procedimiento las filas que inserte no tomaran el formato de las filas anteriores. Se recomienda que antes de iniciar el registro de información inserte las filas que requiere, sin embargo en cualquier momento que necesite puede hacer este paso."]
[null,"Si requiere inserte una o varias filas realícelo después de la fila A14 y antes de la fila de Totales para que tomen el formato de las filas anteriores."]
[null,"Si necesita pegar información debe hacerlo por secciones debido a que hay columnas formuladas que están protegidas (como la columna J, K, T y AK) que no permiten realizar esta opción. Utilice la opción de pegado especial valores para no borrar las listas desplegables ni los formatos de las columnas."]
[null,"Si al pegar quedan textos en rojo,  verifique y ajuste la información, el dato que adiciono no se encuentra en la lista desplegable o no corresponde con el criterio definido en el columna."]
[null,"En primer lugar diligencie toda la información correspondiente a los contratos suscritos con cargo a la vigencia 2020."]
[null,"Una vez incluidos todos los contratos de la vigencia 2020, a continuación diligencie el formato completo con la información correspondiente a las adiciones efectuadas con cargo a la vigencia 2020 de contratos suscritos en vigencias anteriores. La información general del contrato como: modalidad de selección, tipología contractual, objeto, entre otros, debe corresponder a la información del contrato adicionado o modificado. Respecto al valor solo se diligencia el valor en la columna adición, es decir la columna de valor inicial debe quedar en blanco. No olvide registrar el número de adiciones realizadas, en la columna correspondiente."]
[null,"En caso de haber realizado apropiaciones presupuestales en la vigencia a través de resoluciones, caja menor, honorarios ediles, servicios públicos, debe relacionar dicha información en una sola fila al final de la base, indicando de que se trata la apropiación y número de proyecto si hay lugar a ello. En el tipo de contrato se registra Otros gastos."]
[]
[null,"ENCABEZADO DEL FORMATO"]
[null,1,"Entidad","Indique el nombre completo de la Entidad."]
[null,2,"Sector","Seleccione el sector al cual pertenece la Entidad."]
[null,3,"Presupuesto Disponible Inversión Directa","Indique el valor total del presupuesto disponible de inversión directa, de acuerdo con el PREDIS, a 31 de diciembre de 2020."]
[null,4,"Presupuesto Comprometido de Inversión Directa ","Escriba el valor total del presupuesto comprometido de inversión directa, de acuerdo con el PREDIS a 31 de diciembre de 2020."]
[null,5,"Presupuesto Disponible Funcionamiento","Indique el valor total del presupuesto de funcionamiento disponible, de acuerdo con el PREDIS a 31 de diciembre de 2020."]
[null,6,"Presupuesto Comprometido funcionamiento ","Escriba el monto del presupuesto de funcionamiento, comprometido mediante contratos, de acuerdo con el PREDIS a 31 de diciembre de 2020."]
[null,7,"Presupuesto Disponible Operación","Coloque el monto del presupuesto de operación disponible, de acuerdo con el PREDIS, a 31 de diciembre de 2020. Los gastos de operación corresponden solamente a aquellas entidades de régimen de contratación  privado."]
[null,8,"Presupuesto Comprometido operación mediante contratos","Escriba el monto del presupuesto de operación comprometido mediante contratos a 31 de diciembre de 2020."]
[null,9,"Nombre de quien diligencia el formato:","Indique el nombre completo, cargo, número de teléfono con extensión y correo electrónico del profesional que diligencia el formato y que posteriormente realizará los ajustes y aclaraciones a que haya lugar por solicitud de la Veeduría Distrital."]
[]
[null,"1- INFORMACIÓN GENERAL"]
[null,1,"Número de Contrato","En estricto orden consecutivo registre el número del contrato, sin incluir los contratos que fueron anulados ni comodatos."]
[null,null,null,"Una vez terminado el registro de los contratos con cargo a la vigencia 2020, en las siguientes filas registre la información correspondiente a las adiciones efectuadas con cargo a la vigencia 2020 de contratos suscritos en vigencias anteriores, especificando el año de suscripción en la columna dos."]
[null,2,"Año","Registre el año de celebración del contrato."]
[null,3,"Proceso Publicado","Seleccione el aplicativo donde se publicó el proceso (SECOP I / SECOP II)"]
[null,null,"Número de proceso en el SECOP","Relacione el número de proceso con el cual se encuentra publicado el contrato en el SECOP. Ejemplo IDU-CMA-DTDP-240-2020"]
[null,4,"Tipo de Contrato","En esta columna seleccione de la lista el tipo de contrato que corresponde al contrato suscrito. El formato no permite incluir tipo de contratos diferentes a los señaladas en la lista desplegable.  "]
[null,null,null,"Para las adiciones a contratos de años anteriores se debe diligenciar el tipo del contrato adicionado o modificado."]
[null,4,"Obra ","Son contratos de obra los que celebren las entidades estatales para la construcción, mantenimiento, instalación y, en general, para la realización de cualquier otro trabajo material sobre bienes inmuebles, cualquiera que sea la modalidad de ejecución y pago. Numeral 1 del Artículo 32 de la Ley 80 de 1993. "]
[null,null,"Consultoría","Aquellos que celebran las entidades estatales, referidos a los estudios necesarios para la ejecución de proyectos de inversión, de diagnósticos, prefactibilidad o factibilidad para programas o proyectos específicos, así como a las asesorías técnicas de coordinación, control y supervisión. Numeral 2 del Artículo 32 de la Ley 80 de 1993. "]
[null,null,"Interventoría","Son también  contratos de consultoría los que tienen por objeto la Interventoría, asesoría, gerencia de obras o de proyectos, dirección, programación y la ejecución de diseños, planos, anteproyectos y proyectos. Numeral 2 del Artículo 32 de la Ley 80 de 1993."]
[null,null,null,"El contrato de Interventoría tiene por objeto la  supervisión, seguimiento y vigilancia a la ejecución material de un contrato principal."]
[null,null,"Contrato de Prestación de servicios","Son contratos de prestación de servicios los que celebren las entidades estatales para desarrollar actividades relacionadas con la administración o funcionamiento de la entidad. Numeral 3 del Artículo 32 de la Ley 80 de 1993."]
[null,null,"Contrato de Prestación de servicios profesionales y de apoyo a la gestión","Corresponden a aquellos de naturaleza intelectual diferentes a los de consultoría que se derivan del cumplimiento de las funciones de la entidad estatal; así como los relacionados con actividades operativas, logísticas, o asistenciales. Art. 2.2.1.2.1.4.9, Decreto 1082 de 2015"]
[null,null,"Compraventa de bienes muebles","Son aquellos contratos donde se transfiere el dominio de un bien mueble (aquellos susceptibles de ser trasladadas de un lugar a otro sin alterar ni su forma ni su esencia, tal es el caso del mobiliario y equipo de oficina, maquinaria, automóviles, etc.), cuya ejecución se agota de manera instantánea. Artículo 660, Código Civil."]
[null,null,"Compraventa de bienes inmuebles","Son aquellos contratos donde se transfiere el dominio de un bien inmueble (todos aquellos bienes considerados bienes raíces, por tener de común la circunstancia de estar íntimamente ligados al suelo, unidos de modo inseparable, física o jurídicamente, al terreno). Artículo 656, Código Civil."]
[null,null,"Arrendamiento de bienes muebles","Es un contrato que tiene por objeto, conceder el uso y goce de un bien mueble a cambio de un precio determinado.  Artículo 1974 Código Civil."]
[null,null,"Arrendamiento de bienes inmuebles","Es un contrato que tiene por objeto, conceder el uso y goce de un bien inmueble a cambio de un precio determinado.  Artículo 2.2.1.2.1.4.11 Decreto 1082 de 2015"]
[null,null,"Seguros","El seguro es un contrato, en virtud del cual una persona jurídica llamada asegurador, asume, a cambio de una prima, un riesgo que le es trasladado por una persona natural o jurídica llamado tomador y en el cual éste tiene un interés asegurable, con el fin de indemnizarlo, en el evento de que ocurra la realización del riesgo amparado. de conformidad con el Título V, del Libro Cuarto del Código de Comercio "]
[null,null,"Suministro","El suministro es el contrato por el cual una parte se obliga, a cambio de una contraprestación, a cumplir en favor de otra, en forma independiente, prestaciones periódicas o continuadas de cosas o servicios. Artículo 968, Código de Comercio"]
[null,null,"Empréstitos","Son contratos de empréstito los que tienen por objeto proveer a la entidad estatal contratante de recursos en moneda nacional o extranjera con plazo para su pago. Artículo 7,  Decreto 2681 de 1996. "]
[null,null,"Fiducia mercantil o encargo fiduciario","Son contratos que tienen por objeto la administración o el manejo de los recursos vinculados a los contratos que tales entidades celebren. Numeral 5 de Articulo 32 de la Ley 80 de 1993."]
[null,null,"Concesión","Este contrato tiene por objeto otorgar a una persona llamada CONCESIONARIO  la prestación, operación, explotación, organización o gestión, total o parcial, de un servicio público, o la construcción, explotación o conservación total o parcial, de una obra o bien destinados al servicio o uso público, así como todas aquellas actividades necesarias para la adecuada prestación o funcionamiento de la obra o servicio por cuenta y riesgo del CONCESIONARIO, y bajo la vigilancia y control de la entidad concedente, a cambio de una remuneración que puede consistir en derechos, tarifas, tasas, valorización, o en la participación que se le otorgue en la explotación del bien, obra o servicio, o en una suma periódica, única o porcentual, y en general, en cualquier otra modalidad de contraprestación que las partes acuerden. Numeral 4 del Artículo 32 de la Ley 80 de 1993 "]
[null,null,"Convenios de cooperación","Son aquellos mediante los cuales se formaliza la asistencia, ayuda, auxilio, soporte o colaboración entre entidades de una misma nación, de distintos países o por parte de organizaciones internacionales de naturaleza pública o privada a favor de entidades públicas. Artículo 20 de la ley 1150"]
[null,null,"Convenios/Contratos interadministrativos","El convenio interadministrativo es el negocio jurídico en el cual están presentes dos entidades públicas en desarrollo de relaciones interadministrativas cuyo objeto es coordinar, cooperar, colaborar o distribuir competencias en la realización de funciones administrativas de interés común a los sujetos negóciales. Artículo 95 de la ley 489 de 1998."]
[null,null,"Convenios de Apoyo y/o Convenios de Asociación","Los contratos que en desarrollo de lo dispuesto en el segundo inciso del artículo 355 de la Constitución Política celebren la Nación, los Departamentos, Distritos y Municipios con entidades privadas sin ánimo de lucro y de reconocida idoneidad, con el propósito de impulsar programas y actividades de interés público.  Reglamentado mediante Decreto 92 de 2017"]
[null,null,"Asociaciones Público Privadas","Los contratos con personas naturales o jurídicas que se celebran en desarrollo de lo dispuesto en el Decreto 1508 de 2012."]
[null,null,"Otros","Los demás tipos de contratos que no se encuentren definidos en las anteriores tipologías."]
[null,null,"Otros gastos","Incluye los gastos no contractuales, estos se registran al final de la base, no cuentan con número de contrato, tipo, proceso o modalidad.  Estos gastos en los que no media un acuerdo de voluntades, en caso de ser del rubro de inversiòn, se deben discriminar por programa y proyecto. En el caso de ser del rubro de funcionamiento no requieren ser discriminados."]
[null,5,"Modalidad de Selección","Al ubicarse en la celda, se despliega una lista de modalidades de selección, de las cuales debe seleccionar la indicada. El formato no permite incluir modalidades diferentes a las señaladas en la lista desplegable.  "]
[null,null,null,"Para las adiciones a contratos de años anteriores se debe diligenciar la modalidad de selección del contrato adicionado o modificado"]
[null,null,null,"La modalidad régimen especial se refiere a todos los contratos realizados en cumplimiento del Decreto 092 de 2017, convenios de asociaciòn con ESAL. Regimen Privado es para todas aquellas entidades, que no se rigen por el Estatuto General de Contrataciòn, para el caso, en estas entidades todos sus contratos deben ser identificados con esta modalidad."]
[null,6,"Procedimiento o causal","Esta columna solo se habilita y debe ser diligenciada, para las modalidades de selección abreviada y contratación directa. Al ubicarse en la celda, se despliega una lista de procedimientos o causales, de las cuales debe seleccionar la indicada. El formato no permite incluir procedimientos o causales diferentes a las señaladas en la lista desplegable.  "]
[null,7,"Objeto","Registre el objeto del contrato."]
[null,8,"Afectación ","Registre la afectación según la clasificación de cuentas del presupuesto de gastos. Funcionamiento, Inversión y Operación, esta última aplica únicamente para entidades de régimen privado. La celda solamente permite registrar estas tres opciones."]
[null,null,"Planes de Desarrollo Distrital","Seleccionar el PDD de acuerdo con los diferentes contratos suscritos, automáticamente en la columna K se activan  los números de programa de acuerdo al PDD escogido."]
[null,null,"Número Programa","Si en la columna anterior “Afectación”,  indicó funcionamiento u operación deje en blanco el número de programa, es decir esta columna solamente aplica para gastos de Inversión."]
[null,null,null,"Identifíquelo de acuerdo con el código presupuestal de los Planes de Desarrollo \"Bogotá Mejor Para Todos\" o  \"Un Nuevo Contrato Social y Ambiental para la Bogotá del Siglo XXI\". Si un mismo contrato afecta más de un código presupuestal discrimine el contrato por cada código que afecte en filas separadas. Si se registra el número del programa, automáticamente en la columna L y M se despliega el nombre del programa y el eje, pilar o propósito según corresponda. "]
[null,9,"Número Proyecto","Indique el código presupuestal con el que se identifica el proyecto. Si un mismo contrato afecta más de un proyecto, discriminar el contrato por cada proyecto que afecte en filas separadas."]
[null,10,"Número de Identificación del contratista","Indicar el número de identificación del contratista persona natural o jurídica con quien se suscribió el contrato, con digito de verificación (DV), el formato de celda no permite guiones, comas, solo números. "]
[null,null,"Nombre del Contratista","Indicar el nombre del contratista, persona natural o jurídica."]
[]
[null,"2- INFORMACIÓN FINANCIERA"]
[null,11,"Valor Inicial ","Registre el valor inicial del contrato con cargo a la vigencia 2020, el formato de celda no permite guiones, comas o texto. Esta columna solo debe contener información numérica."]
[null,null,null,"En el caso de adiciones a contratos de años anteriores,  no diligencie esta columna, solamente la columna 15 \"Valor Total Adiciones\" "]
[null,null,null,"Excluya las reservas de apropiación y cuentas por pagar."]
[null,12,"Número de reducciones ","Diligencie esta columna solo en el caso de reducciones, reintegros, liberaciones, saldos a favor o cualquier factor que disminuya el valor de los contratos con cargo a la vigencia."]
[null,null,null,"Registre en esta celda la cantidad de reducciones que se realizaron al contrato."]
[null,13,"Valor total reducciones (En valor negativo)","Registre el valor total de las reducciones que se realizaron al contrato, el formato de celda no permite comas o texto. Esta columna solo debe contener información numérica."]
[null,14,"Número de adiciones ","Diligencie esta columna solo en el caso de adiciones al valor inicial que aumenten el valor del contrato con cargo a la vigencia."]
[null,null,null,"Registre en esta celda el número de adiciones que se realizaron al contrato."]
[null,15,"Valor total de adiciones","Registre el valor total de las adiciones que se realizaron al contrato,  el formato de celda no permite guiones, , comas o texto. Esta columna solo debe contener información numérica."]
[null,16,"Valor Final","Esta columna se encuentra formulada y bloqueada, sí el valor final no coincide, es porque están mal diligenciadas las columnas valor inicial, valor de reducciones y/o valor de adiciones. En tal caso se debe verificar dicha información."]
[null,null,null,"La sumatoria de la columna 16 (valor final) para los contratos de Inversión Directa, de funcionamiento y/o operación, cuando aplique, deberán coincidir con el valor del rubro registrado en el encabezado 4, Presupuesto comprometido de inversión según PREDIS, con el encabezado 6, Presupuesto Comprometido Funcionamiento según PREDIS y con el encabezado 8, Presupuesto Comprometido Operación mediante contratos, respectivamente. A la vez, estos valores deben coincidir con los informes de ejecución presupuestal del PREDIS.  "]
[null,null,null,"Si los valores no coinciden debe especificarse al final del formato en qué está representada la diferencia Otros gastos(discriminando los conceptos por Programa y Proyecto de inversión, si es el caso), con sus respectivos valores."]
[null,null,null,"Las bases donde dichos valores no coincidan serán devueltas por la Veeduría Distrital a cada entidad para los respectivos ajustes."]
[null,17,"Giros","Registre el valor total de los giros que se realizaron al contrato,  el formato de celda no permite guiones, comas o texto. Esta columna solo debe contener información numérica."]
[]
[null,"3- PLAZOS"]
[null,18,"Fecha de Suscripción","Relacionar la fecha en que se suscribió el contrato original. La celda solo admite el formato Día/Mes/Año así  17/02/2020."]
[null,null,null,"Para las adiciones a contratos de años anteriores se debe registrar en esta columna la fecha de suscripción de la adición en la vigencia 2020."]
[null,19,"Fecha de inicio","Indicar la fecha de inicio del contrato. Para las adiciones a contratos de años anteriores se debe diligenciar la fecha de inicio de la adición en la vigencia 2020. La celda solo admite el formato Día/Mes/Año así  13/03/2020."]
[null,20,"Fecha de terminación","Indicar la fecha efectiva de terminación del contrato. La celda solo admite el formato Día/Mes/Año así  15/02/2020."]
[null,21,"Plazo en días","Esta columna contiene el plazo inicial del contrato con el número total de días a ejecutar (sólo número de días, no mes, no texto)."]
[null,22,"Número de prórrogas","Registre en esta celda el número de prórrogas que se realizaron al contrato en la vigencia 2020."]
[null,23,"Prórroga en días","En caso de presentarse este evento, indicar en días, el tiempo por el cual se prorrogó el contrato a partir de la fecha inicial de terminación (sólo número de días, no mes, no texto)."]
[]
[null,"4- CESIÓN"]
[null,24,"Número  de Identificación del cesionario\n(NIT con digito de verificación)","Indicar el número de identificación del cesionario persona natural o jurídica con quien se suscribió la cesión, con digito de verificación (DV), el formato de celda no permite guiones o comas, solo números. Si hay más de una cesión adicione una fila y registre número de contrato, año, número proceso contractual SECOP y demás información que corresponda."]
[null,25,"Nombre cesionario","Indicar el nombre del cesionario, persona natural o jurídica."]
[null,26,"Fecha cesión","Relacionar la fecha en que se suscribió la cesión del contrato. La celda solo admite el formato Día/Mes/Año así  17/02/2020."]
[null,27,"Valor cesión","Registre el valor correspondiente a la cesión con cargo a la vigencia 2020, el formato de celda no permite guiones, comas o texto. Esta columna solo debe contener información numérica."]
[]
[null,"5- ESTADO A 31 DE DICIEMBRE DE 2020"]
[null,28,"Estado","Marque con una X en la respectiva columna si el contrato se encuentra Celebrado o por Iniciar, En Ejecución, Terminado o Liquidado."]
[]
[null,"5- PORCENTAJE DE AVANCE Y/O CUMPLIMIENTO"]
[null,29,"% Avance y/o cumplimiento","Indica el porcentaje de avance o de cumplimiento en términos presupuestales, es decir lo efectivamente pagado al contratista. Si no se ha iniciado la ejecución, el % de avance es 0%. La celda se encuentra formulada y protegida. Es la relación entre el valor de los giros y el valor final del contrato. Si el porcentaje de avance no coincide, se debe revisar los valores que se registraron en estas columnas.  Este porcentaje no debe ser superior al 100%"]

{"sheet":"Tipo","index":2,"n_rows":40,"n_cols":4,"rows_kept":40,"cut":false,"hidden":true,"merged":[]}
[null,"Tipo","Modalidad de Selección","afectacion"]
[1,"Obra pública","Concurso de méritos","Funcionamiento"]
[2,"Consultoría","Contratación directa","Inversión"]
[3,"Interventoría","Contratación mínima cuantia","Operación"]
[4,"Contratos de prestación de servicios","Selección abreviada"]
[5,"Contratos de prestación de servicios profesionales y de apoyo a la gestión","Licitación pública"]
[6,"Compraventa de bienes muebles","Régimen privado"]
[7,"Compraventa de bienes inmuebles","Régimen especial"]
[8,"Arrendamiento de bienes muebles"]
[9,"Arrendamiento de bienes inmuebles"]
[10,"Seguros","Selección abreviada"]
[11,"Suministro","Subasta inversa "]
[12,"Empréstitos","Bolsas de productos"]
[13,"Fiducia mercantil o encargo fiduciario","Acuerdo marco de precios "]
[14,"Concesión ","Selección abreviada por menor cuantía "]
[15,"Convenios de cooperacion"]
[16,"Contratos interadministrativos","contratacion directa"]
[17,"Convenios de apoyo y/o convenios de asociación ","Urgencia manifiesta"]
[18,"Asociaciones público privadas","Contratación de empréstitos"]
[19,"Otros","Contratos interadministrativos"]
[20,"Otros gastos","Contratación de bienes y servicios en el sector Defensa y en el Departamento Administrativo de Seguridad, DAS"]
[null,"SECTOR","Contratos para el desarrollo de actividades científicas y tecnológicas"]
[1,"Gestión Pública","Contratos de encargo fiduciario que celebren las entidades territoriales cuando inician el Acuerdo de Reestructuración de Pasivos"]
[{"$f":"+A23+1","v":2},"Gobierno","Cuando no exista pluralidad de oferentes en el mercado"]
[{"$f":"+A24+1","v":3},"Hacienda","Prestación de servicios profesionales y de apoyo a la gestión, o para la ejecución de trabajos artísticos que sólo puedan encomendarse a determinadas personas naturales;"]
[4,"Planeación","El arrendamiento o adquisición de inmuebles"]
[5,"Desarrollo Económico, Industria y Turismo","Contratación de bienes y servicios de la Dirección Nacional de Inteligencia (DNI)"]
[6,"Educación"]
[7,"Salud"]
[8,"Integración Social","Decreto 92 de 2017"]
[9,"Cultura, Recreación y Deporte","No aplica"]
[10,"Ambiente"]
[11,"Movilidad","SECOP I"]
[12,"Hábitat","SECOP II"]
[13,"Mujeres"]
[14,"Seguridad, Convivencia y Justicia","Bogotá Mejor para Todos"]
[15,"Gestión Juridíca","Un Nuevo Contrato Social y Ambiental para la Bogotá del Siglo XXI"]
[16,"descentralizado territorialmente"]
[]
[null,"16 - AL"]

{"sheet":"Eje_Pilar_Prop","index":3,"n_rows":104,"n_cols":5,"rows_kept":104,"cut":false,"hidden":false,"merged":[]}
[]
[null,"PDD","No. Programa","Programa","Pilar /Eje / propósito"]
[null,"Bogotá Mejor para Todos",1,"Prevención y atención de la maternidad y la paternidad tempranas","Pilar 1 Igualdad de Calidad de Vida"]
[null,"Bogotá Mejor para Todos",2,"Desarrollo integral desde la gestación hasta la adolescencia","Pilar 1 Igualdad de Calidad de Vida"]
[null,"Bogotá Mejor para Todos",3,"Igualdad y autonomía para una Bogotá incluyente","Pilar 1 Igualdad de Calidad de Vida"]
[null,"Bogotá Mejor para Todos",4,"Familias protegidas y adaptadas al cambio climático","Pilar 1 Igualdad de Calidad de Vida"]
[null,"Bogotá Mejor para Todos",5,"Desarrollo integral para la felicidad y el ejercicio de la ciudadanía","Pilar 1 Igualdad de Calidad de Vida"]
[null,"Bogotá Mejor para Todos",6,"Calidad educativa para todos","Pilar 1 Igualdad de Calidad de Vida"]
[null,"Bogotá Mejor para Todos",7,"Inclusión educativa para la equidad","Pilar 1 Igualdad de Calidad de Vida"]
[null,"Bogotá Mejor para Todos",8,"Acceso con calidad a la educación superior","Pilar 1 Igualdad de Calidad de Vida"]
[null,"Bogotá Mejor para Todos",9,"Atención integral y eficiente en salud","Pilar 1 Igualdad de Calidad de Vida"]
[null,"Bogotá Mejor para Todos",10,"Modernización de la infraestructura física y tecnológica en salud","Pilar 1 Igualdad de Calidad de Vida"]
[null,"Bogotá Mejor para Todos",11,"Mejores oportunidades para el desarrollo a través de la cultura, la recreación y el deporte","Pilar 1 Igualdad de Calidad de Vida"]
[null,"Bogotá Mejor para Todos",12,"Mujeres protagonistas, activas y empoderadas en el cierre de brechas de género","Pilar 1 Igualdad de Calidad de Vida"]
[null,"Bogotá Mejor para Todos",13,"Infraestructura para el desarrollo del hábitat","Pilar 2 Democracía Urbana"]
[null,"Bogotá Mejor para Todos",14,"Intervenciones integrales del hábitat","Pilar 2 Democracía Urbana"]
[null,"Bogotá Mejor para Todos",15,"Recuperación, incorporación, vida urbana y control de la ilegalidad","Pilar 2 Democracía Urbana"]
[null,"Bogotá Mejor para Todos",16,"Integración social para una ciudad de oportunidades","Pilar 2 Democracía Urbana"]
[null,"Bogotá Mejor para Todos",17,"Espacio público, derecho de todos","Pilar 2 Democracía Urbana"]
[null,"Bogotá Mejor para Todos",18,"Mejor movilidad para todos","Pilar 2 Democracía Urbana"]
[null,"Bogotá Mejor para Todos",19,"Seguridad y convivencia para todos","Pilar 3 Construcción de Comunidad y Cultura Ciudadana"]
[null,"Bogotá Mejor para Todos",20,"Fortalecimiento del Sistema de Protección Integral a Mujeres Víctimas de Violencia - SOFIA","Pilar 3 Construcción de Comunidad y Cultura Ciudadana"]
[null,"Bogotá Mejor para Todos",21,"Justicia para todos: consolidación del Sistema Distrital de Justicia","Pilar 3 Construcción de Comunidad y Cultura Ciudadana"]
[null,"Bogotá Mejor para Todos",22,"Bogotá vive los derechos humanos","Pilar 3 Construcción de Comunidad y Cultura Ciudadana"]
[null,"Bogotá Mejor para Todos",23,"Bogotá mejor para las víctimas, la paz y la reconciliación","Pilar 3 Construcción de Comunidad y Cultura Ciudadana"]
[null,"Bogotá Mejor para Todos",24,"Equipo por la educación para el reencuentro, la reconciliación y la paz","Pilar 3 Construcción de Comunidad y Cultura Ciudadana"]
[null,"Bogotá Mejor para Todos",25,"Cambio cultural y construcción del tejido social para la vida","Pilar 3 Construcción de Comunidad y Cultura Ciudadana"]
[null,"Bogotá Mejor para Todos",26,"Información relevante e integral para la planeación territorial","Eje Transversal 1 Nuevo Ordenamiento Territorial"]
[null,"Bogotá Mejor para Todos",27,"Proyectos urbanos integrales con visión de ciudad","Eje Transversal 1 Nuevo Ordenamiento Territorial"]
[null,"Bogotá Mejor para Todos",28,"Suelo para reducir el déficit habitacional de suelo urbanizable, vivienda y soportes urbanos","Eje Transversal 1 Nuevo Ordenamiento Territorial"]
[null,"Bogotá Mejor para Todos",29,"Articulación regional y planeación integral del transporte","Eje Transversal 1 Nuevo Ordenamiento Territorial"]
[null,"Bogotá Mejor para Todos",30,"Financiación para el Desarrollo Territorial","Eje Transversal 1 Nuevo Ordenamiento Territorial"]
[null,"Bogotá Mejor para Todos",31,"Fundamentar el desarrollo económico en la generación y uso del conocimiento para mejorar la competitividad de la Ciudad Región","Eje Transversal 2 Desarrollo Económico basado en el conocimiento"]
[null,"Bogotá Mejor para Todos",32,"Generar alternativas de ingreso y empleo de mejor calidad","Eje Transversal 2 Desarrollo Económico basado en el conocimiento"]
[null,"Bogotá Mejor para Todos",33,"Elevar la eficiencia de los mercados de la ciudad","Eje Transversal 2 Desarrollo Económico basado en el conocimiento"]
[null,"Bogotá Mejor para Todos",34,"Mejorar y fortalecer el recaudo tributario de la ciudad e impulsar el uso de mecanismos de vinculación de capital privado","Eje Transversal 2 Desarrollo Económico basado en el conocimiento"]
[null,"Bogotá Mejor para Todos",35,"Bogotá, ciudad inteligente","Eje Transversal 2 Desarrollo Económico basado en el conocimiento"]
[null,"Bogotá Mejor para Todos",36,"Bogotá, una ciudad digital","Eje Transversal 2 Desarrollo Económico basado en el conocimiento"]
[null,"Bogotá Mejor para Todos",37,"Consolidar el turismo como factor de desarrollo, confianza y felicidad para Bogotá Región","Eje Transversal 2 Desarrollo Económico basado en el conocimiento"]
[null,"Bogotá Mejor para Todos",38,"Recuperación y manejo de la Estructura Ecológica Principal","Eje Transversal 3 Sostenibilidad Ambiental basada en la eficiencia energética"]
[null,"Bogotá Mejor para Todos",39,"Ambiente sano para la equidad y disfrute del ciudadano","Eje Transversal 3 Sostenibilidad Ambiental basada en la eficiencia energética"]
[null,"Bogotá Mejor para Todos",40,"Gestión de la huella ambiental urbana","Eje Transversal 3 Sostenibilidad Ambiental basada en la eficiencia energética"]
[null,"Bogotá Mejor para Todos",41,"Desarrollo rural sostenible","Eje Transversal 3 Sostenibilidad Ambiental basada en la eficiencia energética"]
[null,"Bogotá Mejor para Todos",42,"Transparencia, gestión pública y servicio a la ciudadanía","Eje Transversal 4 Gobierno Legitimo, Fortalecimiento Local y Eficiencia"]
[null,"Bogotá Mejor para Todos",43,"Modernización institucional","Eje Transversal 4 Gobierno Legitimo, Fortalecimiento Local y Eficiencia"]
[null,"Bogotá Mejor para Todos",44,"Gobierno y ciudadanía digital","Eje Transversal 4 Gobierno Legitimo, Fortalecimiento Local y Eficiencia"]
[null,"Bogotá Mejor para Todos",45,"Gobernanza e influencia local, regional e internacional","Eje Transversal 4 Gobierno Legitimo, Fortalecimiento Local y Eficiencia"]
["Acuerdo 761 2020","Un Nuevo Contrato Social y Ambiental para la Bogotá del Siglo XXI","1.","Subsidios y transferencias para la equidad","Propósito 1: Hacer un nuevo contrato social para incrementar la inclusión social, productiva y política"]
["Pag. 51","Un Nuevo Contrato Social y Ambiental para la Bogotá del Siglo XXI","2.","Igualdad de oportunidades y desarrollo de capacidades para las mujeres","Propósito 1: Hacer un nuevo contrato social para incrementar la inclusión social, productiva y política"]
[null,"Un Nuevo Contrato Social y Ambiental para la Bogotá del Siglo XXI","3.","Movilidad social integral","Propósito 1: Hacer un nuevo contrato social para incrementar la inclusión social, productiva y política"]
[null,"Un Nuevo Contrato Social y Ambiental para la Bogotá del Siglo XXI","4.","Prevención de la exclusión por razones étnicas, religiosas, sociales, políticas y de orientación sexual","Propósito 1: Hacer un nuevo contrato social para incrementar la inclusión social, productiva y política"]
[null,"Un Nuevo Contrato Social y Ambiental para la Bogotá del Siglo XXI","5.","Promoción de la igualdad, el desarrollo de capacidades y el reconocimiento de las mujeres","Propósito 1: Hacer un nuevo contrato social para incrementar la inclusión social, productiva y política"]
[null,"Un Nuevo Contrato Social y Ambiental para la Bogotá del Siglo XXI","6.","Sistema Distrital de Cuidado","Propósito 1: Hacer un nuevo contrato social para incrementar la inclusión social, productiva y política"]
[null,"Un Nuevo Contrato Social y Ambiental para la Bogotá del Siglo XXI","7.","Mejora de la gestión de instituciones de salud","Propósito 1: Hacer un nuevo contrato social para incrementar la inclusión social, productiva y política"]
[null,"Un Nuevo Contrato Social y Ambiental para la Bogotá del Siglo XXI","8.","Prevención y atención de maternidad temprana","Propósito 1: Hacer un nuevo contrato social para incrementar la inclusión social, productiva y política"]
[null,"Un Nuevo Contrato Social y Ambiental para la Bogotá del Siglo XXI","9.","Prevención y cambios para mejorar la salud de la población","Propósito 1: Hacer un nuevo contrato social para incrementar la inclusión social, productiva y política"]
[null,"Un Nuevo Contrato Social y Ambiental para la Bogotá del Siglo XXI","10.","Salud para la vida y el bienestar","Propósito 1: Hacer un nuevo contrato social para incrementar la inclusión social, productiva y política"]
[null,"Un Nuevo Contrato Social y Ambiental para la Bogotá del Siglo XXI","11.","Salud y bienestar para niñas y niños","Propósito 1: Hacer un nuevo contrato social para incrementar la inclusión social, productiva y política"]
[null,"Un Nuevo Contrato Social y Ambiental para la Bogotá del Siglo XXI","12.","Educación inicial: Bases sólidas para la vida.","Propósito 1: Hacer un nuevo contrato social para incrementar la inclusión social, productiva y política"]
[null,"Un Nuevo Contrato Social y Ambiental para la Bogotá del Siglo XXI","13.","Educación para todos y todas: acceso y permanencia con equidad y énfasis en educación rural","Propósito 1: Hacer un nuevo contrato social para incrementar la inclusión social, productiva y política"]
[null,"Un Nuevo Contrato Social y Ambiental para la Bogotá del Siglo XXI","14.","Formación integral: más y mejor tiempo en los colegios","Propósito 1: Hacer un nuevo contrato social para incrementar la inclusión social, productiva y política"]
[null,"Un Nuevo Contrato Social y Ambiental para la Bogotá del Siglo XXI","15.","Plan Distrital de Lectura, Escritura y Oralidad: \"Leer para la vida\"","Propósito 1: Hacer un nuevo contrato social para incrementar la inclusión social, productiva y política"]
[null,"Un Nuevo Contrato Social y Ambiental para la Bogotá del Siglo XXI","16.","Transformación pedagógica y mejoramiento de la gestión educativa. Es con los maestros y maestras.","Propósito 1: Hacer un nuevo contrato social para incrementar la inclusión social, productiva y política"]
[null,"Un Nuevo Contrato Social y Ambiental para la Bogotá del Siglo XXI","17.","Jóvenes con capacidades: Proyecto de vida para la ciudadanía, la innovación y el trabajo del siglo XXI","Propósito 1: Hacer un nuevo contrato social para incrementar la inclusión social, productiva y política"]
[null,"Un Nuevo Contrato Social y Ambiental para la Bogotá del Siglo XXI","18.","Cierre de brechas para la inclusión productiva urbano rural","Propósito 1: Hacer un nuevo contrato social para incrementar la inclusión social, productiva y política"]
[null,"Un Nuevo Contrato Social y Ambiental para la Bogotá del Siglo XXI","19.","Vivienda y entornos dignos en el territorio urbano y rural","Propósito 1: Hacer un nuevo contrato social para incrementar la inclusión social, productiva y política"]
[null,"Un Nuevo Contrato Social y Ambiental para la Bogotá del Siglo XXI","20.","Bogotá, referente en cultura, deporte, recreación y actividad física, con parques para el desarrollo y la salud","Propósito 1: Hacer un nuevo contrato social para incrementar la inclusión social, productiva y política"]
[null,"Un Nuevo Contrato Social y Ambiental para la Bogotá del Siglo XXI","21.","Creación y vida cotidiana: Apropiación ciudadana del arte, la cultura y el patrimonio, para la democracia cultural","Propósito 1: Hacer un nuevo contrato social para incrementar la inclusión social, productiva y política"]
[null,"Un Nuevo Contrato Social y Ambiental para la Bogotá del Siglo XXI","22.","Transformación cultural para la conciencia ambiental y el cuidado de la fauna doméstica","Propósito 1: Hacer un nuevo contrato social para incrementar la inclusión social, productiva y política"]
[null,"Un Nuevo Contrato Social y Ambiental para la Bogotá del Siglo XXI","23.","Bogotá rural","Propósito 1: Hacer un nuevo contrato social para incrementar la inclusión social, productiva y política"]
[null,"Un Nuevo Contrato Social y Ambiental para la Bogotá del Siglo XXI","24.","Bogotá región emprendedora e innovadora","Propósito 1: Hacer un nuevo contrato social para incrementar la inclusión social, productiva y política"]
[null,"Un Nuevo Contrato Social y Ambiental para la Bogotá del Siglo XXI","25.","Bogotá región productiva y competitiva","Propósito 1: Hacer un nuevo contrato social para incrementar la inclusión social, productiva y política"]
[null,"Un Nuevo Contrato Social y Ambiental para la Bogotá del Siglo XXI","26.","Bogotá - región, el mejor destino para visitar","Propósito 1: Hacer un nuevo contrato social para incrementar la inclusión social, productiva y política"]
[null,"Un Nuevo Contrato Social y Ambiental para la Bogotá del Siglo XXI","27.","Cambio cultural para la gestión de la crisis climática","Propósito 2 : Cambiar Nuestros Hábitos de Vida para Reverdecer a Bogotá y Adaptarnos y Mitigar la Crisis Climática"]
[null,"Un Nuevo Contrato Social y Ambiental para la Bogotá del Siglo XXI","28.","Bogotá protectora de sus recursos naturales","Propósito 2 : Cambiar Nuestros Hábitos de Vida para Reverdecer a Bogotá y Adaptarnos y Mitigar la Crisis Climática"]
[null,"Un Nuevo Contrato Social y Ambiental para la Bogotá del Siglo XXI","29.","Asentamientos y entornos protectores","Propósito 2 : Cambiar Nuestros Hábitos de Vida para Reverdecer a Bogotá y Adaptarnos y Mitigar la Crisis Climática"]
[null,"Un Nuevo Contrato Social y Ambiental para la Bogotá del Siglo XXI","30.","Eficiencia en la atención de emergencias","Propósito 2 : Cambiar Nuestros Hábitos de Vida para Reverdecer a Bogotá y Adaptarnos y Mitigar la Crisis Climática"]
[null,"Un Nuevo Contrato Social y Ambiental para la Bogotá del Siglo XXI","31."," Protección y valoración del patrimonio tangible e intangible en Bogotá y la región","Propósito 2 : Cambiar Nuestros Hábitos de Vida para Reverdecer a Bogotá y Adaptarnos y Mitigar la Crisis Climática"]
[null,"Un Nuevo Contrato Social y Ambiental para la Bogotá del Siglo XXI","32.","Revitalización urbana para la competitividad","Propósito 2 : Cambiar Nuestros Hábitos de Vida para Reverdecer a Bogotá y Adaptarnos y Mitigar la Crisis Climática"]
[null,"Un Nuevo Contrato Social y Ambiental para la Bogotá del Siglo XXI","33.","Más árboles y más y mejor espacio público","Propósito 2 : Cambiar Nuestros Hábitos de Vida para Reverdecer a Bogotá y Adaptarnos y Mitigar la Crisis Climática"]
[null,"Un Nuevo Contrato Social y Ambiental para la Bogotá del Siglo XXI","34.","Bogotá protectora de los animales","Propósito 2 : Cambiar Nuestros Hábitos de Vida para Reverdecer a Bogotá y Adaptarnos y Mitigar la Crisis Climática"]
[null,"Un Nuevo Contrato Social y Ambiental para la Bogotá del Siglo XXI","35.","Manejo y prevención de contaminación","Propósito 2 : Cambiar Nuestros Hábitos de Vida para Reverdecer a Bogotá y Adaptarnos y Mitigar la Crisis Climática"]
[null,"Un Nuevo Contrato Social y Ambiental para la Bogotá del Siglo XXI","36.","Manejo y saneamiento de los cuerpos de agua","Propósito 2 : Cambiar Nuestros Hábitos de Vida para Reverdecer a Bogotá y Adaptarnos y Mitigar la Crisis Climática"]
[null,"Un Nuevo Contrato Social y Ambiental para la Bogotá del Siglo XXI","37.","Provisión y mejoramiento de servicios públicos","Propósito 2 : Cambiar Nuestros Hábitos de Vida para Reverdecer a Bogotá y Adaptarnos y Mitigar la Crisis Climática"]
[null,"Un Nuevo Contrato Social y Ambiental para la Bogotá del Siglo XXI","38.","Ecoeficiencia, reciclaje, manejo de residuos e inclusión de la población recicladora","Propósito 2 : Cambiar Nuestros Hábitos de Vida para Reverdecer a Bogotá y Adaptarnos y Mitigar la Crisis Climática"]
[null,"Un Nuevo Contrato Social y Ambiental para la Bogotá del Siglo XXI","39.","Bogotá territorio de paz y atención integral a las víctimas del conflicto armado","Propósito 3: Inspirar confianza y legitimidad para vivir sin miedo y ser epicentro de cultura ciudadana, paz y reconciliación"]
[null,"Un Nuevo Contrato Social y Ambiental para la Bogotá del Siglo XXI","40.","Más mujeres viven una vida libre de violencias, se sienten seguras y acceden con confianza al sistema de justicia","Propósito 3: Inspirar confianza y legitimidad para vivir sin miedo y ser epicentro de cultura ciudadana, paz y reconciliación"]
[null,"Un Nuevo Contrato Social y Ambiental para la Bogotá del Siglo XXI","41.","Sin machismo ni violencias contra las mujeres, las niñas y los niños","Propósito 3: Inspirar confianza y legitimidad para vivir sin miedo y ser epicentro de cultura ciudadana, paz y reconciliación"]
[null,"Un Nuevo Contrato Social y Ambiental para la Bogotá del Siglo XXI","42.","Conciencia y cultura ciudadana para la seguridad, la convivencia y la construcción de confianza","Propósito 3: Inspirar confianza y legitimidad para vivir sin miedo y ser epicentro de cultura ciudadana, paz y reconciliación"]
[null,"Un Nuevo Contrato Social y Ambiental para la Bogotá del Siglo XXI","43.","Cultura ciudadana para la confianza, la convivencia y la participación desde la vida cotidiana","Propósito 3: Inspirar confianza y legitimidad para vivir sin miedo y ser epicentro de cultura ciudadana, paz y reconciliación"]
[null,"Un Nuevo Contrato Social y Ambiental para la Bogotá del Siglo XXI","44.","Autoconciencia, respeto y cuidado en el espacio público","Propósito 3: Inspirar confianza y legitimidad para vivir sin miedo y ser epicentro de cultura ciudadana, paz y reconciliación"]
[null,"Un Nuevo Contrato Social y Ambiental para la Bogotá del Siglo XXI","45.","Espacio público más seguro y construido colectivamente","Propósito 3: Inspirar confianza y legitimidad para vivir sin miedo y ser epicentro de cultura ciudadana, paz y reconciliación"]
[null,"Un Nuevo Contrato Social y Ambiental para la Bogotá del Siglo XXI","46.","Atención a jóvenes y adultos infractores con impacto en su proyecto de vida","Propósito 3: Inspirar confianza y legitimidad para vivir sin miedo y ser epicentro de cultura ciudadana, paz y reconciliación"]
[null,"Un Nuevo Contrato Social y Ambiental para la Bogotá del Siglo XXI","47.","Calidad de Vida y Derechos de la Población privada de la libertad","Propósito 3: Inspirar confianza y legitimidad para vivir sin miedo y ser epicentro de cultura ciudadana, paz y reconciliación"]
[null,"Un Nuevo Contrato Social y Ambiental para la Bogotá del Siglo XXI","48.","Plataforma institucional para la seguridad y justicia","Propósito 3: Inspirar confianza y legitimidad para vivir sin miedo y ser epicentro de cultura ciudadana, paz y reconciliación"]
[null,"Un Nuevo Contrato Social y Ambiental para la Bogotá del Siglo XXI","49.","Movilidad segura, sostenible y accesible","Propósito 4: Hacer de Bogotá Región un modelo de movilidad multimodal, incluyente y sostenible"]
[null,"Un Nuevo Contrato Social y Ambiental para la Bogotá del Siglo XXI","50.","Red de metros","Propósito 4: Hacer de Bogotá Región un modelo de movilidad multimodal, incluyente y sostenible"]
[null,"Un Nuevo Contrato Social y Ambiental para la Bogotá del Siglo XXI","51.","Gobierno Abierto","Propósito 5: Construir Bogotá - Región con gobierno abierto, transparente y ciudadanía consciente"]
[null,"Un Nuevo Contrato Social y Ambiental para la Bogotá del Siglo XXI","52.","Integración regional, distrital y local","Propósito 5: Construir Bogotá - Región con gobierno abierto, transparente y ciudadanía consciente"]
[null,"Un Nuevo Contrato Social y Ambiental para la Bogotá del Siglo XXI","53.","Información para la toma de decisiones","Propósito 5: Construir Bogotá - Región con gobierno abierto, transparente y ciudadanía consciente"]
[null,"Un Nuevo Contrato Social y Ambiental para la Bogotá del Siglo XXI","54.","Transformación digital y gestión de TIC para un territorio inteligente","Propósito 5: Construir Bogotá - Región con gobierno abierto, transparente y ciudadanía consciente"]
[null,"Un Nuevo Contrato Social y Ambiental para la Bogotá del Siglo XXI","55.","Fortalecimiento de cultura ciudadana y su institucionalidad","Propósito 5: Construir Bogotá - Región con gobierno abierto, transparente y ciudadanía consciente"]
[null,"Un Nuevo Contrato Social y Ambiental para la Bogotá del Siglo XXI","56.","Gestión pública efectiva","Propósito 5: Construir Bogotá - Región con gobierno abierto, transparente y ciudadanía consciente"]
[null,"Un Nuevo Contrato Social y Ambiental para la Bogotá del Siglo XXI","57.","Gestión pública local","Propósito 5: Construir Bogotá - Región con gobierno abierto, transparente y ciudadanía consciente"]

{"sheet":"HOJA 1","index":4,"n_rows":33,"n_cols":11,"rows_kept":33,"cut":false,"hidden":false,"merged":[]}
[]
[]
[]
[]
[]
[]
[]
[]
[null,null,null,"PRESUPUESTO INVERSION "]
[null,null,null,24857517388,null,null,null,null,"FUNCIONAMIENTO",2437869372]
[]
[]
[]
[null,null,null,"VALOR ","DESCRIPCION ",null,null,null,"DESCRIPCION ","VALOR"]
[null,null,null,22011698376,"Contratos",null,null,null,"CONTRATOS Y ADICIONES ",867708975]
[null,null,null,721319657,"Adiciones ",null,null,null,"ADICIONES OTRAS VIGENCIAS",151398289]
[null,null,null,{"$f":"SUM(D15:D16)","v":22733018033},null,null,null,null,"SERVICIOS ENERO A SEP ",1115065432]
[null,null,null,null,null,null,null,null,"SERVICIO OCT A DICI",97525464]
[null,null,null,null,null,null,null,null,null,{"$f":"SUM(J15:J18)","v":2231698160}]
[null,null,null,696263871,"Transferencias Monetarias"]
[null,null,null,1216875000,"Subsidio Tipo C"]
[null,null,null,20000000,"Gastos administrativos Subsidio Tipo C"]
[null,null,null,1267900,"Resoluciones - Positiva"]
[null,null,null,1310800,"Pagos Riesgos Laborales"]
[null,null,null,15704564,"Facturas, EAAB, Energia"]
[null,null,null,1546620,"Facturas, EAAB, Energia"]
[null,null,null,171530600,"Otras adiciones  vigencias anteriores"]
[null,null,null,{"$f":"SUM(D20:D27)","v":2124499355},"TOTAL "]
[]
[null,null,null,null,null,null,null,null,"VALOR COMPENSAR 229 -2020 INCENTIVOS","GIRADO","RESTA DEL VALOR TOTAL GIRADO"]
[null,null,null,null,null,null,null,null,4847959414,1902707614,{"$f":"I31-J31","v":2945251800}]
[null,null,null,{"$f":"D17+D28","v":24857517388},null,null,null,null,"VAOR GIRADO A LAS EMPRESAS",281160279]
[null,null,null,null,null,null,null,null,"VALOR TOTAL QUE QUEDA PARA LAS EMPRESAS DE LOS GIRADO POR EL FONDO",{"$f":"J31-J32","v":1621547335}]